{"text_format":"3","workbook":"xlsx","n_sheets":44,"sheets":["Willkommen","Daten_Willkommen","Cockpit","Daten_Cockpit ","Einstellungen","Vermögen","Anlageziele","Daten_Einstellg_Ziele","Daten_Vermögen","Daten_Nachhaltigkt. PRISC","Daten Projektion","Vermögenserhaltung","Daten_Vermögenserhaltung","Daten_Wirtschaftsplan","Datenaufnahme","Nachhaltigkeit_PRISC","Szenarien","Annahmen","Daten Szenarien","Anlagestrategie","Daten_Anlagerichtlinie","Anlagerichtlinien","Wirtschaftsplan","Umschichtung","Daten_Umschichtung","Investment-Check","Angebotsvergleich","Vergabeentscheidung","Umschichtungsbeschluss","Daten_Vermögensbericht","Vermögensbericht","Tabellen","Zahlen Worst Case","Zahlen Umschichtung","Daten Anlageangebote","Daten_Investment-Check","Impressum","Datenimport","Glossar","Eingabe Szenario","Analyse Szenario","Verwaltungskosten","Druck","Subanlageklassen"],"not_rendered":{"charts":58,"images":37,"macros":1,"external_links":1,"defined_names":72,"comments":27},"read":"whole","date_system":"1900"}

{"sheet":"Willkommen","index":0,"n_rows":285,"n_cols":12,"rows_kept":285,"merged":[[17,2,17,3]]}
{"$rows_empty":9}
[null,null,{"$f":"Daten_Willkommen!B3","v":"Version: "},{"$f":"Daten_Willkommen!C3","v":"2.33.1"}]
[null,null,{"$f":"Daten_Willkommen!B4","v":"Stand:"},{"$f":"Daten_Willkommen!C4","v":"2023-02-27"}]
[]
[null,null,"Stiftungsvermögen"]
[null,null,"rechtssicher"]
[null,null,"steuern",{"$nulls":6},"17:03  32:34 "]
[]
[{"$nulls":9},"nächstes Video     "]
[null,null,"Was möchten Sie tun?"]
[]
[{"$nulls":5},{"$f":"Daten_Willkommen!C80","v":1},{"$f":"Daten_Willkommen!C80","v":1},null,"WILLKOMMEN"]
[]
[{"$nulls":5},{"$f":"Daten_Willkommen!C81","v":1},{"$f":"Daten_Willkommen!C81","v":1}]
[{"$nulls":5},{"$f":"Daten_Willkommen!C89","v":0},{"$f":"Daten_Willkommen!C89","v":0},null,"Wozu das Ganze?","Herzlich Willkommen im Stiftungscockpit. Diese Applikation soll Sie dabei unterstützen, Ihre haupt- oder ehrenamtliche Funktion im Stiftungsgremium oder als Mitarbeiter/-in der Geschäftsführung effizient und erfolgreich auszufüllen. Im Stiftungswesen insgesamt will es zur Entstehung anerkannter Standards beitragen."]
[{"$nulls":5},{"$f":"Daten_Willkommen!C90","v":0},{"$f":"F24","v":0}]
[{"$nulls":5},{"$f":"Daten_Willkommen!C91","v":0},0,null,"Methodik","Hierzu systematisiert das Cockpit typische Planungs-, Berichts- und Dokumenationsprozesse in steuerbergünstigten Stiftungen. Ausgangspunkte sind stets die aus dem Stiftungszweck abgeleiteten Anlageziele. Eine ordnungsgemäße Finanzbuchhaltung, Vermögens-, Rechts- und Steuerberatung kann und will das Cockpit hingegen nicht ersetzen. "]
[{"$nulls":5},{"$f":"Daten_Willkommen!C92","v":0},0]
[{"$nulls":5},{"$f":"Daten_Willkommen!C93","v":0},0,null,"Rechtliche Hinweise","Der Anbieter stellt das Stiftungscockpit Stiftungen kostenfrei zur Verfügung. Jegliche Haftung für Schäden, die Nutzerinnen und Nutzern oder Dritten durch die Nutzung der Anwendung entstehen, ist ausgeschlossen. Trotz sorgfältiger Auswahl können wir keine Haftung für Inhalte externer Links übernehmen. Dafür sind ausschließlich die Anbieter der verlinkten Seiten verantwortlich."]
[{"$nulls":5},{"$f":"Daten_Willkommen!C94","v":0},0]
[{"$nulls":5},{"$f":"Daten_Willkommen!C95","v":0},0,null,"Philosophie","\"In der Ökonomie geht es um Gut und Böse. Es geht um Menschen, die Menschen Geschichten über andere Menschen erzählen. Selbst das ausgefeilteste mathematische Modell ist eine Parabel, eine Geschichte, mit der wir die Welt um uns herum zu begreifen versuchen.\"     [aus Tomás Sedlácek: Die Ökonomie von Gut und Böse] "]
[]
[]
[]
[{"$nulls":11},"Late-Night-Show"]
[{"$nulls":11},"Bestes Buch Unterhaltung - Deutscher Fernsehpreis"]
{"$rows_empty":65}
[{"$nulls":8},"INFO-TEXTE","INFOSCREEN (Nicht verschieben - Makro-Bezüge!)"]
[]
[{"$nulls":8},"WILLKOMMEN"]
[]
[]
[{"$nulls":8},"Wozu das Ganze?","Herzlich Willkommen im Stiftungscockpit. Diese Applikation soll Sie dabei unterstützen, Ihre haupt- oder ehrenamtliche Funktion im Stiftungsgremium oder als Mitarbeiter/-in der Geschäftsführung effizient und erfolgreich auszufüllen. Im Stiftungswesen insgesamt will es zur Entstehung anerkannter Standards beitragen."]
[]
[{"$nulls":8},"Methodik","Hierzu systematisiert das Cockpit typische Planungs-, Berichts- und Dokumenationsprozesse in steuerbergünstigten Stiftungen. Ausgangspunkte sind stets die aus dem Stiftungszweck abgeleiteten Anlageziele. Eine ordnungsgemäße Finanzbuchhaltung, Vermögens-, Rechts- und Steuerberatung kann und will das Cockpit hingegen nicht ersetzen. "]
[]
[{"$nulls":8},"Rechtliche Hinweise","Der Anbieter stellt das Stiftungscockpit Stiftungen kostenfrei zur Verfügung. Jegliche Haftung für Schäden, die Nutzerinnen und Nutzern oder Dritten durch die Nutzung der Anwendung entstehen, ist ausgeschlossen. Trotz sorgfältiger Auswahl können wir keine Haftung für Inhalte externer Links übernehmen. Dafür sind ausschließlich die Anbieter der verlinkten Seiten verantwortlich."]
[]
[{"$nulls":8},"Philosophie","\"In der Ökonomie geht es um Gut und Böse. Es geht um Menschen, die Menschen Geschichten über andere Menschen erzählen. Selbst das ausgefeilteste mathematische Modell ist eine Parabel, eine Geschichte, mit der wir die Welt um uns herum zu begreifen versuchen.\"     [aus Tomás Sedlácek: Die Ökonomie von Gut und Böse] "]
[]
[]
[{"$nulls":8},"ÜBER DAS STIFTUNGSCOCKPIT"]
[]
[]
[{"$nulls":8},"Autor","Stefan Fritz"]
[{"$nulls":8},"Partner","DVFA e.V. für den von ihm entwickelten und ins Stiftungscockpit integrierten Teilbereich Nachhaltigkeitsmessung/-systematik"]
[{"$nulls":8},"Dank an","Den Bundesverband Deutscher Stiftungsn in Person seines damaligen Generalsekretärs Felix Oldenburg für die Inspiration und Ermutigung zur Realisierung dieses Projekts"]
[{"$nulls":8},"Kontakt","info@stiftungscockpit.de"]
[{"$nulls":8},"Nutzung","Shareware (unbefristet kostenfrei für steuerbegünstigte Stiftungen); in dieser Version nicht für Beratungszwecke"]
[{"$nulls":8},"Download","www.stiftungen.org/stiftungscockpit"]
[]
[]
[{"$nulls":8},"HÄUFIGE FRAGEN"]
[]
[]
[{"$nulls":8},"Kann ich die Eingaben in beliebiger Reihenfolge vornehmen?","Technisch ja. Es empfiehlt sich allerdings, sich an die mit den nebenstehenden Boarding-Ampeln angezeigte Reihenfolge zu halten, da die Eingaben teilweise aufeinander aufbauen. Der Investment-Check für Einzelanlagen kann stets isoliert verwendet werden."]
[]
[{"$nulls":8},"Warum sind die Tabellenblätter gesperrt?","Außerhalb der Eingabefelder sollen die Tabellenblätter nicht verändert werden, damit nicht zu viele Versionen im Umlauf sind. Anderenfalls ist eine zentrale Qualtitässicherung unmöglich. Änderungs- und Ergänzungswünsche bitte gerne an: info@stiftungsockpit.de. "]
[]
[{"$nulls":8},"Gibt es eine Schnittstelle zu Buchhaltungs-programmen?","Nein, bis jetzt nicht."]
[]
[{"$nulls":8},"Ist der Eingabeaufwand nicht übertrieben?","Bei den hier einzugebenden Daten handelt es sich um alle wesentlichen Kennzahlen für das Vermögensmanagement, die ein/e ordentliche/r Geschäftsführer/in präsent haben sollte. Wenn alle diese Daten bereits an anderer Stelle strukturiert erfasst wurden, lohnt sich der Aufwand vielleicht eher nicht. Sonst ganz bestimmt. "]
[]
[]
[{"$nulls":8},"Ist das ganze Flugzeuggedöns nicht etwas übertrieben?","Mag sein. Aber mir hat es so mehr Spaß gemacht, das Cockpit aufzusetzen, und manchen Nutzerinnen und Nutzern macht es so mehr Spaß, damit zu arbeiten."]
[]
[]
[{"$nulls":8},"EINSTELLUNGEN VORNEHMEN"]
[]
[]
[{"$nulls":8},"Ihre Aufgabe","Nehmen Sie die Grundeinstellungen für Ihre Stiftung vor. Auf diese Eingaben greift das System immer wieder an unterschiedlichen Stellen zurück. Die meisten der hier vorzunehmenden Eingaben ergeben sich aus der Stiftungssatzung oder sind ohnehin bekannt."]
[]
[{"$nulls":8},"Ihr Aufwand","Ca. 10 Minuten. Die hier einzugebenden Stiftungsdaten düften Ihnen geläufig sein. Unterlagen werden normalerweise nicht benötigt."]
[]
[{"$nulls":8},"Ihr Nutzen","Die Vornahme der Einstellungen ist Voraussetzung für die erfolgreiche Bearbeitung der weiteren Aufgaben."]
[]
[{"$nulls":8},"Philosophie","„Alles, was es wert ist, getan zu werden, ist es auch wert, unvollkommen getan zu werden.“     [Marshall B. Rosenberg]"]
[]
[]
[{"$nulls":8},"ANLAGEZIELE DEFINIEREN"]
[]
[]
[{"$nulls":8},"Ihre Aufgabe","Geben Sie für die Anlageziele Vermögen(serhaltung), Erträge, Risiko und Nachhaltigkeit jeweils eine von mehreren vorgegebenen Kategorien und die Zielgrößen an. Die benötigten Informationen sollten sich aus der Satzung und/oder den Anlagerichtlinien ableiten lassen."]
[]
[{"$nulls":8},"Ihr Aufwand","Je nach Vorkenntnissen ca. 5 bis 15 Minuten; keine vertieften Anlagekenntnisse erforderlich."]
[]
[{"$nulls":8},"Ihr Nutzen","Dies ist der Ausgangspunkt für alle weiteren Funktionen des Stiftungscockpits. Die Eingabe aktiviert die vier Rundinstrumente und schaltet die nächste Ebene \"Vermögenserhaltung berechnen\" frei. Die Eingaben werden automatisch in die Anlagerichtlinie übernommen. Quantifizierte Anlageziele sind Grundlage jeder Vermögensberatung."]
[]
[{"$nulls":8},"Philosophie","\"Wer den Hafen nicht kennt, für den ist kein Wind günstig\".     [nach Lucius Annaeas Seneca]"]
[]
[]
[{"$nulls":8},"VERMÖGENSERHALTUNG BERECHNEN"]
[]
[]
[{"$nulls":8},"Ihre Aufgabe","Die Vermögenserhaltung ist bei Stiftungen ein zentrales Anlagekriterium. Die meisten deutschen Stiftungen müssen ihr Vermögen real, also unter Inflationsausgleich erhalten. Für sie spielt die Vermögenserhaltungsrechnung eine besondere Rolle: der Vergleich der um die Inflation korrigierten Buchwerte mit dem tatsächlich vorhandenen Vermögen."]
[]
[{"$nulls":8},"Ihr Aufwand","Ca. 5 Minuten. Sie benötigen die anfängliche Vermögensausstattung und spätere Zustiftungen nach Zeit und Höhe. Diese Informationen entnehmen Sie den Jahresrechnungen bzw. -abschlüssen."]
[]
[{"$nulls":8},"Ihr Nutzen","Sie können einschätzen, in welchem Maß die Anlagepolitik Ihrer Stiftung künftig auf Vermögenszuwachs ausgelegt sein sollte. Die Angaben schalten die nächste Ebene \"Anlagerichtlinie erstellen\" frei."]
[]
[{"$nulls":8},"Philosophie","\"Aufgrund seiner Geschichte fürchtet Deutschland sich mehr vor der Inflation als vor der Rezession. Im Rest der Welt ist das genau umgekehrt.\"     [George Soros]"]
[]
[]
[{"$nulls":8},"ANLAGERICHTLINIEN ERSTELLEN"]
[]
[]
[{"$nulls":8},"Ihre Aufgabe","Bringen Sie die Anlagestrategie Ihrer Stiftung strukturiert und widerspruchsfrei zu Papier. Auf Basis Ihrer Anlageziele wählen Sie die Anlageklassen und -instrumente aus. Aus Ihren Eingaben erstellt das Cockpit eine ausformulierte Anlagerichtlinie und sorgt dafür, dass Sie nichts Wichtiges vergessen. "]
[]
[{"$nulls":8},"Ihr Aufwand","Ab 30 Minuten. Sofern vorhanden, sollte Ihnen die geltende Anlagerichtlinie vorliegen. Grundkenntnisse über die Funktion der Anlageklassen und -instrumente sind hilfreich."]
[]
[{"$nulls":8},"Ihr Nutzen","Schriftliche Anlagerichtlnien gehören heute zum Standard einer guten Stiftungsgeschäftsführung. Sie erleichtern die stiftungsinterne Vermögenskommunikation ebenso wie die externe mit Beraterinnen/Beratern, Aufsichtsbehörden oder potenziellen Zustifterinnen/Zustiftern. Im Zweifelsfall dient sie dem Nachweis einer planmäßigen Anlagepolitik."]
[]
[{"$nulls":8},"Philosophie","\"Regeln sind gut und Regeln sind wichtig. Aber niemand wird dadurch gezwungen, das Hirn auszuschalten.\"     [Autor unbekannt]"]
[]
[]
[{"$nulls":8},"SZENARIEN VERGLEICHEN"]
[]
[]
[{"$nulls":8},"Ihre Aufgabe","Erfassen Sie sämtliche Vermögensgegenstände der Stiftung getrennt nach Anlageklassen und mit Angaben zu Nachhaltigkeitskriterien. Wählen Sie ein volkswirtschaftliches Basisszenario und eines als Worst Case-Szenario sowie ein drittes Szenario."]
[]
[{"$nulls":8},"Ihr Aufwand","Der Zeitaufwand richtet sich nach Art und Anzahl der Vermögensgegenstände und der Verfügbarkeit der Informationen dazu. "]
[]
[{"$nulls":8},"Ihr Nutzen","Einmal eingegeben, stehen die Vermögensdaten für unterschiedliche Auswertungen zur Verfügung. Die Projektion in den gewählten Szenarien zeigt Ihnen, ob das Vermögen für die Zukunft gut aufgestellt ist, oder ob Handlungsbedarf besteht. Mit dem Vermögenbericht erhalten Sie eine strukturierte Auswertung."]
[]
[{"$nulls":8},"Philosophie","„Glücklich, wem Vermögen mit Verstand gepaart zu eigen ist; denn er macht davon in allem, was nötig ist, den richtigen Gebrauch.“     [Demokrit]"]
[]
[]
[{"$nulls":8},"INVESTITION PRÜFEN"]
[]
[]
[{"$nulls":8},"Ihre Aufgabe","Wenn Sie Veränderungbedarf erkannt haben, gilt es diese Veränderung herbeizuführen. Eine Investition stellt eine Umschichtung im Stiftungsvermögen dar. Sie ist der notwendige Eingriff in die Vermögensstruktur. Dokumentieren Sie die Beweggründe und verwendeten Informationen sorgfältig, damit die Entscheidung auch im Zeitverlauf nachvollziehbar bleibt."]
[]
[{"$nulls":8},"Ihr Aufwand","Sie benötigen den konkreten Vorschlag einer Anlagealternative zum vorhandenen Bestand. Liegen Ihnen die erforderlichen Parameter vor, benötigen Sie nur wenige Minuten, um diese zu erfassen."]
[]
[{"$nulls":8},"Ihr Nutzen","Das Cockpit macht die Auswirkungen einer möglichen Umschichtung auf die Erreichung jedes einzelnen Anlageziels sichtbar. Aus den Eingaben erstellt es einen Formulierungsvorschlag für die Gremienentscheidung. Es untersützt die Verantwortlichen dabei, die Entscheidungsmotive zu dokumentieren Haftungsrisiken zu reduzieren."]
[]
[{"$nulls":8},"Philosophie","\"Für Wunder muss man beten,für Veränderungen aber arbeiten.\"     [Thomas von Aquin]"]
[]
[]
[{"$nulls":8},"VERGABE DURCHFÜHREN"]
[]
[]
[{"$nulls":8},"Ihre Aufgabe","Um eine passende und preiswerte Vermögensanlage zu finden, empfiehlt es sich in der Regel, mindestens drei Angebote einzuholen. Damit erfüllen Sie auch die Anforderung des Business Judgement Rule nach einer angemessenen Informationsgrundlage und der Orientierung am Stiftungswohl. "]
[]
[{"$nulls":8},"Ihr Aufwand","Besprechen Sie im Gremium, welche Anbieter in Frage kommen, und holen Sie entsprechende Angebote ein. Die Anbieter müssen Ihre Anlageziele z.B. in Form der Anlagerichtlinien kennen, aber nicht die Entscheidungskriterien in ihre Gewichtung im Einzelnen."]
[]
[{"$nulls":8},"Ihr Nutzen","Die Gefahr, dass jemand den Vorwurf erhebt, ein Anbieter sei aus nicht sachbezogenen Gründen bevorzugt oder benachteiligt werden, reduziert sich erheblich, wenn eine vorab derfinierte Kriterienmatrix zum Einsatz kommt. Umgekehr steigt die Wahrscheinlichkeit, das geeignetste Anlageprodukt zu finden."]
[]
[{"$nulls":8},"Philosophie","\"Sometimes you make the right decision, sometimes you make the decision right.\"     [Phil McGraw]"]
[]
[]
[{"$nulls":8},"FINANZSTATUS ERSTELLEN"]
[]
[]
[{"$nulls":8},"Ihre Aufgabe","Der Finanzstatus dokumentiert umfangreich die Finanzdaten und -bezüge der Stiftung zu einem bestimmten Zeitpunkt. Er erfasst die steuerungsrelevanten Kennzahlen und gibt Auskunft über einige Aspekte der Stiftungsgovernance im Hinblick auf die Anforderungen der Business Judgement Rule."]
[]
[{"$nulls":8},"Ihr Aufwand","Der Finanzstatus stellt eine Drittleistung durch qualifizierte Beraterinnen und Berater dar. Der Aufwand auf Stiftungssseite beschränkt sich in diesem Fall darauf, die benötigten Statuten und Finandaten zu übermitteln. Die betreffenden Funktionalitäten des Stiftungscockpits stehen nur in der lizenzierten Pro-Version zur Verfügung. "]
[]
[{"$nulls":8},"Ihr Nutzen","Mit dem Finanzstatus erhalten die Stiftungsverantwortlichen ein sehr umfassendes Bild vom status quo der Stiftungsfinanzen und möglichem Handlungsbedarf aus neutraler Sicht. Dies kann vor allem in Sondersituationen wie einem Vorstandswechsel oder geplanten Satzungsänderungen die Handlungs- und Haftungssicherheit für alle Beteiligten erhöhen. "]
[]
[{"$nulls":8},"Philosophie","\"Es ist kein Drama, wenn das Projekt nicht nach Plan läuft. Es ist ein Drama, wenn der Projektmanager nichts davon weiß.\"     [Peter Hobbs]"]
[]
[]
[{"$nulls":8},"INSTRUMENT VERMÖGEN"]
[]
[]
[{"$nulls":8},"Bedeutung","Dieses Instrument zeigt an, wo Ihre Stiftung aktuell bei der Erreichung ihres Vermögenserhaltungsziels steht. Steht die Nadel im roten Bereich, ist das Ziel aktuell nicht erfüllt, im gelben ist es übererfüllt. Dies kann ein Nachteil sein, wenn gleichzeitig andere Anlageziele nicht erreicht werden. Der grüne Bereich lässt sich auf dem Tabellenblatt \"Einstellungen\" festlegen."]
[]
[{"$nulls":8},"Funktion","Das System gleicht die gewählte Art der Vermögenserhaltung mit dem tatsächlich vorhandenen Vermögen ab. Ist reale Vermögenserhaltung als Ziel gewählt, wird als Soll das Grundstockvermögen ab Zufluss mit dem Verbrauchpreisindex inflationiert."]
[]
[{"$nulls":8},"Ihre Eingaben","Um dieses Instrument zu aktivieren, bearbeiten Sie die Tabellenblätter Einstellungen, Anlageziele, Vermögen und Vermögenserhaltung."]
[]
[]
[{"$nulls":8},"INSTRUMENT ERTRAG"]
[]
[]
[{"$nulls":8},"Bedeutung","Dieses Instrument zeigt an, inwieweit das aktuelle Ertragspotenzial des Vermögens der jährlichen Ertragserwartung entspricht. Steht die Nadel im roten Bereich, ist das Ziel aktuell nicht erfüllt, im gelben ist es übererfüllt. Dies kann ein Nachteil sein, wenn gleichzeitig andere Anlageziele nicht erreicht werden. "]
[]
[{"$nulls":8},"Funktion","Das System gleicht die Zielhöhe der jährlichen Einnahmen mit den aus dem aktuellen Vermögensbestand zu erwartenden ordentlichen Erträgen ab. "]
[]
[{"$nulls":8},"Ihre Eingaben","Um dieses Instrument zu aktivieren, bearbeiten Sie die Tabellenblätter Einstellungen, Anlageziele, und Vermögen. Sofern das Anlageziel \"Überschuss\" lautet, wird darüber hinaus das Tabellenblatt Wirtschaftsplan benötigt."]
[]
[]
[{"$nulls":8},"INSTRUMENT RISIKO"]
[]
[]
[{"$nulls":8},"Bedeutung","Dieses Instrument zeigt an, inwieweit der zu erwartende Maximalverlust auf Jahresbasis der definierten Risikotragfähigkeit entspricht. Steht die Nadel im roten Bereich, ist das Ziel aktuell nicht erfüllt, im gelben ist es übererfüllt. Dies kann ein Nachteil sein, wenn gleichzeitig andere Anlageziele nicht erreicht werden. "]
[]
[{"$nulls":8},"Funktion","Das System vergleicht die die Summe der zu erwartenden Maximalverluste auf Ebene der einzelnen Vermögensgegenstände mit dem angegebenen Maximalverlust auf Gesamtvemögensebene."]
[]
[{"$nulls":8},"Ihre Eingaben","Um dieses Instrument zu aktivieren, bearbeiten Sie die Tabellenblätter Anlageziele, und Vermögen."]
[]
[]
[{"$nulls":8},"INSTRUMENT NACHHALTIGKEIT"]
[]
[]
[{"$nulls":8},"Bedeutung","Dieses Instrument zeigt an, inwieweit die Nachhaltigkeitsziele in der aktuellen Vermögenszusammenseztung bereits umgesetzt sind. Unter nachhaltigen Anlagen werden hier solche verstanden, die nicht primär finanzielle Kriterien berücksichten, sondern auch ideelle, insbesondere ökologische, soziale oder solche guter Unternehmensführung."]
[]
[{"$nulls":8},"Funktion","Je nach gewählter Systematik vergleicht das Cockpit den Anteil der gewählten Nachhaltigkeitsstrategien oder den PRISC-Score mit den Nachhaltigkeitscharakteristika der vorhadenen Vermögensgegenstände. "]
[]
[{"$nulls":8},"Ihre Eingaben","Um dieses Instrument zu aktivieren, bearbeiten Sie die Tabellenblätter \"Anlageziele\", \"Vermögen\" und \"Nachhaltigkeit/PRISC\"."]
[]
[]
[{"$nulls":8},"INVESTMENT CHECKEN"]
[]
[]
[{"$nulls":8},"Ihre Aufgabe","Sie wollen sich in kurzer Zeit einen Überblick verschaffen, ob eine Anlagemöglichkeit für die Stiftung in Frage kommt, oder mehrere Anlagen miteinander vergleichen. Sie möchten andere Organmitglieder einbiehen und den Vorgang dokumentieren. Kein relevanter Aspekt soll dabei übersehen werden. "]
[]
[{"$nulls":8},"Ihr Aufwand","Der Finanzstatus stellt eine Drittleistung durch qualifizierte Beraterinnen und Berater dar. Der Aufwand auf Stiftungssseite beschränkt sich in diesem Fall darauf, die benötigten Statuten und Finandaten zu übermitteln. Die betreffenden Funktionalitäten des Stiftungscockpits stehen nur in der lizenzierten Pro-Version zur Verfügung. "]
[]
[{"$nulls":8},"Ihr Nutzen","Sie erhalten eine Checkliste, in der Sie alle üblicherweise relevanten Fragen systematisch beantworten können. De rInvestment-Check lässt sich direkt benutzen, ohne zuvor weitere Tabellenblätter ausfüllen zu müssen. Allerdings werden die Eingaben auch noch nicht mit der Anlagestrategie abgeblichen. Auch ein Textgenerator ist noch nicht hinterlegt."]
[]
[{"$nulls":8},"Philosophie","\"An der Börse sagt uns oft das Gefühl, was wir machen, und der Verstand, was wir vermeiden sollen.”  [André Kostolany]"]

{"sheet":"Daten_Willkommen","index":1,"n_rows":95,"n_cols":3,"rows_kept":95,"hidden":true}
["Daten Startseite"]
[]
[null,"Version: ","2.33.1"]
[null,"Stand:","2023-02-27"]
[null,"Aktuelles Datum:",{"$f":"TODAY()","v":"2023-02-27"}]
[null,"Lizenzschlüssel:"]
[]
[null,"INSTRUMENTE"]
[]
[null,"Anzeigesegemente"]
[]
[null,{"$f":"(100-B13)/2","v":{"v":48,"d":"48.0"}},"links"]
[null,{"$f":"(Einstellungen!$G$18+Einstellungen!$G$18*$P$12)*2","v":{"v":4,"d":"4.0"}},"mitte"]
[null,{"$f":"(100-B13)/2","v":{"v":48,"d":"48.0"}},"rechts"]
[null,{"v":50,"d":"50.0"},"unten"]
[]
[null,"1. Vermögen",{"$f":"Anlageziele!H14","v":"Real"}]
[]
[null,"Status Quo",{"$f":"Daten_Vermögen!C94","v":0}]
[null,"Ziel",{"$f":"Daten_Vermögenserhaltung!D83","v":0}]
[null,"Differenz",{"$f":"C19-C20","v":0}]
[null,"Zielerreichung",{"$f":"IF(C19=0,\"OFF\",IFERROR(C19/C20,\"OFF\"))","v":"OFF"}]
[null,"Begrenzer",{"$f":"IF(C22=\"OFF\",\"OFF\",IF(C22<0,0,IF(C22>2,2,C22)))","v":"OFF"}]
[]
[null,"Tacho Vermögen"]
[]
[null,"Ausschlag links",{"$f":"IFERROR(C23/2,\"OFF\")","v":"OFF"}]
[null,"Zeiger",{"v":0,"d":"0.0%"}]
[null,"Ausschlag rechts",{"$f":"1-C27","v":{"$error":"#VALUE!"}}]
[null,"Bodensegment",{"v":0.5,"d":"50.0%"}]
[]
[null,"2. Erträge"]
[]
[null,"Status Quo",{"$f":"Daten_Vermögen!D94","v":0}]
[null,"Ziel",{"$f":"Daten_Vermögen!D33","v":"OFF"}]
[null,"Differenz",{"$f":"C34-C35","v":{"$error":"#VALUE!"}}]
[null,"Zielerreichung",{"$f":"IF(C34=0,\"OFF\",IFERROR(1+C36/C35,\"OFF\"))","v":"OFF"}]
[null,"Begrenzer",{"$f":"IF(C37=\"OFF\",\"OFF\",IF(C37<0,0,IF(C37>2,2,C37)))","v":"OFF"}]
[]
[null,"Tacho Ertrag"]
[]
[null,"Ausschlag links",{"$f":"IFERROR(C38/2,\"OFF\")","v":"OFF"}]
[null,"Zeiger",{"v":0,"d":"0.0%"}]
[null,"Ausschlag rechts",{"$f":"1-C42","v":{"$error":"#VALUE!"}}]
[null,"Bodensegment",{"v":0.5,"d":"50.0%"}]
[]
[null,"3. Risiko"]
[]
[null,"Status Quo",{"$f":"Daten_Vermögen!E94","v":0}]
[null,"Ziel",{"$f":"Daten_Vermögen!E37","v":0}]
[null,"Differenz",{"$f":"C50-C49","v":0}]
[null,"Zielerreichung",{"$f":"IF(C49=0,\"OFF\",IFERROR(1+C51/C50,\"OFF\"))","v":"OFF"}]
[null,"Begrenzer",{"$f":"IF(C52=\"OFF\",\"OFF\",IF(C52<0,0,IF(C52>2,2,C52)))","v":"OFF"}]
[]
[null,"Tacho Risiko"]
[]
[null,"Ausschlag links",{"$f":"IFERROR(C53/2,\"OFF\")","v":"OFF"}]
[null,"Zeiger",{"v":0,"d":"0.0%"}]
[null,"Ausschlag rechts",{"$f":"1-C57","v":{"$error":"#VALUE!"}}]
[null,"Bodensegment",{"v":0.5,"d":"50.0%"}]
[]
[null,"4. Nachhaltigkeit",{"$f":"Anlageziele!O31","v":"Quantitativ"}]
[]
[null,"Status Quo",{"$f":"Daten_Vermögen!F95","v":{"v":0,"d":"0.0%"}}]
[null,"Ziel",{"$f":"Daten_Vermögen!F38","v":{"v":0,"d":"0.0%"}}]
[null,"Differenz",{"$f":"C64-C65","v":{"v":0,"d":"0.0%"}}]
[null,"Zielerreichung",{"$f":"IF(C64=0,\"OFF\",IF(C65=\"OFF\",\"OFF\",IFERROR(1+C66/C65,0)))","v":"OFF"}]
[null,"Begrenzer",{"$f":"IF(C67=\"OFF\",\"OFF\",IF(C67<0,0,IF(C67>2,2,C67)))","v":"OFF"}]
[]
[null,"Tacho Nachhaltigkeit"]
[null,"Ausschlag links",{"$f":"IFERROR(C68/2,\"OFF\")","v":"OFF"}]
[null,"Zeiger",{"v":0,"d":"0.0%"}]
[null,"Ausschlag rechts",{"$f":"1-C71","v":{"$error":"#VALUE!"}}]
[null,"Bodensegment",{"v":0.5,"d":"50.0%"}]
[]
[]
[null,"LEVEL-MANAGER"]
[]
[null,"1. Zählerstände"]
[null,"\"Zähler\" Einstieg",1]
[null,"Zähler Investment-Check",1]
[null,"Zähler Einstellungen",{"$f":"Daten_Einstellg_Ziele!C37","v":0}]
[null,"Zähler Anlageziele",{"$f":"Daten_Einstellg_Ziele!C47","v":0}]
[null,"Zähler Anlagerichtlinie",{"$f":"Daten_Anlagerichtlinie!B286","v":0}]
[null,"Zähler Vermögen",{"$f":"Daten_Vermögen!C164","v":0}]
[]
[null,"2. Schwellenwerte","Zähler"]
[null,"Einstellungen vornehmen",{"$f":"IFERROR(C80,0)","v":1}]
[null,"Anlageziele definieren",{"$f":"IFERROR(C80*C82,0)","v":0}]
[null,"Vermögenserhaltg. berechnen",{"$f":"IFERROR(C82*C83,0)","v":0}]
[null,"Anlagerichtlinie erstellen",{"$f":"IFERROR(C82*C83,0)","v":0}]
[null,"Vermögen analysieren",{"$f":"IFERROR(C82*C83*C84,0)","v":0}]
[null,"Unschichtung vornehmen",{"$f":"IFERROR(C82*C83*C84*C85,0)","v":0}]
[null,"Vergabe durchführen",{"$f":"IFERROR(C82*C83*C84*C85,0)","v":0}]
[null,"Vermögensbericht erstellen",{"$f":"IFERROR(C82*C83*C84*C85,0)","v":0}]

{"sheet":"Cockpit","index":2,"n_rows":160,"n_cols":19,"rows_kept":160,"merged":[[26,4,26,5]]}
{"$rows_empty":9}
[null,"Gehe zu",null,null,"Zielerreichung Projektion",null,2024]
{"$rows_empty":7}
[{"$nulls":16}," "]
{"$rows_empty":8}
[{"$nulls":4},"Projektion Basisszenario"]
{"$rows_empty":16}
[{"$nulls":10}," "]
{"$rows_empty":13}
[{"$nulls":4},"Analyse Status Quo Vermögenserhaltung"]
[]
[]
[]
[]
[]
[{"$nulls":15},"Grundstock","Investitionsvermögen"]
[{"$nulls":15},"(SOLL)","(IST)"]
[null," ",{"$nulls":12},"Grundstock nominal",{"$f":"Daten_Vermögenserhaltung!D75","v":0},null,"EUR"]
[{"$nulls":14},"Inflationsausgleich",{"$f":"Daten_Vermögenserhaltung!D76","v":0},null,"EUR"]
[{"$nulls":14},"Gesamt",{"$f":"P66+P67","v":0},{"$f":"Daten_Vermögenserhaltung!E77","v":0},"EUR"]
[{"$nulls":14},"Zielerreichung:",{"v":1,"d":"100%"},{"$f":"Q68/P68","v":{"$error":"#DIV/0!"}}]
{"$rows_empty":9}
[{"$nulls":4},"Allokation aktuell"]
[]
[]
[]
[]
[]
[]
[{"$nulls":14},"Allokation","SOLL-Allokation","IST-Allokation"]
[{"$nulls":14},{"$f":"Daten_Vermögen!B7","v":"Aktien"},{"$f":"Anlagestrategie!H23","v":{"v":0,"d":"0.0%"}},{"$f":"IFERROR(Daten_Vermögen!E169,\"\")","v":""},null,{"$f":"IF(Daten_Anlagerichtlinie!$B$285>0,IF(Q87<P87-P87*Anlagestrategie!$H$36,\"Außerhalb d. Zielkorridors\",IF(Cockpit!Q87>Cockpit!P87+Cockpit!P87*Anlagestrategie!$H$36,\"Außerhalb d. Zielkorridors\",\"\")),\"\")","v":""}]
[{"$nulls":14},{"$f":"Daten_Vermögen!B8","v":"Anleihen"},{"$f":"Anlagestrategie!H24","v":{"v":0,"d":"0.0%"}},{"$f":"IFERROR(Daten_Vermögen!E170,\"\")","v":""},null,{"$f":"IF(Daten_Anlagerichtlinie!$B$285>0,IF(Q88<P88-P88*Anlagestrategie!$H$36,\"Außerhalb d. Zielkorridors\",IF(Cockpit!Q88>Cockpit!P88+Cockpit!P88*Anlagestrategie!$H$36,\"Außerhalb d. Zielkorridors\",\"\")),\"\")","v":""}]
[{"$nulls":14},{"$f":"Daten_Vermögen!B9","v":"Alternative Inv."},{"$f":"Anlagestrategie!H28","v":{"v":0,"d":"0.0%"}},{"$f":"IFERROR(Daten_Vermögen!E171,\"\")","v":""},null,{"$f":"IF(Daten_Anlagerichtlinie!$B$285>0,IF(Q89<P89-P89*Anlagestrategie!$H$36,\"Außerhalb d. Zielkorridors\",IF(Cockpit!Q89>Cockpit!P89+Cockpit!P89*Anlagestrategie!$H$36,\"Außerhalb d. Zielkorridors\",\"\")),\"\")","v":""}]
[{"$nulls":14},{"$f":"Daten_Vermögen!B10","v":"Rohstoffe"},{"$f":"Anlagestrategie!H29","v":{"v":0,"d":"0.0%"}},{"$f":"IFERROR(Daten_Vermögen!E172,\"\")","v":""},null,{"$f":"IF(Daten_Anlagerichtlinie!$B$285>0,IF(Q90<P90-P90*Anlagestrategie!$H$36,\"Außerhalb d. Zielkorridors\",IF(Cockpit!Q90>Cockpit!P90+Cockpit!P90*Anlagestrategie!$H$36,\"Außerhalb d. Zielkorridors\",\"\")),\"\")","v":""}]
[{"$nulls":14},{"$f":"Daten_Vermögen!B11","v":"Liquidität"},{"$f":"Anlagestrategie!H30","v":{"v":0,"d":"0.0%"}},{"$f":"IFERROR(Daten_Vermögen!E173,\"\")","v":""},null,{"$f":"IF(Daten_Anlagerichtlinie!$B$285>0,IF(Q91<P91-P91*Anlagestrategie!$H$36,\"Außerhalb d. Zielkorridors\",IF(Cockpit!Q91>Cockpit!P91+Cockpit!P91*Anlagestrategie!$H$36,\"Außerhalb d. Zielkorridors\",\"\")),\"\")","v":""}]
[{"$nulls":14},{"$f":"Daten_Vermögen!B13","v":"Immobilien"},{"$f":"Anlagestrategie!H31","v":{"v":0,"d":"0.0%"}},{"$f":"IFERROR(Daten_Vermögen!E174,\"\")","v":""},null,{"$f":"IF(Daten_Anlagerichtlinie!$B$285>0,IF(Q92<P92-P92*Anlagestrategie!$H$36,\"Außerhalb d. Zielkorridors\",IF(Cockpit!Q92>Cockpit!P92+Cockpit!P92*Anlagestrategie!$H$36,\"Außerhalb d. Zielkorridors\",\"\")),\"\")","v":""}]
[{"$nulls":14},{"$f":"Daten_Vermögen!B14","v":"Beteiligungen"},{"$f":"Anlagestrategie!H32","v":{"v":0,"d":"0.0%"}},{"$f":"IFERROR(Daten_Vermögen!E175,\"\")","v":""},null,{"$f":"IF(Daten_Anlagerichtlinie!$B$285>0,IF(Q93<P93-P93*Anlagestrategie!$H$36,\"Außerhalb d. Zielkorridors\",IF(Cockpit!Q93>Cockpit!P93+Cockpit!P93*Anlagestrategie!$H$36,\"Außerhalb d. Zielkorridors\",\"\")),\"\")","v":""}]
[{"$nulls":14},{"$f":"Daten_Vermögen!B15","v":"Sonst. Verm."},{"$f":"Anlagestrategie!H33","v":{"v":0,"d":"0.0%"}},{"$f":"IFERROR(Daten_Vermögen!E176,\"\")","v":""},null,{"$f":"IF(Daten_Anlagerichtlinie!$B$285>0,IF(Q94<P94-P94*Anlagestrategie!$H$36,\"Außerhalb d. Zielkorridors\",IF(Cockpit!Q94>Cockpit!P94+Cockpit!P94*Anlagestrategie!$H$36,\"Außerhalb d. Zielkorridors\",\"\")),\"\")","v":""}]
[{"$nulls":14},"Summe",{"$f":"SUM(P87:P94)","v":{"v":0,"d":"0.0%"}},{"$f":"SUM(Q87:Q94)","v":{"v":0,"d":"0.0%"}}]
[]
[]
[]
[]
[]
[{"$nulls":4},"Attribution"]
[]
[]
[]
[]
[]
[]
[{"$nulls":14},"Allokation","Gewichtete Renditen","Attribution"]
[{"$nulls":14},{"$f":"Daten_Vermögen!B7","v":"Aktien"},{"$f":"Daten_Vermögen!T94","v":{"$error":"#VALUE!"}},{"$f":"P109/$P$117","v":{"$error":"#VALUE!"}}]
[{"$nulls":14},{"$f":"Daten_Vermögen!B8","v":"Anleihen"},{"$f":"Daten_Vermögen!U94","v":{"$error":"#VALUE!"}},{"$f":"P110/$P$117","v":{"$error":"#VALUE!"}}]
[{"$nulls":14},{"$f":"Daten_Vermögen!B9","v":"Alternative Inv."},{"$f":"Daten_Vermögen!V94","v":{"$error":"#VALUE!"}},{"$error":"#VALUE!"}]
[{"$nulls":14},{"$f":"Daten_Vermögen!B10","v":"Rohstoffe"},{"$f":"Daten_Vermögen!W94","v":{"$error":"#VALUE!"}},{"$error":"#VALUE!"}]
[{"$nulls":14},{"$f":"Daten_Vermögen!B11","v":"Liquidität"},{"$f":"Daten_Vermögen!X94","v":{"$error":"#VALUE!"}},{"$error":"#VALUE!"}]
[{"$nulls":14},{"$f":"Daten_Vermögen!B13","v":"Immobilien"},{"$f":"Daten_Vermögen!Y94","v":{"v":0,"d":"0.0%"}},{"$error":"#VALUE!"}]
[{"$nulls":14},{"$f":"Daten_Vermögen!B14","v":"Beteiligungen"},{"$f":"Daten_Vermögen!Z94","v":{"v":0,"d":"0.0%"}},{"$error":"#VALUE!"}]
[{"$nulls":14},{"$f":"Daten_Vermögen!B15","v":"Sonst. Verm."},{"$f":"Daten_Vermögen!AA94","v":{"v":0,"d":"0.0%"}},{"$error":"#VALUE!"}]
[{"$nulls":14},"Summe",{"$f":"SUM(P109:P116)","v":{"$error":"#VALUE!"}},{"$f":"SUM(Q109:Q116)","v":{"$error":"#VALUE!"}}]
[]
[]
[]
[]
[]
[{"$nulls":4},"Kennzahlen im Jahr",null,{"$f":"Einstellungen!G13","v":2024}]
[]
[{"$nulls":5},"Investitionsgrad",null,{"$f":"'Daten_Cockpit '!C125","v":{"$error":"#DIV/0!"}},null,null,"Zweckeffizienz Ertrag",{"$nulls":4},"Zweckeffizienz Vermögen"]
[]
[]
[]
[{"$nulls":5},"Verwaltungskostenquote 1",{"$nulls":4},"Verwaltungskostenquote 2"]
[]
[]
[]
[{"$nulls":5},"Aufbauorganisation",{"$nulls":4},"Ablauforganisation (Legitimität)",{"$nulls":4},"Resilienz"]
[]
[]
[]
[{"$nulls":4},"Ereignisradar"]
{"$rows_empty":22}
[{"$nulls":4},"Ende der Anzeigen"]

{"sheet":"Daten_Cockpit ","index":3,"n_rows":132,"n_cols":19,"rows_kept":132,"hidden":true}
["Daten Cockpit"]
[]
[null,"PROJEKTION",{"$nulls":15},"Auswahlfeld"]
[]
[null,"Vermögenserhaltung",{"$f":"Anlageziele!H14","v":"Real"},{"$nulls":3},"Tacho Vermögenserhaltung",null,"Zweiter Zeiger",{"$nulls":8},"Jahr"]
[null,null,{"$f":"Tabellen!F4","v":2024},{"$f":"Cockpit!G10","v":2024},null,null,"Ausgangswert",{"$f":"D10","v":"OFF"},{"$f":"D10","v":"OFF"},{"$nulls":4},"Wert","Ausschlag","Zoomfaktor",null,{"$f":"Einstellungen!G13","v":2024}]
[null,"Zielwert:",{"$f":"Daten_Vermögenserhaltung!I70","v":0},{"$f":"SUMIF(Daten_Vermögenserhaltung!I69:M69,Cockpit!G10,Daten_Vermögenserhaltung!I70:M70)","v":0},{"$nulls":7},"Segmente",null,{"v":0,"d":"0%"},{"v":0.5,"d":"50%"},1.5,null,{"$f":"R6+1","v":2025}]
[null,"Projektion Basisszenario:",{"$f":"'Daten Projektion'!O64","v":0},{"$f":"SUMIF(Daten_Vermögenserhaltung!I69:M69,Cockpit!G10,Daten_Vermögenserhaltung!I71:M71)","v":0},null,null,"Anzeige","Zeiger Projektion","Zeiger Proj.",null,null,"Einteilung","Farbe",{"v":-0.3,"d":"-30%"},{"v":0,"d":"0%"},null,null,{"$f":"R7+1","v":2026}]
[null,"Zielabweichung EUR",{"$f":"C8-C7","v":0},{"$f":"D8-D7","v":0},null,null,"Ausschlag links",{"$f":"H6/2","v":{"$error":"#VALUE!"}},{"$f":"IF(I6>30%,100%,IF(I6<-30%,0%,50%+I6*$P$7))","v":{"v":1,"d":"100.0%"}},null,null,{"$f":"(100-L10)/2","v":{"v":45,"d":"45.0"}},"rot",{"v":0.3,"d":"30%"},{"v":1,"d":"100%"},null,null,2027]
[null,"Zielabweichung %",{"$f":"C9/C7","v":{"$error":"#DIV/0!"}},{"$f":"IFERROR(1+D9/D7,\"OFF\")","v":"OFF"},null,null,"Zeiger",{"v":0,"d":"0.0%"},{"v":0,"d":"0.0%"},null,null,{"$f":"(Einstellungen!$G$18+Einstellungen!$G$18*$P$7)*2","v":{"v":10,"d":"10.0"}},"grün",{"$nulls":4},2028]
[{"$nulls":6},"Ausschlag rechts",{"$f":"1-H9","v":{"$error":"#VALUE!"}},{"$f":"1-I9","v":{"v":0,"d":"0.0%"}},null,null,{"$f":"(100-L10)/2","v":{"v":45,"d":"45.0"}},"gelb"]
[null,"Investitionsgrad",{"$nulls":4},"Bodensegment",{"v":0.5,"d":"50.0%"},{"v":0.5,"d":"50.0%"},null,null,{"v":50,"d":"50.0"},"unsichtbar"]
[null,null,"EUR",{"$f":"Cockpit!G10","v":2024}]
[null,"Gesamtvermögen",{"$f":"SUMIF('Daten Projektion'!$O$12:$S$12,Cockpit!$G$10,'Daten Projektion'!$O75:$S75)","v":0},{"v":1,"d":"100.0%"}]
[null,"Liquidität",{"$f":"SUMIF('Daten Projektion'!$O$12:$S$12,Cockpit!$G$10,'Daten Projektion'!$O70:$S70)","v":0},{"$f":"C15/C14","v":{"$error":"#DIV/0!"}},null,null,"Tacho Erträge"]
[null,"Investitionsgrad",{"$f":"C14-C15","v":0},{"$f":"IFERROR(D14-D15,\"OFF\")","v":"OFF"},null,null,"Ausgangswert",{"$f":"D23","v":"OFF"},{"$f":"D23/100","v":{"$error":"#VALUE!"}}]
[{"$nulls":11},"Segmente"]
[null,"Erträge",{"$nulls":4},"Anzeige","Zeiger Projektion","Zeiger Proj.",null,null,"Einteilung","Farbe"]
[null,null,{"$f":"'Daten Projektion'!O226","v":2024},{"$f":"D6","v":2024},null,null,"Ausschlag links",{"$f":"H16/2","v":{"$error":"#VALUE!"}},{"$f":"IF(I16>30%,100%,IF(I16<-30%,0%,50%+I16*$P$7))","v":{"$error":"#VALUE!"}},null,null,{"$f":"(100-L20)/2","v":{"v":45,"d":"45.0"}},"rot"]
[null,"Ertragsziel:",{"$f":"'Daten Projektion'!O227","v":0},{"$f":"SUMIF('Daten Projektion'!O226:S226,Cockpit!G10,'Daten Projektion'!O227:S227)","v":0},null,null,"Zeiger",{"v":0,"d":"0.0%"},{"v":0,"d":"0.0%"},null,null,{"$f":"(Einstellungen!$G$18+Einstellungen!$G$18*$P$7)*2","v":{"v":10,"d":"10.0"}},"grün"]
[null,"Projektion:",{"$f":"'Daten Projektion'!O228","v":0},{"$f":"SUMIF('Daten Projektion'!O226:S226,Cockpit!G10,'Daten Projektion'!O228:S228)","v":0},null,null,"Ausschlag rechts",{"$f":"1-H19","v":{"$error":"#VALUE!"}},{"$f":"1-I19","v":{"$error":"#VALUE!"}},null,null,{"$f":"(100-L20)/2","v":{"v":45,"d":"45.0"}},"gelb"]
[null,"Abweichung EUR:",{"$f":"C21-C20","v":0},{"$f":"D21-D20","v":0},null,null,"Bodensegment",{"v":0.5,"d":"50.0%"},{"v":0.5,"d":"50.0%"},null,null,{"v":50,"d":"50.0"},"unsichtbar"]
[null,"Zielabweichung %",{"$f":"C22/C20*100","v":{"$error":"#DIV/0!"}},{"$f":"IFERROR(1+D22/D20,\"OFF\")","v":"OFF"}]
[{"$nulls":6},"Tacho Risiko"]
[null,"Risiko",{"$nulls":4},"Ausgangswert",{"$f":"D30","v":"OFF"},{"$f":"D30","v":"OFF"}]
[null,null,{"$f":"'Daten Projektion'!O297","v":2024},{"$f":"D6","v":2024},{"$nulls":7},"Segmente"]
[null,"Risikoziel",{"$f":"'Daten Projektion'!O298","v":0},{"$f":"SUMIF('Daten Projektion'!O297:S297,Cockpit!G10,'Daten Projektion'!O298:S298)","v":0},null,null,"Anzeige","Zeiger Projektion","Grundstock",null,null,"Einteilung","Farbe"]
[null,"Projektion",{"$f":"'Daten Projektion'!O299","v":0},{"$f":"SUMIF('Daten Projektion'!O297:S297,Cockpit!G10,'Daten Projektion'!O299:S299)","v":0},null,null,"Ausschlag links",{"$f":"H25/2","v":{"$error":"#VALUE!"}},{"$f":"IF(I25>30%,100%,IF(I25<-30%,0%,50%+I25*$P$7))","v":{"v":1,"d":"100.0%"}},null,null,{"$f":"(100-L29)/2","v":{"v":45,"d":"45.0"}},"rot"]
[null,"Abweichung EUR",{"$f":"(C28-C27)","v":0},{"$f":"(D28-D27)","v":0},null,null,"Zeiger",{"v":0,"d":"0.0%"},{"v":0,"d":"0.0%"},null,null,{"$f":"(Einstellungen!$G$18+Einstellungen!$G$18*$P$7)*2","v":{"v":10,"d":"10.0"}},"grün"]
[null,"Zielabweichung %",{"$f":"IF(C27=0,C29/1*-100,C29/C27*-100)","v":{"v":0,"d":"0.0"}},{"$f":"IFERROR(1+D29/D27*-1,\"OFF\")","v":"OFF"},null,null,"Ausschlag rechts",{"$f":"1-H28","v":{"$error":"#VALUE!"}},{"$f":"1-I28","v":{"v":0,"d":"0.0%"}},null,null,{"$f":"(100-L29)/2","v":{"v":45,"d":"45.0"}},"gelb"]
[{"$nulls":6},"Bodensegment",{"v":0.5,"d":"50.0%"},{"v":0.5,"d":"50.0%"},null,null,{"v":50,"d":"50.0"},"unsichtbar"]
[null,"Nachhaltigkeit",{"$nulls":12},"Maximalverlust Projektion Worst Case"]
[null,null,{"$f":"'Daten Projektion'!O357","v":2024},{"$f":"D6","v":2024},null,null,"Tacho Nachhaltigkeit",{"$nulls":7},{"$f":"'Daten Projektion'!O297","v":2024},{"$f":"'Daten Projektion'!P297","v":2025}]
[null,"Nachhaltigkeitsziel EUR",{"$f":"IF(Anlageziele!N42=FALSE,'Daten Projektion'!O379,'Daten Projektion'!O381)","v":{"v":0,"d":"0.0%"}},{"$f":"SUMIF('Daten Projektion'!$O$386:$S$386,Cockpit!$G$10,'Daten Projektion'!O387:S387)","v":{"v":0,"d":"0.0%"}},null,null,"Ausgangswert",{"$f":"D37","v":"OFF"},{"$f":"D37","v":"OFF"},{"$nulls":5},{"$f":"'Daten Projektion'!O295-'Daten Projektion'!N295","v":0},{"$f":"'Daten Projektion'!P295-'Daten Projektion'!O295","v":0}]
[null,"Projektion EUR",{"$f":"IF(Anlageziele!N42=FALSE,'Daten Projektion'!O378,'Daten Projektion'!O382)","v":{"$error":"#DIV/0!"}},{"$f":"SUMIF('Daten Projektion'!$O$386:$S$386,Cockpit!$G$10,'Daten Projektion'!O388:S388)","v":{"$error":"#DIV/0!"}},{"$nulls":7},"Segmente"]
[null,"Abweichung EUR/%",{"$f":"C35-C34","v":{"$error":"#DIV/0!"}},{"$f":"D35-D34","v":{"$error":"#DIV/0!"}},null,null,"Anzeige","Zeiger Projektion","Zeiger Imp.",null,null,"Einteilung","Farbe",{"$nulls":3},{"$f":"'Daten Projektion'!Q297","v":2026},{"$f":"'Daten Projektion'!R297","v":2027},{"$f":"'Daten Projektion'!S297","v":2028}]
[null,"Zielabweichung %",{"$f":"C36/C34","v":{"$error":"#DIV/0!"}},{"$f":"IFERROR(1+D36/D34,\"OFF\")","v":"OFF"},null,null,"Ausschlag links",{"$f":"H34/2","v":{"$error":"#VALUE!"}},{"$f":"IF(I34>30%,100%,IF(I34<-30%,0%,50%+I34*$P$7))","v":{"v":1,"d":"100.0%"}},null,null,{"$f":"(100-L38)/2","v":{"v":45,"d":"45.0"}},"rot",{"$nulls":3},{"$f":"'Daten Projektion'!Q295-'Daten Projektion'!P295","v":0},{"$f":"'Daten Projektion'!R295-'Daten Projektion'!Q295","v":0},{"$f":"'Daten Projektion'!S295-'Daten Projektion'!R295","v":0}]
[{"$nulls":6},"Zeiger",{"v":0,"d":"0.0%"},{"v":0,"d":"0.0%"},null,null,{"$f":"(Einstellungen!$G$18+Einstellungen!$G$18*$P$7)*2","v":{"v":10,"d":"10.0"}},"grün"]
[{"$nulls":6},"Ausschlag rechts",{"$f":"1-H37","v":{"$error":"#VALUE!"}},{"$f":"1-I37","v":{"v":0,"d":"0.0%"}},null,null,{"$f":"(100-L38)/2","v":{"v":45,"d":"45.0"}},"gelb"]
[{"$nulls":6},"Bodensegment",{"v":0.5,"d":"50.0%"},{"v":0.5,"d":"50.0%"},null,null,{"v":50,"d":"50.0"},"unsichtbar"]
[]
[]
[null,"RADAR",{"$nulls":4},"GRAFIK"]
[]
[null,{"$f":"Einstellungen!P16","v":"Bitte auswählen"},"Datum","Tage",null,null,"Bezeichnung","Gremien","X-Achse"]
[null,{"$f":"Einstellungen!P19","v":"Bitte auswählen"},{"$f":"DATE(YEAR(Einstellungen!P20)+Einstellungen!Q20,MONTH(Einstellungen!P20),DAY(Einstellungen!P20))","v":"00:00:00"},{"$f":"IFERROR(DATEDIF(TODAY(),C46,\"d\"),0)","v":0},null,null,{"$f":"IF(D46<=0,\"\",IF(D46>90,\"\",B46))","v":""},{"$f":"IF(D46<=0,\"\",IF(D46>90,\"\",D46))","v":""},{"$f":"35-35/90*H46","v":{"$error":"#VALUE!"}}]
[null,{"$f":"Einstellungen!P21","v":"Bitte auswählen"},{"$f":"DATE(YEAR(Einstellungen!P22)+Einstellungen!Q22,MONTH(Einstellungen!P22),DAY(Einstellungen!P22))","v":"00:00:00"},{"$f":"IFERROR(DATEDIF(TODAY(),C47,\"d\"),0)","v":0},null,null,"","",{"$f":"35-35/90*H47","v":{"$error":"#VALUE!"}}]
[null,{"$f":"Einstellungen!P23","v":"Bitte auswählen"},{"$f":"DATE(YEAR(Einstellungen!P24)+Einstellungen!Q24,MONTH(Einstellungen!P24),DAY(Einstellungen!P24))","v":"00:00:00"},0,null,null,"","",{"$error":"#VALUE!"}]
[null,{"$f":"Einstellungen!P25","v":"Bitte auswählen"},{"$f":"DATE(YEAR(Einstellungen!P26)+Einstellungen!Q26,MONTH(Einstellungen!P26),DAY(Einstellungen!P26))","v":"00:00:00"},0,null,null,"","",{"$error":"#VALUE!"}]
[null,{"$f":"Einstellungen!P27","v":"Bitte auswählen"},{"$f":"DATE(YEAR(Einstellungen!P28)+Einstellungen!Q28,MONTH(Einstellungen!P28),DAY(Einstellungen!P28))","v":"00:00:00"},{"$f":"IFERROR(DATEDIF(TODAY(),C50,\"d\"),0)","v":0},null,null,"","",{"$error":"#VALUE!"}]
[{"$nulls":6},"","",{"$error":"#VALUE!"}]
[{"$nulls":6},{"$f":"IF(D54<=0,\"\",IF(D54>90,\"\",B70))","v":""},null,{"v":35,"d":"35.0"}]
[]
[null,"Berichte","Datum","Tage",null,null,"Bezeichnung","Berichte","X-Achse"]
[null,"Wirtschaftsplan",{"$f":"Einstellungen!G45","v":"00:00:00"},{"$f":"IFERROR(DATEDIF(TODAY(),C55,\"d\"),0)","v":0},null,null,{"$f":"IF(D55<=0,\"\",IF(D55>90,\"\",B55))","v":""},{"$f":"IF(D55<=0,\"\",IF(D55>90,\"\",D55))","v":""},{"$f":"35-25/90*H55","v":{"$error":"#VALUE!"}}]
[null,"Finanzbericht",{"$f":"Einstellungen!G46","v":"00:00:00"},{"$f":"IFERROR(DATEDIF(TODAY(),C56,\"d\"),0)","v":0},null,null,{"$f":"IF(D56<=0,\"\",IF(D56>90,\"\",B56))","v":""},{"$f":"IF(D56<=0,\"\",IF(D56>90,\"\",D56))","v":""},{"$f":"35-25/90*H56","v":{"$error":"#VALUE!"}}]
[null,"Vermögensverwaltung","2021-07-31",0,null,null,{"$f":"IF(D57<=0,\"\",IF(D57>90,\"\",B57))","v":""},{"$f":"IF(D57<=0,\"\",IF(D57>90,\"\",D57))","v":""},{"$error":"#VALUE!"}]
[null,"Rechnungsabschluss",{"$f":"Einstellungen!G47","v":"00:00:00"},0,null,null,{"$f":"IF(D58<=0,\"\",IF(D58>90,\"\",B58))","v":""},{"$f":"IF(D58<=0,\"\",IF(D58>90,\"\",D58))","v":""},{"$error":"#VALUE!"}]
[null,"Anlagerichtlinie",{"$f":"Daten_Anlagerichtlinie!G8","v":{"$error":"#VALUE!"}},0,null,null,{"$f":"IF(D59<=0,\"\",IF(D59>90,\"\",B59))","v":""},{"$f":"IF(D59<=0,\"\",IF(D59>90,\"\",D59))","v":""},{"$error":"#VALUE!"}]
[]
[null,"Umschichtung"]
[null,"Grenzverletzung",{"v":44378,"d":"44,378"}]
[]
[null,"Behörden","Datum","Tage",null,null,"Bezeichnung","Behörden","X-Achse"]
[null,"Jahresabschluss","2021-06-30",{"$f":"IFERROR(DATEDIF(TODAY(),C65,\"d\"),0)","v":0},null,null,{"$f":"IF(D65<=0,\"\",IF(D65>90,\"\",B65))","v":""},{"$f":"IF(D65<=0,\"\",IF(D65>90,\"\",D65))","v":""},35]
[null,"Transparenzregister",{"$f":"DATE(YEAR(Einstellungen!P33)+1,MONTH(Einstellungen!P33),DAY(Einstellungen!P33))","v":"1900-12-31"},{"$f":"IFERROR(DATEDIF(TODAY(),C66,\"d\"),0)","v":0},null,null,{"$f":"IF(D66<=0,\"\",IF(D66>90,\"\",B66))","v":""},{"$f":"IF(D66<=0,\"\",IF(D66>90,\"\",D66))","v":""},35]
[null,"LEI-Aktualisierung",{"$f":"DATE(YEAR(Einstellungen!P34)+1,MONTH(Einstellungen!P34),DAY(Einstellungen!P34))","v":"1900-12-31"},0,null,null,{"$f":"IF(D67<=0,\"\",IF(D67>90,\"\",B67))","v":""},{"$f":"IF(D67<=0,\"\",IF(D67>90,\"\",D67))","v":""},35]
[null,"Stiftungsrechtsreform","2023-07-01",124,null,null,{"$f":"IF(D68<=0,\"\",IF(D68>90,\"\",B68))","v":""},{"$f":"IF(D68<=0,\"\",IF(D68>90,\"\",D68))","v":""},35]
[]
[null,"Fälligkeiten","Datum","Tage",null,null,"Bezeichnung ","Fälligkeiten","X-Achse"]
[null,{"$f":"Vermögen!F11","v":0},{"$f":"Vermögen!AB11","v":"00:00:00"},{"$f":"IFERROR(DATEDIF(TODAY(),C71,\"d\"),0)","v":0},null,null,{"$f":"IF(D71<=0,\"\",IF(D71>90,\"\",B71))","v":""},{"$f":"IF(D71<=0,\"\",IF(D71>90,\"\",D71))","v":""},{"$f":"IFERROR(35+25/90*H71,\"\")","v":""}]
[null,{"$f":"Vermögen!F12","v":0},{"$f":"Vermögen!AB12","v":"00:00:00"},{"$f":"IFERROR(DATEDIF(TODAY(),C72,\"d\"),0)","v":0},null,null,"","",{"$f":"IFERROR(35+25/90*H72,\"\")","v":""}]
[null,{"$f":"Vermögen!F13","v":0},{"$f":"Vermögen!AB13","v":"00:00:00"},0,null,null,"","",""]
[null,{"$f":"Vermögen!F14","v":0},{"$f":"Vermögen!AB14","v":"00:00:00"},0,null,null,"","",""]
[null,{"$f":"Vermögen!F15","v":0},{"$f":"Vermögen!AB15","v":"00:00:00"},0,null,null,"","",""]
[null,{"$f":"Vermögen!F16","v":0},{"$f":"Vermögen!AB16","v":"00:00:00"},0,null,null,"","",""]
[null,{"$f":"Vermögen!F17","v":0},{"$f":"Vermögen!AB17","v":"00:00:00"},0,null,null,"","",""]
[null,{"$f":"Vermögen!F18","v":0},{"$f":"Vermögen!AB18","v":"00:00:00"},0,null,null,"","",""]
[null,{"$f":"Vermögen!F19","v":0},{"$f":"Vermögen!AB19","v":"00:00:00"},0,null,null,"","",""]
[null,{"$f":"Vermögen!F20","v":0},{"$f":"Vermögen!AB20","v":"00:00:00"},0,null,null,"",""," "]
[null,{"$f":"Vermögen!F21","v":0},{"$f":"Vermögen!AB21","v":"00:00:00"},0,null,null,"","",""]
[null,{"$f":"Vermögen!F22","v":0},{"$f":"Vermögen!AB22","v":"00:00:00"},0,null,null,"","",""]
[null,{"$f":"Vermögen!F23","v":0},{"$f":"Vermögen!AB23","v":"00:00:00"},0,null,null,"","",""]
[null,{"$f":"Vermögen!F24","v":0},{"$f":"Vermögen!AB24","v":"00:00:00"},0,null,null,"","",""]
[null,{"$f":"Vermögen!F25","v":0},{"$f":"Vermögen!AB25","v":"00:00:00"},0,null,null,"","",""]
[null,{"$f":"Vermögen!F26","v":0},{"$f":"Vermögen!AB26","v":"00:00:00"},0,null,null,"","",""]
[null,{"$f":"Vermögen!F27","v":0},{"$f":"Vermögen!AB27","v":"00:00:00"},0,null,null,"","",""]
[null,{"$f":"Vermögen!F28","v":0},{"$f":"Vermögen!AB28","v":"00:00:00"},0,null,null,"","",""]
[null,{"$f":"Vermögen!F29","v":0},{"$f":"Vermögen!AB29","v":"00:00:00"},0,null,null,"","",""]
[null,{"$f":"Vermögen!F30","v":0},{"$f":"Vermögen!AB30","v":"00:00:00"},0,null,null,"","",""]
[null,{"$f":"Vermögen!F31","v":0},{"$f":"Vermögen!AB31","v":"00:00:00"},0,null,null,"","",""]
[null,{"$f":"Vermögen!F32","v":0},{"$f":"Vermögen!AB32","v":"00:00:00"},0,null,null,"","",""]
[null,{"$f":"Vermögen!F33","v":0},{"$f":"Vermögen!AB33","v":"00:00:00"},0,null,null,"","",""]
[null,{"$f":"Vermögen!F34","v":0},{"$f":"Vermögen!AB34","v":"00:00:00"},0,null,null,"","",""]
[null,{"$f":"Vermögen!F35","v":0},{"$f":"Vermögen!AB35","v":"00:00:00"},0,null,null,"","",""]
[null,{"$f":"Vermögen!F36","v":0},{"$f":"Vermögen!AB36","v":"00:00:00"},0,null,null,"","",""]
[null,{"$f":"Vermögen!F37","v":0},{"$f":"Vermögen!AB37","v":"00:00:00"},0,null,null,"","",""]
[null,{"$f":"Vermögen!F38","v":0},{"$f":"Vermögen!AB38","v":"00:00:00"},0,null,null,"","",""]
[null,{"$f":"Vermögen!F39","v":0},{"$f":"Vermögen!AB39","v":"00:00:00"},0,null,null,"","",""]
[null,{"$f":"Vermögen!F40","v":0},{"$f":"Vermögen!AB40","v":"00:00:00"},0,null,null,"","",""]
[null,{"$f":"Vermögen!F41","v":0},{"$f":"Vermögen!AB41","v":"00:00:00"},0,null,null,"","",""]
[null,{"$f":"Vermögen!F42","v":0},{"$f":"Vermögen!AB42","v":"00:00:00"},0,null,null,"","",""]
[null,{"$f":"Vermögen!F43","v":0},{"$f":"Vermögen!AB43","v":"00:00:00"},0,null,null,"","",""]
[null,{"$f":"Vermögen!F44","v":0},{"$f":"Vermögen!AB44","v":"00:00:00"},0,null,null,"","",""]
[null,{"$f":"Vermögen!F45","v":0},{"$f":"Vermögen!AB45","v":"00:00:00"},0,null,null,"","",""]
[null,{"$f":"Vermögen!F46","v":0},{"$f":"Vermögen!AB46","v":"00:00:00"},0,null,null,"","",""]
[null,{"$f":"Vermögen!F47","v":0},{"$f":"Vermögen!AB47","v":"00:00:00"},0,null,null,"","",""]
[null,{"$f":"Vermögen!F48","v":0},{"$f":"Vermögen!AB48","v":"00:00:00"},0,null,null,"","",""]
[null,{"$f":"Vermögen!F49","v":0},{"$f":"Vermögen!AB49","v":"00:00:00"},0,null,null,"","",""]
[null,{"$f":"Vermögen!F50","v":0},{"$f":"Vermögen!AB50","v":"00:00:00"},0,null,null,"","",""]
[null,{"$f":"Vermögen!F51","v":0},{"$f":"Vermögen!AB51","v":"00:00:00"},0,null,null,"","",""]
[null,{"$f":"Vermögen!F52","v":0},{"$f":"Vermögen!AB52","v":"00:00:00"},0,null,null,"","",""]
[null,{"$f":"Vermögen!F53","v":0},{"$f":"Vermögen!AB53","v":"00:00:00"},0,null,null,"","",""]
[null,{"$f":"Vermögen!F54","v":0},{"$f":"Vermögen!AB54","v":"00:00:00"},0,null,null,"","",""]
[null,{"$f":"Vermögen!F55","v":0},{"$f":"Vermögen!AB55","v":"00:00:00"},0,null,null,"","",""]
[null,{"$f":"Vermögen!F56","v":0},{"$f":"Vermögen!AB56","v":"00:00:00"},0,null,null,"","",""]
[null,{"$f":"Vermögen!F57","v":0},{"$f":"Vermögen!AB57","v":"00:00:00"},0,null,null,"","",""]
[null,{"$f":"Vermögen!F58","v":0},{"$f":"Vermögen!AB58","v":"00:00:00"},0,null,null,"","",""]
[null,{"$f":"Vermögen!F59","v":0},{"$f":"Vermögen!AB59","v":"00:00:00"},0,null,null,"","",""]
[null,{"$f":"Vermögen!F60","v":0},{"$f":"Vermögen!AB60","v":"00:00:00"},0,null,null,"","",""]
[]
[]
[null,"KENNZAHLEN"]
[null,null,"IST","Rest","Grenzwert"]
[null,"Investitionsgrad",{"$f":"'Daten Projektion'!O78","v":{"$error":"#DIV/0!"}},{"$f":"1-C125","v":{"$error":"#DIV/0!"}},{"v":0.95,"d":"95.0%"}]
[null,"Zweckeffizienz Ertrag",{"$f":"Daten_Wirtschaftsplan!E30","v":{"$error":"#DIV/0!"}},{"$f":"1-C126","v":{"$error":"#DIV/0!"}},{"v":0.5,"d":"50.0%"}]
[null,"Zweckeffizienz Vermögen",{"$f":"Daten_Wirtschaftsplan!E31","v":{"$error":"#DIV/0!"}},{"$f":"0.05-C127","v":{"$error":"#DIV/0!"}},{"v":0.01,"d":"1.0%"}]
[null,"Resilienz",{"v":0,"d":"0.0%"},{"$f":"1-C128","v":{"v":1,"d":"100.0%"}},{"v":0.75,"d":"75.0%"}]
[null,"Verwaltungskostenquote 1",{"$f":"Wirtschaftsplan!B23","v":""},{"$error":"#VALUE!"},{"$f":"Einstellungen!H33/100","v":{"v":0.33,"d":"33.0%"}}]
[null,"Verwaltungskostenquote 2",{"$f":"Wirtschaftsplan!B26","v":""},{"$error":"#VALUE!"},{"$f":"Einstellungen!H34/100","v":{"v":0.25,"d":"25.0%"}}]
[null,"Aufbauorganisation",{"v":0,"d":"0.0%"},{"v":1,"d":"100.0%"},{"v":0.85,"d":"85.0%"}]
[null,"Ablauforganisation (Legitimität)",{"v":0,"d":"0.0%"},{"v":1,"d":"100.0%"},{"v":0.85,"d":"85.0%"}]

{"sheet":"Einstellungen","index":4,"n_rows":47,"n_cols":17,"rows_kept":47,"merged":[[13,6,13,8],[30,5,30,6],[32,5,32,6],[33,5,33,6]]}
{"$rows_empty":10}
[null,"Legende",{"$nulls":3},"Name der Stiftung:"]
[{"$nulls":5},"Gründungsjahr (JJJJ)",{"$nulls":9},"Anrede","Vorname Nachname bzw. Bezeichnung"]
[null,"Pflichteingabe",{"$nulls":3},"Planungsbeginn (JJJJ)",{"$f":"YEAR(Daten_Willkommen!$C$5)+1","v":2024},{"$nulls":5},"Ersteller/in:",null,null,"Bitte auswählen"]
[null,"Optionale Eingabe",{"$nulls":3},"Zweckrichtung","Bitte ausw.",{"$nulls":5},"Verantwortliches Gremienmitglied:",null,null,"Bitte auswählen"]
[null,"Systemeingabe überschreibbar",{"$nulls":5},"EUR",{"$nulls":4},"Berater/in",null,null,"Bitte auswählen"]
[null,"Systemeingabe nicht überschreibbar",{"$nulls":3},"Darstellung Vermögen (EUR/TEUR)","EUR ","TEUR",{"$nulls":4},"Geschäftsführungsorgan",null,null,"Bitte auswählen"]
[null,"Weitere Infos im Hintergrund",{"$nulls":3},"Projektion Jahre",5]
[{"$nulls":5},"Zielkorridor ",2,{"$nulls":5},"Mitglieder des Geschäftsführungsorgans"]
[null,"Weiter zu",{"$nulls":10},"Funktion | Vorname Nachname",null,null,"Bitte auswählen"]
[{"$nulls":12},"   Eintritt | Amtszeit Jahre"]
[{"$nulls":12},"Funktion | Vorname Nachname",null,null,"Bitte auswählen"]
[{"$nulls":12},"   Eintritt | Amtszeit Jahre"]
[{"$nulls":5},"Bestand Umschichtungsrücklage",0,"EUR",{"$nulls":4},"Funktion | Vorname Nachname",null,null,"Bitte auswählen"]
[{"$nulls":5},"Bestand freie Rücklage",0,"EUR",{"$nulls":4},"   Eintritt | Amtszeit Jahre"]
[{"$nulls":5},"Bildung der freien Rücklage aus Erträgen",{"v":0,"d":"0.0%"},"p.a.",{"$nulls":4},"Funktion | Vorname Nachname",null,null,"Bitte auswählen"]
[{"$nulls":12},"   Eintritt | Amtszeit Jahre"]
[{"$nulls":12},"Funktion | Vorname Nachname",null,null,"Bitte auswählen"]
[{"$nulls":12},"   Eintritt | Amtszeit Jahre"]
[]
[{"$nulls":12},"Aufsichtsorgan",null,null,"Keines"]
[{"$nulls":5},"Verwaltungskosten inflationieren?",null,"Ja",{"$nulls":4},"Mitwirkung Aufsichtsorgan",null,null,"Bitte auswählen"]
[{"$nulls":5},"Begrenzung:"]
[{"$nulls":5},"Aufgriffsgrenze 1 (Stiftungsaufsicht):",null,{"v":33,"d":"33.0"},"%",{"$nulls":3},"Letzter Eintrag Transparenzregister"]
[{"$nulls":5},"Aufgriffsgrenze 2 (Finanzamt):",null,{"v":25,"d":"25.0"},"%",{"$nulls":3},"Letzte LEI-Aktualisierung"]
[]
[]
[]
[]
[{"$nulls":5},"Organisation",{"$nulls":8},"1 EUR="]
[{"$nulls":5},"Mindestwert Aufbauorganisation",{"v":0.8,"d":"80.0%"},{"$nulls":5},"Dollar",null,{"$f":"Daten_Vermögen!C21","v":1.07},"USD"]
[{"$nulls":5},"Mindestwert Anlagerichtlinien",{"v":0.8,"d":"80.0%"},{"$nulls":5},"Schweizer Franken",null,{"$f":"Daten_Vermögen!C22","v":0.99},"CHF"]
[{"$nulls":5},"Mindestwert Ablauforganisation (Legitimität)",{"v":0.8,"d":"80.0%"},{"$nulls":5},"Dänische Kronen",null,{"$f":"Daten_Vermögen!C23","v":7.45},"DKK"]
[{"$nulls":12},"Britische Pfund",null,{"$f":"Daten_Vermögen!C24","v":0.89},"GBP"]
[{"$nulls":5},"Berichtswesen",{"$nulls":6},"Japanische Yen",null,{"$f":"Daten_Vermögen!C25","v":143.09},"JPY"]
[{"$nulls":5},"Wirtschaftsplan vorzulegen bis",{"$nulls":6},"Norwegische Krone",null,{"$f":"Daten_Vermögen!C26","v":10.91},"NOK"]
[{"$nulls":5},"Finanzbericht",{"$nulls":6},"Schwedische Krone",null,{"$f":"Daten_Vermögen!C27","v":11.13},"SEK"]
[{"$nulls":5},"Rechnungsabschluss",{"$nulls":6},"Sonstige",null,{"$f":"Daten_Vermögen!C28","v":{"v":1,"d":"1.00"}},"XYZ"]

{"sheet":"Vermögen","index":5,"n_rows":68,"n_cols":32,"rows_kept":68,"merged":[[8,9,8,13],[9,23,9,24]]}
[]
[]
[]
[","]
[]
[]
[]
[]
[{"$nulls":9},"Mischfonds (Multi-Asset)"]
[null,"Legende",null,null,"Nr.","Vermögensgegenstand (Bezeichnung)","Umschich-tungsverbot","WKN/ISIN","Anlageklasse","Aktien","Anleih.","Alt. Inv.","Rohst.","Liqui.","Anlageinstrument","Buchführung","Stücke","Kurs EUR","Verkehrswert","Währg.","Anteil              %","Veränderung  % p.a.","Nominalwert EUR","Nettoertrag p.a.            % bzw. EUR/Stk.",null,"Nettoertrag EUR p.a.","Ausschüttung Termin","Endfälligkeit tt.mm.jjjj","Maxverlust % p.a.","Nachhaltigkeit / EU-Taxonomie","Lfd. Kosten § p.a.","Liquiditäts-wirksam"]
[null,"Pflichteingabe",null,null,"1.",null,"Nein",null,"Bitte auswählen",{"$f":"IF($I11=Daten_Vermögen!$B$7,1,IF($I11=Daten_Vermögen!$B$12,0.01,0))","v":{"v":0,"d":"0.0%"}},{"$f":"IF($I11=Daten_Vermögen!$B$8,1,IF($I11=Daten_Vermögen!$B$12,0.01,0))","v":{"v":0,"d":"0.0%"}},{"$f":"IF($I11=Daten_Vermögen!$B$9,1,IF($I11=Daten_Vermögen!$B$12,0.01,0))","v":{"v":0,"d":"0.0%"}},{"$f":"IF($I11=Daten_Vermögen!$B$10,1,IF($I11=Daten_Vermögen!$B$12,0.01,0))","v":{"v":0,"d":"0.0%"}},{"$f":"IF($I11=Daten_Vermögen!$B$11,1,IF($I11=Daten_Vermögen!$B$12,0.01,0))","v":{"v":0,"d":"0.0%"}},"Bitte auswählen",{"$nulls":4},"EUR",{"$f":"IFERROR(Daten_Vermögen!C44/$S$61,\"\")","v":""},{"$nulls":3},{"$f":"IF(Q11>0,\"EUR/Stk.\",\"%\")","v":"%"},{"$f":"IF(Q11>0,Q11*X11,IF(W11>0,W11*X11/100,Daten_Vermögen!C44*X11/100))","v":0},"Bitte auswählen",{"$nulls":4},"Ja"]
[null,"Optionale Eingabe",null,null,"2.",null,"Nein",null,"Bitte auswählen",{"$f":"IF($I12=Daten_Vermögen!$B$7,1,IF($I12=Daten_Vermögen!$B$12,0.01,0))","v":{"v":0,"d":"0.0%"}},{"$f":"IF($I12=Daten_Vermögen!$B$8,1,IF($I12=Daten_Vermögen!$B$12,0.01,0))","v":{"v":0,"d":"0.0%"}},{"$f":"IF($I12=Daten_Vermögen!$B$9,1,IF($I12=Daten_Vermögen!$B$12,0.01,0))","v":{"v":0,"d":"0.0%"}},{"$f":"IF($I12=Daten_Vermögen!$B$10,1,IF($I12=Daten_Vermögen!$B$12,0.01,0))","v":{"v":0,"d":"0.0%"}},{"$f":"IF($I12=Daten_Vermögen!$B$11,1,IF($I12=Daten_Vermögen!$B$12,0.01,0))","v":{"v":0,"d":"0.0%"}},"Bitte auswählen",{"$nulls":4},"EUR",{"$f":"IFERROR(Daten_Vermögen!C45/$S$61,\"\")","v":""},{"$nulls":3},"%",{"$f":"IF(Q12>0,Q12*X12,IF(W12>0,W12*X12/100,Daten_Vermögen!C45*X12/100))","v":0},"Bitte auswählen",{"$nulls":4},{"$f":"IF(O12=Daten_Vermögen!$C$9,\"nein\",\"ja\")","v":"ja"}]
[null,"Systemeingabe überschreibbar",null,null,"3.",null,"Nein",null,"Bitte auswählen",{"$f":"IF($I13=Daten_Vermögen!$B$7,1,IF($I13=Daten_Vermögen!$B$12,0.01,0))","v":{"v":0,"d":"0.0%"}},{"$f":"IF($I13=Daten_Vermögen!$B$8,1,IF($I13=Daten_Vermögen!$B$12,0.01,0))","v":{"v":0,"d":"0.0%"}},{"$f":"IF($I13=Daten_Vermögen!$B$9,1,IF($I13=Daten_Vermögen!$B$12,0.01,0))","v":{"v":0,"d":"0.0%"}},{"$f":"IF($I13=Daten_Vermögen!$B$10,1,IF($I13=Daten_Vermögen!$B$12,0.01,0))","v":{"v":0,"d":"0.0%"}},{"$f":"IF($I13=Daten_Vermögen!$B$11,1,IF($I13=Daten_Vermögen!$B$12,0.01,0))","v":{"v":0,"d":"0.0%"}},"Bitte auswählen",{"$nulls":4},"EUR",{"$f":"IFERROR(Daten_Vermögen!C46/$S$61,\"\")","v":""},{"$nulls":3},"%",{"$f":"IF(Q13>0,Q13*X13,IF(W13>0,W13*X13/100,Daten_Vermögen!C46*X13/100))","v":0},"Bitte auswählen",{"$nulls":4},{"$f":"IF(O13=Daten_Vermögen!$C$9,\"nein\",\"ja\")","v":"ja"}]
[null,"Systemeingabe nicht überschreibbar",null,null,"4.",null,"Nein",null,"Bitte auswählen",{"$f":"IF($I14=Daten_Vermögen!$B$7,1,IF($I14=Daten_Vermögen!$B$12,0.01,0))","v":{"v":0,"d":"0.0%"}},{"$f":"IF($I14=Daten_Vermögen!$B$8,1,IF($I14=Daten_Vermögen!$B$12,0.01,0))","v":{"v":0,"d":"0.0%"}},{"$f":"IF($I14=Daten_Vermögen!$B$9,1,IF($I14=Daten_Vermögen!$B$12,0.01,0))","v":{"v":0,"d":"0.0%"}},{"$f":"IF($I14=Daten_Vermögen!$B$10,1,IF($I14=Daten_Vermögen!$B$12,0.01,0))","v":{"v":0,"d":"0.0%"}},{"$f":"IF($I14=Daten_Vermögen!$B$11,1,IF($I14=Daten_Vermögen!$B$12,0.01,0))","v":{"v":0,"d":"0.0%"}},"Bitte auswählen",{"$nulls":4},"EUR",{"$f":"IFERROR(Daten_Vermögen!C47/$S$61,\"\")","v":""},{"$nulls":3},"%",{"$f":"IF(Q14>0,Q14*X14,IF(W14>0,W14*X14/100,Daten_Vermögen!C47*X14/100))","v":0},"März",{"$nulls":4},{"$f":"IF(O14=Daten_Vermögen!$C$9,\"nein\",\"ja\")","v":"ja"}]
[null,"Weitere Infos im Hintergrund",null,null,"5.",null,"Nein",null,"Bitte auswählen",{"$f":"IF($I15=Daten_Vermögen!$B$7,1,IF($I15=Daten_Vermögen!$B$12,0.01,0))","v":{"v":0,"d":"0.0%"}},{"$f":"IF($I15=Daten_Vermögen!$B$8,1,IF($I15=Daten_Vermögen!$B$12,0.01,0))","v":{"v":0,"d":"0.0%"}},{"$f":"IF($I15=Daten_Vermögen!$B$9,1,IF($I15=Daten_Vermögen!$B$12,0.01,0))","v":{"v":0,"d":"0.0%"}},{"$f":"IF($I15=Daten_Vermögen!$B$10,1,IF($I15=Daten_Vermögen!$B$12,0.01,0))","v":{"v":0,"d":"0.0%"}},{"$f":"IF($I15=Daten_Vermögen!$B$11,1,IF($I15=Daten_Vermögen!$B$12,0.01,0))","v":{"v":0,"d":"0.0%"}},"Bitte auswählen",{"$nulls":4},"EUR",{"$f":"IFERROR(Daten_Vermögen!C48/$S$61,\"\")","v":""},{"$nulls":3},"%",{"$f":"IF(Q15>0,Q15*X15,IF(W15>0,W15*X15/100,Daten_Vermögen!C48*X15/100))","v":0},"Quartalsweise",{"$nulls":4},{"$f":"IF(O15=Daten_Vermögen!$C$9,\"nein\",\"ja\")","v":"ja"}]
[{"$nulls":4},"6.",null,{"$f":"IF(Anlageziele!$H$14=\"Substanz\",\"Ja\",\"Nein\")","v":"Nein"},null,"Bitte auswählen",{"$f":"IF($I16=Daten_Vermögen!$B$7,1,IF($I16=Daten_Vermögen!$B$12,0.01,0))","v":{"v":0,"d":"0.0%"}},{"$f":"IF($I16=Daten_Vermögen!$B$8,1,IF($I16=Daten_Vermögen!$B$12,0.01,0))","v":{"v":0,"d":"0.0%"}},{"$f":"IF($I16=Daten_Vermögen!$B$9,1,IF($I16=Daten_Vermögen!$B$12,0.01,0))","v":{"v":0,"d":"0.0%"}},{"$f":"IF($I16=Daten_Vermögen!$B$10,1,IF($I16=Daten_Vermögen!$B$12,0.01,0))","v":{"v":0,"d":"0.0%"}},{"$f":"IF($I16=Daten_Vermögen!$B$11,1,IF($I16=Daten_Vermögen!$B$12,0.01,0))","v":{"v":0,"d":"0.0%"}},"Bitte auswählen",{"$nulls":4},"EUR",{"$f":"IFERROR(Daten_Vermögen!C49/$S$61,\"\")","v":""},{"$nulls":3},"%",{"$f":"IF(Q16>0,Q16*X16,IF(W16>0,W16*X16/100,Daten_Vermögen!C49*X16/100))","v":0},"November",{"$nulls":4},"ja"]
[null," ",null,null,"7.",null,{"$f":"IF(Anlageziele!$H$14=\"Substanz\",\"Ja\",\"Nein\")","v":"Nein"},null,"Bitte auswählen",{"$f":"IF($I17=Daten_Vermögen!$B$7,1,IF($I17=Daten_Vermögen!$B$12,0.01,0))","v":{"v":0,"d":"0.0%"}},{"$f":"IF($I17=Daten_Vermögen!$B$8,1,IF($I17=Daten_Vermögen!$B$12,0.01,0))","v":{"v":0,"d":"0.0%"}},{"$f":"IF($I17=Daten_Vermögen!$B$9,1,IF($I17=Daten_Vermögen!$B$12,0.01,0))","v":{"v":0,"d":"0.0%"}},{"$f":"IF($I17=Daten_Vermögen!$B$10,1,IF($I17=Daten_Vermögen!$B$12,0.01,0))","v":{"v":0,"d":"0.0%"}},{"$f":"IF($I17=Daten_Vermögen!$B$11,1,IF($I17=Daten_Vermögen!$B$12,0.01,0))","v":{"v":0,"d":"0.0%"}},"Bitte auswählen",{"$nulls":4},"EUR",{"$f":"IFERROR(Daten_Vermögen!C50/$S$61,\"\")","v":""},{"$nulls":3},"%",{"$f":"IF(Q17>0,Q17*X17,IF(W17>0,W17*X17/100,Daten_Vermögen!C50*X17/100))","v":0},"Bitte auswählen",{"$nulls":4},{"$f":"IF(O17=Daten_Vermögen!$C$9,\"nein\",\"ja\")","v":"ja"}]
[{"$nulls":4},"8.",null,{"$f":"IF(Anlageziele!$H$14=\"Substanz\",\"Ja\",\"Nein\")","v":"Nein"},null,"Bitte auswählen",{"$f":"IF($I18=Daten_Vermögen!$B$7,1,IF($I18=Daten_Vermögen!$B$12,0.01,0))","v":{"v":0,"d":"0.0%"}},{"$f":"IF($I18=Daten_Vermögen!$B$8,1,IF($I18=Daten_Vermögen!$B$12,0.01,0))","v":{"v":0,"d":"0.0%"}},{"$f":"IF($I18=Daten_Vermögen!$B$9,1,IF($I18=Daten_Vermögen!$B$12,0.01,0))","v":{"v":0,"d":"0.0%"}},{"$f":"IF($I18=Daten_Vermögen!$B$10,1,IF($I18=Daten_Vermögen!$B$12,0.01,0))","v":{"v":0,"d":"0.0%"}},{"$f":"IF($I18=Daten_Vermögen!$B$11,1,IF($I18=Daten_Vermögen!$B$12,0.01,0))","v":{"v":0,"d":"0.0%"}},"Bitte auswählen",{"$nulls":4},"EUR",{"$f":"IFERROR(Daten_Vermögen!C51/$S$61,\"\")","v":""},{"$nulls":3},"%",{"$f":"IF(Q18>0,Q18*X18,IF(W18>0,W18*X18/100,Daten_Vermögen!C51*X18/100))","v":0},"Quartalsweise",{"$nulls":4},{"$f":"IF(O18=Daten_Vermögen!$C$9,\"nein\",\"ja\")","v":"ja"}]
[{"$nulls":4},"9.",null,{"$f":"IF(Anlageziele!$H$14=\"Substanz\",\"Ja\",\"Nein\")","v":"Nein"},null,"Bitte auswählen",{"$f":"IF($I19=Daten_Vermögen!$B$7,1,IF($I19=Daten_Vermögen!$B$12,0.01,0))","v":{"v":0,"d":"0.0%"}},{"$f":"IF($I19=Daten_Vermögen!$B$8,1,IF($I19=Daten_Vermögen!$B$12,0.01,0))","v":{"v":0,"d":"0.0%"}},{"$f":"IF($I19=Daten_Vermögen!$B$9,1,IF($I19=Daten_Vermögen!$B$12,0.01,0))","v":{"v":0,"d":"0.0%"}},{"$f":"IF($I19=Daten_Vermögen!$B$10,1,IF($I19=Daten_Vermögen!$B$12,0.01,0))","v":{"v":0,"d":"0.0%"}},{"$f":"IF($I19=Daten_Vermögen!$B$11,1,IF($I19=Daten_Vermögen!$B$12,0.01,0))","v":{"v":0,"d":"0.0%"}},"Bitte auswählen",{"$nulls":4},"EUR",{"$f":"IFERROR(Daten_Vermögen!C52/$S$61,\"\")","v":""},{"$nulls":3},"%",{"$f":"IF(Q19>0,Q19*X19,IF(W19>0,W19*X19/100,Daten_Vermögen!C52*X19/100))","v":0},"Quartalsweise",{"$nulls":4},{"$f":"IF(O19=Daten_Vermögen!$C$9,\"nein\",\"ja\")","v":"ja"}]
[{"$nulls":4},"10.",null,{"$f":"IF(Anlageziele!$H$14=\"Substanz\",\"Ja\",\"Nein\")","v":"Nein"},null,"Bitte auswählen",{"$f":"IF($I20=Daten_Vermögen!$B$7,1,IF($I20=Daten_Vermögen!$B$12,0.01,0))","v":{"v":0,"d":"0.0%"}},{"$f":"IF($I20=Daten_Vermögen!$B$8,1,IF($I20=Daten_Vermögen!$B$12,0.01,0))","v":{"v":0,"d":"0.0%"}},{"$f":"IF($I20=Daten_Vermögen!$B$9,1,IF($I20=Daten_Vermögen!$B$12,0.01,0))","v":{"v":0,"d":"0.0%"}},{"$f":"IF($I20=Daten_Vermögen!$B$10,1,IF($I20=Daten_Vermögen!$B$12,0.01,0))","v":{"v":0,"d":"0.0%"}},{"$f":"IF($I20=Daten_Vermögen!$B$11,1,IF($I20=Daten_Vermögen!$B$12,0.01,0))","v":{"v":0,"d":"0.0%"}},"Bitte auswählen",{"$nulls":4},"EUR",{"$f":"IFERROR(Daten_Vermögen!C53/$S$61,\"\")","v":""},{"$nulls":3},"%",{"$f":"IF(Q20>0,Q20*X20,IF(W20>0,W20*X20/100,Daten_Vermögen!C53*X20/100))","v":0},"Bitte auswählen",{"$nulls":4},{"$f":"IF(O20=Daten_Vermögen!$C$9,\"nein\",\"ja\")","v":"ja"}]
[{"$nulls":4},"11.",null,{"$f":"IF(Anlageziele!$H$14=\"Substanz\",\"Ja\",\"Nein\")","v":"Nein"},null,"Bitte auswählen",{"$f":"IF($I21=Daten_Vermögen!$B$7,1,IF($I21=Daten_Vermögen!$B$12,0.01,0))","v":{"v":0,"d":"0.0%"}},{"$f":"IF($I21=Daten_Vermögen!$B$8,1,IF($I21=Daten_Vermögen!$B$12,0.01,0))","v":{"v":0,"d":"0.0%"}},{"$f":"IF($I21=Daten_Vermögen!$B$9,1,IF($I21=Daten_Vermögen!$B$12,0.01,0))","v":{"v":0,"d":"0.0%"}},{"$f":"IF($I21=Daten_Vermögen!$B$10,1,IF($I21=Daten_Vermögen!$B$12,0.01,0))","v":{"v":0,"d":"0.0%"}},{"$f":"IF($I21=Daten_Vermögen!$B$11,1,IF($I21=Daten_Vermögen!$B$12,0.01,0))","v":{"v":0,"d":"0.0%"}},"Bitte auswählen",{"$nulls":4},"EUR",{"$f":"IFERROR(Daten_Vermögen!C54/$S$61,\"\")","v":""},{"$nulls":3},"%",{"$f":"IF(Q21>0,Q21*X21,IF(W21>0,W21*X21/100,Daten_Vermögen!C54*X21/100))","v":0},"Oktober",{"$nulls":4},{"$f":"IF(O21=Daten_Vermögen!$C$9,\"nein\",\"ja\")","v":"ja"}]
[{"$nulls":4},"12.",null,{"$f":"IF(Anlageziele!$H$14=\"Substanz\",\"Ja\",\"Nein\")","v":"Nein"},null,"Bitte auswählen",{"$f":"IF($I22=Daten_Vermögen!$B$7,1,IF($I22=Daten_Vermögen!$B$12,0.01,0))","v":{"v":0,"d":"0.0%"}},{"$f":"IF($I22=Daten_Vermögen!$B$8,1,IF($I22=Daten_Vermögen!$B$12,0.01,0))","v":{"v":0,"d":"0.0%"}},{"$f":"IF($I22=Daten_Vermögen!$B$9,1,IF($I22=Daten_Vermögen!$B$12,0.01,0))","v":{"v":0,"d":"0.0%"}},{"$f":"IF($I22=Daten_Vermögen!$B$10,1,IF($I22=Daten_Vermögen!$B$12,0.01,0))","v":{"v":0,"d":"0.0%"}},{"$f":"IF($I22=Daten_Vermögen!$B$11,1,IF($I22=Daten_Vermögen!$B$12,0.01,0))","v":{"v":0,"d":"0.0%"}},"Bitte auswählen",{"$nulls":4},"EUR",{"$f":"IFERROR(Daten_Vermögen!C55/$S$61,\"\")","v":""},{"$nulls":3},"%",{"$f":"IF(Q22>0,Q22*X22,IF(W22>0,W22*X22/100,Daten_Vermögen!C55*X22/100))","v":0},"August",{"$nulls":4},{"$f":"IF(O22=Daten_Vermögen!$C$9,\"nein\",\"ja\")","v":"ja"}]
[{"$nulls":4},"13.",null,{"$f":"IF(Anlageziele!$H$14=\"Substanz\",\"Ja\",\"Nein\")","v":"Nein"},null,"Bitte auswählen",{"$f":"IF($I23=Daten_Vermögen!$B$7,1,IF($I23=Daten_Vermögen!$B$12,0.01,0))","v":{"v":0,"d":"0.0%"}},{"$f":"IF($I23=Daten_Vermögen!$B$8,1,IF($I23=Daten_Vermögen!$B$12,0.01,0))","v":{"v":0,"d":"0.0%"}},{"$f":"IF($I23=Daten_Vermögen!$B$9,1,IF($I23=Daten_Vermögen!$B$12,0.01,0))","v":{"v":0,"d":"0.0%"}},{"$f":"IF($I23=Daten_Vermögen!$B$10,1,IF($I23=Daten_Vermögen!$B$12,0.01,0))","v":{"v":0,"d":"0.0%"}},{"$f":"IF($I23=Daten_Vermögen!$B$11,1,IF($I23=Daten_Vermögen!$B$12,0.01,0))","v":{"v":0,"d":"0.0%"}},"Bitte auswählen",{"$nulls":4},"EUR",{"$f":"IFERROR(Daten_Vermögen!C56/$S$61,\"\")","v":""},{"$nulls":3},"%",{"$f":"IF(Q23>0,Q23*X23,IF(W23>0,W23*X23/100,Daten_Vermögen!C56*X23/100))","v":0},"März",{"$nulls":4},{"$f":"IF(O23=Daten_Vermögen!$C$9,\"nein\",\"ja\")","v":"ja"}]
[{"$nulls":4},"14.",null,{"$f":"IF(Anlageziele!$H$14=\"Substanz\",\"Ja\",\"Nein\")","v":"Nein"},null,"Bitte auswählen",{"$f":"IF($I24=Daten_Vermögen!$B$7,1,IF($I24=Daten_Vermögen!$B$12,0.01,0))","v":{"v":0,"d":"0.0%"}},{"$f":"IF($I24=Daten_Vermögen!$B$8,1,IF($I24=Daten_Vermögen!$B$12,0.01,0))","v":{"v":0,"d":"0.0%"}},{"$f":"IF($I24=Daten_Vermögen!$B$9,1,IF($I24=Daten_Vermögen!$B$12,0.01,0))","v":{"v":0,"d":"0.0%"}},{"$f":"IF($I24=Daten_Vermögen!$B$10,1,IF($I24=Daten_Vermögen!$B$12,0.01,0))","v":{"v":0,"d":"0.0%"}},{"$f":"IF($I24=Daten_Vermögen!$B$11,1,IF($I24=Daten_Vermögen!$B$12,0.01,0))","v":{"v":0,"d":"0.0%"}},"Bitte auswählen",{"$nulls":4},"EUR",{"$f":"IFERROR(Daten_Vermögen!C57/$S$61,\"\")","v":""},{"$nulls":3},"%",{"$f":"IF(Q24>0,Q24*X24,IF(W24>0,W24*X24/100,Daten_Vermögen!C57*X24/100))","v":0},"März",{"$nulls":4},{"$f":"IF(O24=Daten_Vermögen!$C$9,\"nein\",\"ja\")","v":"ja"}]
[{"$nulls":4},"15.",null,{"$f":"IF(Anlageziele!$H$14=\"Substanz\",\"Ja\",\"Nein\")","v":"Nein"},null,"Bitte auswählen",{"$f":"IF($I25=Daten_Vermögen!$B$7,1,IF($I25=Daten_Vermögen!$B$12,0.01,0))","v":{"v":0,"d":"0.0%"}},{"$f":"IF($I25=Daten_Vermögen!$B$8,1,IF($I25=Daten_Vermögen!$B$12,0.01,0))","v":{"v":0,"d":"0.0%"}},{"$f":"IF($I25=Daten_Vermögen!$B$9,1,IF($I25=Daten_Vermögen!$B$12,0.01,0))","v":{"v":0,"d":"0.0%"}},{"$f":"IF($I25=Daten_Vermögen!$B$10,1,IF($I25=Daten_Vermögen!$B$12,0.01,0))","v":{"v":0,"d":"0.0%"}},{"$f":"IF($I25=Daten_Vermögen!$B$11,1,IF($I25=Daten_Vermögen!$B$12,0.01,0))","v":{"v":0,"d":"0.0%"}},"Bitte auswählen",{"$nulls":4},"EUR",{"$f":"IFERROR(Daten_Vermögen!C58/$S$61,\"\")","v":""},{"$nulls":3},"%",{"$f":"IF(Q25>0,Q25*X25,IF(W25>0,W25*X25/100,Daten_Vermögen!C58*X25/100))","v":0},"Bitte auswählen",{"$nulls":4},{"$f":"IF(O25=Daten_Vermögen!$C$9,\"nein\",\"ja\")","v":"ja"}]
[{"$nulls":4},"16.",null,{"$f":"IF(Anlageziele!$H$14=\"Substanz\",\"Ja\",\"Nein\")","v":"Nein"},null,"Bitte auswählen",{"$f":"IF($I26=Daten_Vermögen!$B$7,1,IF($I26=Daten_Vermögen!$B$12,0.01,0))","v":{"v":0,"d":"0.0%"}},{"$f":"IF($I26=Daten_Vermögen!$B$8,1,IF($I26=Daten_Vermögen!$B$12,0.01,0))","v":{"v":0,"d":"0.0%"}},{"$f":"IF($I26=Daten_Vermögen!$B$9,1,IF($I26=Daten_Vermögen!$B$12,0.01,0))","v":{"v":0,"d":"0.0%"}},{"$f":"IF($I26=Daten_Vermögen!$B$10,1,IF($I26=Daten_Vermögen!$B$12,0.01,0))","v":{"v":0,"d":"0.0%"}},{"$f":"IF($I26=Daten_Vermögen!$B$11,1,IF($I26=Daten_Vermögen!$B$12,0.01,0))","v":{"v":0,"d":"0.0%"}},"Bitte auswählen",{"$nulls":4},"EUR",{"$f":"IFERROR(Daten_Vermögen!C59/$S$61,\"\")","v":""},{"$nulls":3},"%",{"$f":"IF(Q26>0,Q26*X26,IF(W26>0,W26*X26/100,Daten_Vermögen!C59*X26/100))","v":0},"Bitte auswählen",{"$nulls":4},{"$f":"IF(O26=Daten_Vermögen!$C$9,\"nein\",\"ja\")","v":"ja"}]
[{"$nulls":4},"17.",null,{"$f":"IF(Anlageziele!$H$14=\"Substanz\",\"Ja\",\"Nein\")","v":"Nein"},null,"Bitte auswählen",{"$f":"IF($I27=Daten_Vermögen!$B$7,1,IF($I27=Daten_Vermögen!$B$12,0.01,0))","v":{"v":0,"d":"0.0%"}},{"$f":"IF($I27=Daten_Vermögen!$B$8,1,IF($I27=Daten_Vermögen!$B$12,0.01,0))","v":{"v":0,"d":"0.0%"}},{"$f":"IF($I27=Daten_Vermögen!$B$9,1,IF($I27=Daten_Vermögen!$B$12,0.01,0))","v":{"v":0,"d":"0.0%"}},{"$f":"IF($I27=Daten_Vermögen!$B$10,1,IF($I27=Daten_Vermögen!$B$12,0.01,0))","v":{"v":0,"d":"0.0%"}},{"$f":"IF($I27=Daten_Vermögen!$B$11,1,IF($I27=Daten_Vermögen!$B$12,0.01,0))","v":{"v":0,"d":"0.0%"}},"Bitte auswählen",{"$nulls":4},"EUR",{"$f":"IFERROR(Daten_Vermögen!C60/$S$61,\"\")","v":""},{"$nulls":3},"%",{"$f":"IF(Q27>0,Q27*X27,IF(W27>0,W27*X27/100,Daten_Vermögen!C60*X27/100))","v":0},"Oktober",{"$nulls":4},{"$f":"IF(O27=Daten_Vermögen!$C$9,\"nein\",\"ja\")","v":"ja"}]
[{"$nulls":4},"18.",null,{"$f":"IF(Anlageziele!$H$14=\"Substanz\",\"Ja\",\"Nein\")","v":"Nein"},null,"Bitte auswählen",{"$f":"IF($I28=Daten_Vermögen!$B$7,1,IF($I28=Daten_Vermögen!$B$12,0.01,0))","v":{"v":0,"d":"0.0%"}},{"$f":"IF($I28=Daten_Vermögen!$B$8,1,IF($I28=Daten_Vermögen!$B$12,0.01,0))","v":{"v":0,"d":"0.0%"}},{"$f":"IF($I28=Daten_Vermögen!$B$9,1,IF($I28=Daten_Vermögen!$B$12,0.01,0))","v":{"v":0,"d":"0.0%"}},{"$f":"IF($I28=Daten_Vermögen!$B$10,1,IF($I28=Daten_Vermögen!$B$12,0.01,0))","v":{"v":0,"d":"0.0%"}},{"$f":"IF($I28=Daten_Vermögen!$B$11,1,IF($I28=Daten_Vermögen!$B$12,0.01,0))","v":{"v":0,"d":"0.0%"}},"Bitte auswählen",{"$nulls":4},"EUR",{"$f":"IFERROR(Daten_Vermögen!C61/$S$61,\"\")","v":""},{"$nulls":3},"%",{"$f":"IF(Q28>0,Q28*X28,IF(W28>0,W28*X28/100,Daten_Vermögen!C61*X28/100))","v":0},"Bitte auswählen",{"$nulls":4},{"$f":"IF(O28=Daten_Vermögen!$C$9,\"nein\",\"ja\")","v":"ja"}]
[{"$nulls":4},"19.",null,{"$f":"IF(Anlageziele!$H$14=\"Substanz\",\"Ja\",\"Nein\")","v":"Nein"},null,"Bitte auswählen",{"$f":"IF($I29=Daten_Vermögen!$B$7,1,IF($I29=Daten_Vermögen!$B$12,0.01,0))","v":{"v":0,"d":"0.0%"}},{"$f":"IF($I29=Daten_Vermögen!$B$8,1,IF($I29=Daten_Vermögen!$B$12,0.01,0))","v":{"v":0,"d":"0.0%"}},{"$f":"IF($I29=Daten_Vermögen!$B$9,1,IF($I29=Daten_Vermögen!$B$12,0.01,0))","v":{"v":0,"d":"0.0%"}},{"$f":"IF($I29=Daten_Vermögen!$B$10,1,IF($I29=Daten_Vermögen!$B$12,0.01,0))","v":{"v":0,"d":"0.0%"}},{"$f":"IF($I29=Daten_Vermögen!$B$11,1,IF($I29=Daten_Vermögen!$B$12,0.01,0))","v":{"v":0,"d":"0.0%"}},"Bitte auswählen",{"$nulls":4},"EUR",{"$f":"IFERROR(Daten_Vermögen!C62/$S$61,\"\")","v":""},{"$nulls":3},"%",{"$f":"IF(Q29>0,Q29*X29,IF(W29>0,W29*X29/100,Daten_Vermögen!C62*X29/100))","v":0},"Februar",{"$nulls":4},{"$f":"IF(O29=Daten_Vermögen!$C$9,\"nein\",\"ja\")","v":"ja"}]
[{"$nulls":4},"20.",null,{"$f":"IF(Anlageziele!$H$14=\"Substanz\",\"Ja\",\"Nein\")","v":"Nein"},null,"Bitte auswählen",{"$f":"IF($I30=Daten_Vermögen!$B$7,1,IF($I30=Daten_Vermögen!$B$12,0.01,0))","v":{"v":0,"d":"0.0%"}},{"$f":"IF($I30=Daten_Vermögen!$B$8,1,IF($I30=Daten_Vermögen!$B$12,0.01,0))","v":{"v":0,"d":"0.0%"}},{"$f":"IF($I30=Daten_Vermögen!$B$9,1,IF($I30=Daten_Vermögen!$B$12,0.01,0))","v":{"v":0,"d":"0.0%"}},{"$f":"IF($I30=Daten_Vermögen!$B$10,1,IF($I30=Daten_Vermögen!$B$12,0.01,0))","v":{"v":0,"d":"0.0%"}},{"$f":"IF($I30=Daten_Vermögen!$B$11,1,IF($I30=Daten_Vermögen!$B$12,0.01,0))","v":{"v":0,"d":"0.0%"}},"Bitte auswählen",{"$nulls":4},"EUR",{"$f":"IFERROR(Daten_Vermögen!C63/$S$61,\"\")","v":""},{"$nulls":3},"%",{"$f":"IF(Q30>0,Q30*X30,IF(W30>0,W30*X30/100,Daten_Vermögen!C63*X30/100))","v":0},{"$nulls":5},{"$f":"IF(O30=Daten_Vermögen!$C$9,\"nein\",\"ja\")","v":"ja"}]
[null,"Weiter zu ",null,null,"21.",null,{"$f":"IF(Anlageziele!$H$14=\"Substanz\",\"Ja\",\"Nein\")","v":"Nein"},null,"Bitte auswählen",{"$f":"IF($I31=Daten_Vermögen!$B$7,1,IF($I31=Daten_Vermögen!$B$12,0.01,0))","v":{"v":0,"d":"0.0%"}},{"$f":"IF($I31=Daten_Vermögen!$B$8,1,IF($I31=Daten_Vermögen!$B$12,0.01,0))","v":{"v":0,"d":"0.0%"}},{"$f":"IF($I31=Daten_Vermögen!$B$9,1,IF($I31=Daten_Vermögen!$B$12,0.01,0))","v":{"v":0,"d":"0.0%"}},{"$f":"IF($I31=Daten_Vermögen!$B$10,1,IF($I31=Daten_Vermögen!$B$12,0.01,0))","v":{"v":0,"d":"0.0%"}},{"$f":"IF($I31=Daten_Vermögen!$B$11,1,IF($I31=Daten_Vermögen!$B$12,0.01,0))","v":{"v":0,"d":"0.0%"}},"Bitte auswählen",{"$nulls":4},"EUR",{"$f":"IFERROR(Daten_Vermögen!C64/$S$61,\"\")","v":""},{"$nulls":3},"%",{"$f":"IF(Q31>0,Q31*X31,IF(W31>0,W31*X31/100,Daten_Vermögen!C64*X31/100))","v":0},{"$nulls":5},{"$f":"IF(O31=Daten_Vermögen!$C$9,\"nein\",\"ja\")","v":"ja"}]
[{"$nulls":4},"22.",null,{"$f":"IF(Anlageziele!$H$14=\"Substanz\",\"Ja\",\"Nein\")","v":"Nein"},null,"Bitte auswählen",{"$f":"IF($I32=Daten_Vermögen!$B$7,1,IF($I32=Daten_Vermögen!$B$12,0.01,0))","v":{"v":0,"d":"0.0%"}},{"$f":"IF($I32=Daten_Vermögen!$B$8,1,IF($I32=Daten_Vermögen!$B$12,0.01,0))","v":{"v":0,"d":"0.0%"}},{"$f":"IF($I32=Daten_Vermögen!$B$9,1,IF($I32=Daten_Vermögen!$B$12,0.01,0))","v":{"v":0,"d":"0.0%"}},{"$f":"IF($I32=Daten_Vermögen!$B$10,1,IF($I32=Daten_Vermögen!$B$12,0.01,0))","v":{"v":0,"d":"0.0%"}},{"$f":"IF($I32=Daten_Vermögen!$B$11,1,IF($I32=Daten_Vermögen!$B$12,0.01,0))","v":{"v":0,"d":"0.0%"}},"Bitte auswählen",{"$nulls":4},"EUR",{"$f":"IFERROR(Daten_Vermögen!C65/$S$61,\"\")","v":""},{"$nulls":3},"%",{"$f":"IF(Q32>0,Q32*X32,IF(W32>0,W32*X32/100,Daten_Vermögen!C65*X32/100))","v":0},{"$nulls":5},{"$f":"IF(O32=Daten_Vermögen!$C$9,\"nein\",\"ja\")","v":"ja"}]
[{"$nulls":4},"23.",null,{"$f":"IF(Anlageziele!$H$14=\"Substanz\",\"Ja\",\"Nein\")","v":"Nein"},null,"Bitte auswählen",{"$f":"IF($I33=Daten_Vermögen!$B$7,1,IF($I33=Daten_Vermögen!$B$12,0.01,0))","v":{"v":0,"d":"0.0%"}},{"$f":"IF($I33=Daten_Vermögen!$B$8,1,IF($I33=Daten_Vermögen!$B$12,0.01,0))","v":{"v":0,"d":"0.0%"}},{"$f":"IF($I33=Daten_Vermögen!$B$9,1,IF($I33=Daten_Vermögen!$B$12,0.01,0))","v":{"v":0,"d":"0.0%"}},{"$f":"IF($I33=Daten_Vermögen!$B$10,1,IF($I33=Daten_Vermögen!$B$12,0.01,0))","v":{"v":0,"d":"0.0%"}},{"$f":"IF($I33=Daten_Vermögen!$B$11,1,IF($I33=Daten_Vermögen!$B$12,0.01,0))","v":{"v":0,"d":"0.0%"}},"Bitte auswählen",{"$nulls":4},"EUR",{"$f":"IFERROR(Daten_Vermögen!C66/$S$61,\"\")","v":""},{"$nulls":3},"%",{"$f":"IF(Q33>0,Q33*X33,IF(W33>0,W33*X33/100,Daten_Vermögen!C66*X33/100))","v":0},{"$nulls":5},{"$f":"IF(O33=Daten_Vermögen!$C$9,\"nein\",\"ja\")","v":"ja"}]
[{"$nulls":4},"24.",null,{"$f":"IF(Anlageziele!$H$14=\"Substanz\",\"Ja\",\"Nein\")","v":"Nein"},null,"Bitte auswählen",{"$f":"IF($I34=Daten_Vermögen!$B$7,1,IF($I34=Daten_Vermögen!$B$12,0.01,0))","v":{"v":0,"d":"0.0%"}},{"$f":"IF($I34=Daten_Vermögen!$B$8,1,IF($I34=Daten_Vermögen!$B$12,0.01,0))","v":{"v":0,"d":"0.0%"}},{"$f":"IF($I34=Daten_Vermögen!$B$9,1,IF($I34=Daten_Vermögen!$B$12,0.01,0))","v":{"v":0,"d":"0.0%"}},{"$f":"IF($I34=Daten_Vermögen!$B$10,1,IF($I34=Daten_Vermögen!$B$12,0.01,0))","v":{"v":0,"d":"0.0%"}},{"$f":"IF($I34=Daten_Vermögen!$B$11,1,IF($I34=Daten_Vermögen!$B$12,0.01,0))","v":{"v":0,"d":"0.0%"}},"Bitte auswählen",{"$nulls":4},"EUR",{"$f":"IFERROR(Daten_Vermögen!C67/$S$61,\"\")","v":""},{"$nulls":3},"%",{"$f":"IF(Q34>0,Q34*X34,IF(W34>0,W34*X34/100,Daten_Vermögen!C67*X34/100))","v":0},{"$nulls":5},{"$f":"IF(O34=Daten_Vermögen!$C$9,\"nein\",\"ja\")","v":"ja"}]
[{"$nulls":4},"25.",null,{"$f":"IF(Anlageziele!$H$14=\"Substanz\",\"Ja\",\"Nein\")","v":"Nein"},null,"Bitte auswählen",{"$f":"IF($I35=Daten_Vermögen!$B$7,1,IF($I35=Daten_Vermögen!$B$12,0.01,0))","v":{"v":0,"d":"0.0%"}},{"$f":"IF($I35=Daten_Vermögen!$B$8,1,IF($I35=Daten_Vermögen!$B$12,0.01,0))","v":{"v":0,"d":"0.0%"}},{"$f":"IF($I35=Daten_Vermögen!$B$9,1,IF($I35=Daten_Vermögen!$B$12,0.01,0))","v":{"v":0,"d":"0.0%"}},{"$f":"IF($I35=Daten_Vermögen!$B$10,1,IF($I35=Daten_Vermögen!$B$12,0.01,0))","v":{"v":0,"d":"0.0%"}},{"$f":"IF($I35=Daten_Vermögen!$B$11,1,IF($I35=Daten_Vermögen!$B$12,0.01,0))","v":{"v":0,"d":"0.0%"}},"Bitte auswählen",{"$nulls":4},"EUR",{"$f":"IFERROR(Daten_Vermögen!C68/$S$61,\"\")","v":""},{"$nulls":3},"%",{"$f":"IF(Q35>0,Q35*X35,IF(W35>0,W35*X35/100,Daten_Vermögen!C68*X35/100))","v":0},{"$nulls":5},{"$f":"IF(O35=Daten_Vermögen!$C$9,\"nein\",\"ja\")","v":"ja"}]
[{"$nulls":4},"26.",null,{"$f":"IF(Anlageziele!$H$14=\"Substanz\",\"Ja\",\"Nein\")","v":"Nein"},null,"Bitte auswählen",{"$f":"IF($I36=Daten_Vermögen!$B$7,1,IF($I36=Daten_Vermögen!$B$12,0.01,0))","v":{"v":0,"d":"0.0%"}},{"$f":"IF($I36=Daten_Vermögen!$B$8,1,IF($I36=Daten_Vermögen!$B$12,0.01,0))","v":{"v":0,"d":"0.0%"}},{"$f":"IF($I36=Daten_Vermögen!$B$9,1,IF($I36=Daten_Vermögen!$B$12,0.01,0))","v":{"v":0,"d":"0.0%"}},{"$f":"IF($I36=Daten_Vermögen!$B$10,1,IF($I36=Daten_Vermögen!$B$12,0.01,0))","v":{"v":0,"d":"0.0%"}},{"$f":"IF($I36=Daten_Vermögen!$B$11,1,IF($I36=Daten_Vermögen!$B$12,0.01,0))","v":{"v":0,"d":"0.0%"}},"Bitte auswählen",{"$nulls":4},"EUR",{"$f":"IFERROR(Daten_Vermögen!C69/$S$61,\"\")","v":""},{"$nulls":3},"%",{"$f":"IF(Q36>0,Q36*X36,IF(W36>0,W36*X36/100,Daten_Vermögen!C69*X36/100))","v":0},{"$nulls":5},{"$f":"IF(O36=Daten_Vermögen!$C$9,\"nein\",\"ja\")","v":"ja"}]
[{"$nulls":4},"27.",null,{"$f":"IF(Anlageziele!$H$14=\"Substanz\",\"Ja\",\"Nein\")","v":"Nein"},null,"Bitte auswählen",{"$f":"IF($I37=Daten_Vermögen!$B$7,1,IF($I37=Daten_Vermögen!$B$12,0.01,0))","v":{"v":0,"d":"0.0%"}},{"$f":"IF($I37=Daten_Vermögen!$B$8,1,IF($I37=Daten_Vermögen!$B$12,0.01,0))","v":{"v":0,"d":"0.0%"}},{"$f":"IF($I37=Daten_Vermögen!$B$9,1,IF($I37=Daten_Vermögen!$B$12,0.01,0))","v":{"v":0,"d":"0.0%"}},{"$f":"IF($I37=Daten_Vermögen!$B$10,1,IF($I37=Daten_Vermögen!$B$12,0.01,0))","v":{"v":0,"d":"0.0%"}},{"$f":"IF($I37=Daten_Vermögen!$B$11,1,IF($I37=Daten_Vermögen!$B$12,0.01,0))","v":{"v":0,"d":"0.0%"}},"Bitte auswählen",{"$nulls":4},"EUR",{"$f":"IFERROR(Daten_Vermögen!C70/$S$61,\"\")","v":""},{"$nulls":3},"%",{"$f":"IF(Q37>0,Q37*X37,IF(W37>0,W37*X37/100,Daten_Vermögen!C70*X37/100))","v":0},{"$nulls":5},{"$f":"IF(O37=Daten_Vermögen!$C$9,\"nein\",\"ja\")","v":"ja"}]
[{"$nulls":4},"28.",null,{"$f":"IF(Anlageziele!$H$14=\"Substanz\",\"Ja\",\"Nein\")","v":"Nein"},null,"Bitte auswählen",{"$f":"IF($I38=Daten_Vermögen!$B$7,1,IF($I38=Daten_Vermögen!$B$12,0.01,0))","v":{"v":0,"d":"0.0%"}},{"$f":"IF($I38=Daten_Vermögen!$B$8,1,IF($I38=Daten_Vermögen!$B$12,0.01,0))","v":{"v":0,"d":"0.0%"}},{"$f":"IF($I38=Daten_Vermögen!$B$9,1,IF($I38=Daten_Vermögen!$B$12,0.01,0))","v":{"v":0,"d":"0.0%"}},{"$f":"IF($I38=Daten_Vermögen!$B$10,1,IF($I38=Daten_Vermögen!$B$12,0.01,0))","v":{"v":0,"d":"0.0%"}},{"$f":"IF($I38=Daten_Vermögen!$B$11,1,IF($I38=Daten_Vermögen!$B$12,0.01,0))","v":{"v":0,"d":"0.0%"}},"Bitte auswählen",{"$nulls":4},"EUR",{"$f":"IFERROR(Daten_Vermögen!C71/$S$61,\"\")","v":""},{"$nulls":3},"%",{"$f":"IF(Q38>0,Q38*X38,IF(W38>0,W38*X38/100,Daten_Vermögen!C71*X38/100))","v":0},{"$nulls":5},{"$f":"IF(O38=Daten_Vermögen!$C$9,\"nein\",\"ja\")","v":"ja"}]
[{"$nulls":4},"29.",null,{"$f":"IF(Anlageziele!$H$14=\"Substanz\",\"Ja\",\"Nein\")","v":"Nein"},null,"Bitte auswählen",{"$f":"IF($I39=Daten_Vermögen!$B$7,1,IF($I39=Daten_Vermögen!$B$12,0.01,0))","v":{"v":0,"d":"0.0%"}},{"$f":"IF($I39=Daten_Vermögen!$B$8,1,IF($I39=Daten_Vermögen!$B$12,0.01,0))","v":{"v":0,"d":"0.0%"}},{"$f":"IF($I39=Daten_Vermögen!$B$9,1,IF($I39=Daten_Vermögen!$B$12,0.01,0))","v":{"v":0,"d":"0.0%"}},{"$f":"IF($I39=Daten_Vermögen!$B$10,1,IF($I39=Daten_Vermögen!$B$12,0.01,0))","v":{"v":0,"d":"0.0%"}},{"$f":"IF($I39=Daten_Vermögen!$B$11,1,IF($I39=Daten_Vermögen!$B$12,0.01,0))","v":{"v":0,"d":"0.0%"}},"Bitte auswählen",{"$nulls":4},"EUR",{"$f":"IFERROR(Daten_Vermögen!C72/$S$61,\"\")","v":""},{"$nulls":3},"%",{"$f":"IF(Q39>0,Q39*X39,IF(W39>0,W39*X39/100,Daten_Vermögen!C72*X39/100))","v":0},{"$nulls":5},{"$f":"IF(O39=Daten_Vermögen!$C$9,\"nein\",\"ja\")","v":"ja"}]
[{"$nulls":4},"30.",null,{"$f":"IF(Anlageziele!$H$14=\"Substanz\",\"Ja\",\"Nein\")","v":"Nein"},null,"Bitte auswählen",{"$f":"IF($I40=Daten_Vermögen!$B$7,1,IF($I40=Daten_Vermögen!$B$12,0.01,0))","v":{"v":0,"d":"0.0%"}},{"$f":"IF($I40=Daten_Vermögen!$B$8,1,IF($I40=Daten_Vermögen!$B$12,0.01,0))","v":{"v":0,"d":"0.0%"}},{"$f":"IF($I40=Daten_Vermögen!$B$9,1,IF($I40=Daten_Vermögen!$B$12,0.01,0))","v":{"v":0,"d":"0.0%"}},{"$f":"IF($I40=Daten_Vermögen!$B$10,1,IF($I40=Daten_Vermögen!$B$12,0.01,0))","v":{"v":0,"d":"0.0%"}},{"$f":"IF($I40=Daten_Vermögen!$B$11,1,IF($I40=Daten_Vermögen!$B$12,0.01,0))","v":{"v":0,"d":"0.0%"}},"Bitte auswählen",{"$nulls":4},"EUR",{"$f":"IFERROR(Daten_Vermögen!C73/$S$61,\"\")","v":""},{"$nulls":3},"%",{"$f":"IF(Q40>0,Q40*X40,IF(W40>0,W40*X40/100,Daten_Vermögen!C73*X40/100))","v":0},{"$nulls":5},{"$f":"IF(O40=Daten_Vermögen!$C$9,\"nein\",\"ja\")","v":"ja"}]
[{"$nulls":4},"31.",null,{"$f":"IF(Anlageziele!$H$14=\"Substanz\",\"Ja\",\"Nein\")","v":"Nein"},null,"Bitte auswählen",{"$f":"IF($I41=Daten_Vermögen!$B$7,1,IF($I41=Daten_Vermögen!$B$12,0.01,0))","v":{"v":0,"d":"0.0%"}},{"$f":"IF($I41=Daten_Vermögen!$B$8,1,IF($I41=Daten_Vermögen!$B$12,0.01,0))","v":{"v":0,"d":"0.0%"}},{"$f":"IF($I41=Daten_Vermögen!$B$9,1,IF($I41=Daten_Vermögen!$B$12,0.01,0))","v":{"v":0,"d":"0.0%"}},{"$f":"IF($I41=Daten_Vermögen!$B$10,1,IF($I41=Daten_Vermögen!$B$12,0.01,0))","v":{"v":0,"d":"0.0%"}},{"$f":"IF($I41=Daten_Vermögen!$B$11,1,IF($I41=Daten_Vermögen!$B$12,0.01,0))","v":{"v":0,"d":"0.0%"}},"Bitte auswählen",{"$nulls":4},"EUR",{"$f":"IFERROR(Daten_Vermögen!C74/$S$61,\"\")","v":""},{"$nulls":3},"%",{"$f":"IF(Q41>0,Q41*X41,IF(W41>0,W41*X41/100,Daten_Vermögen!C74*X41/100))","v":0},{"$nulls":5},{"$f":"IF(O41=Daten_Vermögen!$C$9,\"nein\",\"ja\")","v":"ja"}]
[{"$nulls":4},"32.",null,{"$f":"IF(Anlageziele!$H$14=\"Substanz\",\"Ja\",\"Nein\")","v":"Nein"},null,"Bitte auswählen",{"$f":"IF($I42=Daten_Vermögen!$B$7,1,IF($I42=Daten_Vermögen!$B$12,0.01,0))","v":{"v":0,"d":"0.0%"}},{"$f":"IF($I42=Daten_Vermögen!$B$8,1,IF($I42=Daten_Vermögen!$B$12,0.01,0))","v":{"v":0,"d":"0.0%"}},{"$f":"IF($I42=Daten_Vermögen!$B$9,1,IF($I42=Daten_Vermögen!$B$12,0.01,0))","v":{"v":0,"d":"0.0%"}},{"$f":"IF($I42=Daten_Vermögen!$B$10,1,IF($I42=Daten_Vermögen!$B$12,0.01,0))","v":{"v":0,"d":"0.0%"}},{"$f":"IF($I42=Daten_Vermögen!$B$11,1,IF($I42=Daten_Vermögen!$B$12,0.01,0))","v":{"v":0,"d":"0.0%"}},"Bitte auswählen",{"$nulls":4},"EUR",{"$f":"IFERROR(Daten_Vermögen!C75/$S$61,\"\")","v":""},{"$nulls":3},"%",{"$f":"IF(Q42>0,Q42*X42,IF(W42>0,W42*X42/100,Daten_Vermögen!C75*X42/100))","v":0},{"$nulls":5},{"$f":"IF(O42=Daten_Vermögen!$C$9,\"nein\",\"ja\")","v":"ja"}]
[{"$nulls":4},"33.",null,{"$f":"IF(Anlageziele!$H$14=\"Substanz\",\"Ja\",\"Nein\")","v":"Nein"},null,"Bitte auswählen",{"$f":"IF($I43=Daten_Vermögen!$B$7,1,IF($I43=Daten_Vermögen!$B$12,0.01,0))","v":{"v":0,"d":"0.0%"}},{"$f":"IF($I43=Daten_Vermögen!$B$8,1,IF($I43=Daten_Vermögen!$B$12,0.01,0))","v":{"v":0,"d":"0.0%"}},{"$f":"IF($I43=Daten_Vermögen!$B$9,1,IF($I43=Daten_Vermögen!$B$12,0.01,0))","v":{"v":0,"d":"0.0%"}},{"$f":"IF($I43=Daten_Vermögen!$B$10,1,IF($I43=Daten_Vermögen!$B$12,0.01,0))","v":{"v":0,"d":"0.0%"}},{"$f":"IF($I43=Daten_Vermögen!$B$11,1,IF($I43=Daten_Vermögen!$B$12,0.01,0))","v":{"v":0,"d":"0.0%"}},"Bitte auswählen",{"$nulls":4},"EUR",{"$f":"IFERROR(Daten_Vermögen!C76/$S$61,\"\")","v":""},{"$nulls":3},{"$f":"IF(Q43>0,\"EUR/Stk.\",\"%\")","v":"%"},{"$f":"IF(Q43>0,Q43*X43,IF(W43>0,W43*X43/100,Daten_Vermögen!C76*X43/100))","v":0},{"$nulls":5},{"$f":"IF(O43=Daten_Vermögen!$C$9,\"nein\",\"ja\")","v":"ja"}]
[{"$nulls":4},"34.",null,{"$f":"IF(Anlageziele!$H$14=\"Substanz\",\"Ja\",\"Nein\")","v":"Nein"},null,"Bitte auswählen",{"$f":"IF($I44=Daten_Vermögen!$B$7,1,IF($I44=Daten_Vermögen!$B$12,0.01,0))","v":{"v":0,"d":"0.0%"}},{"$f":"IF($I44=Daten_Vermögen!$B$8,1,IF($I44=Daten_Vermögen!$B$12,0.01,0))","v":{"v":0,"d":"0.0%"}},{"$f":"IF($I44=Daten_Vermögen!$B$9,1,IF($I44=Daten_Vermögen!$B$12,0.01,0))","v":{"v":0,"d":"0.0%"}},{"$f":"IF($I44=Daten_Vermögen!$B$10,1,IF($I44=Daten_Vermögen!$B$12,0.01,0))","v":{"v":0,"d":"0.0%"}},{"$f":"IF($I44=Daten_Vermögen!$B$11,1,IF($I44=Daten_Vermögen!$B$12,0.01,0))","v":{"v":0,"d":"0.0%"}},"Bitte auswählen",{"$nulls":4},"EUR",{"$f":"IFERROR(Daten_Vermögen!C77/$S$61,\"\")","v":""},{"$nulls":3},"%",{"$f":"IF(Q44>0,Q44*X44,IF(W44>0,W44*X44/100,Daten_Vermögen!C77*X44/100))","v":0},{"$nulls":5},{"$f":"IF(O44=Daten_Vermögen!$C$9,\"nein\",\"ja\")","v":"ja"}]
[{"$nulls":4},"35.",null,{"$f":"IF(Anlageziele!$H$14=\"Substanz\",\"Ja\",\"Nein\")","v":"Nein"},null,"Bitte auswählen",{"$f":"IF($I45=Daten_Vermögen!$B$7,1,IF($I45=Daten_Vermögen!$B$12,0.01,0))","v":{"v":0,"d":"0.0%"}},{"$f":"IF($I45=Daten_Vermögen!$B$8,1,IF($I45=Daten_Vermögen!$B$12,0.01,0))","v":{"v":0,"d":"0.0%"}},{"$f":"IF($I45=Daten_Vermögen!$B$9,1,IF($I45=Daten_Vermögen!$B$12,0.01,0))","v":{"v":0,"d":"0.0%"}},{"$f":"IF($I45=Daten_Vermögen!$B$10,1,IF($I45=Daten_Vermögen!$B$12,0.01,0))","v":{"v":0,"d":"0.0%"}},{"$f":"IF($I45=Daten_Vermögen!$B$11,1,IF($I45=Daten_Vermögen!$B$12,0.01,0))","v":{"v":0,"d":"0.0%"}},"Bitte auswählen",{"$nulls":4},"EUR",{"$f":"IFERROR(Daten_Vermögen!C78/$S$61,\"\")","v":""},{"$nulls":3},"%",{"$f":"IF(Q45>0,Q45*X45,IF(W45>0,W45*X45/100,Daten_Vermögen!C78*X45/100))","v":0},{"$nulls":5},{"$f":"IF(O45=Daten_Vermögen!$C$9,\"nein\",\"ja\")","v":"ja"}]
[{"$nulls":4},"36.",null,{"$f":"IF(Anlageziele!$H$14=\"Substanz\",\"Ja\",\"Nein\")","v":"Nein"},null,"Bitte auswählen",{"$f":"IF($I46=Daten_Vermögen!$B$7,1,IF($I46=Daten_Vermögen!$B$12,0.01,0))","v":{"v":0,"d":"0.0%"}},{"$f":"IF($I46=Daten_Vermögen!$B$8,1,IF($I46=Daten_Vermögen!$B$12,0.01,0))","v":{"v":0,"d":"0.0%"}},{"$f":"IF($I46=Daten_Vermögen!$B$9,1,IF($I46=Daten_Vermögen!$B$12,0.01,0))","v":{"v":0,"d":"0.0%"}},{"$f":"IF($I46=Daten_Vermögen!$B$10,1,IF($I46=Daten_Vermögen!$B$12,0.01,0))","v":{"v":0,"d":"0.0%"}},{"$f":"IF($I46=Daten_Vermögen!$B$11,1,IF($I46=Daten_Vermögen!$B$12,0.01,0))","v":{"v":0,"d":"0.0%"}},"Bitte auswählen",{"$nulls":4},"EUR",{"$f":"IFERROR(Daten_Vermögen!C79/$S$61,\"\")","v":""},{"$nulls":3},"%",{"$f":"IF(Q46>0,Q46*X46,IF(W46>0,W46*X46/100,Daten_Vermögen!C79*X46/100))","v":0},{"$nulls":5},{"$f":"IF(O46=Daten_Vermögen!$C$9,\"nein\",\"ja\")","v":"ja"}]
[{"$nulls":4},"37.",null,{"$f":"IF(Anlageziele!$H$14=\"Substanz\",\"Ja\",\"Nein\")","v":"Nein"},null,"Bitte auswählen",{"$f":"IF($I47=Daten_Vermögen!$B$7,1,IF($I47=Daten_Vermögen!$B$12,0.01,0))","v":{"v":0,"d":"0.0%"}},{"$f":"IF($I47=Daten_Vermögen!$B$8,1,IF($I47=Daten_Vermögen!$B$12,0.01,0))","v":{"v":0,"d":"0.0%"}},{"$f":"IF($I47=Daten_Vermögen!$B$9,1,IF($I47=Daten_Vermögen!$B$12,0.01,0))","v":{"v":0,"d":"0.0%"}},{"$f":"IF($I47=Daten_Vermögen!$B$10,1,IF($I47=Daten_Vermögen!$B$12,0.01,0))","v":{"v":0,"d":"0.0%"}},{"$f":"IF($I47=Daten_Vermögen!$B$11,1,IF($I47=Daten_Vermögen!$B$12,0.01,0))","v":{"v":0,"d":"0.0%"}},"Bitte auswählen",{"$nulls":4},"EUR",{"$f":"IFERROR(Daten_Vermögen!C80/$S$61,\"\")","v":""},{"$nulls":3},"%",{"$f":"IF(Q47>0,Q47*X47,IF(W47>0,W47*X47/100,Daten_Vermögen!C80*X47/100))","v":0},{"$nulls":5},{"$f":"IF(O47=Daten_Vermögen!$C$9,\"nein\",\"ja\")","v":"ja"}]
[{"$nulls":4},"38.",null,{"$f":"IF(Anlageziele!$H$14=\"Substanz\",\"Ja\",\"Nein\")","v":"Nein"},null,"Bitte auswählen",{"$f":"IF($I48=Daten_Vermögen!$B$7,1,IF($I48=Daten_Vermögen!$B$12,0.01,0))","v":{"v":0,"d":"0.0%"}},{"$f":"IF($I48=Daten_Vermögen!$B$8,1,IF($I48=Daten_Vermögen!$B$12,0.01,0))","v":{"v":0,"d":"0.0%"}},{"$f":"IF($I48=Daten_Vermögen!$B$9,1,IF($I48=Daten_Vermögen!$B$12,0.01,0))","v":{"v":0,"d":"0.0%"}},{"$f":"IF($I48=Daten_Vermögen!$B$10,1,IF($I48=Daten_Vermögen!$B$12,0.01,0))","v":{"v":0,"d":"0.0%"}},{"$f":"IF($I48=Daten_Vermögen!$B$11,1,IF($I48=Daten_Vermögen!$B$12,0.01,0))","v":{"v":0,"d":"0.0%"}},"Bitte auswählen",{"$nulls":4},"EUR",{"$f":"IFERROR(Daten_Vermögen!C81/$S$61,\"\")","v":""},{"$nulls":3},"%",{"$f":"IF(Q48>0,Q48*X48,IF(W48>0,W48*X48/100,Daten_Vermögen!C81*X48/100))","v":0},{"$nulls":5},{"$f":"IF(O48=Daten_Vermögen!$C$9,\"nein\",\"ja\")","v":"ja"}]
[{"$nulls":4},"39.",null,{"$f":"IF(Anlageziele!$H$14=\"Substanz\",\"Ja\",\"Nein\")","v":"Nein"},null,"Bitte auswählen",{"$f":"IF($I49=Daten_Vermögen!$B$7,1,IF($I49=Daten_Vermögen!$B$12,0.01,0))","v":{"v":0,"d":"0.0%"}},{"$f":"IF($I49=Daten_Vermögen!$B$8,1,IF($I49=Daten_Vermögen!$B$12,0.01,0))","v":{"v":0,"d":"0.0%"}},{"$f":"IF($I49=Daten_Vermögen!$B$9,1,IF($I49=Daten_Vermögen!$B$12,0.01,0))","v":{"v":0,"d":"0.0%"}},{"$f":"IF($I49=Daten_Vermögen!$B$10,1,IF($I49=Daten_Vermögen!$B$12,0.01,0))","v":{"v":0,"d":"0.0%"}},{"$f":"IF($I49=Daten_Vermögen!$B$11,1,IF($I49=Daten_Vermögen!$B$12,0.01,0))","v":{"v":0,"d":"0.0%"}},"Bitte auswählen",{"$nulls":4},"EUR",{"$f":"IFERROR(Daten_Vermögen!C82/$S$61,\"\")","v":""},{"$nulls":3},"%",{"$f":"IF(Q49>0,Q49*X49,IF(W49>0,W49*X49/100,Daten_Vermögen!C82*X49/100))","v":0},{"$nulls":5},{"$f":"IF(O49=Daten_Vermögen!$C$9,\"nein\",\"ja\")","v":"ja"}]
[{"$nulls":4},"40.",null,{"$f":"IF(Anlageziele!$H$14=\"Substanz\",\"Ja\",\"Nein\")","v":"Nein"},null,"Bitte auswählen",{"$f":"IF($I50=Daten_Vermögen!$B$7,1,IF($I50=Daten_Vermögen!$B$12,0.01,0))","v":{"v":0,"d":"0.0%"}},{"$f":"IF($I50=Daten_Vermögen!$B$8,1,IF($I50=Daten_Vermögen!$B$12,0.01,0))","v":{"v":0,"d":"0.0%"}},{"$f":"IF($I50=Daten_Vermögen!$B$9,1,IF($I50=Daten_Vermögen!$B$12,0.01,0))","v":{"v":0,"d":"0.0%"}},{"$f":"IF($I50=Daten_Vermögen!$B$10,1,IF($I50=Daten_Vermögen!$B$12,0.01,0))","v":{"v":0,"d":"0.0%"}},{"$f":"IF($I50=Daten_Vermögen!$B$11,1,IF($I50=Daten_Vermögen!$B$12,0.01,0))","v":{"v":0,"d":"0.0%"}},"Bitte auswählen",{"$nulls":4},"EUR",{"$f":"IFERROR(Daten_Vermögen!C83/$S$61,\"\")","v":""},{"$nulls":3},"%",{"$f":"IF(Q50>0,Q50*X50,IF(W50>0,W50*X50/100,Daten_Vermögen!C83*X50/100))","v":0},{"$nulls":5},{"$f":"IF(O50=Daten_Vermögen!$C$9,\"nein\",\"ja\")","v":"ja"}]
[{"$nulls":4},"41.",null,{"$f":"IF(Anlageziele!$H$14=\"Substanz\",\"Ja\",\"Nein\")","v":"Nein"},null,"Bitte auswählen",{"$f":"IF($I51=Daten_Vermögen!$B$7,1,IF($I51=Daten_Vermögen!$B$12,0.01,0))","v":{"v":0,"d":"0.0%"}},{"$f":"IF($I51=Daten_Vermögen!$B$8,1,IF($I51=Daten_Vermögen!$B$12,0.01,0))","v":{"v":0,"d":"0.0%"}},{"$f":"IF($I51=Daten_Vermögen!$B$9,1,IF($I51=Daten_Vermögen!$B$12,0.01,0))","v":{"v":0,"d":"0.0%"}},{"$f":"IF($I51=Daten_Vermögen!$B$10,1,IF($I51=Daten_Vermögen!$B$12,0.01,0))","v":{"v":0,"d":"0.0%"}},{"$f":"IF($I51=Daten_Vermögen!$B$11,1,IF($I51=Daten_Vermögen!$B$12,0.01,0))","v":{"v":0,"d":"0.0%"}},"Bitte auswählen",{"$nulls":4},"EUR",{"$f":"IFERROR(Daten_Vermögen!C84/$S$61,\"\")","v":""},{"$nulls":3},"%",{"$f":"IF(Q51>0,Q51*X51,IF(W51>0,W51*X51/100,Daten_Vermögen!C84*X51/100))","v":0},{"$nulls":5},{"$f":"IF(O51=Daten_Vermögen!$C$9,\"nein\",\"ja\")","v":"ja"}]
[{"$nulls":4},"42.",null,{"$f":"IF(Anlageziele!$H$14=\"Substanz\",\"Ja\",\"Nein\")","v":"Nein"},null,"Bitte auswählen",{"$f":"IF($I52=Daten_Vermögen!$B$7,1,IF($I52=Daten_Vermögen!$B$12,0.01,0))","v":{"v":0,"d":"0.0%"}},{"$f":"IF($I52=Daten_Vermögen!$B$8,1,IF($I52=Daten_Vermögen!$B$12,0.01,0))","v":{"v":0,"d":"0.0%"}},{"$f":"IF($I52=Daten_Vermögen!$B$9,1,IF($I52=Daten_Vermögen!$B$12,0.01,0))","v":{"v":0,"d":"0.0%"}},{"$f":"IF($I52=Daten_Vermögen!$B$10,1,IF($I52=Daten_Vermögen!$B$12,0.01,0))","v":{"v":0,"d":"0.0%"}},{"$f":"IF($I52=Daten_Vermögen!$B$11,1,IF($I52=Daten_Vermögen!$B$12,0.01,0))","v":{"v":0,"d":"0.0%"}},"Bitte auswählen",{"$nulls":4},"EUR",{"$f":"IFERROR(Daten_Vermögen!C85/$S$61,\"\")","v":""},{"$nulls":3},"%",{"$f":"IF(Q52>0,Q52*X52,IF(W52>0,W52*X52/100,Daten_Vermögen!C85*X52/100))","v":0},{"$nulls":5},{"$f":"IF(O52=Daten_Vermögen!$C$9,\"nein\",\"ja\")","v":"ja"}]
[{"$nulls":4},"43.",null,{"$f":"IF(Anlageziele!$H$14=\"Substanz\",\"Ja\",\"Nein\")","v":"Nein"},null,"Bitte auswählen",{"$f":"IF($I53=Daten_Vermögen!$B$7,1,IF($I53=Daten_Vermögen!$B$12,0.01,0))","v":{"v":0,"d":"0.0%"}},{"$f":"IF($I53=Daten_Vermögen!$B$8,1,IF($I53=Daten_Vermögen!$B$12,0.01,0))","v":{"v":0,"d":"0.0%"}},{"$f":"IF($I53=Daten_Vermögen!$B$9,1,IF($I53=Daten_Vermögen!$B$12,0.01,0))","v":{"v":0,"d":"0.0%"}},{"$f":"IF($I53=Daten_Vermögen!$B$10,1,IF($I53=Daten_Vermögen!$B$12,0.01,0))","v":{"v":0,"d":"0.0%"}},{"$f":"IF($I53=Daten_Vermögen!$B$11,1,IF($I53=Daten_Vermögen!$B$12,0.01,0))","v":{"v":0,"d":"0.0%"}},"Bitte auswählen",{"$nulls":4},"EUR",{"$f":"IFERROR(Daten_Vermögen!C86/$S$61,\"\")","v":""},{"$nulls":3},"%",{"$f":"IF(Q53>0,Q53*X53,IF(W53>0,W53*X53/100,Daten_Vermögen!C86*X53/100))","v":0},{"$nulls":5},{"$f":"IF(O53=Daten_Vermögen!$C$9,\"nein\",\"ja\")","v":"ja"}]
[{"$nulls":4},"44.",null,{"$f":"IF(Anlageziele!$H$14=\"Substanz\",\"Ja\",\"Nein\")","v":"Nein"},null,"Bitte auswählen",{"$f":"IF($I54=Daten_Vermögen!$B$7,1,IF($I54=Daten_Vermögen!$B$12,0.01,0))","v":{"v":0,"d":"0.0%"}},{"$f":"IF($I54=Daten_Vermögen!$B$8,1,IF($I54=Daten_Vermögen!$B$12,0.01,0))","v":{"v":0,"d":"0.0%"}},{"$f":"IF($I54=Daten_Vermögen!$B$9,1,IF($I54=Daten_Vermögen!$B$12,0.01,0))","v":{"v":0,"d":"0.0%"}},{"$f":"IF($I54=Daten_Vermögen!$B$10,1,IF($I54=Daten_Vermögen!$B$12,0.01,0))","v":{"v":0,"d":"0.0%"}},{"$f":"IF($I54=Daten_Vermögen!$B$11,1,IF($I54=Daten_Vermögen!$B$12,0.01,0))","v":{"v":0,"d":"0.0%"}},"Bitte auswählen",{"$nulls":4},"EUR",{"$f":"IFERROR(Daten_Vermögen!C87/$S$61,\"\")","v":""},{"$nulls":3},"%",{"$f":"IF(Q54>0,Q54*X54,IF(W54>0,W54*X54/100,Daten_Vermögen!C87*X54/100))","v":0},{"$nulls":5},{"$f":"IF(O54=Daten_Vermögen!$C$9,\"nein\",\"ja\")","v":"ja"}]
[{"$nulls":4},"45.",null,{"$f":"IF(Anlageziele!$H$14=\"Substanz\",\"Ja\",\"Nein\")","v":"Nein"},null,"Bitte auswählen",{"$f":"IF($I55=Daten_Vermögen!$B$7,1,IF($I55=Daten_Vermögen!$B$12,0.01,0))","v":{"v":0,"d":"0.0%"}},{"$f":"IF($I55=Daten_Vermögen!$B$8,1,IF($I55=Daten_Vermögen!$B$12,0.01,0))","v":{"v":0,"d":"0.0%"}},{"$f":"IF($I55=Daten_Vermögen!$B$9,1,IF($I55=Daten_Vermögen!$B$12,0.01,0))","v":{"v":0,"d":"0.0%"}},{"$f":"IF($I55=Daten_Vermögen!$B$10,1,IF($I55=Daten_Vermögen!$B$12,0.01,0))","v":{"v":0,"d":"0.0%"}},{"$f":"IF($I55=Daten_Vermögen!$B$11,1,IF($I55=Daten_Vermögen!$B$12,0.01,0))","v":{"v":0,"d":"0.0%"}},"Bitte auswählen",{"$nulls":4},"EUR",{"$f":"IFERROR(Daten_Vermögen!C88/$S$61,\"\")","v":""},{"$nulls":3},"%",{"$f":"IF(Q55>0,Q55*X55,IF(W55>0,W55*X55/100,Daten_Vermögen!C88*X55/100))","v":0},{"$nulls":5},{"$f":"IF(O55=Daten_Vermögen!$C$9,\"nein\",\"ja\")","v":"ja"}]
[{"$nulls":4},"46.",null,{"$f":"IF(Anlageziele!$H$14=\"Substanz\",\"Ja\",\"Nein\")","v":"Nein"},null,"Bitte auswählen",{"$f":"IF($I56=Daten_Vermögen!$B$7,1,IF($I56=Daten_Vermögen!$B$12,0.01,0))","v":{"v":0,"d":"0.0%"}},{"$f":"IF($I56=Daten_Vermögen!$B$8,1,IF($I56=Daten_Vermögen!$B$12,0.01,0))","v":{"v":0,"d":"0.0%"}},{"$f":"IF($I56=Daten_Vermögen!$B$9,1,IF($I56=Daten_Vermögen!$B$12,0.01,0))","v":{"v":0,"d":"0.0%"}},{"$f":"IF($I56=Daten_Vermögen!$B$10,1,IF($I56=Daten_Vermögen!$B$12,0.01,0))","v":{"v":0,"d":"0.0%"}},{"$f":"IF($I56=Daten_Vermögen!$B$11,1,IF($I56=Daten_Vermögen!$B$12,0.01,0))","v":{"v":0,"d":"0.0%"}},"Bitte auswählen",{"$nulls":4},"EUR",{"$f":"IFERROR(Daten_Vermögen!C89/$S$61,\"\")","v":""},{"$nulls":3},"%",{"$f":"IF(Q56>0,Q56*X56,IF(W56>0,W56*X56/100,Daten_Vermögen!C89*X56/100))","v":0},{"$nulls":5},{"$f":"IF(O56=Daten_Vermögen!$C$9,\"nein\",\"ja\")","v":"ja"}]
[{"$nulls":4},"47.",null,{"$f":"IF(Anlageziele!$H$14=\"Substanz\",\"Ja\",\"Nein\")","v":"Nein"},null,"Bitte auswählen",{"$f":"IF($I57=Daten_Vermögen!$B$7,1,IF($I57=Daten_Vermögen!$B$12,0.01,0))","v":{"v":0,"d":"0.0%"}},{"$f":"IF($I57=Daten_Vermögen!$B$8,1,IF($I57=Daten_Vermögen!$B$12,0.01,0))","v":{"v":0,"d":"0.0%"}},{"$f":"IF($I57=Daten_Vermögen!$B$9,1,IF($I57=Daten_Vermögen!$B$12,0.01,0))","v":{"v":0,"d":"0.0%"}},{"$f":"IF($I57=Daten_Vermögen!$B$10,1,IF($I57=Daten_Vermögen!$B$12,0.01,0))","v":{"v":0,"d":"0.0%"}},{"$f":"IF($I57=Daten_Vermögen!$B$11,1,IF($I57=Daten_Vermögen!$B$12,0.01,0))","v":{"v":0,"d":"0.0%"}},"Bitte auswählen",{"$nulls":4},"EUR",{"$f":"IFERROR(Daten_Vermögen!C90/$S$61,\"\")","v":""},{"$nulls":3},"%",{"$f":"IF(Q57>0,Q57*X57,IF(W57>0,W57*X57/100,Daten_Vermögen!C90*X57/100))","v":0},{"$nulls":5},{"$f":"IF(O57=Daten_Vermögen!$C$9,\"nein\",\"ja\")","v":"ja"}]
[{"$nulls":4},"48.",null,{"$f":"IF(Anlageziele!$H$14=\"Substanz\",\"Ja\",\"Nein\")","v":"Nein"},null,"Bitte auswählen",{"$f":"IF($I58=Daten_Vermögen!$B$7,1,IF($I58=Daten_Vermögen!$B$12,0.01,0))","v":{"v":0,"d":"0.0%"}},{"$f":"IF($I58=Daten_Vermögen!$B$8,1,IF($I58=Daten_Vermögen!$B$12,0.01,0))","v":{"v":0,"d":"0.0%"}},{"$f":"IF($I58=Daten_Vermögen!$B$9,1,IF($I58=Daten_Vermögen!$B$12,0.01,0))","v":{"v":0,"d":"0.0%"}},{"$f":"IF($I58=Daten_Vermögen!$B$10,1,IF($I58=Daten_Vermögen!$B$12,0.01,0))","v":{"v":0,"d":"0.0%"}},{"$f":"IF($I58=Daten_Vermögen!$B$11,1,IF($I58=Daten_Vermögen!$B$12,0.01,0))","v":{"v":0,"d":"0.0%"}},"Bitte auswählen",{"$nulls":4},"EUR",{"$f":"IFERROR(Daten_Vermögen!C91/$S$61,\"\")","v":""},{"$nulls":3},"%",{"$f":"IF(Q58>0,Q58*X58,IF(W58>0,W58*X58/100,Daten_Vermögen!C91*X58/100))","v":0},{"$nulls":5},{"$f":"IF(O58=Daten_Vermögen!$C$9,\"nein\",\"ja\")","v":"ja"}]
[{"$nulls":4},"49.",null,{"$f":"IF(Anlageziele!$H$14=\"Substanz\",\"Ja\",\"Nein\")","v":"Nein"},null,"Bitte auswählen",{"$f":"IF($I59=Daten_Vermögen!$B$7,1,IF($I59=Daten_Vermögen!$B$12,0.01,0))","v":{"v":0,"d":"0.0%"}},{"$f":"IF($I59=Daten_Vermögen!$B$8,1,IF($I59=Daten_Vermögen!$B$12,0.01,0))","v":{"v":0,"d":"0.0%"}},{"$f":"IF($I59=Daten_Vermögen!$B$9,1,IF($I59=Daten_Vermögen!$B$12,0.01,0))","v":{"v":0,"d":"0.0%"}},{"$f":"IF($I59=Daten_Vermögen!$B$10,1,IF($I59=Daten_Vermögen!$B$12,0.01,0))","v":{"v":0,"d":"0.0%"}},{"$f":"IF($I59=Daten_Vermögen!$B$11,1,IF($I59=Daten_Vermögen!$B$12,0.01,0))","v":{"v":0,"d":"0.0%"}},"Bitte auswählen",{"$nulls":4},"EUR",{"$f":"IFERROR(Daten_Vermögen!C92/$S$61,\"\")","v":""},{"$nulls":3},"%",{"$f":"IF(Q59>0,Q59*X59,IF(W59>0,W59*X59/100,Daten_Vermögen!C92*X59/100))","v":0},{"$nulls":5},{"$f":"IF(O59=Daten_Vermögen!$C$9,\"nein\",\"ja\")","v":"ja"}]
[{"$nulls":4},"50.",null,{"$f":"IF(Anlageziele!$H$14=\"Substanz\",\"Ja\",\"Nein\")","v":"Nein"},null,"Bitte auswählen",{"$f":"IF($I60=Daten_Vermögen!$B$7,1,IF($I60=Daten_Vermögen!$B$12,0.01,0))","v":{"v":0,"d":"0.0%"}},{"$f":"IF($I60=Daten_Vermögen!$B$8,1,IF($I60=Daten_Vermögen!$B$12,0.01,0))","v":{"v":0,"d":"0.0%"}},{"$f":"IF($I60=Daten_Vermögen!$B$9,1,IF($I60=Daten_Vermögen!$B$12,0.01,0))","v":{"v":0,"d":"0.0%"}},{"$f":"IF($I60=Daten_Vermögen!$B$10,1,IF($I60=Daten_Vermögen!$B$12,0.01,0))","v":{"v":0,"d":"0.0%"}},{"$f":"IF($I60=Daten_Vermögen!$B$11,1,IF($I60=Daten_Vermögen!$B$12,0.01,0))","v":{"v":0,"d":"0.0%"}},"Bitte auswählen",{"$nulls":4},"EUR",{"$f":"IFERROR(Daten_Vermögen!C93/$S$61,\"\")","v":""},{"$nulls":3},"%",{"$f":"IF(Q60>0,Q60*X60,IF(W60>0,W60*X60/100,Daten_Vermögen!C93*X60/100))","v":0},"November",{"$nulls":4},{"$f":"IF(O60=Daten_Vermögen!$C$9,\"nein\",\"ja\")","v":"ja"}]
[{"$nulls":5},"Summen",{"$nulls":12},{"$f":"Daten_Vermögen!C94","v":0},"EUR",{"$f":"SUM(U11:U60)","v":{"v":0,"d":"0.0%"}},{"$f":"SUM(V11:V60)","v":{"v":0,"d":"0.0%"}},{"$nulls":3},{"$f":"SUM(Z11:Z60)","v":0},{"$nulls":5},{"$f":"'Daten Projektion'!N201","v":0}]
[]
[{"$nulls":5},"Datenquellen (Bezeichnung)",null,"Vom (Datum)"]
[{"$nulls":4},"1."]
[{"$nulls":4},"2."]
[{"$nulls":4},"3."]
[{"$nulls":4},"4."]
[{"$nulls":4},"5."]

{"sheet":"Anlageziele","index":6,"n_rows":47,"n_cols":23,"rows_kept":47}
{"$rows_empty":10}
[null,"Legende"]
[{"$nulls":5},"Gewichtung",null,{"v":0.25,"d":"25.0%"},{"$nulls":4},"Gewichtung",null,{"v":0.25,"d":"25.0%"}]
[null,"Pflichteingabe"]
[null,"Optionale Eingabe",{"$nulls":3},"Vermögenserhaltungskonzept:",null,"Real",{"$nulls":4},"Ausschüttungspolitik",null,"Bitte auswählen",{"$nulls":4},"Real",1,null,1]
[null,"Systemeingabe überschreibbar",{"$nulls":17},"Nominal",null,null,1]
[null,"Systemeingabe nicht überschreibbar",{"$nulls":3},"Bei realer Vermögenserhaltung:",{"$nulls":6},"Bei Überschuss: Verwaltungskostenfaktor",null,{"v":0,"d":"0.0"}]
[null,"Weitere Infos im Hintergrund",{"$nulls":3},"Maßstab für die Geldentwerung:",null,"Verbraucherpreise (VPI)",{"$nulls":4},"Bei Zielausschüttung: Betrag",null,null,"EUR"]
[{"$nulls":5},"Inflationsrate",{"$nulls":6},"Bei Zielquote: Prozentsatz bezg. auf Investitionsverm."]
[]
[{"$nulls":5},"Bei Verbrauchsstiftung:"]
[{"$nulls":5},"Verbrauchskonzept",null,"Kapitaleinsatz p.a.",{"$nulls":11},"Substanz",null,null,1]
[{"$nulls":5},{"$f":"IF(H21=\"Kapitaleinsatz p.a.\",\"Kapitaleinsatz p.a.\",\"Bestandsdauer ab Gründung\")","v":"Kapitaleinsatz p.a."},null,null,{"$f":"IF(H21=\"Kapitaleinsatz p.a.\",\"EUR\",\"Jahre\")","v":"EUR"},{"$nulls":10},"Verbrauch"]
[null,"Die Summe der Gewichtungen muss",null,null," "]
[null,"100% ergeben. Aktuell:",{"$nulls":17},"Verbraucherpreise (VPI)",1]
[null,{"$f":"H12+O12+O27+H27","v":{"v":1,"d":"100%"}}]
[]
[{"$nulls":5},"Gewichtung",null,{"v":0.25,"d":"25.0%"},{"$nulls":4},"Gewichtung",null,{"v":0.25,"d":"25.0%"}]
[]
[{"$nulls":12},"Nachhaltigkeitsquote insgesamt",{"v":0,"d":"0.0%"}]
[{"$nulls":19},true]
[{"$nulls":12},"Einzelstrategien/Systematik",null,"Quantitativ",{"$nulls":4},true]
[{"$nulls":5},"Maximalverlust Investmentvermögen:",null,{"v":0,"d":"0.0%"},{"$nulls":4},"Ausschlusskategorien",null,{"v":0,"d":"0.0%"},{"$nulls":4},true]
[{"$nulls":5},"(Risikotragfähigkeit)","entspricht",{"$f":"IF(Vermögen!S61<>0,Vermögen!S61*Anlageziele!H32,\"\")","v":""},"EUR",{"$nulls":3},"Impact/SDG-Ziele",null,{"v":0,"d":"0.0%"}]
[{"$nulls":5},"Erholungsphase:",null,null,"Jahr/e",{"$nulls":3},"ESG-Messmethode (einzeln/aggregiert)",null,{"v":0,"d":"0.0%"}]
[{"$nulls":12},"Best of Universe/Best in Class",null,{"v":0,"d":"0.0%"}]
[null,"Weiter zu ",{"$nulls":10},"ESG Top%",null,{"v":0,"d":"0.0%"}]
[{"$nulls":12},"ESG Frequenz",null,{"v":0,"d":"0.0%"}]
[{"$nulls":12},"Stimmrechtsausübung",null,{"v":0,"d":"0.0%"}]
[{"$nulls":12},"Engagement",null,{"v":0,"d":"0.0%"}]
[null,"Externe Links",{"$nulls":10},"Summe",null,{"$f":"SUM(O32:O39)","v":{"v":0,"d":"0.0%"}}]
[]
[{"$nulls":12},"Zielwert DVFA PRISC-Score",null,{"v":0,"d":"0.0%"}]
[]
[]
[]
[]
[{"$nulls":13}," "]

{"sheet":"Daten_Einstellg_Ziele","index":7,"n_rows":47,"n_cols":11,"rows_kept":47,"hidden":true}
["Datenblatt Stammdaten/Anlageziele"]
[]
[null,"STAMMDATEN"]
[]
[null,"EUR_TEUR","Anrede","Geschäftsführungsorgan","Aufsichtsorgan","Mitwirkung Aufsicht","Gremienfunktion","Revisionsturnus","Zweck","Adjustierungsfaktor","Marktparadigmen"]
[null,"EUR ","Bitte auswählen","Bitte auswählen","Keines","Bitte auswählen","Bitte auswählen","Bitte ausw.","Bitte ausw.","Bitte ausw.","Bitte ausw."]
[null,"TEUR","Herr","Vorstand","Stiftungsrat","Einverständnis (vorher)","Vorsitzende/r","quartalsweise","Soziales",{"v":1,"d":"100%"},"Inflation"]
[null,null,"Frau ","Geschäftsführung","Aufsichtsrat","Genehmigung (nachher)","Finanzen","halbjährlich","Wissenschaft/Forschung",{"v":1.14,"d":"114%"},"Deflation/Depression"]
[{"$nulls":3},"Generalsekretär/in","Kuratorium","Information","Protokoll/Schriftf.","jährlich","Bildung/Erziehung",{"v":1.33,"d":"133%"},"Goldilock"]
[{"$nulls":3},"Kuratorium","Beirat","Anordnung","Mitglied","Sonstiges","Kunst/Kultur",{"v":1.6,"d":"160%"},"Sonstige"]
[{"$nulls":3},"Stiftungsrat","Anlageausschuss",{"$nulls":3},"Umwelt",{"v":2,"d":"200%"}]
[{"$nulls":3},"Beirat","Sonstiges:",{"$nulls":3},"Andere",{"v":2.67,"d":"267%"}]
[{"$nulls":3},"Sonstiges:",{"$nulls":5},{"v":4,"d":"400%"}]
[{"$nulls":9},{"v":8,"d":"800%"}]
[null,"ANLAGEZIELE"]
[]
[null,"Vermögenserhaltungskonzept","Verbrauchskonzept","Ausgaben_Stiftungszweck","Ja_Nein","Zielausschüttung","Projektionszeitraum","Systematig Nachhaltigkeit"]
[null,"Bitte auswählen","Kapitaleinsatz p.a.","Bitte auswählen","Bitte ausw.","Bitte ausw.","Bitte ausw.","Bitte auswählen"]
[null,"Real","Stiftung  auf  Zeit","Überschuss","Ja","quotenmäßig",{"$f":"Einstellungen!G13","v":2024},"Quantitativ"]
[null,"Nominal",null,"Zielbetrag","Nein","summenmäßig",{"$f":"G19+1","v":2025},"PRISC"]
[null,"Substanz",null,"Zielquote",null,null,{"$f":"G20+1","v":2026}]
[null,"Verbrauch",{"$nulls":4},{"$f":"G21+1","v":2027}]
[{"$nulls":6},{"$f":"G22+1","v":2028}]
[null,"Maß_Geldentwertung","Bezugsvermögen"]
[null,"Verbraucherpreise (VPI)","Bitte ausw."]
[null,"Sonstiges","Gesamtvermögen"]
[null,null,"Wertpapiervermögen"]
[]
[]
[null,"ZÄHLER"]
[]
[null,"1. Einstellungen"]
[]
[null,"Gründungsjahr",{"$f":"IF(Einstellungen!G12=0,0,1)","v":0}]
[null,"Planungsbeginn",{"$f":"IF(Einstellungen!G13=0,0,1)","v":1}]
[null,"Summe",{"$f":"SUM(C34:C35)","v":1}]
[null,"Freischaltung",{"$f":"IF(C36=2,1,0)","v":0}]
[]
[null,"2. Anlageziele"]
[]
[null,"Vermögenserhaltung",{"$f":"IF(Anlageziele!H14=\"Bitte auswählen\",0,1)","v":1}]
[null,"Erträge",{"$f":"IF(Anlageziele!O14=\"Bitte auswählen\",0,1)","v":0}]
[null,"Ausschüttungspolitik",{"$f":"IF(Anlageziele!O14=\"Bitte auswählen\",0,1)","v":0}]
[null,"Maximalverlust",{"$f":"IF(Anlageziele!H32=0%,0,1)","v":0}]
[null,"Nachhaltigkeit",{"$f":"IF(Anlageziele!O31=\"Bitte auswählen\",0,1)","v":1}]
[null,"Summe",{"$f":"SUM(C41:C45)","v":2}]
[null,"Freischaltung",{"$f":"IF(C46=5,1,0)","v":0}]

{"sheet":"Daten_Vermögen","index":8,"n_rows":265,"n_cols":28,"rows_kept":265,"hidden":true,"merged":[[41,6,42,6]]}
["Datenblatt Investitionsvermögen"]
[]
[null,"AUSWAHLFELDER"]
[{"$nulls":7},"ESG /"]
[null,"Anlageklassen","Anlageinstrument","Währung","Ja/Nein","Buchhaltung","Monate","Taxonomie"]
[null,"Bitte auswählen","Bitte auswählen","EUR","Ja","Bitte auswählen","Bitte auswählen","Keine"]
[null,"Aktien","Direktanlage","USD","Nein","Immaterieller Vermögensggstd.","Monatlich","Art. 6"]
[null,"Anleihen","VV-Mandat","CHF",null,"Grundstück/Gebäude","Quartalsweise","Art. 8"]
[null,"Alternative Inv.","Fonds","DKK",null,"Geschäftsausstattung","Januar","Art. 9"]
[null,"Rohstoffe",null,"GBP",null,"andere Sachanlagen","Februar","ESG-Siegel"]
[null,"Liquidität",null,"JPY",null,"Beteiligg. an Unternehmen","März","Sonstige"]
[null,"Mischfonds (MA)",null,"NOK",null,"Aktien","April"]
[null,"Immobilien",null,"SEK",null,"Fondsanteile","Mai"]
[null,"Beteiligungen",null,"Sonstige",null,"festverzinsliche Wertpapiere","Juni"]
[null,"Sonst. Verm.",{"$nulls":3},"sonstige Wertpapiere","Juli"]
[null,"Verbindlichkeiten",{"$nulls":3},"sonstige Ausleihungen","August"]
[{"$nulls":5},"Vorräte","September"]
[{"$nulls":5},"Forderungen u. sonstige Vermggstd.","Oktober"]
[null,"Währungsumrechnung",{"$nulls":3},"Wertpapiere, soweit n. Anlageverm.","November"]
[null,"EUR",{"v":1,"d":"1.00"},null,null,"Bankguthaben","Dezember"]
[null,"USD",1.07,null,null,"Kassenbestand"]
[null,"CHF",0.99]
[null,"DKK",7.45]
[null,"GBP",0.89]
[null,"JPY",143.09]
[null,"NOK",10.91]
[null,"SEK",11.13]
[null,"Sonstige",{"v":1,"d":"1.00"}]
[]
[null,"Anlageziele für Startseite",{"$f":"Anlageziele!$H$14","v":"Real"},{"$f":"Anlageziele!$O$14","v":"Bitte auswählen"},null,{"$f":"Anlageziele!$O$31","v":"Quantitativ"}]
[]
[null,"Vermögen",{"$f":"Daten_Vermögenserhaltung!$D$83","v":0}]
[null,"Ertrag",null,{"$f":"IF(Anlageziele!$O$14=\"Überschuss\",D34,IF(Anlageziele!$O$14=\"Zielbetrag\",D35,IF(Anlageziele!$O$14=\"Zielquote\",D36,\"OFF\")))","v":"OFF"}]
[null,"Überschuss",null,{"$f":"IF(Wirtschaftsplan!G54*Anlageziele!O16<Daten_Vermögen!D94,Daten_Vermögen!D94,Wirtschaftsplan!G54*Anlageziele!O16)","v":0}]
[null,"Zielbetrag",null,{"$f":"[1]Anlageziele!$N$17","v":{"v":400000,"d":"400,000"}}]
[null,"Zielquote",null,{"$f":"C94*Anlageziele!$O$18","v":0}]
[null,"Risiko",null,null,{"$f":"C94*Anlageziele!H32","v":0}]
[null,"Nachhaltigkeit",{"$nulls":3},{"$f":"Anlageziele!N29","v":{"v":0,"d":"0.0%"}}]
[null,"Quantitativ",{"$nulls":3},{"$f":"Anlageziele!N29","v":{"v":0,"d":"0.0%"}}]
[null,"PRISC",{"$nulls":3},{"$f":"Anlageziele!O42","v":{"v":0,"d":"0.0%"}},{"$nulls":12},"Gewichtete Gesamtrendite für Szenario \"Linear\""]
[]
[null,"ZIelerreichung aktuell für Startseite",{"$nulls":4},"Rendite Verm.",null,"Ausschüttungs-"]
[null,null,"Wert","Ertrag","Risiko","Nachhaltigkeit",null,"Multi-Asset","rendite",null,null,"Aktien","Anleihen","Alternative Inv.","Rohstoffe","Liquidität","Summe",null,"Gesamtrendite",{"$f":"B7","v":"Aktien"},{"$f":"B8","v":"Anleihen"},{"$f":"B9","v":"Alternative Inv."},{"$f":"B10","v":"Rohstoffe"},{"$f":"B11","v":"Liquidität"},{"$f":"B13","v":"Immobilien"},{"$f":"B14","v":"Beteiligungen"},{"$f":"B15","v":"Sonst. Verm."},"Summe"]
[{"$f":"Vermögen!E11","v":"1."},{"$f":"Vermögen!F11","v":0},{"$f":"IF(Vermögen!S11>0,Vermögen!S11/SUMIF(Daten_Vermögen!$B$20:$B$28,Vermögen!T11,Daten_Vermögen!$C$20:$C$28),Vermögen!S11/1)","v":0},{"$f":"IF(Vermögen!Q11>0,Vermögen!Q11*Vermögen!X11,IF(Vermögen!W11=0,Vermögen!S11*Vermögen!X11/100,Vermögen!W11*Vermögen!X11/100))","v":0},{"$f":"Vermögen!S11*Vermögen!AC11","v":0},{"$f":"IF(Vermögen!AD11=\"Keine\",0,IF(Vermögen!AD11=\"Art. 6\",0,1))","v":1},{"$f":"Vermögen!V11","v":{"v":0,"d":"0.0%"}},{"$f":"IF(Vermögen!I11=Daten_Vermögen!$B$12,1,0)","v":0},{"$f":"IFERROR(D44/C44,0)","v":{"v":0,"d":"0.00%"}},null,null,{"$f":"C44*Vermögen!J11","v":0},{"$f":"C44*Vermögen!K11","v":0},{"$f":"C44*Vermögen!L11","v":0},{"$f":"C44*Vermögen!M11","v":0},{"$f":"C44*Vermögen!N11","v":0},{"$f":"SUM(L44:P44)","v":0},null,{"$f":"G44+I44","v":{"v":0,"d":"0.0%"}},{"$f":"$S44*Vermögen!J11*Vermögen!$U11","v":{"$error":"#VALUE!"}},{"$f":"$S44*Vermögen!K11*Vermögen!U11","v":{"$error":"#VALUE!"}},{"$f":"$S44*Vermögen!L11*Vermögen!U11","v":{"$error":"#VALUE!"}},{"$f":"$S44*Vermögen!M11*Vermögen!U11","v":{"$error":"#VALUE!"}},{"$f":"$S44*Vermögen!N11*Vermögen!U11","v":{"$error":"#VALUE!"}},{"$f":"$S44*IF(Vermögen!$I11=Daten_Vermögen!Y$43,Vermögen!$U11,0)","v":{"v":0,"d":"0.0%"}},{"$f":"$S44*IF(Vermögen!$I11=Daten_Vermögen!Z$43,Vermögen!$U11,0)","v":{"v":0,"d":"0.0%"}},{"$f":"$S44*IF(Vermögen!I11=Daten_Vermögen!$AA$43,Vermögen!U11,0)","v":{"v":0,"d":"0.0%"}},{"$f":"SUM(T44:AA44)","v":{"$error":"#VALUE!"}}]
[{"$f":"Vermögen!E12","v":"2."},{"$f":"Vermögen!F12","v":0},{"$f":"IF(Vermögen!S12>0,Vermögen!S12/SUMIF(Daten_Vermögen!$B$20:$B$28,Vermögen!T12,Daten_Vermögen!$C$20:$C$28),Vermögen!S12/1)","v":0},{"$f":"IF(Vermögen!Q12>0,Vermögen!Q12*Vermögen!X12,IF(Vermögen!W12=0,Vermögen!S12*Vermögen!X12/100,Vermögen!W12*Vermögen!X12/100))","v":0},{"$f":"Vermögen!S12*Vermögen!AC12","v":0},{"$f":"IF(Vermögen!AD12=\"Keine\",0,IF(Vermögen!AD12=\"Art. 6\",0,1))","v":1},{"$f":"Vermögen!V12","v":{"v":0,"d":"0.0%"}},{"$f":"IF(Vermögen!I12=Daten_Vermögen!$B$12,1,0)","v":0},{"$f":"IFERROR(D45/C45,0)","v":{"v":0,"d":"0.00%"}},null,null,{"$f":"C45*Vermögen!J12","v":0},{"$f":"C45*Vermögen!K12","v":0},{"$f":"C45*Vermögen!L12","v":0},{"$f":"C45*Vermögen!M12","v":0},{"$f":"C45*Vermögen!N12","v":0},0,null,{"$f":"G45+I45","v":{"v":0,"d":"0.0%"}},{"$f":"$S45*Vermögen!J12*Vermögen!$U12","v":{"$error":"#VALUE!"}},{"$f":"$S45*Vermögen!K12*Vermögen!U12","v":{"$error":"#VALUE!"}},{"$f":"$S45*Vermögen!L12*Vermögen!U12","v":{"$error":"#VALUE!"}},{"$f":"$S45*Vermögen!M12*Vermögen!U12","v":{"$error":"#VALUE!"}},{"$f":"$S45*Vermögen!N12*Vermögen!U12","v":{"$error":"#VALUE!"}},{"$f":"$S45*IF(Vermögen!I12=Daten_Vermögen!$Y$43,Vermögen!U12,0)","v":{"v":0,"d":"0.0%"}},{"$f":"$S45*IF(Vermögen!I12=Daten_Vermögen!$Z$43,Vermögen!U12,0)","v":{"v":0,"d":"0.0%"}},{"$f":"$S45*IF(Vermögen!I12=Daten_Vermögen!$AA$43,Vermögen!U12,0)","v":{"v":0,"d":"0.0%"}},{"$f":"SUM(T45:AA45)","v":{"$error":"#VALUE!"}}]
[{"$f":"Vermögen!E13","v":"3."},{"$f":"Vermögen!F13","v":0},{"$f":"IF(Vermögen!S13>0,Vermögen!S13/SUMIF(Daten_Vermögen!$B$20:$B$28,Vermögen!T13,Daten_Vermögen!$C$20:$C$28),Vermögen!S13/1)","v":0},{"$f":"IF(Vermögen!Q13>0,Vermögen!Q13*Vermögen!X13,IF(Vermögen!W13=0,Vermögen!S13*Vermögen!X13/100,Vermögen!W13*Vermögen!X13/100))","v":0},{"$f":"Vermögen!S13*Vermögen!AC13","v":0},{"$f":"IF(Vermögen!AD13=\"Keine\",0,IF(Vermögen!AD13=\"Art. 6\",0,1))","v":1},{"$f":"Vermögen!V13","v":{"v":0,"d":"0.0%"}},{"$f":"IF(Vermögen!I13=Daten_Vermögen!$B$12,1,0)","v":0},{"v":0,"d":"0.00%"},null,null,{"$f":"C46*Vermögen!J13","v":0},{"$f":"C46*Vermögen!K13","v":0},{"$f":"C46*Vermögen!L13","v":0},{"$f":"C46*Vermögen!M13","v":0},{"$f":"C46*Vermögen!N13","v":0},0,null,{"v":0,"d":"0.0%"},{"$f":"$S46*Vermögen!J13*Vermögen!$U13","v":{"$error":"#VALUE!"}},{"$f":"$S46*Vermögen!K13*Vermögen!U13","v":{"$error":"#VALUE!"}},{"$f":"$S46*Vermögen!L13*Vermögen!U13","v":{"$error":"#VALUE!"}},{"$f":"$S46*Vermögen!M13*Vermögen!U13","v":{"$error":"#VALUE!"}},{"$f":"$S46*Vermögen!N13*Vermögen!U13","v":{"$error":"#VALUE!"}},{"$f":"$S46*IF(Vermögen!I13=Daten_Vermögen!$Y$43,Vermögen!U13,0)","v":{"v":0,"d":"0.0%"}},{"$f":"$S46*IF(Vermögen!I13=Daten_Vermögen!$Z$43,Vermögen!U13,0)","v":{"v":0,"d":"0.0%"}},{"$f":"$S46*IF(Vermögen!I13=Daten_Vermögen!$AA$43,Vermögen!U13,0)","v":{"v":0,"d":"0.0%"}},{"$error":"#VALUE!"}]
[{"$f":"Vermögen!E14","v":"4."},{"$f":"Vermögen!F14","v":0},{"$f":"IF(Vermögen!S14>0,Vermögen!S14/SUMIF(Daten_Vermögen!$B$20:$B$28,Vermögen!T14,Daten_Vermögen!$C$20:$C$28),Vermögen!S14/1)","v":0},{"$f":"IF(Vermögen!Q14>0,Vermögen!Q14*Vermögen!X14,IF(Vermögen!W14=0,Vermögen!S14*Vermögen!X14/100,Vermögen!W14*Vermögen!X14/100))","v":0},{"$f":"Vermögen!S14*Vermögen!AC14","v":0},{"$f":"IF(Vermögen!AD14=\"Keine\",0,IF(Vermögen!AD14=\"Art. 6\",0,1))","v":1},{"$f":"Vermögen!V14","v":{"v":0,"d":"0.0%"}},{"$f":"IF(Vermögen!I14=Daten_Vermögen!$B$12,1,0)","v":0},{"v":0,"d":"0.00%"},null,null,{"$f":"C47*Vermögen!J14","v":0},{"$f":"C47*Vermögen!K14","v":0},{"$f":"C47*Vermögen!L14","v":0},{"$f":"C47*Vermögen!M14","v":0},{"$f":"C47*Vermögen!N14","v":0},0,null,{"v":0,"d":"0.0%"},{"$f":"$S47*Vermögen!J14*Vermögen!$U14","v":{"$error":"#VALUE!"}},{"$f":"$S47*Vermögen!K14*Vermögen!U14","v":{"$error":"#VALUE!"}},{"$f":"$S47*Vermögen!L14*Vermögen!U14","v":{"$error":"#VALUE!"}},{"$f":"$S47*Vermögen!M14*Vermögen!U14","v":{"$error":"#VALUE!"}},{"$f":"$S47*Vermögen!N14*Vermögen!U14","v":{"$error":"#VALUE!"}},{"$f":"$S47*IF(Vermögen!I14=Daten_Vermögen!$Y$43,Vermögen!U14,0)","v":{"v":0,"d":"0.0%"}},{"$f":"$S47*IF(Vermögen!I14=Daten_Vermögen!$Z$43,Vermögen!U14,0)","v":{"v":0,"d":"0.0%"}},{"$f":"$S47*IF(Vermögen!I14=Daten_Vermögen!$AA$43,Vermögen!U14,0)","v":{"v":0,"d":"0.0%"}},{"$error":"#VALUE!"}]
[{"$f":"Vermögen!E15","v":"5."},{"$f":"Vermögen!F15","v":0},{"$f":"IF(Vermögen!S15>0,Vermögen!S15/SUMIF(Daten_Vermögen!$B$20:$B$28,Vermögen!T15,Daten_Vermögen!$C$20:$C$28),Vermögen!S15/1)","v":0},{"$f":"IF(Vermögen!Q15>0,Vermögen!Q15*Vermögen!X15,IF(Vermögen!W15=0,Vermögen!S15*Vermögen!X15/100,Vermögen!W15*Vermögen!X15/100))","v":0},{"$f":"Vermögen!S15*Vermögen!AC15","v":0},{"$f":"IF(Vermögen!AD15=\"Keine\",0,IF(Vermögen!AD15=\"Art. 6\",0,1))","v":1},{"$f":"Vermögen!V15","v":{"v":0,"d":"0.0%"}},{"$f":"IF(Vermögen!I15=Daten_Vermögen!$B$12,1,0)","v":0},{"v":0,"d":"0.00%"},null,null,{"$f":"C48*Vermögen!J15","v":0},{"$f":"C48*Vermögen!K15","v":0},{"$f":"C48*Vermögen!L15","v":0},{"$f":"C48*Vermögen!M15","v":0},{"$f":"C48*Vermögen!N15","v":0},0,null,{"v":0,"d":"0.0%"},{"$f":"$S48*Vermögen!J15*Vermögen!$U15","v":{"$error":"#VALUE!"}},{"$f":"$S48*Vermögen!K15*Vermögen!U15","v":{"$error":"#VALUE!"}},{"$f":"$S48*Vermögen!L15*Vermögen!U15","v":{"$error":"#VALUE!"}},{"$f":"$S48*Vermögen!M15*Vermögen!U15","v":{"$error":"#VALUE!"}},{"$f":"$S48*Vermögen!N15*Vermögen!U15","v":{"$error":"#VALUE!"}},{"$f":"$S48*IF(Vermögen!I15=Daten_Vermögen!$Y$43,Vermögen!U15,0)","v":{"v":0,"d":"0.0%"}},{"$f":"$S48*IF(Vermögen!I15=Daten_Vermögen!$Z$43,Vermögen!U15,0)","v":{"v":0,"d":"0.0%"}},{"$f":"$S48*IF(Vermögen!I15=Daten_Vermögen!$AA$43,Vermögen!U15,0)","v":{"v":0,"d":"0.0%"}},{"$error":"#VALUE!"}]
[{"$f":"Vermögen!E16","v":"6."},{"$f":"Vermögen!F16","v":0},{"$f":"IF(Vermögen!S16>0,Vermögen!S16/SUMIF(Daten_Vermögen!$B$20:$B$28,Vermögen!T16,Daten_Vermögen!$C$20:$C$28),Vermögen!S16/1)","v":0},{"$f":"IF(Vermögen!Q16>0,Vermögen!Q16*Vermögen!X16,IF(Vermögen!W16=0,Vermögen!S16*Vermögen!X16/100,Vermögen!W16*Vermögen!X16/100))","v":0},{"$f":"Vermögen!S16*Vermögen!AC16","v":0},{"$f":"IF(Vermögen!AD16=\"Keine\",0,IF(Vermögen!AD16=\"Art. 6\",0,1))","v":1},{"$f":"Vermögen!V16","v":{"v":0,"d":"0.0%"}},{"$f":"IF(Vermögen!I16=Daten_Vermögen!$B$12,1,0)","v":0},{"v":0,"d":"0.00%"},null,null,{"$f":"C49*Vermögen!J16","v":0},{"$f":"C49*Vermögen!K16","v":0},{"$f":"C49*Vermögen!L16","v":0},{"$f":"C49*Vermögen!M16","v":0},{"$f":"C49*Vermögen!N16","v":0},0,null,{"v":0,"d":"0.0%"},{"$f":"$S49*Vermögen!J16*Vermögen!$U16","v":{"$error":"#VALUE!"}},{"$f":"$S49*Vermögen!K16*Vermögen!U16","v":{"$error":"#VALUE!"}},{"$f":"$S49*Vermögen!L16*Vermögen!U16","v":{"$error":"#VALUE!"}},{"$f":"$S49*Vermögen!M16*Vermögen!U16","v":{"$error":"#VALUE!"}},{"$f":"$S49*Vermögen!N16*Vermögen!U16","v":{"$error":"#VALUE!"}},{"$f":"$S49*IF(Vermögen!I16=Daten_Vermögen!$Y$43,Vermögen!U16,0)","v":{"v":0,"d":"0.0%"}},{"$f":"$S49*IF(Vermögen!I16=Daten_Vermögen!$Z$43,Vermögen!U16,0)","v":{"v":0,"d":"0.0%"}},{"$f":"$S49*IF(Vermögen!I16=Daten_Vermögen!$AA$43,Vermögen!U16,0)","v":{"v":0,"d":"0.0%"}},{"$error":"#VALUE!"}]
[{"$f":"Vermögen!E17","v":"7."},{"$f":"Vermögen!F17","v":0},{"$f":"IF(Vermögen!S17>0,Vermögen!S17/SUMIF(Daten_Vermögen!$B$20:$B$28,Vermögen!T17,Daten_Vermögen!$C$20:$C$28),Vermögen!S17/1)","v":0},{"$f":"IF(Vermögen!Q17>0,Vermögen!Q17*Vermögen!X17,IF(Vermögen!W17=0,Vermögen!S17*Vermögen!X17/100,Vermögen!W17*Vermögen!X17/100))","v":0},{"$f":"Vermögen!S17*Vermögen!AC17","v":0},{"$f":"IF(Vermögen!AD17=\"Keine\",0,IF(Vermögen!AD17=\"Art. 6\",0,1))","v":1},{"$f":"Vermögen!V17","v":{"v":0,"d":"0.0%"}},{"$f":"IF(Vermögen!I17=Daten_Vermögen!$B$12,1,0)","v":0},{"v":0,"d":"0.00%"},null,null,{"$f":"C50*Vermögen!J17","v":0},{"$f":"C50*Vermögen!K17","v":0},{"$f":"C50*Vermögen!L17","v":0},{"$f":"C50*Vermögen!M17","v":0},{"$f":"C50*Vermögen!N17","v":0},0,null,{"v":0,"d":"0.0%"},{"$f":"$S50*Vermögen!J17*Vermögen!$U17","v":{"$error":"#VALUE!"}},{"$f":"$S50*Vermögen!K17*Vermögen!U17","v":{"$error":"#VALUE!"}},{"$f":"$S50*Vermögen!L17*Vermögen!U17","v":{"$error":"#VALUE!"}},{"$f":"$S50*Vermögen!M17*Vermögen!U17","v":{"$error":"#VALUE!"}},{"$f":"$S50*Vermögen!N17*Vermögen!U17","v":{"$error":"#VALUE!"}},{"$f":"$S50*IF(Vermögen!I17=Daten_Vermögen!$Y$43,Vermögen!U17,0)","v":{"v":0,"d":"0.0%"}},{"$f":"$S50*IF(Vermögen!I17=Daten_Vermögen!$Z$43,Vermögen!U17,0)","v":{"v":0,"d":"0.0%"}},{"$f":"$S50*IF(Vermögen!I17=Daten_Vermögen!$AA$43,Vermögen!U17,0)","v":{"v":0,"d":"0.0%"}},{"$error":"#VALUE!"}]
[{"$f":"Vermögen!E18","v":"8."},{"$f":"Vermögen!F18","v":0},{"$f":"IF(Vermögen!S18>0,Vermögen!S18/SUMIF(Daten_Vermögen!$B$20:$B$28,Vermögen!T18,Daten_Vermögen!$C$20:$C$28),Vermögen!S18/1)","v":0},{"$f":"IF(Vermögen!Q18>0,Vermögen!Q18*Vermögen!X18,IF(Vermögen!W18=0,Vermögen!S18*Vermögen!X18/100,Vermögen!W18*Vermögen!X18/100))","v":0},{"$f":"Vermögen!S18*Vermögen!AC18","v":0},{"$f":"IF(Vermögen!AD18=\"Keine\",0,IF(Vermögen!AD18=\"Art. 6\",0,1))","v":1},{"$f":"Vermögen!V18","v":{"v":0,"d":"0.0%"}},{"$f":"IF(Vermögen!I18=Daten_Vermögen!$B$12,1,0)","v":0},{"v":0,"d":"0.00%"},null,null,{"$f":"C51*Vermögen!J18","v":0},{"$f":"C51*Vermögen!K18","v":0},{"$f":"C51*Vermögen!L18","v":0},{"$f":"C51*Vermögen!M18","v":0},{"$f":"C51*Vermögen!N18","v":0},0,null,{"v":0,"d":"0.0%"},{"$f":"$S51*Vermögen!J18*Vermögen!$U18","v":{"$error":"#VALUE!"}},{"$f":"$S51*Vermögen!K18*Vermögen!U18","v":{"$error":"#VALUE!"}},{"$f":"$S51*Vermögen!L18*Vermögen!U18","v":{"$error":"#VALUE!"}},{"$f":"$S51*Vermögen!M18*Vermögen!U18","v":{"$error":"#VALUE!"}},{"$f":"$S51*Vermögen!N18*Vermögen!U18","v":{"$error":"#VALUE!"}},{"$f":"$S51*IF(Vermögen!I18=Daten_Vermögen!$Y$43,Vermögen!U18,0)","v":{"v":0,"d":"0.0%"}},{"$f":"$S51*IF(Vermögen!I18=Daten_Vermögen!$Z$43,Vermögen!U18,0)","v":{"v":0,"d":"0.0%"}},{"$f":"$S51*IF(Vermögen!I18=Daten_Vermögen!$AA$43,Vermögen!U18,0)","v":{"v":0,"d":"0.0%"}},{"$error":"#VALUE!"}]
[{"$f":"Vermögen!E19","v":"9."},{"$f":"Vermögen!F19","v":0},{"$f":"IF(Vermögen!S19>0,Vermögen!S19/SUMIF(Daten_Vermögen!$B$20:$B$28,Vermögen!T19,Daten_Vermögen!$C$20:$C$28),Vermögen!S19/1)","v":0},{"$f":"IF(Vermögen!Q19>0,Vermögen!Q19*Vermögen!X19,IF(Vermögen!W19=0,Vermögen!S19*Vermögen!X19/100,Vermögen!W19*Vermögen!X19/100))","v":0},{"$f":"Vermögen!S19*Vermögen!AC19","v":0},{"$f":"IF(Vermögen!AD19=\"Keine\",0,IF(Vermögen!AD19=\"Art. 6\",0,1))","v":1},{"$f":"Vermögen!V19","v":{"v":0,"d":"0.0%"}},{"$f":"IF(Vermögen!I19=Daten_Vermögen!$B$12,1,0)","v":0},{"v":0,"d":"0.00%"},null,null,{"$f":"C52*Vermögen!J19","v":0},{"$f":"C52*Vermögen!K19","v":0},{"$f":"C52*Vermögen!L19","v":0},{"$f":"C52*Vermögen!M19","v":0},{"$f":"C52*Vermögen!N19","v":0},0,null,{"v":0,"d":"0.0%"},{"$f":"$S52*Vermögen!J19*Vermögen!$U19","v":{"$error":"#VALUE!"}},{"$f":"$S52*Vermögen!K19*Vermögen!U19","v":{"$error":"#VALUE!"}},{"$f":"$S52*Vermögen!L19*Vermögen!U19","v":{"$error":"#VALUE!"}},{"$f":"$S52*Vermögen!M19*Vermögen!U19","v":{"$error":"#VALUE!"}},{"$f":"$S52*Vermögen!N19*Vermögen!U19","v":{"$error":"#VALUE!"}},{"$f":"$S52*IF(Vermögen!I19=Daten_Vermögen!$Y$43,Vermögen!U19,0)","v":{"v":0,"d":"0.0%"}},{"$f":"$S52*IF(Vermögen!I19=Daten_Vermögen!$Z$43,Vermögen!U19,0)","v":{"v":0,"d":"0.0%"}},{"$f":"$S52*IF(Vermögen!I19=Daten_Vermögen!$AA$43,Vermögen!U19,0)","v":{"v":0,"d":"0.0%"}},{"$error":"#VALUE!"}]
[{"$f":"Vermögen!E20","v":"10."},{"$f":"Vermögen!F20","v":0},{"$f":"IF(Vermögen!S20>0,Vermögen!S20/SUMIF(Daten_Vermögen!$B$20:$B$28,Vermögen!T20,Daten_Vermögen!$C$20:$C$28),Vermögen!S20/1)","v":0},{"$f":"IF(Vermögen!Q20>0,Vermögen!Q20*Vermögen!X20,IF(Vermögen!W20=0,Vermögen!S20*Vermögen!X20/100,Vermögen!W20*Vermögen!X20/100))","v":0},{"$f":"Vermögen!S20*Vermögen!AC20","v":0},{"$f":"IF(Vermögen!AD20=\"Keine\",0,IF(Vermögen!AD20=\"Art. 6\",0,1))","v":1},{"$f":"Vermögen!V20","v":{"v":0,"d":"0.0%"}},{"$f":"IF(Vermögen!I20=Daten_Vermögen!$B$12,1,0)","v":0},{"v":0,"d":"0.00%"},null,null,{"$f":"C53*Vermögen!J20","v":0},{"$f":"C53*Vermögen!K20","v":0},{"$f":"C53*Vermögen!L20","v":0},{"$f":"C53*Vermögen!M20","v":0},{"$f":"C53*Vermögen!N20","v":0},0,null,{"v":0,"d":"0.0%"},{"$f":"$S53*Vermögen!J20*Vermögen!$U20","v":{"$error":"#VALUE!"}},{"$f":"$S53*Vermögen!K20*Vermögen!U20","v":{"$error":"#VALUE!"}},{"$f":"$S53*Vermögen!L20*Vermögen!U20","v":{"$error":"#VALUE!"}},{"$f":"$S53*Vermögen!M20*Vermögen!U20","v":{"$error":"#VALUE!"}},{"$f":"$S53*Vermögen!N20*Vermögen!U20","v":{"$error":"#VALUE!"}},{"$f":"$S53*IF(Vermögen!I20=Daten_Vermögen!$Y$43,Vermögen!U20,0)","v":{"v":0,"d":"0.0%"}},{"$f":"$S53*IF(Vermögen!I20=Daten_Vermögen!$Z$43,Vermögen!U20,0)","v":{"v":0,"d":"0.0%"}},{"$f":"$S53*IF(Vermögen!I20=Daten_Vermögen!$AA$43,Vermögen!U20,0)","v":{"v":0,"d":"0.0%"}},{"$error":"#VALUE!"}]
[{"$f":"Vermögen!E21","v":"11."},{"$f":"Vermögen!F21","v":0},{"$f":"IF(Vermögen!S21>0,Vermögen!S21/SUMIF(Daten_Vermögen!$B$20:$B$28,Vermögen!T21,Daten_Vermögen!$C$20:$C$28),Vermögen!S21/1)","v":0},{"$f":"IF(Vermögen!Q21>0,Vermögen!Q21*Vermögen!X21,IF(Vermögen!W21=0,Vermögen!S21*Vermögen!X21/100,Vermögen!W21*Vermögen!X21/100))","v":0},{"$f":"Vermögen!S21*Vermögen!AC21","v":0},{"$f":"IF(Vermögen!AD21=\"Keine\",0,IF(Vermögen!AD21=\"Art. 6\",0,1))","v":1},{"$f":"Vermögen!V21","v":{"v":0,"d":"0.0%"}},{"$f":"IF(Vermögen!I21=Daten_Vermögen!$B$12,1,0)","v":0},{"v":0,"d":"0.00%"},null,null,{"$f":"C54*Vermögen!J21","v":0},{"$f":"C54*Vermögen!K21","v":0},{"$f":"C54*Vermögen!L21","v":0},{"$f":"C54*Vermögen!M21","v":0},{"$f":"C54*Vermögen!N21","v":0},0,null,{"v":0,"d":"0.0%"},{"$f":"$S54*Vermögen!J21*Vermögen!$U21","v":{"$error":"#VALUE!"}},{"$f":"$S54*Vermögen!K21*Vermögen!U21","v":{"$error":"#VALUE!"}},{"$f":"$S54*Vermögen!L21*Vermögen!U21","v":{"$error":"#VALUE!"}},{"$f":"$S54*Vermögen!M21*Vermögen!U21","v":{"$error":"#VALUE!"}},{"$f":"$S54*Vermögen!N21*Vermögen!U21","v":{"$error":"#VALUE!"}},{"$f":"$S54*IF(Vermögen!I21=Daten_Vermögen!$Y$43,Vermögen!U21,0)","v":{"v":0,"d":"0.0%"}},{"$f":"$S54*IF(Vermögen!I21=Daten_Vermögen!$Z$43,Vermögen!U21,0)","v":{"v":0,"d":"0.0%"}},{"$f":"$S54*IF(Vermögen!I21=Daten_Vermögen!$AA$43,Vermögen!U21,0)","v":{"v":0,"d":"0.0%"}},{"$error":"#VALUE!"}]
[{"$f":"Vermögen!E22","v":"12."},{"$f":"Vermögen!F22","v":0},{"$f":"IF(Vermögen!S22>0,Vermögen!S22/SUMIF(Daten_Vermögen!$B$20:$B$28,Vermögen!T22,Daten_Vermögen!$C$20:$C$28),Vermögen!S22/1)","v":0},{"$f":"IF(Vermögen!Q22>0,Vermögen!Q22*Vermögen!X22,IF(Vermögen!W22=0,Vermögen!S22*Vermögen!X22/100,Vermögen!W22*Vermögen!X22/100))","v":0},{"$f":"Vermögen!S22*Vermögen!AC22","v":0},{"$f":"IF(Vermögen!AD22=\"Keine\",0,IF(Vermögen!AD22=\"Art. 6\",0,1))","v":1},{"$f":"Vermögen!V22","v":{"v":0,"d":"0.0%"}},{"$f":"IF(Vermögen!I22=Daten_Vermögen!$B$12,1,0)","v":0},{"v":0,"d":"0.00%"},null,null,{"$f":"C55*Vermögen!J22","v":0},{"$f":"C55*Vermögen!K22","v":0},{"$f":"C55*Vermögen!L22","v":0},{"$f":"C55*Vermögen!M22","v":0},{"$f":"C55*Vermögen!N22","v":0},0,null,{"v":0,"d":"0.0%"},{"$f":"$S55*Vermögen!J22*Vermögen!$U22","v":{"$error":"#VALUE!"}},{"$f":"$S55*Vermögen!K22*Vermögen!U22","v":{"$error":"#VALUE!"}},{"$f":"$S55*Vermögen!L22*Vermögen!U22","v":{"$error":"#VALUE!"}},{"$f":"$S55*Vermögen!M22*Vermögen!U22","v":{"$error":"#VALUE!"}},{"$f":"$S55*Vermögen!N22*Vermögen!U22","v":{"$error":"#VALUE!"}},{"$f":"$S55*IF(Vermögen!I22=Daten_Vermögen!$Y$43,Vermögen!U22,0)","v":{"v":0,"d":"0.0%"}},{"$f":"$S55*IF(Vermögen!I22=Daten_Vermögen!$Z$43,Vermögen!U22,0)","v":{"v":0,"d":"0.0%"}},{"$f":"$S55*IF(Vermögen!I22=Daten_Vermögen!$AA$43,Vermögen!U22,0)","v":{"v":0,"d":"0.0%"}},{"$error":"#VALUE!"}]
[{"$f":"Vermögen!E23","v":"13."},{"$f":"Vermögen!F23","v":0},{"$f":"IF(Vermögen!S23>0,Vermögen!S23/SUMIF(Daten_Vermögen!$B$20:$B$28,Vermögen!T23,Daten_Vermögen!$C$20:$C$28),Vermögen!S23/1)","v":0},{"$f":"IF(Vermögen!Q23>0,Vermögen!Q23*Vermögen!X23,IF(Vermögen!W23=0,Vermögen!S23*Vermögen!X23/100,Vermögen!W23*Vermögen!X23/100))","v":0},{"$f":"Vermögen!S23*Vermögen!AC23","v":0},{"$f":"IF(Vermögen!AD23=\"Keine\",0,IF(Vermögen!AD23=\"Art. 6\",0,1))","v":1},{"$f":"Vermögen!V23","v":{"v":0,"d":"0.0%"}},{"$f":"IF(Vermögen!I23=Daten_Vermögen!$B$12,1,0)","v":0},{"v":0,"d":"0.00%"},null,null,{"$f":"C56*Vermögen!J23","v":0},{"$f":"C56*Vermögen!K23","v":0},{"$f":"C56*Vermögen!L23","v":0},{"$f":"C56*Vermögen!M23","v":0},{"$f":"C56*Vermögen!N23","v":0},0,null,{"v":0,"d":"0.0%"},{"$f":"$S56*Vermögen!J23*Vermögen!$U23","v":{"$error":"#VALUE!"}},{"$f":"$S56*Vermögen!K23*Vermögen!U23","v":{"$error":"#VALUE!"}},{"$f":"$S56*Vermögen!L23*Vermögen!U23","v":{"$error":"#VALUE!"}},{"$f":"$S56*Vermögen!M23*Vermögen!U23","v":{"$error":"#VALUE!"}},{"$f":"$S56*Vermögen!N23*Vermögen!U23","v":{"$error":"#VALUE!"}},{"$f":"$S56*IF(Vermögen!I23=Daten_Vermögen!$Y$43,Vermögen!U23,0)","v":{"v":0,"d":"0.0%"}},{"$f":"$S56*IF(Vermögen!I23=Daten_Vermögen!$Z$43,Vermögen!U23,0)","v":{"v":0,"d":"0.0%"}},{"$f":"$S56*IF(Vermögen!I23=Daten_Vermögen!$AA$43,Vermögen!U23,0)","v":{"v":0,"d":"0.0%"}},{"$error":"#VALUE!"}]
[{"$f":"Vermögen!E24","v":"14."},{"$f":"Vermögen!F24","v":0},{"$f":"IF(Vermögen!S24>0,Vermögen!S24/SUMIF(Daten_Vermögen!$B$20:$B$28,Vermögen!T24,Daten_Vermögen!$C$20:$C$28),Vermögen!S24/1)","v":0},{"$f":"IF(Vermögen!Q24>0,Vermögen!Q24*Vermögen!X24,IF(Vermögen!W24=0,Vermögen!S24*Vermögen!X24/100,Vermögen!W24*Vermögen!X24/100))","v":0},{"$f":"Vermögen!S24*Vermögen!AC24","v":0},{"$f":"IF(Vermögen!AD24=\"Keine\",0,IF(Vermögen!AD24=\"Art. 6\",0,1))","v":1},{"$f":"Vermögen!V24","v":{"v":0,"d":"0.0%"}},{"$f":"IF(Vermögen!I24=Daten_Vermögen!$B$12,1,0)","v":0},{"v":0,"d":"0.00%"},null,null,{"$f":"C57*Vermögen!J24","v":0},{"$f":"C57*Vermögen!K24","v":0},{"$f":"C57*Vermögen!L24","v":0},{"$f":"C57*Vermögen!M24","v":0},{"$f":"C57*Vermögen!N24","v":0},0,null,{"v":0,"d":"0.0%"},{"$f":"$S57*Vermögen!J24*Vermögen!$U24","v":{"$error":"#VALUE!"}},{"$f":"$S57*Vermögen!K24*Vermögen!U24","v":{"$error":"#VALUE!"}},{"$f":"$S57*Vermögen!L24*Vermögen!U24","v":{"$error":"#VALUE!"}},{"$f":"$S57*Vermögen!M24*Vermögen!U24","v":{"$error":"#VALUE!"}},{"$f":"$S57*Vermögen!N24*Vermögen!U24","v":{"$error":"#VALUE!"}},{"$f":"$S57*IF(Vermögen!I24=Daten_Vermögen!$Y$43,Vermögen!U24,0)","v":{"v":0,"d":"0.0%"}},{"$f":"$S57*IF(Vermögen!I24=Daten_Vermögen!$Z$43,Vermögen!U24,0)","v":{"v":0,"d":"0.0%"}},{"$f":"$S57*IF(Vermögen!I24=Daten_Vermögen!$AA$43,Vermögen!U24,0)","v":{"v":0,"d":"0.0%"}},{"$error":"#VALUE!"}]
[{"$f":"Vermögen!E25","v":"15."},{"$f":"Vermögen!F25","v":0},{"$f":"IF(Vermögen!S25>0,Vermögen!S25/SUMIF(Daten_Vermögen!$B$20:$B$28,Vermögen!T25,Daten_Vermögen!$C$20:$C$28),Vermögen!S25/1)","v":0},{"$f":"IF(Vermögen!Q25>0,Vermögen!Q25*Vermögen!X25,IF(Vermögen!W25=0,Vermögen!S25*Vermögen!X25/100,Vermögen!W25*Vermögen!X25/100))","v":0},{"$f":"Vermögen!S25*Vermögen!AC25","v":0},{"$f":"IF(Vermögen!AD25=\"Keine\",0,IF(Vermögen!AD25=\"Art. 6\",0,1))","v":1},{"$f":"Vermögen!V25","v":{"v":0,"d":"0.0%"}},{"$f":"IF(Vermögen!I25=Daten_Vermögen!$B$12,1,0)","v":0},{"v":0,"d":"0.00%"},null,null,{"$f":"C58*Vermögen!J25","v":0},{"$f":"C58*Vermögen!K25","v":0},{"$f":"C58*Vermögen!L25","v":0},{"$f":"C58*Vermögen!M25","v":0},{"$f":"C58*Vermögen!N25","v":0},0,null,{"v":0,"d":"0.0%"},{"$f":"$S58*Vermögen!J25*Vermögen!$U25","v":{"$error":"#VALUE!"}},{"$f":"$S58*Vermögen!K25*Vermögen!U25","v":{"$error":"#VALUE!"}},{"$f":"$S58*Vermögen!L25*Vermögen!U25","v":{"$error":"#VALUE!"}},{"$f":"$S58*Vermögen!M25*Vermögen!U25","v":{"$error":"#VALUE!"}},{"$f":"$S58*Vermögen!N25*Vermögen!U25","v":{"$error":"#VALUE!"}},{"$f":"$S58*IF(Vermögen!I25=Daten_Vermögen!$Y$43,Vermögen!U25,0)","v":{"v":0,"d":"0.0%"}},{"$f":"$S58*IF(Vermögen!I25=Daten_Vermögen!$Z$43,Vermögen!U25,0)","v":{"v":0,"d":"0.0%"}},{"$f":"$S58*IF(Vermögen!I25=Daten_Vermögen!$AA$43,Vermögen!U25,0)","v":{"v":0,"d":"0.0%"}},{"$error":"#VALUE!"}]
[{"$f":"Vermögen!E26","v":"16."},{"$f":"Vermögen!F26","v":0},{"$f":"IF(Vermögen!S26>0,Vermögen!S26/SUMIF(Daten_Vermögen!$B$20:$B$28,Vermögen!T26,Daten_Vermögen!$C$20:$C$28),Vermögen!S26/1)","v":0},{"$f":"IF(Vermögen!Q26>0,Vermögen!Q26*Vermögen!X26,IF(Vermögen!W26=0,Vermögen!S26*Vermögen!X26/100,Vermögen!W26*Vermögen!X26/100))","v":0},{"$f":"Vermögen!S26*Vermögen!AC26","v":0},{"$f":"IF(Vermögen!AD26=\"Keine\",0,IF(Vermögen!AD26=\"Art. 6\",0,1))","v":1},{"$f":"Vermögen!V26","v":{"v":0,"d":"0.0%"}},{"$f":"IF(Vermögen!I26=Daten_Vermögen!$B$12,1,0)","v":0},{"v":0,"d":"0.00%"},null,null,{"$f":"C59*Vermögen!J26","v":0},{"$f":"C59*Vermögen!K26","v":0},{"$f":"C59*Vermögen!L26","v":0},{"$f":"C59*Vermögen!M26","v":0},{"$f":"C59*Vermögen!N26","v":0},0,null,{"v":0,"d":"0.0%"},{"$f":"$S59*Vermögen!J26*Vermögen!$U26","v":{"$error":"#VALUE!"}},{"$f":"$S59*Vermögen!K26*Vermögen!U26","v":{"$error":"#VALUE!"}},{"$f":"$S59*Vermögen!L26*Vermögen!U26","v":{"$error":"#VALUE!"}},{"$f":"$S59*Vermögen!M26*Vermögen!U26","v":{"$error":"#VALUE!"}},{"$f":"$S59*Vermögen!N26*Vermögen!U26","v":{"$error":"#VALUE!"}},{"$f":"$S59*IF(Vermögen!I26=Daten_Vermögen!$Y$43,Vermögen!U26,0)","v":{"v":0,"d":"0.0%"}},{"$f":"$S59*IF(Vermögen!I26=Daten_Vermögen!$Z$43,Vermögen!U26,0)","v":{"v":0,"d":"0.0%"}},{"$f":"$S59*IF(Vermögen!I26=Daten_Vermögen!$AA$43,Vermögen!U26,0)","v":{"v":0,"d":"0.0%"}},{"$error":"#VALUE!"}]
[{"$f":"Vermögen!E27","v":"17."},{"$f":"Vermögen!F27","v":0},{"$f":"IF(Vermögen!S27>0,Vermögen!S27/SUMIF(Daten_Vermögen!$B$20:$B$28,Vermögen!T27,Daten_Vermögen!$C$20:$C$28),Vermögen!S27/1)","v":0},{"$f":"IF(Vermögen!Q27>0,Vermögen!Q27*Vermögen!X27,IF(Vermögen!W27=0,Vermögen!S27*Vermögen!X27/100,Vermögen!W27*Vermögen!X27/100))","v":0},{"$f":"Vermögen!S27*Vermögen!AC27","v":0},{"$f":"IF(Vermögen!AD27=\"Keine\",0,IF(Vermögen!AD27=\"Art. 6\",0,1))","v":1},{"$f":"Vermögen!V27","v":{"v":0,"d":"0.0%"}},{"$f":"IF(Vermögen!I27=Daten_Vermögen!$B$12,1,0)","v":0},{"v":0,"d":"0.00%"},null,null,{"$f":"C60*Vermögen!J27","v":0},{"$f":"C60*Vermögen!K27","v":0},{"$f":"C60*Vermögen!L27","v":0},{"$f":"C60*Vermögen!M27","v":0},{"$f":"C60*Vermögen!N27","v":0},0,null,{"v":0,"d":"0.0%"},{"$f":"$S60*Vermögen!J27*Vermögen!$U27","v":{"$error":"#VALUE!"}},{"$f":"$S60*Vermögen!K27*Vermögen!U27","v":{"$error":"#VALUE!"}},{"$f":"$S60*Vermögen!L27*Vermögen!U27","v":{"$error":"#VALUE!"}},{"$f":"$S60*Vermögen!M27*Vermögen!U27","v":{"$error":"#VALUE!"}},{"$f":"$S60*Vermögen!N27*Vermögen!U27","v":{"$error":"#VALUE!"}},{"$f":"$S60*IF(Vermögen!I27=Daten_Vermögen!$Y$43,Vermögen!U27,0)","v":{"v":0,"d":"0.0%"}},{"$f":"$S60*IF(Vermögen!I27=Daten_Vermögen!$Z$43,Vermögen!U27,0)","v":{"v":0,"d":"0.0%"}},{"$f":"$S60*IF(Vermögen!I27=Daten_Vermögen!$AA$43,Vermögen!U27,0)","v":{"v":0,"d":"0.0%"}},{"$error":"#VALUE!"}]
[{"$f":"Vermögen!E28","v":"18."},{"$f":"Vermögen!F28","v":0},{"$f":"IF(Vermögen!S28>0,Vermögen!S28/SUMIF(Daten_Vermögen!$B$20:$B$28,Vermögen!T28,Daten_Vermögen!$C$20:$C$28),Vermögen!S28/1)","v":0},{"$f":"IF(Vermögen!Q28>0,Vermögen!Q28*Vermögen!X28,IF(Vermögen!W28=0,Vermögen!S28*Vermögen!X28/100,Vermögen!W28*Vermögen!X28/100))","v":0},{"$f":"Vermögen!S28*Vermögen!AC28","v":0},{"$f":"IF(Vermögen!AD28=\"Keine\",0,IF(Vermögen!AD28=\"Art. 6\",0,1))","v":1},{"$f":"Vermögen!V28","v":{"v":0,"d":"0.0%"}},{"$f":"IF(Vermögen!I28=Daten_Vermögen!$B$12,1,0)","v":0},{"v":0,"d":"0.00%"},null,null,{"$f":"C61*Vermögen!J28","v":0},{"$f":"C61*Vermögen!K28","v":0},{"$f":"C61*Vermögen!L28","v":0},{"$f":"C61*Vermögen!M28","v":0},{"$f":"C61*Vermögen!N28","v":0},0,null,{"v":0,"d":"0.0%"},{"$f":"$S61*Vermögen!J28*Vermögen!$U28","v":{"$error":"#VALUE!"}},{"$f":"$S61*Vermögen!K28*Vermögen!U28","v":{"$error":"#VALUE!"}},{"$f":"$S61*Vermögen!L28*Vermögen!U28","v":{"$error":"#VALUE!"}},{"$f":"$S61*Vermögen!M28*Vermögen!U28","v":{"$error":"#VALUE!"}},{"$f":"$S61*Vermögen!N28*Vermögen!U28","v":{"$error":"#VALUE!"}},{"$f":"$S61*IF(Vermögen!I28=Daten_Vermögen!$Y$43,Vermögen!U28,0)","v":{"v":0,"d":"0.0%"}},{"$f":"$S61*IF(Vermögen!I28=Daten_Vermögen!$Z$43,Vermögen!U28,0)","v":{"v":0,"d":"0.0%"}},{"$f":"$S61*IF(Vermögen!I28=Daten_Vermögen!$AA$43,Vermögen!U28,0)","v":{"v":0,"d":"0.0%"}},{"$error":"#VALUE!"}]
[{"$f":"Vermögen!E29","v":"19."},{"$f":"Vermögen!F29","v":0},{"$f":"IF(Vermögen!S29>0,Vermögen!S29/SUMIF(Daten_Vermögen!$B$20:$B$28,Vermögen!T29,Daten_Vermögen!$C$20:$C$28),Vermögen!S29/1)","v":0},{"$f":"IF(Vermögen!Q29>0,Vermögen!Q29*Vermögen!X29,IF(Vermögen!W29=0,Vermögen!S29*Vermögen!X29/100,Vermögen!W29*Vermögen!X29/100))","v":0},{"$f":"Vermögen!S29*Vermögen!AC29","v":0},{"$f":"IF(Vermögen!AD29=\"Keine\",0,IF(Vermögen!AD29=\"Art. 6\",0,1))","v":1},{"$f":"Vermögen!V29","v":{"v":0,"d":"0.0%"}},{"$f":"IF(Vermögen!I29=Daten_Vermögen!$B$12,1,0)","v":0},{"v":0,"d":"0.00%"},null,null,{"$f":"C62*Vermögen!J29","v":0},{"$f":"C62*Vermögen!K29","v":0},{"$f":"C62*Vermögen!L29","v":0},{"$f":"C62*Vermögen!M29","v":0},{"$f":"C62*Vermögen!N29","v":0},0,null,{"v":0,"d":"0.0%"},{"$f":"$S62*Vermögen!J29*Vermögen!$U29","v":{"$error":"#VALUE!"}},{"$f":"$S62*Vermögen!K29*Vermögen!U29","v":{"$error":"#VALUE!"}},{"$f":"$S62*Vermögen!L29*Vermögen!U29","v":{"$error":"#VALUE!"}},{"$f":"$S62*Vermögen!M29*Vermögen!U29","v":{"$error":"#VALUE!"}},{"$f":"$S62*Vermögen!N29*Vermögen!U29","v":{"$error":"#VALUE!"}},{"$f":"$S62*IF(Vermögen!I29=Daten_Vermögen!$Y$43,Vermögen!U29,0)","v":{"v":0,"d":"0.0%"}},{"$f":"$S62*IF(Vermögen!I29=Daten_Vermögen!$Z$43,Vermögen!U29,0)","v":{"v":0,"d":"0.0%"}},{"$f":"$S62*IF(Vermögen!I29=Daten_Vermögen!$AA$43,Vermögen!U29,0)","v":{"v":0,"d":"0.0%"}},{"$error":"#VALUE!"}]
[{"$f":"Vermögen!E30","v":"20."},{"$f":"Vermögen!F30","v":0},{"$f":"IF(Vermögen!S30>0,Vermögen!S30/SUMIF(Daten_Vermögen!$B$20:$B$28,Vermögen!T30,Daten_Vermögen!$C$20:$C$28),Vermögen!S30/1)","v":0},{"$f":"IF(Vermögen!Q30>0,Vermögen!Q30*Vermögen!X30,IF(Vermögen!W30=0,Vermögen!S30*Vermögen!X30/100,Vermögen!W30*Vermögen!X30/100))","v":0},{"$f":"Vermögen!S30*Vermögen!AC30","v":0},{"$f":"IF(Vermögen!AD30=\"Keine\",0,IF(Vermögen!AD30=\"Art. 6\",0,1))","v":1},{"$f":"Vermögen!V30","v":{"v":0,"d":"0.0%"}},{"$f":"IF(Vermögen!I30=Daten_Vermögen!$B$12,1,0)","v":0},{"v":0,"d":"0.00%"},null,null,{"$f":"C63*Vermögen!J30","v":0},{"$f":"C63*Vermögen!K30","v":0},{"$f":"C63*Vermögen!L30","v":0},{"$f":"C63*Vermögen!M30","v":0},{"$f":"C63*Vermögen!N30","v":0},0,null,{"v":0,"d":"0.0%"},{"$f":"$S63*Vermögen!J30*Vermögen!$U30","v":{"$error":"#VALUE!"}},{"$f":"$S63*Vermögen!K30*Vermögen!U30","v":{"$error":"#VALUE!"}},{"$f":"$S63*Vermögen!L30*Vermögen!U30","v":{"$error":"#VALUE!"}},{"$f":"$S63*Vermögen!M30*Vermögen!U30","v":{"$error":"#VALUE!"}},{"$f":"$S63*Vermögen!N30*Vermögen!U30","v":{"$error":"#VALUE!"}},{"$f":"$S63*IF(Vermögen!I30=Daten_Vermögen!$Y$43,Vermögen!U30,0)","v":{"v":0,"d":"0.0%"}},{"$f":"$S63*IF(Vermögen!I30=Daten_Vermögen!$Z$43,Vermögen!U30,0)","v":{"v":0,"d":"0.0%"}},{"$f":"$S63*IF(Vermögen!I30=Daten_Vermögen!$AA$43,Vermögen!U30,0)","v":{"v":0,"d":"0.0%"}},{"$error":"#VALUE!"}]
[{"$f":"Vermögen!E31","v":"21."},{"$f":"Vermögen!F31","v":0},{"$f":"IF(Vermögen!S31>0,Vermögen!S31/SUMIF(Daten_Vermögen!$B$20:$B$28,Vermögen!T31,Daten_Vermögen!$C$20:$C$28),Vermögen!S31/1)","v":0},{"$f":"IF(Vermögen!Q31>0,Vermögen!Q31*Vermögen!X31,IF(Vermögen!W31=0,Vermögen!S31*Vermögen!X31/100,Vermögen!W31*Vermögen!X31/100))","v":0},{"$f":"Vermögen!S31*Vermögen!AC31","v":0},{"$f":"IF(Vermögen!AD31=\"Keine\",0,IF(Vermögen!AD31=\"Art. 6\",0,1))","v":1},{"$f":"Vermögen!V31","v":{"v":0,"d":"0.0%"}},{"$f":"IF(Vermögen!I31=Daten_Vermögen!$B$12,1,0)","v":0},{"v":0,"d":"0.00%"},null,null,{"$f":"C64*Vermögen!J31","v":0},{"$f":"C64*Vermögen!K31","v":0},{"$f":"C64*Vermögen!L31","v":0},{"$f":"C64*Vermögen!M31","v":0},{"$f":"C64*Vermögen!N31","v":0},0,null,{"v":0,"d":"0.0%"},{"$f":"$S64*Vermögen!J31*Vermögen!$U31","v":{"$error":"#VALUE!"}},{"$f":"$S64*Vermögen!K31*Vermögen!U31","v":{"$error":"#VALUE!"}},{"$f":"$S64*Vermögen!L31*Vermögen!U31","v":{"$error":"#VALUE!"}},{"$f":"$S64*Vermögen!M31*Vermögen!U31","v":{"$error":"#VALUE!"}},{"$f":"$S64*Vermögen!N31*Vermögen!U31","v":{"$error":"#VALUE!"}},{"$f":"$S64*IF(Vermögen!I31=Daten_Vermögen!$Y$43,Vermögen!U31,0)","v":{"v":0,"d":"0.0%"}},{"$f":"$S64*IF(Vermögen!I31=Daten_Vermögen!$Z$43,Vermögen!U31,0)","v":{"v":0,"d":"0.0%"}},{"$f":"$S64*IF(Vermögen!I31=Daten_Vermögen!$AA$43,Vermögen!U31,0)","v":{"v":0,"d":"0.0%"}},{"$error":"#VALUE!"}]
[{"$f":"Vermögen!E32","v":"22."},{"$f":"Vermögen!F32","v":0},{"$f":"IF(Vermögen!S32>0,Vermögen!S32/SUMIF(Daten_Vermögen!$B$20:$B$28,Vermögen!T32,Daten_Vermögen!$C$20:$C$28),Vermögen!S32/1)","v":0},{"$f":"IF(Vermögen!Q32>0,Vermögen!Q32*Vermögen!X32,IF(Vermögen!W32=0,Vermögen!S32*Vermögen!X32/100,Vermögen!W32*Vermögen!X32/100))","v":0},{"$f":"Vermögen!S32*Vermögen!AC32","v":0},{"$f":"IF(Vermögen!AD32=\"Keine\",0,IF(Vermögen!AD32=\"Art. 6\",0,1))","v":1},{"$f":"Vermögen!V32","v":{"v":0,"d":"0.0%"}},{"$f":"IF(Vermögen!I32=Daten_Vermögen!$B$12,1,0)","v":0},{"v":0,"d":"0.00%"},null,null,{"$f":"C65*Vermögen!J32","v":0},{"$f":"C65*Vermögen!K32","v":0},{"$f":"C65*Vermögen!L32","v":0},{"$f":"C65*Vermögen!M32","v":0},{"$f":"C65*Vermögen!N32","v":0},0,null,{"v":0,"d":"0.0%"},{"$f":"$S65*Vermögen!J32*Vermögen!$U32","v":{"$error":"#VALUE!"}},{"$f":"$S65*Vermögen!K32*Vermögen!U32","v":{"$error":"#VALUE!"}},{"$f":"$S65*Vermögen!L32*Vermögen!U32","v":{"$error":"#VALUE!"}},{"$f":"$S65*Vermögen!M32*Vermögen!U32","v":{"$error":"#VALUE!"}},{"$f":"$S65*Vermögen!N32*Vermögen!U32","v":{"$error":"#VALUE!"}},{"$f":"$S65*IF(Vermögen!I32=Daten_Vermögen!$Y$43,Vermögen!U32,0)","v":{"v":0,"d":"0.0%"}},{"$f":"$S65*IF(Vermögen!I32=Daten_Vermögen!$Z$43,Vermögen!U32,0)","v":{"v":0,"d":"0.0%"}},{"$f":"$S65*IF(Vermögen!I32=Daten_Vermögen!$AA$43,Vermögen!U32,0)","v":{"v":0,"d":"0.0%"}},{"$error":"#VALUE!"}]
[{"$f":"Vermögen!E33","v":"23."},{"$f":"Vermögen!F33","v":0},{"$f":"IF(Vermögen!S33>0,Vermögen!S33/SUMIF(Daten_Vermögen!$B$20:$B$28,Vermögen!T33,Daten_Vermögen!$C$20:$C$28),Vermögen!S33/1)","v":0},{"$f":"IF(Vermögen!Q33>0,Vermögen!Q33*Vermögen!X33,IF(Vermögen!W33=0,Vermögen!S33*Vermögen!X33/100,Vermögen!W33*Vermögen!X33/100))","v":0},{"$f":"Vermögen!S33*Vermögen!AC33","v":0},{"$f":"IF(Vermögen!AD33=\"Keine\",0,IF(Vermögen!AD33=\"Art. 6\",0,1))","v":1},{"$f":"Vermögen!V33","v":{"v":0,"d":"0.0%"}},{"$f":"IF(Vermögen!I33=Daten_Vermögen!$B$12,1,0)","v":0},{"v":0,"d":"0.00%"},null,null,{"$f":"C66*Vermögen!J33","v":0},{"$f":"C66*Vermögen!K33","v":0},{"$f":"C66*Vermögen!L33","v":0},{"$f":"C66*Vermögen!M33","v":0},{"$f":"C66*Vermögen!N33","v":0},0,null,{"v":0,"d":"0.0%"},{"$f":"$S66*Vermögen!J33*Vermögen!$U33","v":{"$error":"#VALUE!"}},{"$f":"$S66*Vermögen!K33*Vermögen!U33","v":{"$error":"#VALUE!"}},{"$f":"$S66*Vermögen!L33*Vermögen!U33","v":{"$error":"#VALUE!"}},{"$f":"$S66*Vermögen!M33*Vermögen!U33","v":{"$error":"#VALUE!"}},{"$f":"$S66*Vermögen!N33*Vermögen!U33","v":{"$error":"#VALUE!"}},{"$f":"$S66*IF(Vermögen!I33=Daten_Vermögen!$Y$43,Vermögen!U33,0)","v":{"v":0,"d":"0.0%"}},{"$f":"$S66*IF(Vermögen!I33=Daten_Vermögen!$Z$43,Vermögen!U33,0)","v":{"v":0,"d":"0.0%"}},{"$f":"$S66*IF(Vermögen!I33=Daten_Vermögen!$AA$43,Vermögen!U33,0)","v":{"v":0,"d":"0.0%"}},{"$error":"#VALUE!"}]
[{"$f":"Vermögen!E34","v":"24."},{"$f":"Vermögen!F34","v":0},{"$f":"IF(Vermögen!S34>0,Vermögen!S34/SUMIF(Daten_Vermögen!$B$20:$B$28,Vermögen!T34,Daten_Vermögen!$C$20:$C$28),Vermögen!S34/1)","v":0},{"$f":"IF(Vermögen!Q34>0,Vermögen!Q34*Vermögen!X34,IF(Vermögen!W34=0,Vermögen!S34*Vermögen!X34/100,Vermögen!W34*Vermögen!X34/100))","v":0},{"$f":"Vermögen!S34*Vermögen!AC34","v":0},{"$f":"IF(Vermögen!AD34=\"Keine\",0,IF(Vermögen!AD34=\"Art. 6\",0,1))","v":1},{"$f":"Vermögen!V34","v":{"v":0,"d":"0.0%"}},{"$f":"IF(Vermögen!I34=Daten_Vermögen!$B$12,1,0)","v":0},{"v":0,"d":"0.00%"},null,null,{"$f":"C67*Vermögen!J34","v":0},{"$f":"C67*Vermögen!K34","v":0},{"$f":"C67*Vermögen!L34","v":0},{"$f":"C67*Vermögen!M34","v":0},{"$f":"C67*Vermögen!N34","v":0},0,null,{"v":0,"d":"0.0%"},{"$f":"$S67*Vermögen!J34*Vermögen!$U34","v":{"$error":"#VALUE!"}},{"$f":"$S67*Vermögen!K34*Vermögen!U34","v":{"$error":"#VALUE!"}},{"$f":"$S67*Vermögen!L34*Vermögen!U34","v":{"$error":"#VALUE!"}},{"$f":"$S67*Vermögen!M34*Vermögen!U34","v":{"$error":"#VALUE!"}},{"$f":"$S67*Vermögen!N34*Vermögen!U34","v":{"$error":"#VALUE!"}},{"$f":"$S67*IF(Vermögen!I34=Daten_Vermögen!$Y$43,Vermögen!U34,0)","v":{"v":0,"d":"0.0%"}},{"$f":"$S67*IF(Vermögen!I34=Daten_Vermögen!$Z$43,Vermögen!U34,0)","v":{"v":0,"d":"0.0%"}},{"$f":"$S67*IF(Vermögen!I34=Daten_Vermögen!$AA$43,Vermögen!U34,0)","v":{"v":0,"d":"0.0%"}},{"$error":"#VALUE!"}]
[{"$f":"Vermögen!E35","v":"25."},{"$f":"Vermögen!F35","v":0},{"$f":"IF(Vermögen!S35>0,Vermögen!S35/SUMIF(Daten_Vermögen!$B$20:$B$28,Vermögen!T35,Daten_Vermögen!$C$20:$C$28),Vermögen!S35/1)","v":0},{"$f":"IF(Vermögen!Q35>0,Vermögen!Q35*Vermögen!X35,IF(Vermögen!W35=0,Vermögen!S35*Vermögen!X35/100,Vermögen!W35*Vermögen!X35/100))","v":0},{"$f":"Vermögen!S35*Vermögen!AC35","v":0},{"$f":"IF(Vermögen!AD35=\"Keine\",0,IF(Vermögen!AD35=\"Art. 6\",0,1))","v":1},{"$f":"Vermögen!V35","v":{"v":0,"d":"0.0%"}},{"$f":"IF(Vermögen!I35=Daten_Vermögen!$B$12,1,0)","v":0},{"v":0,"d":"0.00%"},null,null,{"$f":"C68*Vermögen!J35","v":0},{"$f":"C68*Vermögen!K35","v":0},{"$f":"C68*Vermögen!L35","v":0},{"$f":"C68*Vermögen!M35","v":0},{"$f":"C68*Vermögen!N35","v":0},0,null,{"v":0,"d":"0.0%"},{"$f":"$S68*Vermögen!J35*Vermögen!$U35","v":{"$error":"#VALUE!"}},{"$f":"$S68*Vermögen!K35*Vermögen!U35","v":{"$error":"#VALUE!"}},{"$f":"$S68*Vermögen!L35*Vermögen!U35","v":{"$error":"#VALUE!"}},{"$f":"$S68*Vermögen!M35*Vermögen!U35","v":{"$error":"#VALUE!"}},{"$f":"$S68*Vermögen!N35*Vermögen!U35","v":{"$error":"#VALUE!"}},{"$f":"$S68*IF(Vermögen!I35=Daten_Vermögen!$Y$43,Vermögen!U35,0)","v":{"v":0,"d":"0.0%"}},{"$f":"$S68*IF(Vermögen!I35=Daten_Vermögen!$Z$43,Vermögen!U35,0)","v":{"v":0,"d":"0.0%"}},{"$f":"$S68*IF(Vermögen!I35=Daten_Vermögen!$AA$43,Vermögen!U35,0)","v":{"v":0,"d":"0.0%"}},{"$error":"#VALUE!"}]
[{"$f":"Vermögen!E36","v":"26."},{"$f":"Vermögen!F36","v":0},{"$f":"IF(Vermögen!S36>0,Vermögen!S36/SUMIF(Daten_Vermögen!$B$20:$B$28,Vermögen!T36,Daten_Vermögen!$C$20:$C$28),Vermögen!S36/1)","v":0},{"$f":"IF(Vermögen!Q36>0,Vermögen!Q36*Vermögen!X36,IF(Vermögen!W36=0,Vermögen!S36*Vermögen!X36/100,Vermögen!W36*Vermögen!X36/100))","v":0},{"$f":"Vermögen!S36*Vermögen!AC36","v":0},{"$f":"IF(Vermögen!AD36=\"Keine\",0,IF(Vermögen!AD36=\"Art. 6\",0,1))","v":1},{"$f":"Vermögen!V36","v":{"v":0,"d":"0.0%"}},{"$f":"IF(Vermögen!I36=Daten_Vermögen!$B$12,1,0)","v":0},{"v":0,"d":"0.00%"},null,null,{"$f":"C69*Vermögen!J36","v":0},{"$f":"C69*Vermögen!K36","v":0},{"$f":"C69*Vermögen!L36","v":0},{"$f":"C69*Vermögen!M36","v":0},{"$f":"C69*Vermögen!N36","v":0},0,null,{"v":0,"d":"0.0%"},{"$f":"$S69*Vermögen!J36*Vermögen!$U36","v":{"$error":"#VALUE!"}},{"$f":"$S69*Vermögen!K36*Vermögen!U36","v":{"$error":"#VALUE!"}},{"$f":"$S69*Vermögen!L36*Vermögen!U36","v":{"$error":"#VALUE!"}},{"$f":"$S69*Vermögen!M36*Vermögen!U36","v":{"$error":"#VALUE!"}},{"$f":"$S69*Vermögen!N36*Vermögen!U36","v":{"$error":"#VALUE!"}},{"$f":"$S69*IF(Vermögen!I36=Daten_Vermögen!$Y$43,Vermögen!U36,0)","v":{"v":0,"d":"0.0%"}},{"$f":"$S69*IF(Vermögen!I36=Daten_Vermögen!$Z$43,Vermögen!U36,0)","v":{"v":0,"d":"0.0%"}},{"$f":"$S69*IF(Vermögen!I36=Daten_Vermögen!$AA$43,Vermögen!U36,0)","v":{"v":0,"d":"0.0%"}},{"$error":"#VALUE!"}]
[{"$f":"Vermögen!E37","v":"27."},{"$f":"Vermögen!F37","v":0},{"$f":"IF(Vermögen!S37>0,Vermögen!S37/SUMIF(Daten_Vermögen!$B$20:$B$28,Vermögen!T37,Daten_Vermögen!$C$20:$C$28),Vermögen!S37/1)","v":0},{"$f":"IF(Vermögen!Q37>0,Vermögen!Q37*Vermögen!X37,IF(Vermögen!W37=0,Vermögen!S37*Vermögen!X37/100,Vermögen!W37*Vermögen!X37/100))","v":0},{"$f":"Vermögen!S37*Vermögen!AC37","v":0},{"$f":"IF(Vermögen!AD37=\"Keine\",0,IF(Vermögen!AD37=\"Art. 6\",0,1))","v":1},{"$f":"Vermögen!V37","v":{"v":0,"d":"0.0%"}},{"$f":"IF(Vermögen!I37=Daten_Vermögen!$B$12,1,0)","v":0},{"v":0,"d":"0.00%"},null,null,{"$f":"C70*Vermögen!J37","v":0},{"$f":"C70*Vermögen!K37","v":0},{"$f":"C70*Vermögen!L37","v":0},{"$f":"C70*Vermögen!M37","v":0},{"$f":"C70*Vermögen!N37","v":0},0,null,{"v":0,"d":"0.0%"},{"$f":"$S70*Vermögen!J37*Vermögen!$U37","v":{"$error":"#VALUE!"}},{"$f":"$S70*Vermögen!K37*Vermögen!U37","v":{"$error":"#VALUE!"}},{"$f":"$S70*Vermögen!L37*Vermögen!U37","v":{"$error":"#VALUE!"}},{"$f":"$S70*Vermögen!M37*Vermögen!U37","v":{"$error":"#VALUE!"}},{"$f":"$S70*Vermögen!N37*Vermögen!U37","v":{"$error":"#VALUE!"}},{"$f":"$S70*IF(Vermögen!I37=Daten_Vermögen!$Y$43,Vermögen!U37,0)","v":{"v":0,"d":"0.0%"}},{"$f":"$S70*IF(Vermögen!I37=Daten_Vermögen!$Z$43,Vermögen!U37,0)","v":{"v":0,"d":"0.0%"}},{"$f":"$S70*IF(Vermögen!I37=Daten_Vermögen!$AA$43,Vermögen!U37,0)","v":{"v":0,"d":"0.0%"}},{"$error":"#VALUE!"}]
[{"$f":"Vermögen!E38","v":"28."},{"$f":"Vermögen!F38","v":0},{"$f":"IF(Vermögen!S38>0,Vermögen!S38/SUMIF(Daten_Vermögen!$B$20:$B$28,Vermögen!T38,Daten_Vermögen!$C$20:$C$28),Vermögen!S38/1)","v":0},{"$f":"IF(Vermögen!Q38>0,Vermögen!Q38*Vermögen!X38,IF(Vermögen!W38=0,Vermögen!S38*Vermögen!X38/100,Vermögen!W38*Vermögen!X38/100))","v":0},{"$f":"Vermögen!S38*Vermögen!AC38","v":0},{"$f":"IF(Vermögen!AD38=\"Keine\",0,IF(Vermögen!AD38=\"Art. 6\",0,1))","v":1},{"$f":"Vermögen!V38","v":{"v":0,"d":"0.0%"}},{"$f":"IF(Vermögen!I38=Daten_Vermögen!$B$12,1,0)","v":0},{"v":0,"d":"0.00%"},null,null,{"$f":"C71*Vermögen!J38","v":0},{"$f":"C71*Vermögen!K38","v":0},{"$f":"C71*Vermögen!L38","v":0},{"$f":"C71*Vermögen!M38","v":0},{"$f":"C71*Vermögen!N38","v":0},0,null,{"v":0,"d":"0.0%"},{"$f":"$S71*Vermögen!J38*Vermögen!$U38","v":{"$error":"#VALUE!"}},{"$f":"$S71*Vermögen!K38*Vermögen!U38","v":{"$error":"#VALUE!"}},{"$f":"$S71*Vermögen!L38*Vermögen!U38","v":{"$error":"#VALUE!"}},{"$f":"$S71*Vermögen!M38*Vermögen!U38","v":{"$error":"#VALUE!"}},{"$f":"$S71*Vermögen!N38*Vermögen!U38","v":{"$error":"#VALUE!"}},{"$f":"$S71*IF(Vermögen!I38=Daten_Vermögen!$Y$43,Vermögen!U38,0)","v":{"v":0,"d":"0.0%"}},{"$f":"$S71*IF(Vermögen!I38=Daten_Vermögen!$Z$43,Vermögen!U38,0)","v":{"v":0,"d":"0.0%"}},{"$f":"$S71*IF(Vermögen!I38=Daten_Vermögen!$AA$43,Vermögen!U38,0)","v":{"v":0,"d":"0.0%"}},{"$error":"#VALUE!"}]
[{"$f":"Vermögen!E39","v":"29."},{"$f":"Vermögen!F39","v":0},{"$f":"IF(Vermögen!S39>0,Vermögen!S39/SUMIF(Daten_Vermögen!$B$20:$B$28,Vermögen!T39,Daten_Vermögen!$C$20:$C$28),Vermögen!S39/1)","v":0},{"$f":"IF(Vermögen!Q39>0,Vermögen!Q39*Vermögen!X39,IF(Vermögen!W39=0,Vermögen!S39*Vermögen!X39/100,Vermögen!W39*Vermögen!X39/100))","v":0},{"$f":"Vermögen!S39*Vermögen!AC39","v":0},{"$f":"IF(Vermögen!AD39=\"Keine\",0,IF(Vermögen!AD39=\"Art. 6\",0,1))","v":1},{"$f":"Vermögen!V39","v":{"v":0,"d":"0.0%"}},{"$f":"IF(Vermögen!I39=Daten_Vermögen!$B$12,1,0)","v":0},{"v":0,"d":"0.00%"},null,null,{"$f":"C72*Vermögen!J39","v":0},{"$f":"C72*Vermögen!K39","v":0},{"$f":"C72*Vermögen!L39","v":0},{"$f":"C72*Vermögen!M39","v":0},{"$f":"C72*Vermögen!N39","v":0},0,null,{"v":0,"d":"0.0%"},{"$f":"$S72*Vermögen!J39*Vermögen!$U39","v":{"$error":"#VALUE!"}},{"$f":"$S72*Vermögen!K39*Vermögen!U39","v":{"$error":"#VALUE!"}},{"$f":"$S72*Vermögen!L39*Vermögen!U39","v":{"$error":"#VALUE!"}},{"$f":"$S72*Vermögen!M39*Vermögen!U39","v":{"$error":"#VALUE!"}},{"$f":"$S72*Vermögen!N39*Vermögen!U39","v":{"$error":"#VALUE!"}},{"$f":"$S72*IF(Vermögen!I39=Daten_Vermögen!$Y$43,Vermögen!U39,0)","v":{"v":0,"d":"0.0%"}},{"$f":"$S72*IF(Vermögen!I39=Daten_Vermögen!$Z$43,Vermögen!U39,0)","v":{"v":0,"d":"0.0%"}},{"$f":"$S72*IF(Vermögen!I39=Daten_Vermögen!$AA$43,Vermögen!U39,0)","v":{"v":0,"d":"0.0%"}},{"$error":"#VALUE!"}]
[{"$f":"Vermögen!E40","v":"30."},{"$f":"Vermögen!F40","v":0},{"$f":"IF(Vermögen!S40>0,Vermögen!S40/SUMIF(Daten_Vermögen!$B$20:$B$28,Vermögen!T40,Daten_Vermögen!$C$20:$C$28),Vermögen!S40/1)","v":0},{"$f":"IF(Vermögen!Q40>0,Vermögen!Q40*Vermögen!X40,IF(Vermögen!W40=0,Vermögen!S40*Vermögen!X40/100,Vermögen!W40*Vermögen!X40/100))","v":0},{"$f":"Vermögen!S40*Vermögen!AC40","v":0},{"$f":"IF(Vermögen!AD40=\"Keine\",0,IF(Vermögen!AD40=\"Art. 6\",0,1))","v":1},{"$f":"Vermögen!V40","v":{"v":0,"d":"0.0%"}},{"$f":"IF(Vermögen!I40=Daten_Vermögen!$B$12,1,0)","v":0},{"v":0,"d":"0.00%"},null,null,{"$f":"C73*Vermögen!J40","v":0},{"$f":"C73*Vermögen!K40","v":0},{"$f":"C73*Vermögen!L40","v":0},{"$f":"C73*Vermögen!M40","v":0},{"$f":"C73*Vermögen!N40","v":0},0,null,{"v":0,"d":"0.0%"},{"$f":"$S73*Vermögen!J40*Vermögen!$U40","v":{"$error":"#VALUE!"}},{"$f":"$S73*Vermögen!K40*Vermögen!U40","v":{"$error":"#VALUE!"}},{"$f":"$S73*Vermögen!L40*Vermögen!U40","v":{"$error":"#VALUE!"}},{"$f":"$S73*Vermögen!M40*Vermögen!U40","v":{"$error":"#VALUE!"}},{"$f":"$S73*Vermögen!N40*Vermögen!U40","v":{"$error":"#VALUE!"}},{"$f":"$S73*IF(Vermögen!I40=Daten_Vermögen!$Y$43,Vermögen!U40,0)","v":{"v":0,"d":"0.0%"}},{"$f":"$S73*IF(Vermögen!I40=Daten_Vermögen!$Z$43,Vermögen!U40,0)","v":{"v":0,"d":"0.0%"}},{"$f":"$S73*IF(Vermögen!I40=Daten_Vermögen!$AA$43,Vermögen!U40,0)","v":{"v":0,"d":"0.0%"}},{"$error":"#VALUE!"}]
[{"$f":"Vermögen!E41","v":"31."},{"$f":"Vermögen!F41","v":0},{"$f":"IF(Vermögen!S41>0,Vermögen!S41/SUMIF(Daten_Vermögen!$B$20:$B$28,Vermögen!T41,Daten_Vermögen!$C$20:$C$28),Vermögen!S41/1)","v":0},{"$f":"IF(Vermögen!Q41>0,Vermögen!Q41*Vermögen!X41,IF(Vermögen!W41=0,Vermögen!S41*Vermögen!X41/100,Vermögen!W41*Vermögen!X41/100))","v":0},{"$f":"Vermögen!S41*Vermögen!AC41","v":0},{"$f":"IF(Vermögen!AD41=\"Keine\",0,IF(Vermögen!AD41=\"Art. 6\",0,1))","v":1},{"$f":"Vermögen!V41","v":{"v":0,"d":"0.0%"}},{"$f":"IF(Vermögen!I41=Daten_Vermögen!$B$12,1,0)","v":0},{"v":0,"d":"0.00%"},null,null,{"$f":"C74*Vermögen!J41","v":0},{"$f":"C74*Vermögen!K41","v":0},{"$f":"C74*Vermögen!L41","v":0},{"$f":"C74*Vermögen!M41","v":0},{"$f":"C74*Vermögen!N41","v":0},0,null,{"v":0,"d":"0.0%"},{"$f":"$S74*Vermögen!J41*Vermögen!$U41","v":{"$error":"#VALUE!"}},{"$f":"$S74*Vermögen!K41*Vermögen!U41","v":{"$error":"#VALUE!"}},{"$f":"$S74*Vermögen!L41*Vermögen!U41","v":{"$error":"#VALUE!"}},{"$f":"$S74*Vermögen!M41*Vermögen!U41","v":{"$error":"#VALUE!"}},{"$f":"$S74*Vermögen!N41*Vermögen!U41","v":{"$error":"#VALUE!"}},{"$f":"$S74*IF(Vermögen!I41=Daten_Vermögen!$Y$43,Vermögen!U41,0)","v":{"v":0,"d":"0.0%"}},{"$f":"$S74*IF(Vermögen!I41=Daten_Vermögen!$Z$43,Vermögen!U41,0)","v":{"v":0,"d":"0.0%"}},{"$f":"$S74*IF(Vermögen!I41=Daten_Vermögen!$AA$43,Vermögen!U41,0)","v":{"v":0,"d":"0.0%"}},{"$error":"#VALUE!"}]
[{"$f":"Vermögen!E42","v":"32."},{"$f":"Vermögen!F42","v":0},{"$f":"IF(Vermögen!S42>0,Vermögen!S42/SUMIF(Daten_Vermögen!$B$20:$B$28,Vermögen!T42,Daten_Vermögen!$C$20:$C$28),Vermögen!S42/1)","v":0},{"$f":"IF(Vermögen!Q42>0,Vermögen!Q42*Vermögen!X42,IF(Vermögen!W42=0,Vermögen!S42*Vermögen!X42/100,Vermögen!W42*Vermögen!X42/100))","v":0},{"$f":"Vermögen!S42*Vermögen!AC42","v":0},{"$f":"IF(Vermögen!AD42=\"Keine\",0,IF(Vermögen!AD42=\"Art. 6\",0,1))","v":1},{"$f":"Vermögen!V42","v":{"v":0,"d":"0.0%"}},{"$f":"IF(Vermögen!I42=Daten_Vermögen!$B$12,1,0)","v":0},{"v":0,"d":"0.00%"},null,null,{"$f":"C75*Vermögen!J42","v":0},{"$f":"C75*Vermögen!K42","v":0},{"$f":"C75*Vermögen!L42","v":0},{"$f":"C75*Vermögen!M42","v":0},{"$f":"C75*Vermögen!N42","v":0},0,null,{"v":0,"d":"0.0%"},{"$f":"$S75*Vermögen!J42*Vermögen!$U42","v":{"$error":"#VALUE!"}},{"$f":"$S75*Vermögen!K42*Vermögen!U42","v":{"$error":"#VALUE!"}},{"$f":"$S75*Vermögen!L42*Vermögen!U42","v":{"$error":"#VALUE!"}},{"$f":"$S75*Vermögen!M42*Vermögen!U42","v":{"$error":"#VALUE!"}},{"$f":"$S75*Vermögen!N42*Vermögen!U42","v":{"$error":"#VALUE!"}},{"$f":"$S75*IF(Vermögen!I42=Daten_Vermögen!$Y$43,Vermögen!U42,0)","v":{"v":0,"d":"0.0%"}},{"$f":"$S75*IF(Vermögen!I42=Daten_Vermögen!$Z$43,Vermögen!U42,0)","v":{"v":0,"d":"0.0%"}},{"$f":"$S75*IF(Vermögen!I42=Daten_Vermögen!$AA$43,Vermögen!U42,0)","v":{"v":0,"d":"0.0%"}},{"$error":"#VALUE!"}]
[{"$f":"Vermögen!E43","v":"33."},{"$f":"Vermögen!F43","v":0},{"$f":"IF(Vermögen!S43>0,Vermögen!S43/SUMIF(Daten_Vermögen!$B$20:$B$28,Vermögen!T43,Daten_Vermögen!$C$20:$C$28),Vermögen!S43/1)","v":0},{"$f":"IF(Vermögen!Q43>0,Vermögen!Q43*Vermögen!X43,IF(Vermögen!W43=0,Vermögen!S43*Vermögen!X43/100,Vermögen!W43*Vermögen!X43/100))","v":0},{"$f":"Vermögen!S43*Vermögen!AC43","v":0},{"$f":"IF(Vermögen!AD43=\"Keine\",0,IF(Vermögen!AD43=\"Art. 6\",0,1))","v":1},{"$f":"Vermögen!V43","v":{"v":0,"d":"0.0%"}},{"$f":"IF(Vermögen!I43=Daten_Vermögen!$B$12,1,0)","v":0},{"v":0,"d":"0.00%"},null,null,{"$f":"C76*Vermögen!J43","v":0},{"$f":"C76*Vermögen!K43","v":0},{"$f":"C76*Vermögen!L43","v":0},{"$f":"C76*Vermögen!M43","v":0},{"$f":"C76*Vermögen!N43","v":0},{"$f":"SUM(L76:P76)","v":0},null,{"v":0,"d":"0.0%"},{"$f":"$S76*Vermögen!J43*Vermögen!$U43","v":{"$error":"#VALUE!"}},{"$f":"$S76*Vermögen!K43*Vermögen!U43","v":{"$error":"#VALUE!"}},{"$f":"$S76*Vermögen!L43*Vermögen!U43","v":{"$error":"#VALUE!"}},{"$f":"$S76*Vermögen!M43*Vermögen!U43","v":{"$error":"#VALUE!"}},{"$f":"$S76*Vermögen!N43*Vermögen!U43","v":{"$error":"#VALUE!"}},{"$f":"$S76*IF(Vermögen!I43=Daten_Vermögen!$Y$43,Vermögen!U43,0)","v":{"v":0,"d":"0.0%"}},{"$f":"$S76*IF(Vermögen!I43=Daten_Vermögen!$Z$43,Vermögen!U43,0)","v":{"v":0,"d":"0.0%"}},{"$f":"$S76*IF(Vermögen!I43=Daten_Vermögen!$AA$43,Vermögen!U43,0)","v":{"v":0,"d":"0.0%"}},{"$error":"#VALUE!"}]
[{"$f":"Vermögen!E44","v":"34."},{"$f":"Vermögen!F44","v":0},{"$f":"IF(Vermögen!S44>0,Vermögen!S44/SUMIF(Daten_Vermögen!$B$20:$B$28,Vermögen!T44,Daten_Vermögen!$C$20:$C$28),Vermögen!S44/1)","v":0},{"$f":"IF(Vermögen!Q44>0,Vermögen!Q44*Vermögen!X44,IF(Vermögen!W44=0,Vermögen!S44*Vermögen!X44/100,Vermögen!W44*Vermögen!X44/100))","v":0},{"$f":"Vermögen!S44*Vermögen!AC44","v":0},{"$f":"IF(Vermögen!AD44=\"Keine\",0,IF(Vermögen!AD44=\"Art. 6\",0,1))","v":1},{"$f":"Vermögen!V44","v":{"v":0,"d":"0.0%"}},{"$f":"IF(Vermögen!I44=Daten_Vermögen!$B$12,1,0)","v":0},{"v":0,"d":"0.00%"},null,null,{"$f":"C77*Vermögen!J44","v":0},{"$f":"C77*Vermögen!K44","v":0},{"$f":"C77*Vermögen!L44","v":0},{"$f":"C77*Vermögen!M44","v":0},{"$f":"C77*Vermögen!N44","v":0},0,null,{"v":0,"d":"0.0%"},{"$f":"$S77*Vermögen!J44*Vermögen!$U44","v":{"$error":"#VALUE!"}},{"$f":"$S77*Vermögen!K44*Vermögen!U44","v":{"$error":"#VALUE!"}},{"$f":"$S77*Vermögen!L44*Vermögen!U44","v":{"$error":"#VALUE!"}},{"$f":"$S77*Vermögen!M44*Vermögen!U44","v":{"$error":"#VALUE!"}},{"$f":"$S77*Vermögen!N44*Vermögen!U44","v":{"$error":"#VALUE!"}},{"$f":"$S77*IF(Vermögen!I44=Daten_Vermögen!$Y$43,Vermögen!U44,0)","v":{"v":0,"d":"0.0%"}},{"$f":"$S77*IF(Vermögen!I44=Daten_Vermögen!$Z$43,Vermögen!U44,0)","v":{"v":0,"d":"0.0%"}},{"$f":"$S77*IF(Vermögen!I44=Daten_Vermögen!$AA$43,Vermögen!U44,0)","v":{"v":0,"d":"0.0%"}},{"$error":"#VALUE!"}]
[{"$f":"Vermögen!E45","v":"35."},{"$f":"Vermögen!F45","v":0},{"$f":"IF(Vermögen!S45>0,Vermögen!S45/SUMIF(Daten_Vermögen!$B$20:$B$28,Vermögen!T45,Daten_Vermögen!$C$20:$C$28),Vermögen!S45/1)","v":0},{"$f":"IF(Vermögen!Q45>0,Vermögen!Q45*Vermögen!X45,IF(Vermögen!W45=0,Vermögen!S45*Vermögen!X45/100,Vermögen!W45*Vermögen!X45/100))","v":0},{"$f":"Vermögen!S45*Vermögen!AC45","v":0},{"$f":"IF(Vermögen!AD45=\"Keine\",0,IF(Vermögen!AD45=\"Art. 6\",0,1))","v":1},{"$f":"Vermögen!V45","v":{"v":0,"d":"0.0%"}},{"$f":"IF(Vermögen!I45=Daten_Vermögen!$B$12,1,0)","v":0},{"v":0,"d":"0.00%"},null,null,{"$f":"C78*Vermögen!J45","v":0},{"$f":"C78*Vermögen!K45","v":0},{"$f":"C78*Vermögen!L45","v":0},{"$f":"C78*Vermögen!M45","v":0},{"$f":"C78*Vermögen!N45","v":0},0,null,{"v":0,"d":"0.0%"},{"$f":"$S78*Vermögen!J45*Vermögen!$U45","v":{"$error":"#VALUE!"}},{"$f":"$S78*Vermögen!K45*Vermögen!U45","v":{"$error":"#VALUE!"}},{"$f":"$S78*Vermögen!L45*Vermögen!U45","v":{"$error":"#VALUE!"}},{"$f":"$S78*Vermögen!M45*Vermögen!U45","v":{"$error":"#VALUE!"}},{"$f":"$S78*Vermögen!N45*Vermögen!U45","v":{"$error":"#VALUE!"}},{"$f":"$S78*IF(Vermögen!I45=Daten_Vermögen!$Y$43,Vermögen!U45,0)","v":{"v":0,"d":"0.0%"}},{"$f":"$S78*IF(Vermögen!I45=Daten_Vermögen!$Z$43,Vermögen!U45,0)","v":{"v":0,"d":"0.0%"}},{"$f":"$S78*IF(Vermögen!I45=Daten_Vermögen!$AA$43,Vermögen!U45,0)","v":{"v":0,"d":"0.0%"}},{"$error":"#VALUE!"}]
[{"$f":"Vermögen!E46","v":"36."},{"$f":"Vermögen!F46","v":0},{"$f":"IF(Vermögen!S46>0,Vermögen!S46/SUMIF(Daten_Vermögen!$B$20:$B$28,Vermögen!T46,Daten_Vermögen!$C$20:$C$28),Vermögen!S46/1)","v":0},{"$f":"IF(Vermögen!Q46>0,Vermögen!Q46*Vermögen!X46,IF(Vermögen!W46=0,Vermögen!S46*Vermögen!X46/100,Vermögen!W46*Vermögen!X46/100))","v":0},{"$f":"Vermögen!S46*Vermögen!AC46","v":0},{"$f":"IF(Vermögen!AD46=\"Keine\",0,IF(Vermögen!AD46=\"Art. 6\",0,1))","v":1},{"$f":"Vermögen!V46","v":{"v":0,"d":"0.0%"}},{"$f":"IF(Vermögen!I46=Daten_Vermögen!$B$12,1,0)","v":0},{"v":0,"d":"0.00%"},null,null,{"$f":"C79*Vermögen!J46","v":0},{"$f":"C79*Vermögen!K46","v":0},{"$f":"C79*Vermögen!L46","v":0},{"$f":"C79*Vermögen!M46","v":0},{"$f":"C79*Vermögen!N46","v":0},0,null,{"v":0,"d":"0.0%"},{"$f":"$S79*Vermögen!J46*Vermögen!$U46","v":{"$error":"#VALUE!"}},{"$f":"$S79*Vermögen!K46*Vermögen!U46","v":{"$error":"#VALUE!"}},{"$f":"$S79*Vermögen!L46*Vermögen!U46","v":{"$error":"#VALUE!"}},{"$f":"$S79*Vermögen!M46*Vermögen!U46","v":{"$error":"#VALUE!"}},{"$f":"$S79*Vermögen!N46*Vermögen!U46","v":{"$error":"#VALUE!"}},{"$f":"$S79*IF(Vermögen!I46=Daten_Vermögen!$Y$43,Vermögen!U46,0)","v":{"v":0,"d":"0.0%"}},{"$f":"$S79*IF(Vermögen!I46=Daten_Vermögen!$Z$43,Vermögen!U46,0)","v":{"v":0,"d":"0.0%"}},{"$f":"$S79*IF(Vermögen!I46=Daten_Vermögen!$AA$43,Vermögen!U46,0)","v":{"v":0,"d":"0.0%"}},{"$error":"#VALUE!"}]
[{"$f":"Vermögen!E47","v":"37."},{"$f":"Vermögen!F47","v":0},{"$f":"IF(Vermögen!S47>0,Vermögen!S47/SUMIF(Daten_Vermögen!$B$20:$B$28,Vermögen!T47,Daten_Vermögen!$C$20:$C$28),Vermögen!S47/1)","v":0},{"$f":"IF(Vermögen!Q47>0,Vermögen!Q47*Vermögen!X47,IF(Vermögen!W47=0,Vermögen!S47*Vermögen!X47/100,Vermögen!W47*Vermögen!X47/100))","v":0},{"$f":"Vermögen!S47*Vermögen!AC47","v":0},{"$f":"IF(Vermögen!AD47=\"Keine\",0,IF(Vermögen!AD47=\"Art. 6\",0,1))","v":1},{"$f":"Vermögen!V47","v":{"v":0,"d":"0.0%"}},{"$f":"IF(Vermögen!I47=Daten_Vermögen!$B$12,1,0)","v":0},{"v":0,"d":"0.00%"},null,null,{"$f":"C80*Vermögen!J47","v":0},{"$f":"C80*Vermögen!K47","v":0},{"$f":"C80*Vermögen!L47","v":0},{"$f":"C80*Vermögen!M47","v":0},{"$f":"C80*Vermögen!N47","v":0},0,null,{"v":0,"d":"0.0%"},{"$f":"$S80*Vermögen!J47*Vermögen!$U47","v":{"$error":"#VALUE!"}},{"$f":"$S80*Vermögen!K47*Vermögen!U47","v":{"$error":"#VALUE!"}},{"$f":"$S80*Vermögen!L47*Vermögen!U47","v":{"$error":"#VALUE!"}},{"$f":"$S80*Vermögen!M47*Vermögen!U47","v":{"$error":"#VALUE!"}},{"$f":"$S80*Vermögen!N47*Vermögen!U47","v":{"$error":"#VALUE!"}},{"$f":"$S80*IF(Vermögen!I47=Daten_Vermögen!$Y$43,Vermögen!U47,0)","v":{"v":0,"d":"0.0%"}},{"$f":"$S80*IF(Vermögen!I47=Daten_Vermögen!$Z$43,Vermögen!U47,0)","v":{"v":0,"d":"0.0%"}},{"$f":"$S80*IF(Vermögen!I47=Daten_Vermögen!$AA$43,Vermögen!U47,0)","v":{"v":0,"d":"0.0%"}},{"$error":"#VALUE!"}]
[{"$f":"Vermögen!E48","v":"38."},{"$f":"Vermögen!F48","v":0},{"$f":"IF(Vermögen!S48>0,Vermögen!S48/SUMIF(Daten_Vermögen!$B$20:$B$28,Vermögen!T48,Daten_Vermögen!$C$20:$C$28),Vermögen!S48/1)","v":0},{"$f":"IF(Vermögen!Q48>0,Vermögen!Q48*Vermögen!X48,IF(Vermögen!W48=0,Vermögen!S48*Vermögen!X48/100,Vermögen!W48*Vermögen!X48/100))","v":0},{"$f":"Vermögen!S48*Vermögen!AC48","v":0},{"$f":"IF(Vermögen!AD48=\"Keine\",0,IF(Vermögen!AD48=\"Art. 6\",0,1))","v":1},{"$f":"Vermögen!V48","v":{"v":0,"d":"0.0%"}},{"$f":"IF(Vermögen!I48=Daten_Vermögen!$B$12,1,0)","v":0},{"v":0,"d":"0.00%"},null,null,{"$f":"C81*Vermögen!J48","v":0},{"$f":"C81*Vermögen!K48","v":0},{"$f":"C81*Vermögen!L48","v":0},{"$f":"C81*Vermögen!M48","v":0},{"$f":"C81*Vermögen!N48","v":0},0,null,{"v":0,"d":"0.0%"},{"$f":"$S81*Vermögen!J48*Vermögen!$U48","v":{"$error":"#VALUE!"}},{"$f":"$S81*Vermögen!K48*Vermögen!U48","v":{"$error":"#VALUE!"}},{"$f":"$S81*Vermögen!L48*Vermögen!U48","v":{"$error":"#VALUE!"}},{"$f":"$S81*Vermögen!M48*Vermögen!U48","v":{"$error":"#VALUE!"}},{"$f":"$S81*Vermögen!N48*Vermögen!U48","v":{"$error":"#VALUE!"}},{"$f":"$S81*IF(Vermögen!I48=Daten_Vermögen!$Y$43,Vermögen!U48,0)","v":{"v":0,"d":"0.0%"}},{"$f":"$S81*IF(Vermögen!I48=Daten_Vermögen!$Z$43,Vermögen!U48,0)","v":{"v":0,"d":"0.0%"}},{"$f":"$S81*IF(Vermögen!I48=Daten_Vermögen!$AA$43,Vermögen!U48,0)","v":{"v":0,"d":"0.0%"}},{"$error":"#VALUE!"}]
[{"$f":"Vermögen!E49","v":"39."},{"$f":"Vermögen!F49","v":0},{"$f":"IF(Vermögen!S49>0,Vermögen!S49/SUMIF(Daten_Vermögen!$B$20:$B$28,Vermögen!T49,Daten_Vermögen!$C$20:$C$28),Vermögen!S49/1)","v":0},{"$f":"IF(Vermögen!Q49>0,Vermögen!Q49*Vermögen!X49,IF(Vermögen!W49=0,Vermögen!S49*Vermögen!X49/100,Vermögen!W49*Vermögen!X49/100))","v":0},{"$f":"Vermögen!S49*Vermögen!AC49","v":0},{"$f":"IF(Vermögen!AD49=\"Keine\",0,IF(Vermögen!AD49=\"Art. 6\",0,1))","v":1},{"$f":"Vermögen!V49","v":{"v":0,"d":"0.0%"}},{"$f":"IF(Vermögen!I49=Daten_Vermögen!$B$12,1,0)","v":0},{"v":0,"d":"0.00%"},null,null,{"$f":"C82*Vermögen!J49","v":0},{"$f":"C82*Vermögen!K49","v":0},{"$f":"C82*Vermögen!L49","v":0},{"$f":"C82*Vermögen!M49","v":0},{"$f":"C82*Vermögen!N49","v":0},0,null,{"v":0,"d":"0.0%"},{"$f":"$S82*Vermögen!J49*Vermögen!$U49","v":{"$error":"#VALUE!"}},{"$f":"$S82*Vermögen!K49*Vermögen!U49","v":{"$error":"#VALUE!"}},{"$f":"$S82*Vermögen!L49*Vermögen!U49","v":{"$error":"#VALUE!"}},{"$f":"$S82*Vermögen!M49*Vermögen!U49","v":{"$error":"#VALUE!"}},{"$f":"$S82*Vermögen!N49*Vermögen!U49","v":{"$error":"#VALUE!"}},{"$f":"$S82*IF(Vermögen!I49=Daten_Vermögen!$Y$43,Vermögen!U49,0)","v":{"v":0,"d":"0.0%"}},{"$f":"$S82*IF(Vermögen!I49=Daten_Vermögen!$Z$43,Vermögen!U49,0)","v":{"v":0,"d":"0.0%"}},{"$f":"$S82*IF(Vermögen!I49=Daten_Vermögen!$AA$43,Vermögen!U49,0)","v":{"v":0,"d":"0.0%"}},{"$error":"#VALUE!"}]
[{"$f":"Vermögen!E50","v":"40."},{"$f":"Vermögen!F50","v":0},{"$f":"IF(Vermögen!S50>0,Vermögen!S50/SUMIF(Daten_Vermögen!$B$20:$B$28,Vermögen!T50,Daten_Vermögen!$C$20:$C$28),Vermögen!S50/1)","v":0},{"$f":"IF(Vermögen!Q50>0,Vermögen!Q50*Vermögen!X50,IF(Vermögen!W50=0,Vermögen!S50*Vermögen!X50/100,Vermögen!W50*Vermögen!X50/100))","v":0},{"$f":"Vermögen!S50*Vermögen!AC50","v":0},{"$f":"IF(Vermögen!AD50=\"Keine\",0,IF(Vermögen!AD50=\"Art. 6\",0,1))","v":1},{"$f":"Vermögen!V50","v":{"v":0,"d":"0.0%"}},{"$f":"IF(Vermögen!I50=Daten_Vermögen!$B$12,1,0)","v":0},{"v":0,"d":"0.00%"},null,null,{"$f":"C83*Vermögen!J50","v":0},{"$f":"C83*Vermögen!K50","v":0},{"$f":"C83*Vermögen!L50","v":0},{"$f":"C83*Vermögen!M50","v":0},{"$f":"C83*Vermögen!N50","v":0},0,null,{"v":0,"d":"0.0%"},{"$f":"$S83*Vermögen!J50*Vermögen!$U50","v":{"$error":"#VALUE!"}},{"$f":"$S83*Vermögen!K50*Vermögen!U50","v":{"$error":"#VALUE!"}},{"$f":"$S83*Vermögen!L50*Vermögen!U50","v":{"$error":"#VALUE!"}},{"$f":"$S83*Vermögen!M50*Vermögen!U50","v":{"$error":"#VALUE!"}},{"$f":"$S83*Vermögen!N50*Vermögen!U50","v":{"$error":"#VALUE!"}},{"$f":"$S83*IF(Vermögen!I50=Daten_Vermögen!$Y$43,Vermögen!U50,0)","v":{"v":0,"d":"0.0%"}},{"$f":"$S83*IF(Vermögen!I50=Daten_Vermögen!$Z$43,Vermögen!U50,0)","v":{"v":0,"d":"0.0%"}},{"$f":"$S83*IF(Vermögen!I50=Daten_Vermögen!$AA$43,Vermögen!U50,0)","v":{"v":0,"d":"0.0%"}},{"$error":"#VALUE!"}]
[{"$f":"Vermögen!E51","v":"41."},{"$f":"Vermögen!F51","v":0},{"$f":"IF(Vermögen!S51>0,Vermögen!S51/SUMIF(Daten_Vermögen!$B$20:$B$28,Vermögen!T51,Daten_Vermögen!$C$20:$C$28),Vermögen!S51/1)","v":0},{"$f":"IF(Vermögen!Q51>0,Vermögen!Q51*Vermögen!X51,IF(Vermögen!W51=0,Vermögen!S51*Vermögen!X51/100,Vermögen!W51*Vermögen!X51/100))","v":0},{"$f":"Vermögen!S51*Vermögen!AC51","v":0},{"$f":"IF(Vermögen!AD51=\"Keine\",0,IF(Vermögen!AD51=\"Art. 6\",0,1))","v":1},{"$f":"Vermögen!V51","v":{"v":0,"d":"0.0%"}},{"$f":"IF(Vermögen!I51=Daten_Vermögen!$B$12,1,0)","v":0},{"v":0,"d":"0.00%"},null,null,{"$f":"C84*Vermögen!J51","v":0},{"$f":"C84*Vermögen!K51","v":0},{"$f":"C84*Vermögen!L51","v":0},{"$f":"C84*Vermögen!M51","v":0},{"$f":"C84*Vermögen!N51","v":0},0,null,{"v":0,"d":"0.0%"},{"$f":"$S84*Vermögen!J51*Vermögen!$U51","v":{"$error":"#VALUE!"}},{"$f":"$S84*Vermögen!K51*Vermögen!U51","v":{"$error":"#VALUE!"}},{"$f":"$S84*Vermögen!L51*Vermögen!U51","v":{"$error":"#VALUE!"}},{"$f":"$S84*Vermögen!M51*Vermögen!U51","v":{"$error":"#VALUE!"}},{"$f":"$S84*Vermögen!N51*Vermögen!U51","v":{"$error":"#VALUE!"}},{"$f":"$S84*IF(Vermögen!I51=Daten_Vermögen!$Y$43,Vermögen!U51,0)","v":{"v":0,"d":"0.0%"}},{"$f":"$S84*IF(Vermögen!I51=Daten_Vermögen!$Z$43,Vermögen!U51,0)","v":{"v":0,"d":"0.0%"}},{"$f":"$S84*IF(Vermögen!I51=Daten_Vermögen!$AA$43,Vermögen!U51,0)","v":{"v":0,"d":"0.0%"}},{"$error":"#VALUE!"}]
[{"$f":"Vermögen!E52","v":"42."},{"$f":"Vermögen!F52","v":0},{"$f":"IF(Vermögen!S52>0,Vermögen!S52/SUMIF(Daten_Vermögen!$B$20:$B$28,Vermögen!T52,Daten_Vermögen!$C$20:$C$28),Vermögen!S52/1)","v":0},{"$f":"IF(Vermögen!Q52>0,Vermögen!Q52*Vermögen!X52,IF(Vermögen!W52=0,Vermögen!S52*Vermögen!X52/100,Vermögen!W52*Vermögen!X52/100))","v":0},{"$f":"Vermögen!S52*Vermögen!AC52","v":0},{"$f":"IF(Vermögen!AD52=\"Keine\",0,IF(Vermögen!AD52=\"Art. 6\",0,1))","v":1},{"$f":"Vermögen!V52","v":{"v":0,"d":"0.0%"}},{"$f":"IF(Vermögen!I52=Daten_Vermögen!$B$12,1,0)","v":0},{"v":0,"d":"0.00%"},null,null,{"$f":"C85*Vermögen!J52","v":0},{"$f":"C85*Vermögen!K52","v":0},{"$f":"C85*Vermögen!L52","v":0},{"$f":"C85*Vermögen!M52","v":0},{"$f":"C85*Vermögen!N52","v":0},0,null,{"v":0,"d":"0.0%"},{"$f":"$S85*Vermögen!J52*Vermögen!$U52","v":{"$error":"#VALUE!"}},{"$f":"$S85*Vermögen!K52*Vermögen!U52","v":{"$error":"#VALUE!"}},{"$f":"$S85*Vermögen!L52*Vermögen!U52","v":{"$error":"#VALUE!"}},{"$f":"$S85*Vermögen!M52*Vermögen!U52","v":{"$error":"#VALUE!"}},{"$f":"$S85*Vermögen!N52*Vermögen!U52","v":{"$error":"#VALUE!"}},{"$f":"$S85*IF(Vermögen!I52=Daten_Vermögen!$Y$43,Vermögen!U52,0)","v":{"v":0,"d":"0.0%"}},{"$f":"$S85*IF(Vermögen!I52=Daten_Vermögen!$Z$43,Vermögen!U52,0)","v":{"v":0,"d":"0.0%"}},{"$f":"$S85*IF(Vermögen!I52=Daten_Vermögen!$AA$43,Vermögen!U52,0)","v":{"v":0,"d":"0.0%"}},{"$error":"#VALUE!"}]
[{"$f":"Vermögen!E53","v":"43."},{"$f":"Vermögen!F53","v":0},{"$f":"IF(Vermögen!S53>0,Vermögen!S53/SUMIF(Daten_Vermögen!$B$20:$B$28,Vermögen!T53,Daten_Vermögen!$C$20:$C$28),Vermögen!S53/1)","v":0},{"$f":"IF(Vermögen!Q53>0,Vermögen!Q53*Vermögen!X53,IF(Vermögen!W53=0,Vermögen!S53*Vermögen!X53/100,Vermögen!W53*Vermögen!X53/100))","v":0},{"$f":"Vermögen!S53*Vermögen!AC53","v":0},{"$f":"IF(Vermögen!AD53=\"Keine\",0,IF(Vermögen!AD53=\"Art. 6\",0,1))","v":1},{"$f":"Vermögen!V53","v":{"v":0,"d":"0.0%"}},{"$f":"IF(Vermögen!I53=Daten_Vermögen!$B$12,1,0)","v":0},{"v":0,"d":"0.00%"},null,null,{"$f":"C86*Vermögen!J53","v":0},{"$f":"C86*Vermögen!K53","v":0},{"$f":"C86*Vermögen!L53","v":0},{"$f":"C86*Vermögen!M53","v":0},{"$f":"C86*Vermögen!N53","v":0},0,null,{"v":0,"d":"0.0%"},{"$f":"$S86*Vermögen!J53*Vermögen!$U53","v":{"$error":"#VALUE!"}},{"$f":"$S86*Vermögen!K53*Vermögen!U53","v":{"$error":"#VALUE!"}},{"$f":"$S86*Vermögen!L53*Vermögen!U53","v":{"$error":"#VALUE!"}},{"$f":"$S86*Vermögen!M53*Vermögen!U53","v":{"$error":"#VALUE!"}},{"$f":"$S86*Vermögen!N53*Vermögen!U53","v":{"$error":"#VALUE!"}},{"$f":"$S86*IF(Vermögen!I53=Daten_Vermögen!$Y$43,Vermögen!U53,0)","v":{"v":0,"d":"0.0%"}},{"$f":"$S86*IF(Vermögen!I53=Daten_Vermögen!$Z$43,Vermögen!U53,0)","v":{"v":0,"d":"0.0%"}},{"$f":"$S86*IF(Vermögen!I53=Daten_Vermögen!$AA$43,Vermögen!U53,0)","v":{"v":0,"d":"0.0%"}},{"$error":"#VALUE!"}]
[{"$f":"Vermögen!E54","v":"44."},{"$f":"Vermögen!F54","v":0},{"$f":"IF(Vermögen!S54>0,Vermögen!S54/SUMIF(Daten_Vermögen!$B$20:$B$28,Vermögen!T54,Daten_Vermögen!$C$20:$C$28),Vermögen!S54/1)","v":0},{"$f":"IF(Vermögen!Q54>0,Vermögen!Q54*Vermögen!X54,IF(Vermögen!W54=0,Vermögen!S54*Vermögen!X54/100,Vermögen!W54*Vermögen!X54/100))","v":0},{"$f":"Vermögen!S54*Vermögen!AC54","v":0},{"$f":"IF(Vermögen!AD54=\"Keine\",0,IF(Vermögen!AD54=\"Art. 6\",0,1))","v":1},{"$f":"Vermögen!V54","v":{"v":0,"d":"0.0%"}},{"$f":"IF(Vermögen!I54=Daten_Vermögen!$B$12,1,0)","v":0},{"v":0,"d":"0.00%"},null,null,{"$f":"C87*Vermögen!J54","v":0},{"$f":"C87*Vermögen!K54","v":0},{"$f":"C87*Vermögen!L54","v":0},{"$f":"C87*Vermögen!M54","v":0},{"$f":"C87*Vermögen!N54","v":0},0,null,{"v":0,"d":"0.0%"},{"$f":"$S87*Vermögen!J54*Vermögen!$U54","v":{"$error":"#VALUE!"}},{"$f":"$S87*Vermögen!K54*Vermögen!U54","v":{"$error":"#VALUE!"}},{"$f":"$S87*Vermögen!L54*Vermögen!U54","v":{"$error":"#VALUE!"}},{"$f":"$S87*Vermögen!M54*Vermögen!U54","v":{"$error":"#VALUE!"}},{"$f":"$S87*Vermögen!N54*Vermögen!U54","v":{"$error":"#VALUE!"}},{"$f":"$S87*IF(Vermögen!I54=Daten_Vermögen!$Y$43,Vermögen!U54,0)","v":{"v":0,"d":"0.0%"}},{"$f":"$S87*IF(Vermögen!I54=Daten_Vermögen!$Z$43,Vermögen!U54,0)","v":{"v":0,"d":"0.0%"}},{"$f":"$S87*IF(Vermögen!I54=Daten_Vermögen!$AA$43,Vermögen!U54,0)","v":{"v":0,"d":"0.0%"}},{"$error":"#VALUE!"}]
[{"$f":"Vermögen!E55","v":"45."},{"$f":"Vermögen!F55","v":0},{"$f":"IF(Vermögen!S55>0,Vermögen!S55/SUMIF(Daten_Vermögen!$B$20:$B$28,Vermögen!T55,Daten_Vermögen!$C$20:$C$28),Vermögen!S55/1)","v":0},{"$f":"IF(Vermögen!Q55>0,Vermögen!Q55*Vermögen!X55,IF(Vermögen!W55=0,Vermögen!S55*Vermögen!X55/100,Vermögen!W55*Vermögen!X55/100))","v":0},{"$f":"Vermögen!S55*Vermögen!AC55","v":0},{"$f":"IF(Vermögen!AD55=\"Keine\",0,IF(Vermögen!AD55=\"Art. 6\",0,1))","v":1},{"$f":"Vermögen!V55","v":{"v":0,"d":"0.0%"}},{"$f":"IF(Vermögen!I55=Daten_Vermögen!$B$12,1,0)","v":0},{"v":0,"d":"0.00%"},null,null,{"$f":"C88*Vermögen!J55","v":0},{"$f":"C88*Vermögen!K55","v":0},{"$f":"C88*Vermögen!L55","v":0},{"$f":"C88*Vermögen!M55","v":0},{"$f":"C88*Vermögen!N55","v":0},0,null,{"v":0,"d":"0.0%"},{"$f":"$S88*Vermögen!J55*Vermögen!$U55","v":{"$error":"#VALUE!"}},{"$f":"$S88*Vermögen!K55*Vermögen!U55","v":{"$error":"#VALUE!"}},{"$f":"$S88*Vermögen!L55*Vermögen!U55","v":{"$error":"#VALUE!"}},{"$f":"$S88*Vermögen!M55*Vermögen!U55","v":{"$error":"#VALUE!"}},{"$f":"$S88*Vermögen!N55*Vermögen!U55","v":{"$error":"#VALUE!"}},{"$f":"$S88*IF(Vermögen!I55=Daten_Vermögen!$Y$43,Vermögen!U55,0)","v":{"v":0,"d":"0.0%"}},{"$f":"$S88*IF(Vermögen!I55=Daten_Vermögen!$Z$43,Vermögen!U55,0)","v":{"v":0,"d":"0.0%"}},{"$f":"$S88*IF(Vermögen!I55=Daten_Vermögen!$AA$43,Vermögen!U55,0)","v":{"v":0,"d":"0.0%"}},{"$error":"#VALUE!"}]
[{"$f":"Vermögen!E56","v":"46."},{"$f":"Vermögen!F56","v":0},{"$f":"IF(Vermögen!S56>0,Vermögen!S56/SUMIF(Daten_Vermögen!$B$20:$B$28,Vermögen!T56,Daten_Vermögen!$C$20:$C$28),Vermögen!S56/1)","v":0},{"$f":"IF(Vermögen!Q56>0,Vermögen!Q56*Vermögen!X56,IF(Vermögen!W56=0,Vermögen!S56*Vermögen!X56/100,Vermögen!W56*Vermögen!X56/100))","v":0},{"$f":"Vermögen!S56*Vermögen!AC56","v":0},{"$f":"IF(Vermögen!AD56=\"Keine\",0,IF(Vermögen!AD56=\"Art. 6\",0,1))","v":1},{"$f":"Vermögen!V56","v":{"v":0,"d":"0.0%"}},{"$f":"IF(Vermögen!I56=Daten_Vermögen!$B$12,1,0)","v":0},{"v":0,"d":"0.00%"},null,null,{"$f":"C89*Vermögen!J56","v":0},{"$f":"C89*Vermögen!K56","v":0},{"$f":"C89*Vermögen!L56","v":0},{"$f":"C89*Vermögen!M56","v":0},{"$f":"C89*Vermögen!N56","v":0},0,null,{"v":0,"d":"0.0%"},{"$f":"$S89*Vermögen!J56*Vermögen!$U56","v":{"$error":"#VALUE!"}},{"$f":"$S89*Vermögen!K56*Vermögen!U56","v":{"$error":"#VALUE!"}},{"$f":"$S89*Vermögen!L56*Vermögen!U56","v":{"$error":"#VALUE!"}},{"$f":"$S89*Vermögen!M56*Vermögen!U56","v":{"$error":"#VALUE!"}},{"$f":"$S89*Vermögen!N56*Vermögen!U56","v":{"$error":"#VALUE!"}},{"$f":"$S89*IF(Vermögen!I56=Daten_Vermögen!$Y$43,Vermögen!U56,0)","v":{"v":0,"d":"0.0%"}},{"$f":"$S89*IF(Vermögen!I56=Daten_Vermögen!$Z$43,Vermögen!U56,0)","v":{"v":0,"d":"0.0%"}},{"$f":"$S89*IF(Vermögen!I56=Daten_Vermögen!$AA$43,Vermögen!U56,0)","v":{"v":0,"d":"0.0%"}},{"$error":"#VALUE!"}]
[{"$f":"Vermögen!E57","v":"47."},{"$f":"Vermögen!F57","v":0},{"$f":"IF(Vermögen!S57>0,Vermögen!S57/SUMIF(Daten_Vermögen!$B$20:$B$28,Vermögen!T57,Daten_Vermögen!$C$20:$C$28),Vermögen!S57/1)","v":0},{"$f":"IF(Vermögen!Q57>0,Vermögen!Q57*Vermögen!X57,IF(Vermögen!W57=0,Vermögen!S57*Vermögen!X57/100,Vermögen!W57*Vermögen!X57/100))","v":0},{"$f":"Vermögen!S57*Vermögen!AC57","v":0},{"$f":"IF(Vermögen!AD57=\"Keine\",0,IF(Vermögen!AD57=\"Art. 6\",0,1))","v":1},{"$f":"Vermögen!V57","v":{"v":0,"d":"0.0%"}},{"$f":"IF(Vermögen!I57=Daten_Vermögen!$B$12,1,0)","v":0},{"v":0,"d":"0.00%"},null,null,{"$f":"C90*Vermögen!J57","v":0},{"$f":"C90*Vermögen!K57","v":0},{"$f":"C90*Vermögen!L57","v":0},{"$f":"C90*Vermögen!M57","v":0},{"$f":"C90*Vermögen!N57","v":0},0,null,{"v":0,"d":"0.0%"},{"$f":"$S90*Vermögen!J57*Vermögen!$U57","v":{"$error":"#VALUE!"}},{"$f":"$S90*Vermögen!K57*Vermögen!U57","v":{"$error":"#VALUE!"}},{"$f":"$S90*Vermögen!L57*Vermögen!U57","v":{"$error":"#VALUE!"}},{"$f":"$S90*Vermögen!M57*Vermögen!U57","v":{"$error":"#VALUE!"}},{"$f":"$S90*Vermögen!N57*Vermögen!U57","v":{"$error":"#VALUE!"}},{"$f":"$S90*IF(Vermögen!I57=Daten_Vermögen!$Y$43,Vermögen!U57,0)","v":{"v":0,"d":"0.0%"}},{"$f":"$S90*IF(Vermögen!I57=Daten_Vermögen!$Z$43,Vermögen!U57,0)","v":{"v":0,"d":"0.0%"}},{"$f":"$S90*IF(Vermögen!I57=Daten_Vermögen!$AA$43,Vermögen!U57,0)","v":{"v":0,"d":"0.0%"}},{"$error":"#VALUE!"}]
[{"$f":"Vermögen!E58","v":"48."},{"$f":"Vermögen!F58","v":0},{"$f":"IF(Vermögen!S58>0,Vermögen!S58/SUMIF(Daten_Vermögen!$B$20:$B$28,Vermögen!T58,Daten_Vermögen!$C$20:$C$28),Vermögen!S58/1)","v":0},{"$f":"IF(Vermögen!Q58>0,Vermögen!Q58*Vermögen!X58,IF(Vermögen!W58=0,Vermögen!S58*Vermögen!X58/100,Vermögen!W58*Vermögen!X58/100))","v":0},{"$f":"Vermögen!S58*Vermögen!AC58","v":0},{"$f":"IF(Vermögen!AD58=\"Keine\",0,IF(Vermögen!AD58=\"Art. 6\",0,1))","v":1},{"$f":"Vermögen!V58","v":{"v":0,"d":"0.0%"}},{"$f":"IF(Vermögen!I58=Daten_Vermögen!$B$12,1,0)","v":0},{"v":0,"d":"0.00%"},null,null,{"$f":"C91*Vermögen!J58","v":0},{"$f":"C91*Vermögen!K58","v":0},{"$f":"C91*Vermögen!L58","v":0},{"$f":"C91*Vermögen!M58","v":0},{"$f":"C91*Vermögen!N58","v":0},0,null,{"v":0,"d":"0.0%"},{"$f":"$S91*Vermögen!J58*Vermögen!$U58","v":{"$error":"#VALUE!"}},{"$f":"$S91*Vermögen!K58*Vermögen!U58","v":{"$error":"#VALUE!"}},{"$f":"$S91*Vermögen!L58*Vermögen!U58","v":{"$error":"#VALUE!"}},{"$f":"$S91*Vermögen!M58*Vermögen!U58","v":{"$error":"#VALUE!"}},{"$f":"$S91*Vermögen!N58*Vermögen!U58","v":{"$error":"#VALUE!"}},{"$f":"$S91*IF(Vermögen!I58=Daten_Vermögen!$Y$43,Vermögen!U58,0)","v":{"v":0,"d":"0.0%"}},{"$f":"$S91*IF(Vermögen!I58=Daten_Vermögen!$Z$43,Vermögen!U58,0)","v":{"v":0,"d":"0.0%"}},{"$f":"$S91*IF(Vermögen!I58=Daten_Vermögen!$AA$43,Vermögen!U58,0)","v":{"v":0,"d":"0.0%"}},{"$error":"#VALUE!"}]
[{"$f":"Vermögen!E59","v":"49."},{"$f":"Vermögen!F59","v":0},{"$f":"IF(Vermögen!S59>0,Vermögen!S59/SUMIF(Daten_Vermögen!$B$20:$B$28,Vermögen!T59,Daten_Vermögen!$C$20:$C$28),Vermögen!S59/1)","v":0},{"$f":"IF(Vermögen!Q59>0,Vermögen!Q59*Vermögen!X59,IF(Vermögen!W59=0,Vermögen!S59*Vermögen!X59/100,Vermögen!W59*Vermögen!X59/100))","v":0},{"$f":"Vermögen!S59*Vermögen!AC59","v":0},{"$f":"IF(Vermögen!AD59=\"Keine\",0,IF(Vermögen!AD59=\"Art. 6\",0,1))","v":1},{"$f":"Vermögen!V59","v":{"v":0,"d":"0.0%"}},{"$f":"IF(Vermögen!I59=Daten_Vermögen!$B$12,1,0)","v":0},{"v":0,"d":"0.00%"},null,null,{"$f":"C92*Vermögen!J59","v":0},{"$f":"C92*Vermögen!K59","v":0},{"$f":"C92*Vermögen!L59","v":0},{"$f":"C92*Vermögen!M59","v":0},{"$f":"C92*Vermögen!N59","v":0},0,null,{"v":0,"d":"0.0%"},{"$f":"$S92*Vermögen!J59*Vermögen!$U59","v":{"$error":"#VALUE!"}},{"$f":"$S92*Vermögen!K59*Vermögen!U59","v":{"$error":"#VALUE!"}},{"$f":"$S92*Vermögen!L59*Vermögen!U59","v":{"$error":"#VALUE!"}},{"$f":"$S92*Vermögen!M59*Vermögen!U59","v":{"$error":"#VALUE!"}},{"$f":"$S92*Vermögen!N59*Vermögen!U59","v":{"$error":"#VALUE!"}},{"$f":"$S92*IF(Vermögen!I59=Daten_Vermögen!$Y$43,Vermögen!U59,0)","v":{"v":0,"d":"0.0%"}},{"$f":"$S92*IF(Vermögen!I59=Daten_Vermögen!$Z$43,Vermögen!U59,0)","v":{"v":0,"d":"0.0%"}},{"$f":"$S92*IF(Vermögen!I59=Daten_Vermögen!$AA$43,Vermögen!U59,0)","v":{"v":0,"d":"0.0%"}},{"$error":"#VALUE!"}]
[{"$f":"Vermögen!E60","v":"50."},{"$f":"Vermögen!F60","v":0},{"$f":"IF(Vermögen!S60>0,Vermögen!S60/SUMIF(Daten_Vermögen!$B$20:$B$28,Vermögen!T60,Daten_Vermögen!$C$20:$C$28),Vermögen!S60/1)","v":0},{"$f":"IF(Vermögen!Q60>0,Vermögen!Q60*Vermögen!X60,IF(Vermögen!W60=0,Vermögen!S60*Vermögen!X60/100,Vermögen!W60*Vermögen!X60/100))","v":0},{"$f":"Vermögen!S60*Vermögen!AC60","v":0},{"$f":"IF(Vermögen!AD60=\"Keine\",0,IF(Vermögen!AD60=\"Art. 6\",0,1))","v":1},{"$f":"Vermögen!V60","v":{"v":0,"d":"0.0%"}},{"$f":"IF(Vermögen!I60=Daten_Vermögen!$B$12,1,0)","v":0},{"v":0,"d":"0.00%"},null,null,{"$f":"C93*Vermögen!J60","v":0},{"$f":"C93*Vermögen!K60","v":0},{"$f":"C93*Vermögen!L60","v":0},{"$f":"C93*Vermögen!M60","v":0},{"$f":"C93*Vermögen!N60","v":0},0,null,{"v":0,"d":"0.0%"},{"$f":"$S93*Vermögen!J60*Vermögen!$U60","v":{"$error":"#VALUE!"}},{"$f":"$S93*Vermögen!K60*Vermögen!U60","v":{"$error":"#VALUE!"}},{"$f":"$S93*Vermögen!L60*Vermögen!U60","v":{"$error":"#VALUE!"}},{"$f":"$S93*Vermögen!M60*Vermögen!U60","v":{"$error":"#VALUE!"}},{"$f":"$S93*Vermögen!N60*Vermögen!U60","v":{"$error":"#VALUE!"}},{"$f":"$S93*IF(Vermögen!I60=Daten_Vermögen!$Y$43,Vermögen!U60,0)","v":{"v":0,"d":"0.0%"}},{"$f":"$S93*IF(Vermögen!I60=Daten_Vermögen!$Z$43,Vermögen!U60,0)","v":{"v":0,"d":"0.0%"}},{"$f":"$S93*IF(Vermögen!I60=Daten_Vermögen!$AA$43,Vermögen!U60,0)","v":{"v":0,"d":"0.0%"}},{"$error":"#VALUE!"}]
[null,"Summe",{"$f":"SUM(C44:C93)","v":0},{"$f":"SUM(D44:D93)","v":0},{"$f":"SUM(E44:E55)","v":0},{"$f":"SUMIF(F44:F93,1,C44:C93)","v":0},{"$f":"SUM(G44:G92)","v":{"v":0,"d":"0.0%"}},{"$nulls":4},{"$f":"SUM(L44:L93)","v":0},{"$f":"SUM(M44:M93)","v":0},0,0,0,0,null,{"$f":"SUM(S44:S93)","v":{"v":0,"d":"0.0%"}},{"$f":"SUM(T44:T93)","v":{"$error":"#VALUE!"}},{"$error":"#VALUE!"},{"$error":"#VALUE!"},{"$error":"#VALUE!"},{"$error":"#VALUE!"},{"v":0,"d":"0.0%"},{"$f":"SUM(Z44:Z93)","v":{"v":0,"d":"0.0%"}},{"v":0,"d":"0.0%"},{"$f":"SUM(T94:AA94)","v":{"$error":"#VALUE!"}}]
[{"$nulls":5},{"$f":"IFERROR(F94/C94,0)","v":{"v":0,"d":"0.0%"}},{"$nulls":13},{"$f":"T43","v":"Aktien"},{"$f":"U43","v":"Anleihen"},"Alternative Inv.","Rohstoffe","Liquidität","Immobilien","Beteiligungen","Sonst. Verm.","Summe"]
[]
[null,"NEBENRECHNUNG für Szenario \"Linear\"","Ohne Funktion"]
[]
[null,"Projektion Wertentwicklung",null,{"$f":"Einstellungen!G13","v":2024},{"$f":"D99+1","v":2025},{"$f":"E99+1","v":2026},null,{"$f":"F99+1","v":2027},2028]
[null,{"$f":"Vermögen!I11","v":"Bitte auswählen"},{"$f":"Vermögen!V11","v":{"v":0,"d":"0.0%"}},{"$f":"Vermögen!S11+Vermögen!S11*Vermögen!V11","v":0},{"$f":"D100+D100*Vermögen!$V11","v":0},{"$f":"E100+E100*Vermögen!$V11","v":0},null,{"$f":"F100+F100*Vermögen!$V11","v":0},{"$f":"H100+H100*Vermögen!$V11","v":0}]
[null,{"$f":"Vermögen!I12","v":"Bitte auswählen"},{"$f":"Vermögen!V12","v":{"v":0,"d":"0.0%"}},{"$f":"Vermögen!S12+Vermögen!S12*Vermögen!V12","v":0},{"$f":"D101+D101*Vermögen!$V12","v":0},{"$f":"E101+E101*Vermögen!$V12","v":0},null,{"$f":"F101+F101*Vermögen!$V12","v":0},{"$f":"H101+H101*Vermögen!$V12","v":0}]
[null,{"$f":"Vermögen!I13","v":"Bitte auswählen"},{"$f":"Vermögen!V13","v":{"v":0,"d":"0.0%"}},{"$f":"Vermögen!S13+Vermögen!S13*Vermögen!V13","v":0},{"$f":"D102+D102*Vermögen!$V13","v":0},{"$f":"E102+E102*Vermögen!$V13","v":0},null,{"$f":"F102+F102*Vermögen!$V13","v":0},{"$f":"H102+H102*Vermögen!$V13","v":0}]
[null,{"$f":"Vermögen!I14","v":"Bitte auswählen"},{"$f":"Vermögen!V14","v":{"v":0,"d":"0.0%"}},{"$f":"Vermögen!S14+Vermögen!S14*Vermögen!V14","v":0},{"$f":"D103+D103*Vermögen!$V14","v":0},{"$f":"E103+E103*Vermögen!$V14","v":0},null,{"$f":"F103+F103*Vermögen!$V14","v":0},{"$f":"H103+H103*Vermögen!$V14","v":0}]
[null,{"$f":"Vermögen!I15","v":"Bitte auswählen"},{"$f":"Vermögen!V15","v":{"v":0,"d":"0.0%"}},{"$f":"Vermögen!S15+Vermögen!S15*Vermögen!V15","v":0},{"$f":"D104+D104*Vermögen!$V15","v":0},{"$f":"E104+E104*Vermögen!$V15","v":0},null,{"$f":"F104+F104*Vermögen!$V15","v":0},{"$f":"H104+H104*Vermögen!$V15","v":0}]
[null,{"$f":"Vermögen!I16","v":"Bitte auswählen"},{"$f":"Vermögen!V16","v":{"v":0,"d":"0.0%"}},{"$f":"Vermögen!S16+Vermögen!S16*Vermögen!V16","v":0},{"$f":"D105+D105*Vermögen!$V16","v":0},{"$f":"E105+E105*Vermögen!$V16","v":0},null,{"$f":"F105+F105*Vermögen!$V16","v":0},{"$f":"H105+H105*Vermögen!$V16","v":0}]
[null,{"$f":"Vermögen!I17","v":"Bitte auswählen"},{"$f":"Vermögen!V17","v":{"v":0,"d":"0.0%"}},{"$f":"Vermögen!S17+Vermögen!S17*Vermögen!V17","v":0},{"$f":"D106+D106*Vermögen!$V17","v":0},{"$f":"E106+E106*Vermögen!$V17","v":0},null,{"$f":"F106+F106*Vermögen!$V17","v":0},{"$f":"H106+H106*Vermögen!$V17","v":0}]
[null,{"$f":"Vermögen!I18","v":"Bitte auswählen"},{"$f":"Vermögen!V18","v":{"v":0,"d":"0.0%"}},{"$f":"Vermögen!S18+Vermögen!S18*Vermögen!V18","v":0},{"$f":"D107+D107*Vermögen!$V18","v":0},{"$f":"E107+E107*Vermögen!$V18","v":0},null,{"$f":"F107+F107*Vermögen!$V18","v":0},{"$f":"H107+H107*Vermögen!$V18","v":0}]
[null,{"$f":"Vermögen!I19","v":"Bitte auswählen"},{"$f":"Vermögen!V19","v":{"v":0,"d":"0.0%"}},{"$f":"Vermögen!S19+Vermögen!S19*Vermögen!V19","v":0},{"$f":"D108+D108*Vermögen!$V19","v":0},{"$f":"E108+E108*Vermögen!$V19","v":0},null,{"$f":"F108+F108*Vermögen!$V19","v":0},{"$f":"H108+H108*Vermögen!$V19","v":0}]
[null,{"$f":"Vermögen!I20","v":"Bitte auswählen"},{"$f":"Vermögen!V20","v":{"v":0,"d":"0.0%"}},{"$f":"Vermögen!S20+Vermögen!S20*Vermögen!V20","v":0},{"$f":"D109+D109*Vermögen!$V20","v":0},{"$f":"E109+E109*Vermögen!$V20","v":0},null,{"$f":"F109+F109*Vermögen!$V20","v":0},{"$f":"H109+H109*Vermögen!$V20","v":0}]
[null,{"$f":"Vermögen!I21","v":"Bitte auswählen"},{"$f":"Vermögen!V21","v":{"v":0,"d":"0.0%"}},{"$f":"Vermögen!S21+Vermögen!S21*Vermögen!V21","v":0},{"$f":"D110+D110*Vermögen!$V21","v":0},{"$f":"E110+E110*Vermögen!$V21","v":0},null,{"$f":"F110+F110*Vermögen!$V21","v":0},{"$f":"H110+H110*Vermögen!$V21","v":0}]
[null,{"$f":"Vermögen!I22","v":"Bitte auswählen"},{"$f":"Vermögen!V22","v":{"v":0,"d":"0.0%"}},{"$f":"Vermögen!S22+Vermögen!S22*Vermögen!V22","v":0},{"$f":"D111+D111*Vermögen!$V22","v":0},{"$f":"E111+E111*Vermögen!$V22","v":0},null,{"$f":"F111+F111*Vermögen!$V22","v":0},{"$f":"H111+H111*Vermögen!$V22","v":0}]
[null,{"$f":"Vermögen!I23","v":"Bitte auswählen"},{"$f":"Vermögen!V23","v":{"v":0,"d":"0.0%"}},{"$f":"Vermögen!S23+Vermögen!S23*Vermögen!V23","v":0},{"$f":"D112+D112*Vermögen!$V23","v":0},{"$f":"E112+E112*Vermögen!$V23","v":0},null,{"$f":"F112+F112*Vermögen!$V23","v":0},{"$f":"H112+H112*Vermögen!$V23","v":0}]
[null,{"$f":"Vermögen!I24","v":"Bitte auswählen"},{"$f":"Vermögen!V24","v":{"v":0,"d":"0.0%"}},{"$f":"Vermögen!S24+Vermögen!S24*Vermögen!V24","v":0},{"$f":"D113+D113*Vermögen!$V24","v":0},{"$f":"E113+E113*Vermögen!$V24","v":0},null,{"$f":"F113+F113*Vermögen!$V24","v":0},{"$f":"H113+H113*Vermögen!$V24","v":0}]
[null,{"$f":"Vermögen!I25","v":"Bitte auswählen"},{"$f":"Vermögen!V25","v":{"v":0,"d":"0.0%"}},{"$f":"Vermögen!S25+Vermögen!S25*Vermögen!V25","v":0},{"$f":"D114+D114*Vermögen!$V25","v":0},{"$f":"E114+E114*Vermögen!$V25","v":0},null,{"$f":"F114+F114*Vermögen!$V25","v":0},{"$f":"H114+H114*Vermögen!$V25","v":0}]
[null,{"$f":"Vermögen!I26","v":"Bitte auswählen"},{"$f":"Vermögen!V26","v":{"v":0,"d":"0.0%"}},{"$f":"Vermögen!S26+Vermögen!S26*Vermögen!V26","v":0},{"$f":"D115+D115*Vermögen!$V26","v":0},{"$f":"E115+E115*Vermögen!$V26","v":0},null,{"$f":"F115+F115*Vermögen!$V26","v":0},{"$f":"H115+H115*Vermögen!$V26","v":0}]
[null,{"$f":"Vermögen!I27","v":"Bitte auswählen"},{"$f":"Vermögen!V27","v":{"v":0,"d":"0.0%"}},{"$f":"Vermögen!S27+Vermögen!S27*Vermögen!V27","v":0},{"$f":"D116+D116*Vermögen!$V27","v":0},{"$f":"E116+E116*Vermögen!$V27","v":0},null,{"$f":"F116+F116*Vermögen!$V27","v":0},{"$f":"H116+H116*Vermögen!$V27","v":0}]
[null,{"$f":"Vermögen!I28","v":"Bitte auswählen"},{"$f":"Vermögen!V28","v":{"v":0,"d":"0.0%"}},{"$f":"Vermögen!S28+Vermögen!S28*Vermögen!V28","v":0},{"$f":"D117+D117*Vermögen!$V28","v":0},{"$f":"E117+E117*Vermögen!$V28","v":0},null,{"$f":"F117+F117*Vermögen!$V28","v":0},{"$f":"H117+H117*Vermögen!$V28","v":0}]
[null,{"$f":"Vermögen!I29","v":"Bitte auswählen"},{"$f":"Vermögen!V29","v":{"v":0,"d":"0.0%"}},{"$f":"Vermögen!S29+Vermögen!S29*Vermögen!V29","v":0},{"$f":"D118+D118*Vermögen!$V29","v":0},{"$f":"E118+E118*Vermögen!$V29","v":0},null,{"$f":"F118+F118*Vermögen!$V29","v":0},{"$f":"H118+H118*Vermögen!$V29","v":0}]
[null,{"$f":"Vermögen!I60","v":"Bitte auswählen"},{"$f":"Vermögen!V60","v":{"v":0,"d":"0.0%"}},{"$f":"Vermögen!S60+Vermögen!S60*Vermögen!V60","v":0},{"$f":"D119+D119*Vermögen!$V60","v":0},{"$f":"E119+E119*Vermögen!$V60","v":0},null,{"$f":"F119+F119*Vermögen!$V60","v":0},{"$f":"H119+H119*Vermögen!$V60","v":0}]
[]
[null,"Projektion Gewichtung nach Vermögensgegenstand",null,{"$f":"D99","v":2024},{"$f":"E99","v":2025},2026,null,2027,2028]
[null,{"$f":"Vermögen!I11","v":"Bitte auswählen"},{"$f":"Vermögen!V11","v":{"v":0,"d":"0.0%"}},{"$f":"D100/SUMIF($B$100:$B$111,$B100,D$100:D$111)","v":{"$error":"#DIV/0!"}},{"$f":"E100/SUMIF($B$100:$B$111,$B100,E$100:E$111)","v":{"$error":"#DIV/0!"}},{"$error":"#DIV/0!"},null,{"$error":"#DIV/0!"},{"$error":"#DIV/0!"}]
[null,{"$f":"Vermögen!I12","v":"Bitte auswählen"},{"$f":"Vermögen!V12","v":{"v":0,"d":"0.0%"}},{"$f":"D101/SUMIF($B$100:$B$111,$B101,D$100:D$111)","v":{"$error":"#DIV/0!"}},{"$error":"#DIV/0!"},{"$error":"#DIV/0!"},null,{"$error":"#DIV/0!"},{"$error":"#DIV/0!"}]
[null,{"$f":"Vermögen!I13","v":"Bitte auswählen"},{"$f":"Vermögen!V13","v":{"v":0,"d":"0.0%"}},{"$f":"D102/SUMIF($B$100:$B$111,$B102,D$100:D$111)","v":{"$error":"#DIV/0!"}},{"$error":"#DIV/0!"},{"$error":"#DIV/0!"},null,{"$error":"#DIV/0!"},{"$error":"#DIV/0!"}]
[null,{"$f":"Vermögen!I14","v":"Bitte auswählen"},{"$f":"Vermögen!V14","v":{"v":0,"d":"0.0%"}},{"$f":"D103/SUMIF($B$100:$B$111,$B103,D$100:D$111)","v":{"$error":"#DIV/0!"}},{"$error":"#DIV/0!"},{"$error":"#DIV/0!"},null,{"$error":"#DIV/0!"},{"$error":"#DIV/0!"}]
[null,{"$f":"Vermögen!I15","v":"Bitte auswählen"},{"$f":"Vermögen!V15","v":{"v":0,"d":"0.0%"}},{"$f":"D104/SUMIF($B$100:$B$111,$B104,D$100:D$111)","v":{"$error":"#DIV/0!"}},{"$error":"#DIV/0!"},{"$error":"#DIV/0!"},null,{"$error":"#DIV/0!"},{"$error":"#DIV/0!"}]
[null,{"$f":"Vermögen!I16","v":"Bitte auswählen"},{"$f":"Vermögen!V16","v":{"v":0,"d":"0.0%"}},{"$f":"D105/SUMIF($B$100:$B$111,$B105,D$100:D$111)","v":{"$error":"#DIV/0!"}},{"$error":"#DIV/0!"},{"$error":"#DIV/0!"},null,{"$error":"#DIV/0!"},{"$error":"#DIV/0!"}]
[null,{"$f":"Vermögen!I17","v":"Bitte auswählen"},{"$f":"Vermögen!V17","v":{"v":0,"d":"0.0%"}},{"$f":"D106/SUMIF($B$100:$B$111,$B106,D$100:D$111)","v":{"$error":"#DIV/0!"}},{"$error":"#DIV/0!"},{"$error":"#DIV/0!"},null,{"$error":"#DIV/0!"},{"$error":"#DIV/0!"}]
[null,{"$f":"Vermögen!I18","v":"Bitte auswählen"},{"$f":"Vermögen!V18","v":{"v":0,"d":"0.0%"}},{"$f":"D107/SUMIF($B$100:$B$111,$B107,D$100:D$111)","v":{"$error":"#DIV/0!"}},{"$error":"#DIV/0!"},{"$error":"#DIV/0!"},null,{"$error":"#DIV/0!"},{"$error":"#DIV/0!"}]
[null,{"$f":"Vermögen!I19","v":"Bitte auswählen"},{"$f":"Vermögen!V19","v":{"v":0,"d":"0.0%"}},{"$f":"D108/SUMIF($B$100:$B$111,$B108,D$100:D$111)","v":{"$error":"#DIV/0!"}},{"$error":"#DIV/0!"},{"$error":"#DIV/0!"},null,{"$error":"#DIV/0!"},{"$error":"#DIV/0!"}]
[null,{"$f":"Vermögen!I20","v":"Bitte auswählen"},{"$f":"Vermögen!V20","v":{"v":0,"d":"0.0%"}},{"$f":"D109/SUMIF($B$100:$B$111,$B109,D$100:D$111)","v":{"$error":"#DIV/0!"}},{"$error":"#DIV/0!"},{"$error":"#DIV/0!"},null,{"$error":"#DIV/0!"},{"$error":"#DIV/0!"}]
[null,{"$f":"Vermögen!I21","v":"Bitte auswählen"},{"$f":"Vermögen!V21","v":{"v":0,"d":"0.0%"}},{"$f":"D110/SUMIF($B$100:$B$111,$B110,D$100:D$111)","v":{"$error":"#DIV/0!"}},{"$error":"#DIV/0!"},{"$error":"#DIV/0!"},null,{"$error":"#DIV/0!"},{"$error":"#DIV/0!"}]
[null,{"$f":"Vermögen!I22","v":"Bitte auswählen"},{"$f":"Vermögen!V22","v":{"v":0,"d":"0.0%"}},{"$f":"D111/SUMIF($B$100:$B$111,$B111,D$100:D$111)","v":{"$error":"#DIV/0!"}},{"$error":"#DIV/0!"},{"$error":"#DIV/0!"},null,{"$error":"#DIV/0!"},{"$error":"#DIV/0!"}]
[]
[null,"Projektion gewichtete Rendite nach Vermögensgegenstand",null,{"$f":"D121","v":2024},{"$f":"E121","v":2025},2026,null,2027,2028]
[null,{"$f":"Vermögen!I11","v":"Bitte auswählen"},null,{"$f":"D122*$C122","v":{"$error":"#DIV/0!"}},{"$f":"E122*$C122","v":{"$error":"#DIV/0!"}},{"$error":"#DIV/0!"},null,{"$error":"#DIV/0!"},{"$error":"#DIV/0!"}]
[null,{"$f":"Vermögen!I12","v":"Bitte auswählen"},null,{"$f":"D123*$C123","v":{"$error":"#DIV/0!"}},{"$error":"#DIV/0!"},{"$error":"#DIV/0!"},null,{"$error":"#DIV/0!"},{"$error":"#DIV/0!"}]
[null,{"$f":"Vermögen!I13","v":"Bitte auswählen"},null,{"$f":"D124*$C124","v":{"$error":"#DIV/0!"}},{"$error":"#DIV/0!"},{"$error":"#DIV/0!"},null,{"$error":"#DIV/0!"},{"$error":"#DIV/0!"}]
[null,{"$f":"Vermögen!I14","v":"Bitte auswählen"},null,{"$f":"D125*$C125","v":{"$error":"#DIV/0!"}},{"$error":"#DIV/0!"},{"$error":"#DIV/0!"},null,{"$error":"#DIV/0!"},{"$error":"#DIV/0!"}]
[null,{"$f":"Vermögen!I15","v":"Bitte auswählen"},null,{"$f":"D126*$C126","v":{"$error":"#DIV/0!"}},{"$error":"#DIV/0!"},{"$error":"#DIV/0!"},null,{"$error":"#DIV/0!"},{"$error":"#DIV/0!"}]
[null,{"$f":"Vermögen!#REF!","v":{"$error":"#REF!"}},null,{"$f":"D127*$C127","v":{"$error":"#DIV/0!"}},{"$error":"#DIV/0!"},{"$error":"#DIV/0!"},null,{"$error":"#DIV/0!"},{"$error":"#DIV/0!"}]
[null,{"$f":"Vermögen!I17","v":"Bitte auswählen"},null,{"$f":"D128*$C128","v":{"$error":"#DIV/0!"}},{"$error":"#DIV/0!"},{"$error":"#DIV/0!"},null,{"$error":"#DIV/0!"},{"$error":"#DIV/0!"}]
[null,{"$f":"Vermögen!I18","v":"Bitte auswählen"},null,{"$f":"D129*$C129","v":{"$error":"#DIV/0!"}},{"$error":"#DIV/0!"},{"$error":"#DIV/0!"},null,{"$error":"#DIV/0!"},{"$error":"#DIV/0!"}]
[null,{"$f":"Vermögen!I19","v":"Bitte auswählen"},null,{"$f":"D130*$C130","v":{"$error":"#DIV/0!"}},{"$error":"#DIV/0!"},{"$error":"#DIV/0!"},null,{"$error":"#DIV/0!"},{"$error":"#DIV/0!"}]
[null,{"$f":"Vermögen!I20","v":"Bitte auswählen"},null,{"$f":"D131*$C131","v":{"$error":"#DIV/0!"}},{"$error":"#DIV/0!"},{"$error":"#DIV/0!"},null,{"$error":"#DIV/0!"},{"$error":"#DIV/0!"}]
[null,{"$f":"Vermögen!I21","v":"Bitte auswählen"},null,{"$f":"D132*$C132","v":{"$error":"#DIV/0!"}},{"$error":"#DIV/0!"},{"$error":"#DIV/0!"},null,{"$error":"#DIV/0!"},{"$error":"#DIV/0!"}]
[null,{"$f":"Vermögen!#REF!","v":{"$error":"#REF!"}},null,{"$f":"D133*$C133","v":{"$error":"#DIV/0!"}},{"$error":"#DIV/0!"},{"$error":"#DIV/0!"},null,{"$error":"#DIV/0!"},{"$error":"#DIV/0!"}]
[]
[null,"Projektion gewichtete Rendite nach Anlageklassen",null,{"$f":"D135","v":2024},{"$f":"E135","v":2025},2026,null,2027,2028]
[null,{"$f":"Daten_Vermögen!B7","v":"Aktien"},null,{"$f":"SUMIF($B$136:$B$147,$B150,D$136:D$147)","v":{"v":0,"d":"0.00%"}},{"$f":"SUMIF($B$136:$B$147,$B150,E$136:E$147)","v":{"v":0,"d":"0.00%"}},{"v":0,"d":"0.00%"},null,{"v":0,"d":"0.00%"},{"v":0,"d":"0.00%"}]
[null,{"$f":"Daten_Vermögen!B8","v":"Anleihen"},null,{"$f":"SUMIF($B$136:$B$147,$B151,D$136:D$147)","v":{"v":0,"d":"0.00%"}},{"v":0,"d":"0.00%"},{"v":0,"d":"0.00%"},null,{"v":0,"d":"0.00%"},{"v":0,"d":"0.00%"}]
[null,{"$f":"Daten_Vermögen!B9","v":"Alternative Inv."},null,{"v":0,"d":"0.00%"},{"v":0,"d":"0.00%"},{"v":0,"d":"0.00%"},null,{"v":0,"d":"0.00%"},{"v":0,"d":"0.00%"}]
[null,{"$f":"Daten_Vermögen!B10","v":"Rohstoffe"},null,{"v":0,"d":"0.00%"},{"v":0,"d":"0.00%"},{"v":0,"d":"0.00%"},null,{"v":0,"d":"0.00%"},{"v":0,"d":"0.00%"}]
[null,{"$f":"Daten_Vermögen!B11","v":"Liquidität"},null,{"v":0,"d":"0.00%"},{"v":0,"d":"0.00%"},{"v":0,"d":"0.00%"},null,{"v":0,"d":"0.00%"},{"v":0,"d":"0.00%"}]
[null,{"$f":"Daten_Vermögen!#REF!","v":{"$error":"#REF!"}},null,{"$error":"#DIV/0!"},{"$error":"#DIV/0!"},{"$error":"#DIV/0!"},null,{"$error":"#DIV/0!"},{"$error":"#DIV/0!"}]
[null,{"$f":"Daten_Vermögen!B14","v":"Beteiligungen"},null,{"v":0,"d":"0.00%"},{"v":0,"d":"0.00%"},{"v":0,"d":"0.00%"},null,{"v":0,"d":"0.00%"},{"v":0,"d":"0.00%"}]
[null,{"$f":"Daten_Vermögen!B15","v":"Sonst. Verm."},null,{"v":0,"d":"0.00%"},{"v":0,"d":"0.00%"},{"v":0,"d":"0.00%"},null,{"v":0,"d":"0.00%"},{"v":0,"d":"0.00%"}]
[null,{"$f":"Daten_Vermögen!B16","v":"Verbindlichkeiten"},null,{"v":0,"d":"0.00%"},{"v":0,"d":"0.00%"},{"v":0,"d":"0.00%"},null,{"v":0,"d":"0.00%"},{"v":0,"d":"0.00%"}]
[null,{"$f":"Daten_Vermögen!#REF!","v":{"$error":"#REF!"}},null,{"$error":"#DIV/0!"},{"$error":"#DIV/0!"},{"$error":"#DIV/0!"},null,{"$error":"#DIV/0!"},{"$error":"#DIV/0!"}]
[]
[]
[null,"ZÄHLER"]
[]
[null,"Gesamtsumme Vermögen",{"$f":"IF(Vermögen!S61>0,1,0)","v":0}]
[]
[null,"INFOGRAFIK"]
[null,"Spalte1","Spalte2","Spalte3","Spalte4","Spalte5","Spalte52"]
[null,null,"EUR","Anteil","Anteil o. Verbindlichkt.","SOLL-Allokation","Attribution Verm."]
[null,{"$f":"B7","v":"Aktien"},{"$f":"L94","v":0},{"$f":"C169/$C$178","v":{"$error":"#DIV/0!"}},{"$f":"Tabelle4[[#This Row],[Spalte2]]/SUM($C$169:$C$176)","v":{"$error":"#DIV/0!"}},{"$f":"Anlagestrategie!H23","v":{"v":0,"d":"0.0%"}},{"$f":"SUMIF(Vermögen!$I$11:$I$60,B169,Vermögen!$V$11:$V$60)*SUMIF(Vermögen!$I$11:$I$60,B169,Vermögen!$U$11:$U$60)","v":{"v":0,"d":"0.0%"}}]
[null,{"$f":"B8","v":"Anleihen"},{"$f":"M94","v":0},{"$error":"#DIV/0!"},{"$f":"Tabelle4[[#This Row],[Spalte2]]/SUM($C$169:$C$176)","v":{"$error":"#DIV/0!"}},{"$f":"Anlagestrategie!H24","v":{"v":0,"d":"0.0%"}},{"$f":"SUMIF(Vermögen!$I$11:$I$60,B170,Vermögen!$V$11:$V$60)*SUMIF(Vermögen!$I$11:$I$60,B170,Vermögen!$U$11:$U$60)","v":{"v":0,"d":"0.0%"}}]
[null,{"$f":"B9","v":"Alternative Inv."},{"$f":"N94","v":0},{"$error":"#DIV/0!"},{"$f":"Tabelle4[[#This Row],[Spalte2]]/SUM($C$169:$C$176)","v":{"$error":"#DIV/0!"}},{"$f":"Anlagestrategie!H28","v":{"v":0,"d":"0.0%"}},{"$f":"SUMIF(Vermögen!$I$11:$I$60,B171,Vermögen!$V$11:$V$60)*SUMIF(Vermögen!$I$11:$I$60,B171,Vermögen!$U$11:$U$60)","v":{"v":0,"d":"0.0%"}}]
[null,{"$f":"B10","v":"Rohstoffe"},{"$f":"O94","v":0},{"$error":"#DIV/0!"},{"$f":"Tabelle4[[#This Row],[Spalte2]]/SUM($C$169:$C$176)","v":{"$error":"#DIV/0!"}},{"$f":"Anlagestrategie!H29","v":{"v":0,"d":"0.0%"}},{"$f":"SUMIF(Vermögen!$I$11:$I$60,B172,Vermögen!$V$11:$V$60)*SUMIF(Vermögen!$I$11:$I$60,B172,Vermögen!$U$11:$U$60)","v":{"v":0,"d":"0.0%"}}]
[null,{"$f":"B11","v":"Liquidität"},{"$f":"P94","v":0},{"$error":"#DIV/0!"},{"$f":"Tabelle4[[#This Row],[Spalte2]]/SUM($C$169:$C$176)","v":{"$error":"#DIV/0!"}},{"$f":"Anlagestrategie!H30","v":{"v":0,"d":"0.0%"}},{"$f":"SUMIF(Vermögen!$I$11:$I$60,B173,Vermögen!$V$11:$V$60)*SUMIF(Vermögen!$I$11:$I$60,B173,Vermögen!$U$11:$U$60)","v":{"v":0,"d":"0.0%"}}]
[null,{"$f":"B13","v":"Immobilien"},{"$f":"SUMIF(Vermögen!$I$11:$I$60,Tabelle4[[#This Row],[Spalte1]],Daten_Vermögen!$C$44:$C$93)","v":0},{"$error":"#DIV/0!"},{"$f":"Tabelle4[[#This Row],[Spalte2]]/SUM($C$169:$C$176)","v":{"$error":"#DIV/0!"}},{"$f":"Anlagestrategie!H31","v":{"v":0,"d":"0.0%"}},{"$f":"SUMIF(Vermögen!$I$11:$I$60,B174,Vermögen!$V$11:$V$60)*SUMIF(Vermögen!$I$11:$I$60,B174,Vermögen!$U$11:$U$60)","v":{"v":0,"d":"0.0%"}}]
[null,{"$f":"B14","v":"Beteiligungen"},{"$f":"SUMIF(Vermögen!$I$11:$I$60,Tabelle4[[#This Row],[Spalte1]],Daten_Vermögen!$C$44:$C$93)","v":0},{"$error":"#DIV/0!"},{"$f":"Tabelle4[[#This Row],[Spalte2]]/SUM($C$169:$C$176)","v":{"$error":"#DIV/0!"}},{"$f":"Anlagestrategie!H32","v":{"v":0,"d":"0.0%"}},{"$f":"SUMIF(Vermögen!$I$11:$I$60,B175,Vermögen!$V$11:$V$60)*SUMIF(Vermögen!$I$11:$I$60,B175,Vermögen!$U$11:$U$60)","v":{"v":0,"d":"0.0%"}}]
[null,{"$f":"B15","v":"Sonst. Verm."},{"$f":"SUMIF(Vermögen!$I$11:$I$60,Tabelle4[[#This Row],[Spalte1]],Daten_Vermögen!$C$44:$C$93)","v":0},{"$error":"#DIV/0!"},{"$f":"Tabelle4[[#This Row],[Spalte2]]/SUM($C$169:$C$176)","v":{"$error":"#DIV/0!"}},{"$f":"Anlagestrategie!H33","v":{"v":0,"d":"0.0%"}},{"$f":"SUMIF(Vermögen!$I$11:$I$60,B176,Vermögen!$V$11:$V$60)*SUMIF(Vermögen!$I$11:$I$60,B176,Vermögen!$U$11:$U$60)","v":{"v":0,"d":"0.0%"}}]
[null,{"$f":"B16","v":"Verbindlichkeiten"},{"$f":"SUMIF(Vermögen!$I$11:$I$60,Tabelle4[[#This Row],[Spalte1]],Daten_Vermögen!$C$44:$C$93)","v":0},{"$error":"#DIV/0!"},null,null,{"$f":"SUMIF(Vermögen!$I$11:$I$60,B177,Vermögen!$V$11:$V$60)*SUMIF(Vermögen!$I$11:$I$60,B177,Vermögen!$U$11:$U$60)","v":{"v":0,"d":"0.0%"}}]
[null,"Summe",{"$f":"SUM(C169:C177)","v":0},{"$error":"#DIV/0!"},{"$f":"SUM(E169:E176)","v":{"$error":"#DIV/0!"}},{"$f":"SUM(F169:F176)","v":{"v":0,"d":"0.0%"}},{"$f":"SUM(G169:G177)","v":{"v":0,"d":"0.0%"}}]
[]
[null,"Cashquote",{"$f":"C173/C178","v":{"$error":"#DIV/0!"}}]
[null,"Investititonsgrad",{"$f":"100%-C180","v":{"$error":"#DIV/0!"}}]
{"$rows_empty":19}
[null,"Nachhaltigkeit"]
[]
[null,"Nachhaltig",{"$f":"SUMIF(Vermögen!#REF!,\"ESG\",Vermögen!U11:U21)","v":{"$error":"#REF!"}}]
[null,"Nicht nachhaltig",{"$f":"100%-C203","v":{"$error":"#REF!"}}]
[]
[]
[null,"Anbieter-Bias - Derzeit nicht genutzt"]
[null,"Gesamtvermögen"]
[null,"Hauptanbieter",{"$f":"SUMIF(Vermögen!#REF!,\"DWS\",Vermögen!U11:U21)","v":{"$error":"#REF!"}}]
[null,"Nicht Hauptanbieter",{"$f":"100%-C209","v":{"$error":"#REF!"}}]
[null,"Summe Fonds",{"$f":"SUMIF(Vermögen!O11:O21,\"Fonds\",Vermögen!U11:U21)","v":{"v":0,"d":"0.0%"}}]
[null,"Hauptanbieter (Fonds)",{"$f":"C209/C211","v":{"$error":"#REF!"}}]
[null,"Nicht Hauptanbieter",{"$f":"100%-C212","v":{"$error":"#REF!"}}]
[]
[]
[null,"Resilienz"]
[]
[null,"Einzelwerte"]
[null,"Anzahl",{"$f":"COUNTIF(Vermögen!O11:O21,\"Direktanlage\")","v":0}]
[null,"Direktinv. Aktien",{"$f":"SUMIFS(Vermögen!U11:U21,Vermögen!O11:O21,\"Direktanlage\",Vermögen!I11:I21,\"Aktien\")","v":{"v":0,"d":"0.0%"}}]
[null,"Direktinv. Renten",{"$f":"SUMIF(Vermögen!O11:O21,\"Direktanlage\",Vermögen!U11:U21)-C220","v":{"v":0,"d":"0.0%"}}]
[null,"Fonds etc.",{"$f":"100%-(C220+C221)","v":{"v":1,"d":"100.0%"}}]
[]
[null,"Fremdwährungen"]
[]
[null,"USD",{"$f":"SUMIF(Vermögen!#REF!,\"USD\",Vermögen!$U$11:$U$21)","v":{"$error":"#REF!"}}]
[null,"CHF",{"$f":"SUMIF(Vermögen!#REF!,\"CHF\",Vermögen!$U$11:$U$21)","v":{"$error":"#REF!"}}]
[null,"GBP",{"$f":"SUMIF(Vermögen!#REF!,\"GBP\",Vermögen!$U$11:$U$21)","v":{"$error":"#REF!"}}]
[null,"EUR",{"$f":"SUMIF(Vermögen!#REF!,\"EUR\",Vermögen!$U$11:$U$21)","v":{"$error":"#REF!"}}]
[null,"Summe",{"$f":"SUM(C226:C229)","v":{"$error":"#REF!"}}]
{"$rows_empty":18}
[null,"Renditeverteilung"]
[]
[null,"Spalte1","2016","2017","2018","2019"]
[null,"Vermögen",{"v":19693154,"d":"19,693,154 €"},{"v":19862564,"d":"19,862,564 €"},{"v":18567370,"d":"18,567,370 €"},{"v":20908273,"d":"20,908,273 €"}]
[null,"Gesamtperformance",{"v":0.0443,"d":"4.4%"},{"v":0.0199,"d":"2.0%"},{"v":-0.036,"d":"-3.6%"},{"$f":"F255+F256","v":{"v":0.1429526052974917,"d":"14.3%"}}]
[null,"Erträge",{"v":348557,"d":"348,557 €"},{"v":420790,"d":"420,790 €"},{"$f":"311084+566","v":{"v":311650,"d":"311,650 €"}},{"v":352857,"d":"352,857 €"}]
[null,"Ausschüttungsrendite",{"$f":"C254/C252","v":{"v":0.01769939949690131,"d":"1.8%"}},{"$f":"D254/D252","v":{"v":0.021185079630202826,"d":"2.1%"}},{"$f":"E254/E252","v":{"v":0.01678482197532553,"d":"1.7%"}},{"$f":"F254/F252","v":{"v":0.016876429727122846,"d":"1.7%"}}]
[null,"Wertveränderung",{"$f":"C253-C255","v":{"v":0.02660060050309869,"d":"2.7%"}},{"$f":"D253-D255","v":{"v":-1.2850796302028254E-3,"d":"-0.1%"}},{"$f":"E253-E255","v":{"v":-0.052784821975325524,"d":"-5.3%"}},{"$f":"(F252-E252)/E252","v":{"v":0.12607617557036888,"d":"12.6%"}}]
[]
[null,"Zweckeffizienz"]
[]
[null,null,2016,2017,2018,2019]
[null,"Vermögen",{"$f":"C252","v":{"v":19693154,"d":"19,693,154 €"}},{"$f":"D252","v":{"v":19862564,"d":"19,862,564 €"}},{"v":18567370,"d":"18,567,370 €"},{"$f":"F252","v":{"v":20908273,"d":"20,908,273 €"}}]
[null,"Eträge",{"$f":"C254","v":{"v":348557,"d":"348,557 €"}},{"$f":"D254","v":{"v":420790,"d":"420,790 €"}},{"v":311650,"d":"311,650 €"},{"$f":"F254","v":{"v":352857,"d":"352,857 €"}}]
[null,"Ausgaben Stiftungszweck",{"v":195000,"d":"195,000 €"},{"v":275000,"d":"275,000 €"},{"v":225100,"d":"225,100 €"},{"v":259600,"d":"259,600 €"}]
[null,"Zweckeffizienz Vermögen",{"$f":"C263/C261","v":{"v":0.009901918199593625,"d":"1.0%"}},{"$f":"D263/D261","v":{"v":0.013845141040200046,"d":"1.4%"}},{"v":0.012123418664032656,"d":"1.2%"},{"$f":"F263/F261","v":{"v":0.012416137860836235,"d":"1.2%"}}]
[null,"Zweckeffizienz Erträge",{"$f":"C263/C262","v":{"v":0.5594493870442998,"d":"55.9%"}},{"$f":"D263/D262","v":{"v":0.6535326409848142,"d":"65.4%"}},{"v":0.7222846141504893,"d":"72.2%"},{"$f":"F263/F262","v":{"v":0.7357087998821052,"d":"73.6%"}}]

{"sheet":"Daten_Nachhaltigkt. PRISC","index":9,"n_rows":187,"n_cols":15,"rows_kept":187,"hidden":true}
["Daten Nachhaltigkeit/PRISC"]
[]
[]
[null,null,"Adjustierungsfaktor"]
[null,null,"Bitte ausw."]
[null,null,{"v":1,"d":"100%"}]
[null,null,{"v":1.14,"d":"114%"}]
[null,null,{"v":1.33,"d":"133%"}]
[null,null,{"v":1.6,"d":"160%"}]
[null,null,{"v":2,"d":"200%"}]
[null,null,{"v":2.67,"d":"267%"}]
[null,null,{"v":4,"d":"400%"}]
[null,null,{"v":8,"d":"800%"}]
[]
[]
[null,null,"Nachhaltigkeit/PRISC"]
[{"$nulls":4},"Faktor",null,"Gewichtung",null,"Adjustierungsfaktor","PRISC-Score"]
[null,null,"Ausschlusskategorien","Keine",{"v":0,"d":"0.000"},null,{"$f":"Anlageziele!$O$32","v":{"v":0,"d":"0.000"}},null,{"$f":"Nachhaltigkeit_PRISC!$H$77","v":{"v":2,"d":"2.000"}},{"$f":"E18*G18*I18","v":{"v":0,"d":"0.0%"}}]
[{"$nulls":3},"1-3 Ausschlusskriterien",0.333,null,{"$f":"Anlageziele!$O$32","v":{"v":0,"d":"0.000"}},null,{"$f":"Nachhaltigkeit_PRISC!$H$77","v":{"v":2,"d":"2.000"}},{"v":0,"d":"0.0%"}]
[{"$nulls":3},"4-6 Ausschlusskriterien",0.666,null,{"$f":"Anlageziele!$O$32","v":{"v":0,"d":"0.000"}},null,{"$f":"Nachhaltigkeit_PRISC!$H$77","v":{"v":2,"d":"2.000"}},{"v":0,"d":"0.0%"}]
[{"$nulls":3},">6 Ausschlusskriterien",{"v":1,"d":"1.000"},null,{"$f":"Anlageziele!$O$32","v":{"v":0,"d":"0.000"}},null,{"$f":"Nachhaltigkeit_PRISC!$H$77","v":{"v":2,"d":"2.000"}},{"v":0,"d":"0.0%"}]
[null,null,"Impact_SDG","Keine",{"v":0,"d":"0.000"},null,{"$f":"Anlageziele!$O$33","v":{"v":0,"d":"0.000"}},null,{"$f":"Nachhaltigkeit_PRISC!$H$77","v":{"v":2,"d":"2.000"}},{"v":0,"d":"0.0%"}]
[{"$nulls":3},"50-70% vom Umsatz",0.333,null,{"$f":"Anlageziele!$O$33","v":{"v":0,"d":"0.000"}},null,{"$f":"Nachhaltigkeit_PRISC!$H$77","v":{"v":2,"d":"2.000"}},{"v":0,"d":"0.0%"}]
[{"$nulls":3},"70-90% vom Umsatz",0.666,null,{"$f":"Anlageziele!$O$33","v":{"v":0,"d":"0.000"}},null,{"$f":"Nachhaltigkeit_PRISC!$H$77","v":{"v":2,"d":"2.000"}},{"v":0,"d":"0.0%"}]
[{"$nulls":3},">90% vom Umsatz",{"v":1,"d":"1.000"},null,{"$f":"Anlageziele!$O$33","v":{"v":0,"d":"0.000"}},null,{"$f":"Nachhaltigkeit_PRISC!$H$77","v":{"v":2,"d":"2.000"}},{"v":0,"d":"0.0%"}]
[null,null,"ESG_Messmethode","Keine",{"v":0,"d":"0.000"},null,{"$f":"Anlageziele!$O$34","v":{"v":0,"d":"0.000"}},null,{"$f":"Nachhaltigkeit_PRISC!$H$77","v":{"v":2,"d":"2.000"}},{"v":0,"d":"0.0%"}]
[{"$nulls":3},"aggreg. o. Mindestscoring",0.333,null,{"$f":"Anlageziele!$O$34","v":{"v":0,"d":"0.000"}},null,{"$f":"Nachhaltigkeit_PRISC!$H$77","v":{"v":2,"d":"2.000"}},{"v":0,"d":"0.0%"}]
[{"$nulls":3},"aggreg. m. Mindestscoring",0.666,null,{"$f":"Anlageziele!$O$34","v":{"v":0,"d":"0.000"}},null,{"$f":"Nachhaltigkeit_PRISC!$H$77","v":{"v":2,"d":"2.000"}},{"v":0,"d":"0.0%"}]
[{"$nulls":3},"E, S, G separat m. Mindestscoring",{"v":1,"d":"1.000"},null,{"$f":"Anlageziele!$O$34","v":{"v":0,"d":"0.000"}},null,{"$f":"Nachhaltigkeit_PRISC!$H$77","v":{"v":2,"d":"2.000"}},{"v":0,"d":"0.0%"}]
[null,null,"Best_of_Univese_Best_in_Class","Keine",{"v":0,"d":"0.000"},null,{"$f":"Anlageziele!$O$35","v":{"v":0,"d":"0.000"}},null,{"$f":"Nachhaltigkeit_PRISC!$H$77","v":{"v":2,"d":"2.000"}},{"v":0,"d":"0.0%"}]
[{"$nulls":3},"Nur Best-in-Class",0.333,null,{"$f":"Anlageziele!$O$35","v":{"v":0,"d":"0.000"}},null,{"$f":"Nachhaltigkeit_PRISC!$H$77","v":{"v":2,"d":"2.000"}},{"v":0,"d":"0.0%"}]
[{"$nulls":3},"Mischung aus BiC/BoU",0.666,null,{"$f":"Anlageziele!$O$35","v":{"v":0,"d":"0.000"}},null,{"$f":"Nachhaltigkeit_PRISC!$H$77","v":{"v":2,"d":"2.000"}},{"v":0,"d":"0.0%"}]
[{"$nulls":3},"Best-of-Universe",{"v":1,"d":"1.000"},null,{"$f":"Anlageziele!$O$35","v":{"v":0,"d":"0.000"}},null,{"$f":"Nachhaltigkeit_PRISC!$H$77","v":{"v":2,"d":"2.000"}},{"v":0,"d":"0.0%"}]
[null,null,"ESG_Top","Keine",{"v":0,"d":"0.000"},null,{"$f":"Anlageziele!$O$36","v":{"v":0,"d":"0.000"}},null,{"$f":"Nachhaltigkeit_PRISC!$H$77","v":{"v":2,"d":"2.000"}},{"v":0,"d":"0.0%"}]
[{"$nulls":3},"<20% 'Schlechteste' ausgeschl.",0.333,null,{"$f":"Anlageziele!$O$36","v":{"v":0,"d":"0.000"}},null,{"$f":"Nachhaltigkeit_PRISC!$H$77","v":{"v":2,"d":"2.000"}},{"v":0,"d":"0.0%"}]
[{"$nulls":3},"20-50% 'Schlechteste' ausgeschl.",0.666,null,{"$f":"Anlageziele!$O$36","v":{"v":0,"d":"0.000"}},null,{"$f":"Nachhaltigkeit_PRISC!$H$77","v":{"v":2,"d":"2.000"}},{"v":0,"d":"0.0%"}]
[{"$nulls":3},">50% 'Schlechteste' ausgeschl.",{"v":1,"d":"1.000"},null,{"$f":"Anlageziele!$O$36","v":{"v":0,"d":"0.000"}},null,{"$f":"Nachhaltigkeit_PRISC!$H$77","v":{"v":2,"d":"2.000"}},{"v":0,"d":"0.0%"}]
[null,null,"ESG_Frequenz","Keine",{"v":0,"d":"0.000"},null,{"$f":"Anlageziele!$O$37","v":{"v":0,"d":"0.000"}},null,{"$f":"Nachhaltigkeit_PRISC!$H$77","v":{"v":2,"d":"2.000"}},{"v":0,"d":"0.0%"}]
[{"$nulls":3},"Seltener als monatl.",0.333,null,{"$f":"Anlageziele!$O$37","v":{"v":0,"d":"0.000"}},null,{"$f":"Nachhaltigkeit_PRISC!$H$77","v":{"v":2,"d":"2.000"}},{"v":0,"d":"0.0%"}]
[{"$nulls":3},"Monatlich",0.666,null,{"$f":"Anlageziele!$O$37","v":{"v":0,"d":"0.000"}},null,{"$f":"Nachhaltigkeit_PRISC!$H$77","v":{"v":2,"d":"2.000"}},{"v":0,"d":"0.0%"}]
[{"$nulls":3},"Häufiger als monatl.",{"v":1,"d":"1.000"},null,{"$f":"Anlageziele!$O$37","v":{"v":0,"d":"0.000"}},null,{"$f":"Nachhaltigkeit_PRISC!$H$77","v":{"v":2,"d":"2.000"}},{"v":0,"d":"0.0%"}]
[null,null,"Stimmrechtsausübung","Keine",{"v":0,"d":"0.000"},null,{"$f":"Anlageziele!$O$38","v":{"v":0,"d":"0.000"}},null,{"$f":"Nachhaltigkeit_PRISC!$H$77","v":{"v":2,"d":"2.000"}},{"v":0,"d":"0.0%"}]
[{"$nulls":3},"<25% d. ESG-Voting fokussiert",0.333,null,{"$f":"Anlageziele!$O$38","v":{"v":0,"d":"0.000"}},null,{"$f":"Nachhaltigkeit_PRISC!$H$77","v":{"v":2,"d":"2.000"}},{"v":0,"d":"0.0%"}]
[{"$nulls":3},"25-50% d. ESG-Voting fokussiert",0.666,null,{"$f":"Anlageziele!$O$38","v":{"v":0,"d":"0.000"}},null,{"$f":"Nachhaltigkeit_PRISC!$H$77","v":{"v":2,"d":"2.000"}},{"v":0,"d":"0.0%"}]
[{"$nulls":3},">50% d. ESG-Voting fokussiert",{"v":1,"d":"1.000"},null,{"$f":"Anlageziele!$O$38","v":{"v":0,"d":"0.000"}},null,{"$f":"Nachhaltigkeit_PRISC!$H$77","v":{"v":2,"d":"2.000"}},{"v":0,"d":"0.0%"}]
[null,null,"Engagement","Keine",{"v":0,"d":"0.000"},null,{"$f":"Anlageziele!$O$39","v":{"v":0,"d":"0.000"}},null,{"$f":"Nachhaltigkeit_PRISC!$H$77","v":{"v":2,"d":"2.000"}},{"v":0,"d":"0.0%"}]
[{"$nulls":3},"Mgt. oder AR oder HV",0.333,null,{"$f":"Anlageziele!$O$39","v":{"v":0,"d":"0.000"}},null,{"$f":"Nachhaltigkeit_PRISC!$H$77","v":{"v":2,"d":"2.000"}},{"v":0,"d":"0.0%"}]
[{"$nulls":3},"2 von Mgt./AR/HV",0.666,{"$f":"Anlageziele!$O$39","v":{"v":0,"d":"0.000"}},{"$f":"Nachhaltigkeit_PRISC!$H$77","v":{"v":2,"d":"2.000"}},null,{"$f":"E48*F48*G48","v":{"v":0,"d":"0.0%"}}]
[{"$nulls":3},"Mgt. und AR und HV",{"v":1,"d":"1.000"},{"$f":"Anlageziele!$O$39","v":{"v":0,"d":"0.000"}},{"$f":"Nachhaltigkeit_PRISC!$H$77","v":{"v":2,"d":"2.000"}},null,{"v":0,"d":"0.0%"}]
[]
[]
[null,"PRISC-Scoring"]
[{"$nulls":12},"PRISC-Score","PRISC-Score"]
[null,{"$f":"Vermögen!E10","v":"Nr."},{"$f":"Vermögen!F10","v":"Vermögensgegenstand (Bezeichnung)"},{"$f":"Vermögen!S10","v":"Verkehrswert"},"Ausschlusskategorien","Impact/SDG-Ziele","ESG-Messmethode","Best of Univ./in Class","ESG Top %","ESG Messfrequenz","Stimmrechtsausübg.","Engagement","absolut","gewichtet"]
[null,{"$f":"Vermögen!E11","v":"1."},{"$f":"Vermögen!F11","v":0},{"$f":"#REF!","v":{"$error":"#REF!"}},{"$f":"INDEX($D$18:$E$21,MATCH(Nachhaltigkeit_PRISC!H15,Ausschlusskategorien,0),2)*Nachhaltigkeit_PRISC!$H$13","v":{"v":0,"d":"0.0%"}},{"$f":"INDEX($D$22:$E$25,MATCH(Nachhaltigkeit_PRISC!I15,Impact_SDG,0),2)*Nachhaltigkeit_PRISC!$I$13","v":{"v":0,"d":"0.0%"}},{"$f":"INDEX($D$26:$E$29,MATCH(Nachhaltigkeit_PRISC!J15,ESG_Messmethode,0),2)*Nachhaltigkeit_PRISC!$J$13","v":{"v":0,"d":"0.0%"}},{"$f":"INDEX($D$30:$E$33,MATCH(Nachhaltigkeit_PRISC!K15,Best_of_Universe_Best_in_Class,0),2)*Nachhaltigkeit_PRISC!$K$13","v":{"v":0,"d":"0.0%"}},{"$f":"INDEX($D$34:$E$37,MATCH(Nachhaltigkeit_PRISC!L15,ESG_Top,0),2)*Nachhaltigkeit_PRISC!$L$13","v":{"v":0,"d":"0.0%"}},{"$f":"INDEX($D$38:$E$41,MATCH(Nachhaltigkeit_PRISC!M15,ESG_Frequenz,0),2)*Nachhaltigkeit_PRISC!$M$13","v":{"v":0,"d":"0.0%"}},{"$f":"INDEX($D$42:$E$45,MATCH(Nachhaltigkeit_PRISC!N15,Stimmrechtsausübung,0),2)*Nachhaltigkeit_PRISC!$N$13","v":{"v":0,"d":"0.0%"}},{"$f":"INDEX($D$46:$E$49,MATCH(Nachhaltigkeit_PRISC!O15,Engagement,0),2)*Nachhaltigkeit_PRISC!$O$13","v":{"v":0,"d":"0.0%"}},{"$f":"SUM(E55:L55)","v":{"v":0,"d":"0.0%"}},{"$f":"M55*D55/$D$92","v":{"$error":"#REF!"}}]
[null,{"$f":"Vermögen!E12","v":"2."},{"$f":"Vermögen!F12","v":0},{"$f":"Vermögen!S12","v":0},{"$f":"INDEX($D$18:$E$21,MATCH(Nachhaltigkeit_PRISC!H16,Ausschlusskategorien,0),2)*Nachhaltigkeit_PRISC!$H$13","v":{"v":0,"d":"0.0%"}},{"$f":"INDEX($D$22:$E$25,MATCH(Nachhaltigkeit_PRISC!I16,Impact_SDG,0),2)*Nachhaltigkeit_PRISC!$I$13","v":{"v":0,"d":"0.0%"}},{"$f":"INDEX($D$26:$E$29,MATCH(Nachhaltigkeit_PRISC!J16,ESG_Messmethode,0),2)*Nachhaltigkeit_PRISC!$J$13","v":{"v":0,"d":"0.0%"}},{"$f":"INDEX($D$30:$E$33,MATCH(Nachhaltigkeit_PRISC!K16,Best_of_Universe_Best_in_Class,0),2)*Nachhaltigkeit_PRISC!$K$13","v":{"v":0,"d":"0.0%"}},{"$f":"INDEX($D$34:$E$37,MATCH(Nachhaltigkeit_PRISC!L16,ESG_Top,0),2)*Nachhaltigkeit_PRISC!$L$13","v":{"v":0,"d":"0.0%"}},{"$f":"INDEX($D$38:$E$41,MATCH(Nachhaltigkeit_PRISC!M16,ESG_Frequenz,0),2)*Nachhaltigkeit_PRISC!$M$13","v":{"v":0,"d":"0.0%"}},{"$f":"INDEX($D$42:$E$45,MATCH(Nachhaltigkeit_PRISC!N16,Stimmrechtsausübung,0),2)*Nachhaltigkeit_PRISC!$N$13","v":{"v":0,"d":"0.0%"}},{"$f":"INDEX($D$46:$E$49,MATCH(Nachhaltigkeit_PRISC!O16,Engagement,0),2)*Nachhaltigkeit_PRISC!$O$13","v":{"v":0,"d":"0.0%"}},{"$f":"SUM(E56:L56)","v":{"v":0,"d":"0.0%"}},{"$error":"#REF!"}]
[null,{"$f":"Vermögen!E13","v":"3."},{"$f":"Vermögen!F13","v":0},{"$f":"Vermögen!S13","v":0},{"$f":"INDEX($D$18:$E$21,MATCH(Nachhaltigkeit_PRISC!H17,Ausschlusskategorien,0),2)*Nachhaltigkeit_PRISC!$H$13","v":{"v":0,"d":"0.0%"}},{"$f":"INDEX($D$22:$E$25,MATCH(Nachhaltigkeit_PRISC!I17,Impact_SDG,0),2)*Nachhaltigkeit_PRISC!$I$13","v":{"v":0,"d":"0.0%"}},{"$f":"INDEX($D$26:$E$29,MATCH(Nachhaltigkeit_PRISC!J17,ESG_Messmethode,0),2)*Nachhaltigkeit_PRISC!$J$13","v":{"v":0,"d":"0.0%"}},{"$f":"INDEX($D$30:$E$33,MATCH(Nachhaltigkeit_PRISC!K17,Best_of_Universe_Best_in_Class,0),2)*Nachhaltigkeit_PRISC!$K$13","v":{"v":0,"d":"0.0%"}},{"$f":"INDEX($D$34:$E$37,MATCH(Nachhaltigkeit_PRISC!L17,ESG_Top,0),2)*Nachhaltigkeit_PRISC!$L$13","v":{"v":0,"d":"0.0%"}},{"$f":"INDEX($D$38:$E$41,MATCH(Nachhaltigkeit_PRISC!M17,ESG_Frequenz,0),2)*Nachhaltigkeit_PRISC!$M$13","v":{"v":0,"d":"0.0%"}},{"$f":"INDEX($D$42:$E$45,MATCH(Nachhaltigkeit_PRISC!N17,Stimmrechtsausübung,0),2)*Nachhaltigkeit_PRISC!$N$13","v":{"v":0,"d":"0.0%"}},{"$f":"INDEX($D$46:$E$49,MATCH(Nachhaltigkeit_PRISC!O17,Engagement,0),2)*Nachhaltigkeit_PRISC!$O$13","v":{"v":0,"d":"0.0%"}},{"v":0,"d":"0.0%"},{"$error":"#REF!"}]
[null,{"$f":"Vermögen!E14","v":"4."},{"$f":"Vermögen!F14","v":0},{"$f":"Vermögen!S14","v":0},{"$f":"INDEX($D$18:$E$21,MATCH(Nachhaltigkeit_PRISC!H18,Ausschlusskategorien,0),2)*Nachhaltigkeit_PRISC!$H$13","v":{"v":0,"d":"0.0%"}},{"$f":"INDEX($D$22:$E$25,MATCH(Nachhaltigkeit_PRISC!I18,Impact_SDG,0),2)*Nachhaltigkeit_PRISC!$I$13","v":{"v":0,"d":"0.0%"}},{"$f":"INDEX($D$26:$E$29,MATCH(Nachhaltigkeit_PRISC!J18,ESG_Messmethode,0),2)*Nachhaltigkeit_PRISC!$J$13","v":{"v":0,"d":"0.0%"}},{"$f":"INDEX($D$30:$E$33,MATCH(Nachhaltigkeit_PRISC!K18,Best_of_Universe_Best_in_Class,0),2)*Nachhaltigkeit_PRISC!$K$13","v":{"v":0,"d":"0.0%"}},{"$f":"INDEX($D$34:$E$37,MATCH(Nachhaltigkeit_PRISC!L18,ESG_Top,0),2)*Nachhaltigkeit_PRISC!$L$13","v":{"v":0,"d":"0.0%"}},{"$f":"INDEX($D$38:$E$41,MATCH(Nachhaltigkeit_PRISC!M18,ESG_Frequenz,0),2)*Nachhaltigkeit_PRISC!$M$13","v":{"v":0,"d":"0.0%"}},{"$f":"INDEX($D$42:$E$45,MATCH(Nachhaltigkeit_PRISC!N18,Stimmrechtsausübung,0),2)*Nachhaltigkeit_PRISC!$N$13","v":{"v":0,"d":"0.0%"}},{"$f":"INDEX($D$46:$E$49,MATCH(Nachhaltigkeit_PRISC!O18,Engagement,0),2)*Nachhaltigkeit_PRISC!$O$13","v":{"v":0,"d":"0.0%"}},{"v":0,"d":"0.0%"},{"$error":"#REF!"}]
[null,{"$f":"Vermögen!E15","v":"5."},{"$f":"Vermögen!F15","v":0},{"$f":"Vermögen!S15","v":0},{"$f":"INDEX($D$18:$E$21,MATCH(Nachhaltigkeit_PRISC!H19,Ausschlusskategorien,0),2)*Nachhaltigkeit_PRISC!$H$13","v":{"v":0,"d":"0.0%"}},{"$f":"INDEX($D$22:$E$25,MATCH(Nachhaltigkeit_PRISC!I19,Impact_SDG,0),2)*Nachhaltigkeit_PRISC!$I$13","v":{"v":0,"d":"0.0%"}},{"$f":"INDEX($D$26:$E$29,MATCH(Nachhaltigkeit_PRISC!J19,ESG_Messmethode,0),2)*Nachhaltigkeit_PRISC!$J$13","v":{"v":0,"d":"0.0%"}},{"$f":"INDEX($D$30:$E$33,MATCH(Nachhaltigkeit_PRISC!K19,Best_of_Universe_Best_in_Class,0),2)*Nachhaltigkeit_PRISC!$K$13","v":{"v":0,"d":"0.0%"}},{"$f":"INDEX($D$34:$E$37,MATCH(Nachhaltigkeit_PRISC!L19,ESG_Top,0),2)*Nachhaltigkeit_PRISC!$L$13","v":{"v":0,"d":"0.0%"}},{"$f":"INDEX($D$38:$E$41,MATCH(Nachhaltigkeit_PRISC!M19,ESG_Frequenz,0),2)*Nachhaltigkeit_PRISC!$M$13","v":{"v":0,"d":"0.0%"}},{"$f":"INDEX($D$42:$E$45,MATCH(Nachhaltigkeit_PRISC!N19,Stimmrechtsausübung,0),2)*Nachhaltigkeit_PRISC!$N$13","v":{"v":0,"d":"0.0%"}},{"$f":"INDEX($D$46:$E$49,MATCH(Nachhaltigkeit_PRISC!O19,Engagement,0),2)*Nachhaltigkeit_PRISC!$O$13","v":{"v":0,"d":"0.0%"}},{"v":0,"d":"0.0%"},{"$error":"#REF!"}]
[null,{"$f":"Vermögen!E16","v":"6."},{"$f":"Vermögen!#REF!","v":{"$error":"#REF!"}},{"$f":"Vermögen!S16","v":0},{"$f":"INDEX($D$18:$E$21,MATCH(Nachhaltigkeit_PRISC!H20,Ausschlusskategorien,0),2)*Nachhaltigkeit_PRISC!$H$13","v":{"v":0,"d":"0.0%"}},{"$f":"INDEX($D$22:$E$25,MATCH(Nachhaltigkeit_PRISC!I20,Impact_SDG,0),2)*Nachhaltigkeit_PRISC!$I$13","v":{"v":0,"d":"0.0%"}},{"$f":"INDEX($D$26:$E$29,MATCH(Nachhaltigkeit_PRISC!J20,ESG_Messmethode,0),2)*Nachhaltigkeit_PRISC!$J$13","v":{"v":0,"d":"0.0%"}},{"$f":"INDEX($D$30:$E$33,MATCH(Nachhaltigkeit_PRISC!K20,Best_of_Universe_Best_in_Class,0),2)*Nachhaltigkeit_PRISC!$K$13","v":{"v":0,"d":"0.0%"}},{"$f":"INDEX($D$34:$E$37,MATCH(Nachhaltigkeit_PRISC!L20,ESG_Top,0),2)*Nachhaltigkeit_PRISC!$L$13","v":{"v":0,"d":"0.0%"}},{"$f":"INDEX($D$38:$E$41,MATCH(Nachhaltigkeit_PRISC!M20,ESG_Frequenz,0),2)*Nachhaltigkeit_PRISC!$M$13","v":{"v":0,"d":"0.0%"}},{"$f":"INDEX($D$42:$E$45,MATCH(Nachhaltigkeit_PRISC!N20,Stimmrechtsausübung,0),2)*Nachhaltigkeit_PRISC!$N$13","v":{"v":0,"d":"0.0%"}},{"$f":"INDEX($D$46:$E$49,MATCH(Nachhaltigkeit_PRISC!O20,Engagement,0),2)*Nachhaltigkeit_PRISC!$O$13","v":{"v":0,"d":"0.0%"}},{"v":0,"d":"0.0%"},{"$error":"#REF!"}]
[null,{"$f":"Vermögen!E17","v":"7."},{"$f":"Vermögen!F17","v":0},{"$f":"Vermögen!S17","v":0},{"$f":"INDEX($D$18:$E$21,MATCH(Nachhaltigkeit_PRISC!H21,Ausschlusskategorien,0),2)*Nachhaltigkeit_PRISC!$H$13","v":{"v":0,"d":"0.0%"}},{"$f":"INDEX($D$22:$E$25,MATCH(Nachhaltigkeit_PRISC!I21,Impact_SDG,0),2)*Nachhaltigkeit_PRISC!$I$13","v":{"v":0,"d":"0.0%"}},{"$f":"INDEX($D$26:$E$29,MATCH(Nachhaltigkeit_PRISC!J21,ESG_Messmethode,0),2)*Nachhaltigkeit_PRISC!$J$13","v":{"v":0,"d":"0.0%"}},{"$f":"INDEX($D$30:$E$33,MATCH(Nachhaltigkeit_PRISC!K21,Best_of_Universe_Best_in_Class,0),2)*Nachhaltigkeit_PRISC!$K$13","v":{"v":0,"d":"0.0%"}},{"$f":"INDEX($D$34:$E$37,MATCH(Nachhaltigkeit_PRISC!L21,ESG_Top,0),2)*Nachhaltigkeit_PRISC!$L$13","v":{"v":0,"d":"0.0%"}},{"$f":"INDEX($D$38:$E$41,MATCH(Nachhaltigkeit_PRISC!M21,ESG_Frequenz,0),2)*Nachhaltigkeit_PRISC!$M$13","v":{"v":0,"d":"0.0%"}},{"$f":"INDEX($D$42:$E$45,MATCH(Nachhaltigkeit_PRISC!N21,Stimmrechtsausübung,0),2)*Nachhaltigkeit_PRISC!$N$13","v":{"v":0,"d":"0.0%"}},{"$f":"INDEX($D$46:$E$49,MATCH(Nachhaltigkeit_PRISC!O21,Engagement,0),2)*Nachhaltigkeit_PRISC!$O$13","v":{"v":0,"d":"0.0%"}},{"v":0,"d":"0.0%"},{"$error":"#REF!"}]
[null,{"$f":"Vermögen!E18","v":"8."},{"$f":"Vermögen!F18","v":0},{"$f":"Vermögen!S18","v":0},{"$f":"INDEX($D$18:$E$21,MATCH(Nachhaltigkeit_PRISC!H22,Ausschlusskategorien,0),2)*Nachhaltigkeit_PRISC!$H$13","v":{"v":0,"d":"0.0%"}},{"$f":"INDEX($D$22:$E$25,MATCH(Nachhaltigkeit_PRISC!I22,Impact_SDG,0),2)*Nachhaltigkeit_PRISC!$I$13","v":{"v":0,"d":"0.0%"}},{"$f":"INDEX($D$26:$E$29,MATCH(Nachhaltigkeit_PRISC!J22,ESG_Messmethode,0),2)*Nachhaltigkeit_PRISC!$J$13","v":{"v":0,"d":"0.0%"}},{"$f":"INDEX($D$30:$E$33,MATCH(Nachhaltigkeit_PRISC!K22,Best_of_Universe_Best_in_Class,0),2)*Nachhaltigkeit_PRISC!$K$13","v":{"v":0,"d":"0.0%"}},{"$f":"INDEX($D$34:$E$37,MATCH(Nachhaltigkeit_PRISC!L22,ESG_Top,0),2)*Nachhaltigkeit_PRISC!$L$13","v":{"v":0,"d":"0.0%"}},{"$f":"INDEX($D$38:$E$41,MATCH(Nachhaltigkeit_PRISC!M22,ESG_Frequenz,0),2)*Nachhaltigkeit_PRISC!$M$13","v":{"v":0,"d":"0.0%"}},{"$f":"INDEX($D$42:$E$45,MATCH(Nachhaltigkeit_PRISC!N22,Stimmrechtsausübung,0),2)*Nachhaltigkeit_PRISC!$N$13","v":{"v":0,"d":"0.0%"}},{"$f":"INDEX($D$46:$E$49,MATCH(Nachhaltigkeit_PRISC!O22,Engagement,0),2)*Nachhaltigkeit_PRISC!$O$13","v":{"v":0,"d":"0.0%"}},{"v":0,"d":"0.0%"},{"$error":"#REF!"}]
[null,{"$f":"Vermögen!E19","v":"9."},{"$f":"Vermögen!F19","v":0},{"$f":"Vermögen!S19","v":0},{"$f":"INDEX($D$18:$E$21,MATCH(Nachhaltigkeit_PRISC!H23,Ausschlusskategorien,0),2)*Nachhaltigkeit_PRISC!$H$13","v":{"v":0,"d":"0.0%"}},{"$f":"INDEX($D$22:$E$25,MATCH(Nachhaltigkeit_PRISC!I23,Impact_SDG,0),2)*Nachhaltigkeit_PRISC!$I$13","v":{"v":0,"d":"0.0%"}},{"$f":"INDEX($D$26:$E$29,MATCH(Nachhaltigkeit_PRISC!J23,ESG_Messmethode,0),2)*Nachhaltigkeit_PRISC!$J$13","v":{"v":0,"d":"0.0%"}},{"$f":"INDEX($D$30:$E$33,MATCH(Nachhaltigkeit_PRISC!K23,Best_of_Universe_Best_in_Class,0),2)*Nachhaltigkeit_PRISC!$K$13","v":{"v":0,"d":"0.0%"}},{"$f":"INDEX($D$34:$E$37,MATCH(Nachhaltigkeit_PRISC!L23,ESG_Top,0),2)*Nachhaltigkeit_PRISC!$L$13","v":{"v":0,"d":"0.0%"}},{"$f":"INDEX($D$38:$E$41,MATCH(Nachhaltigkeit_PRISC!M23,ESG_Frequenz,0),2)*Nachhaltigkeit_PRISC!$M$13","v":{"v":0,"d":"0.0%"}},{"$f":"INDEX($D$42:$E$45,MATCH(Nachhaltigkeit_PRISC!N23,Stimmrechtsausübung,0),2)*Nachhaltigkeit_PRISC!$N$13","v":{"v":0,"d":"0.0%"}},{"$f":"INDEX($D$46:$E$49,MATCH(Nachhaltigkeit_PRISC!O23,Engagement,0),2)*Nachhaltigkeit_PRISC!$O$13","v":{"v":0,"d":"0.0%"}},{"v":0,"d":"0.0%"},{"$error":"#REF!"}]
[null,{"$f":"Vermögen!E20","v":"10."},{"$f":"Vermögen!F20","v":0},{"$f":"Vermögen!S20","v":0},{"$f":"INDEX($D$18:$E$21,MATCH(Nachhaltigkeit_PRISC!H24,Ausschlusskategorien,0),2)*Nachhaltigkeit_PRISC!$H$13","v":{"v":0,"d":"0.0%"}},{"$f":"INDEX($D$22:$E$25,MATCH(Nachhaltigkeit_PRISC!I24,Impact_SDG,0),2)*Nachhaltigkeit_PRISC!$I$13","v":{"v":0,"d":"0.0%"}},{"$f":"INDEX($D$26:$E$29,MATCH(Nachhaltigkeit_PRISC!J24,ESG_Messmethode,0),2)*Nachhaltigkeit_PRISC!$J$13","v":{"v":0,"d":"0.0%"}},{"$f":"INDEX($D$30:$E$33,MATCH(Nachhaltigkeit_PRISC!K24,Best_of_Universe_Best_in_Class,0),2)*Nachhaltigkeit_PRISC!$K$13","v":{"v":0,"d":"0.0%"}},{"$f":"INDEX($D$34:$E$37,MATCH(Nachhaltigkeit_PRISC!L24,ESG_Top,0),2)*Nachhaltigkeit_PRISC!$L$13","v":{"v":0,"d":"0.0%"}},{"$f":"INDEX($D$38:$E$41,MATCH(Nachhaltigkeit_PRISC!M24,ESG_Frequenz,0),2)*Nachhaltigkeit_PRISC!$M$13","v":{"v":0,"d":"0.0%"}},{"$f":"INDEX($D$42:$E$45,MATCH(Nachhaltigkeit_PRISC!N24,Stimmrechtsausübung,0),2)*Nachhaltigkeit_PRISC!$N$13","v":{"v":0,"d":"0.0%"}},{"$f":"INDEX($D$46:$E$49,MATCH(Nachhaltigkeit_PRISC!O24,Engagement,0),2)*Nachhaltigkeit_PRISC!$O$13","v":{"v":0,"d":"0.0%"}},{"v":0,"d":"0.0%"},{"$error":"#REF!"}]
[null,{"$f":"Vermögen!E21","v":"11."},{"$f":"Vermögen!F21","v":0},{"$f":"Vermögen!S21","v":0},{"$f":"INDEX($D$18:$E$21,MATCH(Nachhaltigkeit_PRISC!H25,Ausschlusskategorien,0),2)*Nachhaltigkeit_PRISC!$H$13","v":{"v":0,"d":"0.0%"}},{"$f":"INDEX($D$22:$E$25,MATCH(Nachhaltigkeit_PRISC!I25,Impact_SDG,0),2)*Nachhaltigkeit_PRISC!$I$13","v":{"v":0,"d":"0.0%"}},{"$f":"INDEX($D$26:$E$29,MATCH(Nachhaltigkeit_PRISC!J25,ESG_Messmethode,0),2)*Nachhaltigkeit_PRISC!$J$13","v":{"v":0,"d":"0.0%"}},{"$f":"INDEX($D$30:$E$33,MATCH(Nachhaltigkeit_PRISC!K25,Best_of_Universe_Best_in_Class,0),2)*Nachhaltigkeit_PRISC!$K$13","v":{"v":0,"d":"0.0%"}},{"$f":"INDEX($D$34:$E$37,MATCH(Nachhaltigkeit_PRISC!L25,ESG_Top,0),2)*Nachhaltigkeit_PRISC!$L$13","v":{"v":0,"d":"0.0%"}},{"$f":"INDEX($D$38:$E$41,MATCH(Nachhaltigkeit_PRISC!M25,ESG_Frequenz,0),2)*Nachhaltigkeit_PRISC!$M$13","v":{"v":0,"d":"0.0%"}},{"$f":"INDEX($D$42:$E$45,MATCH(Nachhaltigkeit_PRISC!N25,Stimmrechtsausübung,0),2)*Nachhaltigkeit_PRISC!$N$13","v":{"v":0,"d":"0.0%"}},{"$f":"INDEX($D$46:$E$49,MATCH(Nachhaltigkeit_PRISC!O25,Engagement,0),2)*Nachhaltigkeit_PRISC!$O$13","v":{"v":0,"d":"0.0%"}},{"v":0,"d":"0.0%"},{"$error":"#REF!"}]
[null,{"$f":"Vermögen!E22","v":"12."},{"$f":"Vermögen!F22","v":0},{"$f":"Vermögen!S22","v":0},{"$f":"INDEX($D$18:$E$21,MATCH(Nachhaltigkeit_PRISC!H26,Ausschlusskategorien,0),2)*Nachhaltigkeit_PRISC!$H$13","v":{"v":0,"d":"0.0%"}},{"$f":"INDEX($D$22:$E$25,MATCH(Nachhaltigkeit_PRISC!I26,Impact_SDG,0),2)*Nachhaltigkeit_PRISC!$I$13","v":{"v":0,"d":"0.0%"}},{"$f":"INDEX($D$26:$E$29,MATCH(Nachhaltigkeit_PRISC!J26,ESG_Messmethode,0),2)*Nachhaltigkeit_PRISC!$J$13","v":{"v":0,"d":"0.0%"}},{"$f":"INDEX($D$30:$E$33,MATCH(Nachhaltigkeit_PRISC!K26,Best_of_Universe_Best_in_Class,0),2)*Nachhaltigkeit_PRISC!$K$13","v":{"v":0,"d":"0.0%"}},{"$f":"INDEX($D$34:$E$37,MATCH(Nachhaltigkeit_PRISC!L26,ESG_Top,0),2)*Nachhaltigkeit_PRISC!$L$13","v":{"v":0,"d":"0.0%"}},{"$f":"INDEX($D$38:$E$41,MATCH(Nachhaltigkeit_PRISC!M26,ESG_Frequenz,0),2)*Nachhaltigkeit_PRISC!$M$13","v":{"v":0,"d":"0.0%"}},{"$f":"INDEX($D$42:$E$45,MATCH(Nachhaltigkeit_PRISC!N26,Stimmrechtsausübung,0),2)*Nachhaltigkeit_PRISC!$N$13","v":{"v":0,"d":"0.0%"}},{"$f":"INDEX($D$46:$E$49,MATCH(Nachhaltigkeit_PRISC!O26,Engagement,0),2)*Nachhaltigkeit_PRISC!$O$13","v":{"v":0,"d":"0.0%"}},{"v":0,"d":"0.0%"},{"$error":"#REF!"}]
[null,{"$f":"Vermögen!E23","v":"13."},{"$f":"Vermögen!F23","v":0},{"$f":"Vermögen!S23","v":0},{"$f":"INDEX($D$18:$E$21,MATCH(Nachhaltigkeit_PRISC!H27,Ausschlusskategorien,0),2)*Nachhaltigkeit_PRISC!$H$13","v":{"v":0,"d":"0.0%"}},{"$f":"INDEX($D$22:$E$25,MATCH(Nachhaltigkeit_PRISC!I27,Impact_SDG,0),2)*Nachhaltigkeit_PRISC!$I$13","v":{"v":0,"d":"0.0%"}},{"$f":"INDEX($D$26:$E$29,MATCH(Nachhaltigkeit_PRISC!J27,ESG_Messmethode,0),2)*Nachhaltigkeit_PRISC!$J$13","v":{"v":0,"d":"0.0%"}},{"$f":"INDEX($D$30:$E$33,MATCH(Nachhaltigkeit_PRISC!K27,Best_of_Universe_Best_in_Class,0),2)*Nachhaltigkeit_PRISC!$K$13","v":{"v":0,"d":"0.0%"}},{"$f":"INDEX($D$34:$E$37,MATCH(Nachhaltigkeit_PRISC!L27,ESG_Top,0),2)*Nachhaltigkeit_PRISC!$L$13","v":{"v":0,"d":"0.0%"}},{"$f":"INDEX($D$38:$E$41,MATCH(Nachhaltigkeit_PRISC!M27,ESG_Frequenz,0),2)*Nachhaltigkeit_PRISC!$M$13","v":{"v":0,"d":"0.0%"}},{"$f":"INDEX($D$42:$E$45,MATCH(Nachhaltigkeit_PRISC!N27,Stimmrechtsausübung,0),2)*Nachhaltigkeit_PRISC!$N$13","v":{"v":0,"d":"0.0%"}},{"$f":"INDEX($D$46:$E$49,MATCH(Nachhaltigkeit_PRISC!O27,Engagement,0),2)*Nachhaltigkeit_PRISC!$O$13","v":{"v":0,"d":"0.0%"}},{"v":0,"d":"0.0%"},{"$error":"#REF!"}]
[null,{"$f":"Vermögen!E24","v":"14."},{"$f":"Vermögen!F24","v":0},{"$f":"Vermögen!S24","v":0},{"$f":"INDEX($D$18:$E$21,MATCH(Nachhaltigkeit_PRISC!H28,Ausschlusskategorien,0),2)*Nachhaltigkeit_PRISC!$H$13","v":{"v":0,"d":"0.0%"}},{"$f":"INDEX($D$22:$E$25,MATCH(Nachhaltigkeit_PRISC!I28,Impact_SDG,0),2)*Nachhaltigkeit_PRISC!$I$13","v":{"v":0,"d":"0.0%"}},{"$f":"INDEX($D$26:$E$29,MATCH(Nachhaltigkeit_PRISC!J28,ESG_Messmethode,0),2)*Nachhaltigkeit_PRISC!$J$13","v":{"v":0,"d":"0.0%"}},{"$f":"INDEX($D$30:$E$33,MATCH(Nachhaltigkeit_PRISC!K28,Best_of_Universe_Best_in_Class,0),2)*Nachhaltigkeit_PRISC!$K$13","v":{"v":0,"d":"0.0%"}},{"$f":"INDEX($D$34:$E$37,MATCH(Nachhaltigkeit_PRISC!L28,ESG_Top,0),2)*Nachhaltigkeit_PRISC!$L$13","v":{"v":0,"d":"0.0%"}},{"$f":"INDEX($D$38:$E$41,MATCH(Nachhaltigkeit_PRISC!M28,ESG_Frequenz,0),2)*Nachhaltigkeit_PRISC!$M$13","v":{"v":0,"d":"0.0%"}},{"$f":"INDEX($D$42:$E$45,MATCH(Nachhaltigkeit_PRISC!N28,Stimmrechtsausübung,0),2)*Nachhaltigkeit_PRISC!$N$13","v":{"v":0,"d":"0.0%"}},{"$f":"INDEX($D$46:$E$49,MATCH(Nachhaltigkeit_PRISC!O28,Engagement,0),2)*Nachhaltigkeit_PRISC!$O$13","v":{"v":0,"d":"0.0%"}},{"v":0,"d":"0.0%"},{"$error":"#REF!"}]
[null,{"$f":"Vermögen!E25","v":"15."},{"$f":"Vermögen!F25","v":0},{"$f":"Vermögen!S25","v":0},{"$f":"INDEX($D$18:$E$21,MATCH(Nachhaltigkeit_PRISC!H29,Ausschlusskategorien,0),2)*Nachhaltigkeit_PRISC!$H$13","v":{"v":0,"d":"0.0%"}},{"$f":"INDEX($D$22:$E$25,MATCH(Nachhaltigkeit_PRISC!I29,Impact_SDG,0),2)*Nachhaltigkeit_PRISC!$I$13","v":{"v":0,"d":"0.0%"}},{"$f":"INDEX($D$26:$E$29,MATCH(Nachhaltigkeit_PRISC!J29,ESG_Messmethode,0),2)*Nachhaltigkeit_PRISC!$J$13","v":{"v":0,"d":"0.0%"}},{"$f":"INDEX($D$30:$E$33,MATCH(Nachhaltigkeit_PRISC!K29,Best_of_Universe_Best_in_Class,0),2)*Nachhaltigkeit_PRISC!$K$13","v":{"v":0,"d":"0.0%"}},{"$f":"INDEX($D$34:$E$37,MATCH(Nachhaltigkeit_PRISC!L29,ESG_Top,0),2)*Nachhaltigkeit_PRISC!$L$13","v":{"v":0,"d":"0.0%"}},{"$f":"INDEX($D$38:$E$41,MATCH(Nachhaltigkeit_PRISC!M29,ESG_Frequenz,0),2)*Nachhaltigkeit_PRISC!$M$13","v":{"v":0,"d":"0.0%"}},{"$f":"INDEX($D$42:$E$45,MATCH(Nachhaltigkeit_PRISC!N29,Stimmrechtsausübung,0),2)*Nachhaltigkeit_PRISC!$N$13","v":{"v":0,"d":"0.0%"}},{"$f":"INDEX($D$46:$E$49,MATCH(Nachhaltigkeit_PRISC!O29,Engagement,0),2)*Nachhaltigkeit_PRISC!$O$13","v":{"v":0,"d":"0.0%"}},{"v":0,"d":"0.0%"},{"$error":"#REF!"}]
[null,{"$f":"Vermögen!E26","v":"16."},{"$f":"Vermögen!F26","v":0},{"$f":"Vermögen!S26","v":0},{"$f":"INDEX($D$18:$E$21,MATCH(Nachhaltigkeit_PRISC!H30,Ausschlusskategorien,0),2)*Nachhaltigkeit_PRISC!$H$13","v":{"v":0,"d":"0.0%"}},{"$f":"INDEX($D$22:$E$25,MATCH(Nachhaltigkeit_PRISC!I30,Impact_SDG,0),2)*Nachhaltigkeit_PRISC!$I$13","v":{"v":0,"d":"0.0%"}},{"$f":"INDEX($D$26:$E$29,MATCH(Nachhaltigkeit_PRISC!J30,ESG_Messmethode,0),2)*Nachhaltigkeit_PRISC!$J$13","v":{"v":0,"d":"0.0%"}},{"$f":"INDEX($D$30:$E$33,MATCH(Nachhaltigkeit_PRISC!K30,Best_of_Universe_Best_in_Class,0),2)*Nachhaltigkeit_PRISC!$K$13","v":{"v":0,"d":"0.0%"}},{"$f":"INDEX($D$34:$E$37,MATCH(Nachhaltigkeit_PRISC!L30,ESG_Top,0),2)*Nachhaltigkeit_PRISC!$L$13","v":{"v":0,"d":"0.0%"}},{"$f":"INDEX($D$38:$E$41,MATCH(Nachhaltigkeit_PRISC!M30,ESG_Frequenz,0),2)*Nachhaltigkeit_PRISC!$M$13","v":{"v":0,"d":"0.0%"}},{"$f":"INDEX($D$42:$E$45,MATCH(Nachhaltigkeit_PRISC!N30,Stimmrechtsausübung,0),2)*Nachhaltigkeit_PRISC!$N$13","v":{"v":0,"d":"0.0%"}},{"$f":"INDEX($D$46:$E$49,MATCH(Nachhaltigkeit_PRISC!O30,Engagement,0),2)*Nachhaltigkeit_PRISC!$O$13","v":{"v":0,"d":"0.0%"}},{"v":0,"d":"0.0%"},{"$error":"#REF!"}]
[null,{"$f":"Vermögen!E27","v":"17."},{"$f":"Vermögen!F27","v":0},{"$f":"Vermögen!S27","v":0},{"$f":"INDEX($D$18:$E$21,MATCH(Nachhaltigkeit_PRISC!H31,Ausschlusskategorien,0),2)*Nachhaltigkeit_PRISC!$H$13","v":{"v":0,"d":"0.0%"}},{"$f":"INDEX($D$22:$E$25,MATCH(Nachhaltigkeit_PRISC!I31,Impact_SDG,0),2)*Nachhaltigkeit_PRISC!$I$13","v":{"v":0,"d":"0.0%"}},{"$f":"INDEX($D$26:$E$29,MATCH(Nachhaltigkeit_PRISC!J31,ESG_Messmethode,0),2)*Nachhaltigkeit_PRISC!$J$13","v":{"v":0,"d":"0.0%"}},{"$f":"INDEX($D$30:$E$33,MATCH(Nachhaltigkeit_PRISC!K31,Best_of_Universe_Best_in_Class,0),2)*Nachhaltigkeit_PRISC!$K$13","v":{"v":0,"d":"0.0%"}},{"$f":"INDEX($D$34:$E$37,MATCH(Nachhaltigkeit_PRISC!L31,ESG_Top,0),2)*Nachhaltigkeit_PRISC!$L$13","v":{"v":0,"d":"0.0%"}},{"$f":"INDEX($D$38:$E$41,MATCH(Nachhaltigkeit_PRISC!M31,ESG_Frequenz,0),2)*Nachhaltigkeit_PRISC!$M$13","v":{"v":0,"d":"0.0%"}},{"$f":"INDEX($D$42:$E$45,MATCH(Nachhaltigkeit_PRISC!N31,Stimmrechtsausübung,0),2)*Nachhaltigkeit_PRISC!$N$13","v":{"v":0,"d":"0.0%"}},{"$f":"INDEX($D$46:$E$49,MATCH(Nachhaltigkeit_PRISC!O31,Engagement,0),2)*Nachhaltigkeit_PRISC!$O$13","v":{"v":0,"d":"0.0%"}},{"v":0,"d":"0.0%"},{"$error":"#REF!"}]
[null,{"$f":"Vermögen!E28","v":"18."},{"$f":"Vermögen!F28","v":0},{"$f":"Vermögen!S28","v":0},{"$f":"INDEX($D$18:$E$21,MATCH(Nachhaltigkeit_PRISC!H32,Ausschlusskategorien,0),2)*Nachhaltigkeit_PRISC!$H$13","v":{"v":0,"d":"0.0%"}},{"$f":"INDEX($D$22:$E$25,MATCH(Nachhaltigkeit_PRISC!I32,Impact_SDG,0),2)*Nachhaltigkeit_PRISC!$I$13","v":{"v":0,"d":"0.0%"}},{"$f":"INDEX($D$26:$E$29,MATCH(Nachhaltigkeit_PRISC!J32,ESG_Messmethode,0),2)*Nachhaltigkeit_PRISC!$J$13","v":{"v":0,"d":"0.0%"}},{"$f":"INDEX($D$30:$E$33,MATCH(Nachhaltigkeit_PRISC!K32,Best_of_Universe_Best_in_Class,0),2)*Nachhaltigkeit_PRISC!$K$13","v":{"v":0,"d":"0.0%"}},{"$f":"INDEX($D$34:$E$37,MATCH(Nachhaltigkeit_PRISC!L32,ESG_Top,0),2)*Nachhaltigkeit_PRISC!$L$13","v":{"v":0,"d":"0.0%"}},{"$f":"INDEX($D$38:$E$41,MATCH(Nachhaltigkeit_PRISC!M32,ESG_Frequenz,0),2)*Nachhaltigkeit_PRISC!$M$13","v":{"v":0,"d":"0.0%"}},{"$f":"INDEX($D$42:$E$45,MATCH(Nachhaltigkeit_PRISC!N32,Stimmrechtsausübung,0),2)*Nachhaltigkeit_PRISC!$N$13","v":{"v":0,"d":"0.0%"}},{"$f":"INDEX($D$46:$E$49,MATCH(Nachhaltigkeit_PRISC!O32,Engagement,0),2)*Nachhaltigkeit_PRISC!$O$13","v":{"v":0,"d":"0.0%"}},{"v":0,"d":"0.0%"},{"$error":"#REF!"}]
[null,{"$f":"Vermögen!E29","v":"19."},{"$f":"Vermögen!F29","v":0},{"$f":"Vermögen!S29","v":0},{"$f":"INDEX($D$18:$E$21,MATCH(Nachhaltigkeit_PRISC!H33,Ausschlusskategorien,0),2)*Nachhaltigkeit_PRISC!$H$13","v":{"v":0,"d":"0.0%"}},{"$f":"INDEX($D$22:$E$25,MATCH(Nachhaltigkeit_PRISC!I33,Impact_SDG,0),2)*Nachhaltigkeit_PRISC!$I$13","v":{"v":0,"d":"0.0%"}},{"$f":"INDEX($D$26:$E$29,MATCH(Nachhaltigkeit_PRISC!J33,ESG_Messmethode,0),2)*Nachhaltigkeit_PRISC!$J$13","v":{"v":0,"d":"0.0%"}},{"$f":"INDEX($D$30:$E$33,MATCH(Nachhaltigkeit_PRISC!K33,Best_of_Universe_Best_in_Class,0),2)*Nachhaltigkeit_PRISC!$K$13","v":{"v":0,"d":"0.0%"}},{"$f":"INDEX($D$34:$E$37,MATCH(Nachhaltigkeit_PRISC!L33,ESG_Top,0),2)*Nachhaltigkeit_PRISC!$L$13","v":{"v":0,"d":"0.0%"}},{"$f":"INDEX($D$38:$E$41,MATCH(Nachhaltigkeit_PRISC!M33,ESG_Frequenz,0),2)*Nachhaltigkeit_PRISC!$M$13","v":{"v":0,"d":"0.0%"}},{"$f":"INDEX($D$42:$E$45,MATCH(Nachhaltigkeit_PRISC!N33,Stimmrechtsausübung,0),2)*Nachhaltigkeit_PRISC!$N$13","v":{"v":0,"d":"0.0%"}},{"$f":"INDEX($D$46:$E$49,MATCH(Nachhaltigkeit_PRISC!O33,Engagement,0),2)*Nachhaltigkeit_PRISC!$O$13","v":{"v":0,"d":"0.0%"}},{"v":0,"d":"0.0%"},{"$error":"#REF!"}]
[null,{"$f":"Vermögen!E30","v":"20."},{"$f":"Vermögen!F30","v":0},{"$f":"Vermögen!S30","v":0},{"$f":"INDEX($D$18:$E$21,MATCH(Nachhaltigkeit_PRISC!H34,Ausschlusskategorien,0),2)*Nachhaltigkeit_PRISC!$H$13","v":{"v":0,"d":"0.0%"}},{"$f":"INDEX($D$22:$E$25,MATCH(Nachhaltigkeit_PRISC!I34,Impact_SDG,0),2)*Nachhaltigkeit_PRISC!$I$13","v":{"v":0,"d":"0.0%"}},{"$f":"INDEX($D$26:$E$29,MATCH(Nachhaltigkeit_PRISC!J34,ESG_Messmethode,0),2)*Nachhaltigkeit_PRISC!$J$13","v":{"v":0,"d":"0.0%"}},{"$f":"INDEX($D$30:$E$33,MATCH(Nachhaltigkeit_PRISC!K34,Best_of_Universe_Best_in_Class,0),2)*Nachhaltigkeit_PRISC!$K$13","v":{"v":0,"d":"0.0%"}},{"$f":"INDEX($D$34:$E$37,MATCH(Nachhaltigkeit_PRISC!L34,ESG_Top,0),2)*Nachhaltigkeit_PRISC!$L$13","v":{"v":0,"d":"0.0%"}},{"$f":"INDEX($D$38:$E$41,MATCH(Nachhaltigkeit_PRISC!M34,ESG_Frequenz,0),2)*Nachhaltigkeit_PRISC!$M$13","v":{"v":0,"d":"0.0%"}},{"$f":"INDEX($D$42:$E$45,MATCH(Nachhaltigkeit_PRISC!N34,Stimmrechtsausübung,0),2)*Nachhaltigkeit_PRISC!$N$13","v":{"v":0,"d":"0.0%"}},{"$f":"INDEX($D$46:$E$49,MATCH(Nachhaltigkeit_PRISC!O34,Engagement,0),2)*Nachhaltigkeit_PRISC!$O$13","v":{"v":0,"d":"0.0%"}},{"v":0,"d":"0.0%"},{"$error":"#REF!"}]
[null,{"$f":"Vermögen!E31","v":"21."},{"$f":"Vermögen!F31","v":0},{"$f":"Vermögen!S31","v":0},{"$f":"INDEX($D$18:$E$21,MATCH(Nachhaltigkeit_PRISC!H35,Ausschlusskategorien,0),2)*Nachhaltigkeit_PRISC!$H$13","v":{"v":0,"d":"0.0%"}},{"$f":"INDEX($D$22:$E$25,MATCH(Nachhaltigkeit_PRISC!I35,Impact_SDG,0),2)*Nachhaltigkeit_PRISC!$I$13","v":{"v":0,"d":"0.0%"}},{"$f":"INDEX($D$26:$E$29,MATCH(Nachhaltigkeit_PRISC!J35,ESG_Messmethode,0),2)*Nachhaltigkeit_PRISC!$J$13","v":{"v":0,"d":"0.0%"}},{"$f":"INDEX($D$30:$E$33,MATCH(Nachhaltigkeit_PRISC!K35,Best_of_Universe_Best_in_Class,0),2)*Nachhaltigkeit_PRISC!$K$13","v":{"v":0,"d":"0.0%"}},{"$f":"INDEX($D$34:$E$37,MATCH(Nachhaltigkeit_PRISC!L35,ESG_Top,0),2)*Nachhaltigkeit_PRISC!$L$13","v":{"v":0,"d":"0.0%"}},{"$f":"INDEX($D$38:$E$41,MATCH(Nachhaltigkeit_PRISC!M35,ESG_Frequenz,0),2)*Nachhaltigkeit_PRISC!$M$13","v":{"v":0,"d":"0.0%"}},{"$f":"INDEX($D$42:$E$45,MATCH(Nachhaltigkeit_PRISC!N35,Stimmrechtsausübung,0),2)*Nachhaltigkeit_PRISC!$N$13","v":{"v":0,"d":"0.0%"}},{"$f":"INDEX($D$46:$E$49,MATCH(Nachhaltigkeit_PRISC!O35,Engagement,0),2)*Nachhaltigkeit_PRISC!$O$13","v":{"v":0,"d":"0.0%"}},{"v":0,"d":"0.0%"},{"$error":"#REF!"}]
[null,{"$f":"Vermögen!E32","v":"22."},{"$f":"Vermögen!F32","v":0},{"$f":"Vermögen!S32","v":0},{"$f":"INDEX($D$18:$E$21,MATCH(Nachhaltigkeit_PRISC!H36,Ausschlusskategorien,0),2)*Nachhaltigkeit_PRISC!$H$13","v":{"v":0,"d":"0.0%"}},{"$f":"INDEX($D$22:$E$25,MATCH(Nachhaltigkeit_PRISC!I36,Impact_SDG,0),2)*Nachhaltigkeit_PRISC!$I$13","v":{"v":0,"d":"0.0%"}},{"$f":"INDEX($D$26:$E$29,MATCH(Nachhaltigkeit_PRISC!J36,ESG_Messmethode,0),2)*Nachhaltigkeit_PRISC!$J$13","v":{"v":0,"d":"0.0%"}},{"$f":"INDEX($D$30:$E$33,MATCH(Nachhaltigkeit_PRISC!K36,Best_of_Universe_Best_in_Class,0),2)*Nachhaltigkeit_PRISC!$K$13","v":{"v":0,"d":"0.0%"}},{"$f":"INDEX($D$34:$E$37,MATCH(Nachhaltigkeit_PRISC!L36,ESG_Top,0),2)*Nachhaltigkeit_PRISC!$L$13","v":{"v":0,"d":"0.0%"}},{"$f":"INDEX($D$38:$E$41,MATCH(Nachhaltigkeit_PRISC!M36,ESG_Frequenz,0),2)*Nachhaltigkeit_PRISC!$M$13","v":{"v":0,"d":"0.0%"}},{"$f":"INDEX($D$42:$E$45,MATCH(Nachhaltigkeit_PRISC!N36,Stimmrechtsausübung,0),2)*Nachhaltigkeit_PRISC!$N$13","v":{"v":0,"d":"0.0%"}},{"$f":"INDEX($D$46:$E$49,MATCH(Nachhaltigkeit_PRISC!O36,Engagement,0),2)*Nachhaltigkeit_PRISC!$O$13","v":{"v":0,"d":"0.0%"}},{"v":0,"d":"0.0%"},{"$error":"#REF!"}]
[null,{"$f":"Vermögen!E33","v":"23."},{"$f":"Vermögen!F33","v":0},{"$f":"Vermögen!S33","v":0},{"$f":"INDEX($D$18:$E$21,MATCH(Nachhaltigkeit_PRISC!H37,Ausschlusskategorien,0),2)*Nachhaltigkeit_PRISC!$H$13","v":{"v":0,"d":"0.0%"}},{"$f":"INDEX($D$22:$E$25,MATCH(Nachhaltigkeit_PRISC!I37,Impact_SDG,0),2)*Nachhaltigkeit_PRISC!$I$13","v":{"v":0,"d":"0.0%"}},{"$f":"INDEX($D$26:$E$29,MATCH(Nachhaltigkeit_PRISC!J37,ESG_Messmethode,0),2)*Nachhaltigkeit_PRISC!$J$13","v":{"v":0,"d":"0.0%"}},{"$f":"INDEX($D$30:$E$33,MATCH(Nachhaltigkeit_PRISC!K37,Best_of_Universe_Best_in_Class,0),2)*Nachhaltigkeit_PRISC!$K$13","v":{"v":0,"d":"0.0%"}},{"$f":"INDEX($D$34:$E$37,MATCH(Nachhaltigkeit_PRISC!L37,ESG_Top,0),2)*Nachhaltigkeit_PRISC!$L$13","v":{"v":0,"d":"0.0%"}},{"$f":"INDEX($D$38:$E$41,MATCH(Nachhaltigkeit_PRISC!M37,ESG_Frequenz,0),2)*Nachhaltigkeit_PRISC!$M$13","v":{"v":0,"d":"0.0%"}},{"$f":"INDEX($D$42:$E$45,MATCH(Nachhaltigkeit_PRISC!N37,Stimmrechtsausübung,0),2)*Nachhaltigkeit_PRISC!$N$13","v":{"v":0,"d":"0.0%"}},{"$f":"INDEX($D$46:$E$49,MATCH(Nachhaltigkeit_PRISC!O37,Engagement,0),2)*Nachhaltigkeit_PRISC!$O$13","v":{"v":0,"d":"0.0%"}},{"v":0,"d":"0.0%"},{"$error":"#REF!"}]
[null,{"$f":"Vermögen!E34","v":"24."},{"$f":"Vermögen!F34","v":0},{"$f":"Vermögen!S34","v":0},{"$f":"INDEX($D$18:$E$21,MATCH(Nachhaltigkeit_PRISC!H38,Ausschlusskategorien,0),2)*Nachhaltigkeit_PRISC!$H$13","v":{"v":0,"d":"0.0%"}},{"$f":"INDEX($D$22:$E$25,MATCH(Nachhaltigkeit_PRISC!I38,Impact_SDG,0),2)*Nachhaltigkeit_PRISC!$I$13","v":{"v":0,"d":"0.0%"}},{"$f":"INDEX($D$26:$E$29,MATCH(Nachhaltigkeit_PRISC!J38,ESG_Messmethode,0),2)*Nachhaltigkeit_PRISC!$J$13","v":{"v":0,"d":"0.0%"}},{"$f":"INDEX($D$30:$E$33,MATCH(Nachhaltigkeit_PRISC!K38,Best_of_Universe_Best_in_Class,0),2)*Nachhaltigkeit_PRISC!$K$13","v":{"v":0,"d":"0.0%"}},{"$f":"INDEX($D$34:$E$37,MATCH(Nachhaltigkeit_PRISC!L38,ESG_Top,0),2)*Nachhaltigkeit_PRISC!$L$13","v":{"v":0,"d":"0.0%"}},{"$f":"INDEX($D$38:$E$41,MATCH(Nachhaltigkeit_PRISC!M38,ESG_Frequenz,0),2)*Nachhaltigkeit_PRISC!$M$13","v":{"v":0,"d":"0.0%"}},{"$f":"INDEX($D$42:$E$45,MATCH(Nachhaltigkeit_PRISC!N38,Stimmrechtsausübung,0),2)*Nachhaltigkeit_PRISC!$N$13","v":{"v":0,"d":"0.0%"}},{"$f":"INDEX($D$46:$E$49,MATCH(Nachhaltigkeit_PRISC!O38,Engagement,0),2)*Nachhaltigkeit_PRISC!$O$13","v":{"v":0,"d":"0.0%"}},{"v":0,"d":"0.0%"},{"$error":"#REF!"}]
[null,{"$f":"Vermögen!E35","v":"25."},{"$f":"Vermögen!F35","v":0},{"$f":"Vermögen!S35","v":0},{"$f":"INDEX($D$18:$E$21,MATCH(Nachhaltigkeit_PRISC!H39,Ausschlusskategorien,0),2)*Nachhaltigkeit_PRISC!$H$13","v":{"v":0,"d":"0.0%"}},{"$f":"INDEX($D$22:$E$25,MATCH(Nachhaltigkeit_PRISC!I39,Impact_SDG,0),2)*Nachhaltigkeit_PRISC!$I$13","v":{"v":0,"d":"0.0%"}},{"$f":"INDEX($D$26:$E$29,MATCH(Nachhaltigkeit_PRISC!J39,ESG_Messmethode,0),2)*Nachhaltigkeit_PRISC!$J$13","v":{"v":0,"d":"0.0%"}},{"$f":"INDEX($D$30:$E$33,MATCH(Nachhaltigkeit_PRISC!K39,Best_of_Universe_Best_in_Class,0),2)*Nachhaltigkeit_PRISC!$K$13","v":{"v":0,"d":"0.0%"}},{"$f":"INDEX($D$34:$E$37,MATCH(Nachhaltigkeit_PRISC!L39,ESG_Top,0),2)*Nachhaltigkeit_PRISC!$L$13","v":{"v":0,"d":"0.0%"}},{"$f":"INDEX($D$38:$E$41,MATCH(Nachhaltigkeit_PRISC!M39,ESG_Frequenz,0),2)*Nachhaltigkeit_PRISC!$M$13","v":{"v":0,"d":"0.0%"}},{"$f":"INDEX($D$42:$E$45,MATCH(Nachhaltigkeit_PRISC!N39,Stimmrechtsausübung,0),2)*Nachhaltigkeit_PRISC!$N$13","v":{"v":0,"d":"0.0%"}},{"$f":"INDEX($D$46:$E$49,MATCH(Nachhaltigkeit_PRISC!O39,Engagement,0),2)*Nachhaltigkeit_PRISC!$O$13","v":{"v":0,"d":"0.0%"}},{"v":0,"d":"0.0%"},{"$error":"#REF!"}]
[null,{"$f":"Vermögen!E36","v":"26."},{"$f":"Vermögen!F36","v":0},{"$f":"Vermögen!S36","v":0},{"$f":"INDEX($D$18:$E$21,MATCH(Nachhaltigkeit_PRISC!H40,Ausschlusskategorien,0),2)*Nachhaltigkeit_PRISC!$H$13","v":{"v":0,"d":"0.0%"}},{"$f":"INDEX($D$22:$E$25,MATCH(Nachhaltigkeit_PRISC!I40,Impact_SDG,0),2)*Nachhaltigkeit_PRISC!$I$13","v":{"v":0,"d":"0.0%"}},{"$f":"INDEX($D$26:$E$29,MATCH(Nachhaltigkeit_PRISC!J40,ESG_Messmethode,0),2)*Nachhaltigkeit_PRISC!$J$13","v":{"v":0,"d":"0.0%"}},{"$f":"INDEX($D$30:$E$33,MATCH(Nachhaltigkeit_PRISC!K40,Best_of_Universe_Best_in_Class,0),2)*Nachhaltigkeit_PRISC!$K$13","v":{"v":0,"d":"0.0%"}},{"$f":"INDEX($D$34:$E$37,MATCH(Nachhaltigkeit_PRISC!L40,ESG_Top,0),2)*Nachhaltigkeit_PRISC!$L$13","v":{"v":0,"d":"0.0%"}},{"$f":"INDEX($D$38:$E$41,MATCH(Nachhaltigkeit_PRISC!M40,ESG_Frequenz,0),2)*Nachhaltigkeit_PRISC!$M$13","v":{"v":0,"d":"0.0%"}},{"$f":"INDEX($D$42:$E$45,MATCH(Nachhaltigkeit_PRISC!N40,Stimmrechtsausübung,0),2)*Nachhaltigkeit_PRISC!$N$13","v":{"v":0,"d":"0.0%"}},{"$f":"INDEX($D$46:$E$49,MATCH(Nachhaltigkeit_PRISC!O40,Engagement,0),2)*Nachhaltigkeit_PRISC!$O$13","v":{"v":0,"d":"0.0%"}},{"v":0,"d":"0.0%"},{"$error":"#REF!"}]
[null,{"$f":"Vermögen!E37","v":"27."},{"$f":"Vermögen!F37","v":0},{"$f":"Vermögen!S37","v":0},{"$f":"INDEX($D$18:$E$21,MATCH(Nachhaltigkeit_PRISC!H41,Ausschlusskategorien,0),2)*Nachhaltigkeit_PRISC!$H$13","v":{"v":0,"d":"0.0%"}},{"$f":"INDEX($D$22:$E$25,MATCH(Nachhaltigkeit_PRISC!I41,Impact_SDG,0),2)*Nachhaltigkeit_PRISC!$I$13","v":{"v":0,"d":"0.0%"}},{"$f":"INDEX($D$26:$E$29,MATCH(Nachhaltigkeit_PRISC!J41,ESG_Messmethode,0),2)*Nachhaltigkeit_PRISC!$J$13","v":{"v":0,"d":"0.0%"}},{"$f":"INDEX($D$30:$E$33,MATCH(Nachhaltigkeit_PRISC!K41,Best_of_Universe_Best_in_Class,0),2)*Nachhaltigkeit_PRISC!$K$13","v":{"v":0,"d":"0.0%"}},{"$f":"INDEX($D$34:$E$37,MATCH(Nachhaltigkeit_PRISC!L41,ESG_Top,0),2)*Nachhaltigkeit_PRISC!$L$13","v":{"v":0,"d":"0.0%"}},{"$f":"INDEX($D$38:$E$41,MATCH(Nachhaltigkeit_PRISC!M41,ESG_Frequenz,0),2)*Nachhaltigkeit_PRISC!$M$13","v":{"v":0,"d":"0.0%"}},{"$f":"INDEX($D$42:$E$45,MATCH(Nachhaltigkeit_PRISC!N41,Stimmrechtsausübung,0),2)*Nachhaltigkeit_PRISC!$N$13","v":{"v":0,"d":"0.0%"}},{"$f":"INDEX($D$46:$E$49,MATCH(Nachhaltigkeit_PRISC!O41,Engagement,0),2)*Nachhaltigkeit_PRISC!$O$13","v":{"v":0,"d":"0.0%"}},{"v":0,"d":"0.0%"},{"$error":"#REF!"}]
[null,{"$f":"Vermögen!E38","v":"28."},{"$f":"Vermögen!F38","v":0},{"$f":"Vermögen!S38","v":0},{"$f":"INDEX($D$18:$E$21,MATCH(Nachhaltigkeit_PRISC!H42,Ausschlusskategorien,0),2)*Nachhaltigkeit_PRISC!$H$13","v":{"v":0,"d":"0.0%"}},{"$f":"INDEX($D$22:$E$25,MATCH(Nachhaltigkeit_PRISC!I42,Impact_SDG,0),2)*Nachhaltigkeit_PRISC!$I$13","v":{"v":0,"d":"0.0%"}},{"$f":"INDEX($D$26:$E$29,MATCH(Nachhaltigkeit_PRISC!J42,ESG_Messmethode,0),2)*Nachhaltigkeit_PRISC!$J$13","v":{"v":0,"d":"0.0%"}},{"$f":"INDEX($D$30:$E$33,MATCH(Nachhaltigkeit_PRISC!K42,Best_of_Universe_Best_in_Class,0),2)*Nachhaltigkeit_PRISC!$K$13","v":{"v":0,"d":"0.0%"}},{"$f":"INDEX($D$34:$E$37,MATCH(Nachhaltigkeit_PRISC!L42,ESG_Top,0),2)*Nachhaltigkeit_PRISC!$L$13","v":{"v":0,"d":"0.0%"}},{"$f":"INDEX($D$38:$E$41,MATCH(Nachhaltigkeit_PRISC!M42,ESG_Frequenz,0),2)*Nachhaltigkeit_PRISC!$M$13","v":{"v":0,"d":"0.0%"}},{"$f":"INDEX($D$42:$E$45,MATCH(Nachhaltigkeit_PRISC!N42,Stimmrechtsausübung,0),2)*Nachhaltigkeit_PRISC!$N$13","v":{"v":0,"d":"0.0%"}},{"$f":"INDEX($D$46:$E$49,MATCH(Nachhaltigkeit_PRISC!O42,Engagement,0),2)*Nachhaltigkeit_PRISC!$O$13","v":{"v":0,"d":"0.0%"}},{"v":0,"d":"0.0%"},{"$error":"#REF!"}]
[null,{"$f":"Vermögen!E39","v":"29."},{"$f":"Vermögen!F39","v":0},{"$f":"Vermögen!S39","v":0},{"$f":"INDEX($D$18:$E$21,MATCH(Nachhaltigkeit_PRISC!H43,Ausschlusskategorien,0),2)*Nachhaltigkeit_PRISC!$H$13","v":{"v":0,"d":"0.0%"}},{"$f":"INDEX($D$22:$E$25,MATCH(Nachhaltigkeit_PRISC!I43,Impact_SDG,0),2)*Nachhaltigkeit_PRISC!$I$13","v":{"v":0,"d":"0.0%"}},{"$f":"INDEX($D$26:$E$29,MATCH(Nachhaltigkeit_PRISC!J43,ESG_Messmethode,0),2)*Nachhaltigkeit_PRISC!$J$13","v":{"v":0,"d":"0.0%"}},{"$f":"INDEX($D$30:$E$33,MATCH(Nachhaltigkeit_PRISC!K43,Best_of_Universe_Best_in_Class,0),2)*Nachhaltigkeit_PRISC!$K$13","v":{"v":0,"d":"0.0%"}},{"$f":"INDEX($D$34:$E$37,MATCH(Nachhaltigkeit_PRISC!L43,ESG_Top,0),2)*Nachhaltigkeit_PRISC!$L$13","v":{"v":0,"d":"0.0%"}},{"$f":"INDEX($D$38:$E$41,MATCH(Nachhaltigkeit_PRISC!M43,ESG_Frequenz,0),2)*Nachhaltigkeit_PRISC!$M$13","v":{"v":0,"d":"0.0%"}},{"$f":"INDEX($D$42:$E$45,MATCH(Nachhaltigkeit_PRISC!N43,Stimmrechtsausübung,0),2)*Nachhaltigkeit_PRISC!$N$13","v":{"v":0,"d":"0.0%"}},{"$f":"INDEX($D$46:$E$49,MATCH(Nachhaltigkeit_PRISC!O43,Engagement,0),2)*Nachhaltigkeit_PRISC!$O$13","v":{"v":0,"d":"0.0%"}},{"v":0,"d":"0.0%"},{"$error":"#REF!"}]
[null,{"$f":"Vermögen!E40","v":"30."},{"$f":"Vermögen!F40","v":0},{"$f":"Vermögen!S40","v":0},{"$f":"INDEX($D$18:$E$21,MATCH(Nachhaltigkeit_PRISC!H44,Ausschlusskategorien,0),2)*Nachhaltigkeit_PRISC!$H$13","v":{"v":0,"d":"0.0%"}},{"$f":"INDEX($D$22:$E$25,MATCH(Nachhaltigkeit_PRISC!I44,Impact_SDG,0),2)*Nachhaltigkeit_PRISC!$I$13","v":{"v":0,"d":"0.0%"}},{"$f":"INDEX($D$26:$E$29,MATCH(Nachhaltigkeit_PRISC!J44,ESG_Messmethode,0),2)*Nachhaltigkeit_PRISC!$J$13","v":{"v":0,"d":"0.0%"}},{"$f":"INDEX($D$30:$E$33,MATCH(Nachhaltigkeit_PRISC!K44,Best_of_Universe_Best_in_Class,0),2)*Nachhaltigkeit_PRISC!$K$13","v":{"v":0,"d":"0.0%"}},{"$f":"INDEX($D$34:$E$37,MATCH(Nachhaltigkeit_PRISC!L44,ESG_Top,0),2)*Nachhaltigkeit_PRISC!$L$13","v":{"v":0,"d":"0.0%"}},{"$f":"INDEX($D$38:$E$41,MATCH(Nachhaltigkeit_PRISC!M44,ESG_Frequenz,0),2)*Nachhaltigkeit_PRISC!$M$13","v":{"v":0,"d":"0.0%"}},{"$f":"INDEX($D$42:$E$45,MATCH(Nachhaltigkeit_PRISC!N44,Stimmrechtsausübung,0),2)*Nachhaltigkeit_PRISC!$N$13","v":{"v":0,"d":"0.0%"}},{"$f":"INDEX($D$46:$E$49,MATCH(Nachhaltigkeit_PRISC!O44,Engagement,0),2)*Nachhaltigkeit_PRISC!$O$13","v":{"v":0,"d":"0.0%"}},{"v":0,"d":"0.0%"},{"$error":"#REF!"}]
[null,{"$f":"Vermögen!E41","v":"31."},{"$f":"Vermögen!F41","v":0},{"$f":"Vermögen!S41","v":0},{"$f":"INDEX($D$18:$E$21,MATCH(Nachhaltigkeit_PRISC!H45,Ausschlusskategorien,0),2)*Nachhaltigkeit_PRISC!$H$13","v":{"v":0,"d":"0.0%"}},{"$f":"INDEX($D$22:$E$25,MATCH(Nachhaltigkeit_PRISC!I45,Impact_SDG,0),2)*Nachhaltigkeit_PRISC!$I$13","v":{"v":0,"d":"0.0%"}},{"$f":"INDEX($D$26:$E$29,MATCH(Nachhaltigkeit_PRISC!J45,ESG_Messmethode,0),2)*Nachhaltigkeit_PRISC!$J$13","v":{"v":0,"d":"0.0%"}},{"$f":"INDEX($D$30:$E$33,MATCH(Nachhaltigkeit_PRISC!K45,Best_of_Universe_Best_in_Class,0),2)*Nachhaltigkeit_PRISC!$K$13","v":{"v":0,"d":"0.0%"}},{"$f":"INDEX($D$34:$E$37,MATCH(Nachhaltigkeit_PRISC!L45,ESG_Top,0),2)*Nachhaltigkeit_PRISC!$L$13","v":{"v":0,"d":"0.0%"}},{"$f":"INDEX($D$38:$E$41,MATCH(Nachhaltigkeit_PRISC!M45,ESG_Frequenz,0),2)*Nachhaltigkeit_PRISC!$M$13","v":{"v":0,"d":"0.0%"}},{"$f":"INDEX($D$42:$E$45,MATCH(Nachhaltigkeit_PRISC!N45,Stimmrechtsausübung,0),2)*Nachhaltigkeit_PRISC!$N$13","v":{"v":0,"d":"0.0%"}},{"$f":"INDEX($D$46:$E$49,MATCH(Nachhaltigkeit_PRISC!O45,Engagement,0),2)*Nachhaltigkeit_PRISC!$O$13","v":{"v":0,"d":"0.0%"}},{"v":0,"d":"0.0%"},{"$error":"#REF!"}]
[null,{"$f":"Vermögen!E42","v":"32."},{"$f":"Vermögen!F42","v":0},{"$f":"Vermögen!S42","v":0},{"$f":"INDEX($D$18:$E$21,MATCH(Nachhaltigkeit_PRISC!H46,Ausschlusskategorien,0),2)*Nachhaltigkeit_PRISC!$H$13","v":{"v":0,"d":"0.0%"}},{"$f":"INDEX($D$22:$E$25,MATCH(Nachhaltigkeit_PRISC!I46,Impact_SDG,0),2)*Nachhaltigkeit_PRISC!$I$13","v":{"v":0,"d":"0.0%"}},{"$f":"INDEX($D$26:$E$29,MATCH(Nachhaltigkeit_PRISC!J46,ESG_Messmethode,0),2)*Nachhaltigkeit_PRISC!$J$13","v":{"v":0,"d":"0.0%"}},{"$f":"INDEX($D$30:$E$33,MATCH(Nachhaltigkeit_PRISC!K46,Best_of_Universe_Best_in_Class,0),2)*Nachhaltigkeit_PRISC!$K$13","v":{"v":0,"d":"0.0%"}},{"$f":"INDEX($D$34:$E$37,MATCH(Nachhaltigkeit_PRISC!L46,ESG_Top,0),2)*Nachhaltigkeit_PRISC!$L$13","v":{"v":0,"d":"0.0%"}},{"$f":"INDEX($D$38:$E$41,MATCH(Nachhaltigkeit_PRISC!M46,ESG_Frequenz,0),2)*Nachhaltigkeit_PRISC!$M$13","v":{"v":0,"d":"0.0%"}},{"$f":"INDEX($D$42:$E$45,MATCH(Nachhaltigkeit_PRISC!N46,Stimmrechtsausübung,0),2)*Nachhaltigkeit_PRISC!$N$13","v":{"v":0,"d":"0.0%"}},{"$f":"INDEX($D$46:$E$49,MATCH(Nachhaltigkeit_PRISC!O46,Engagement,0),2)*Nachhaltigkeit_PRISC!$O$13","v":{"v":0,"d":"0.0%"}},{"v":0,"d":"0.0%"},{"$error":"#REF!"}]
[null,{"$f":"Vermögen!E43","v":"33."},{"$f":"Vermögen!F43","v":0},{"$f":"Vermögen!S43","v":0},{"$f":"INDEX($D$18:$E$21,MATCH(Nachhaltigkeit_PRISC!H47,Ausschlusskategorien,0),2)*Nachhaltigkeit_PRISC!$H$13","v":{"v":0,"d":"0.0%"}},{"$f":"INDEX($D$22:$E$25,MATCH(Nachhaltigkeit_PRISC!I47,Impact_SDG,0),2)*Nachhaltigkeit_PRISC!$I$13","v":{"v":0,"d":"0.0%"}},{"$f":"INDEX($D$26:$E$29,MATCH(Nachhaltigkeit_PRISC!J47,ESG_Messmethode,0),2)*Nachhaltigkeit_PRISC!$J$13","v":{"v":0,"d":"0.0%"}},{"$f":"INDEX($D$30:$E$33,MATCH(Nachhaltigkeit_PRISC!K47,Best_of_Universe_Best_in_Class,0),2)*Nachhaltigkeit_PRISC!$K$13","v":{"v":0,"d":"0.0%"}},{"$f":"INDEX($D$34:$E$37,MATCH(Nachhaltigkeit_PRISC!L47,ESG_Top,0),2)*Nachhaltigkeit_PRISC!$L$13","v":{"v":0,"d":"0.0%"}},{"$f":"INDEX($D$38:$E$41,MATCH(Nachhaltigkeit_PRISC!M47,ESG_Frequenz,0),2)*Nachhaltigkeit_PRISC!$M$13","v":{"v":0,"d":"0.0%"}},{"$f":"INDEX($D$42:$E$45,MATCH(Nachhaltigkeit_PRISC!N47,Stimmrechtsausübung,0),2)*Nachhaltigkeit_PRISC!$N$13","v":{"v":0,"d":"0.0%"}},{"$f":"INDEX($D$46:$E$49,MATCH(Nachhaltigkeit_PRISC!O47,Engagement,0),2)*Nachhaltigkeit_PRISC!$O$13","v":{"v":0,"d":"0.0%"}},{"v":0,"d":"0.0%"},{"$error":"#REF!"}]
[null,{"$f":"Vermögen!E44","v":"34."},{"$f":"Vermögen!F44","v":0},{"$f":"Vermögen!S44","v":0},{"$f":"INDEX($D$18:$E$21,MATCH(Nachhaltigkeit_PRISC!H48,Ausschlusskategorien,0),2)*Nachhaltigkeit_PRISC!$H$13","v":{"v":0,"d":"0.0%"}},{"$f":"INDEX($D$22:$E$25,MATCH(Nachhaltigkeit_PRISC!I48,Impact_SDG,0),2)*Nachhaltigkeit_PRISC!$I$13","v":{"v":0,"d":"0.0%"}},{"$f":"INDEX($D$26:$E$29,MATCH(Nachhaltigkeit_PRISC!J48,ESG_Messmethode,0),2)*Nachhaltigkeit_PRISC!$J$13","v":{"v":0,"d":"0.0%"}},{"$f":"INDEX($D$30:$E$33,MATCH(Nachhaltigkeit_PRISC!K48,Best_of_Universe_Best_in_Class,0),2)*Nachhaltigkeit_PRISC!$K$13","v":{"v":0,"d":"0.0%"}},{"$f":"INDEX($D$34:$E$37,MATCH(Nachhaltigkeit_PRISC!L48,ESG_Top,0),2)*Nachhaltigkeit_PRISC!$L$13","v":{"v":0,"d":"0.0%"}},{"$f":"INDEX($D$38:$E$41,MATCH(Nachhaltigkeit_PRISC!M48,ESG_Frequenz,0),2)*Nachhaltigkeit_PRISC!$M$13","v":{"v":0,"d":"0.0%"}},{"$f":"INDEX($D$42:$E$45,MATCH(Nachhaltigkeit_PRISC!N48,Stimmrechtsausübung,0),2)*Nachhaltigkeit_PRISC!$N$13","v":{"v":0,"d":"0.0%"}},{"$f":"INDEX($D$46:$E$49,MATCH(Nachhaltigkeit_PRISC!O48,Engagement,0),2)*Nachhaltigkeit_PRISC!$O$13","v":{"v":0,"d":"0.0%"}},{"v":0,"d":"0.0%"},{"$error":"#REF!"}]
[null,{"$f":"Vermögen!E45","v":"35."},{"$f":"Vermögen!F45","v":0},{"$f":"Vermögen!S45","v":0},{"$f":"INDEX($D$18:$E$21,MATCH(Nachhaltigkeit_PRISC!H49,Ausschlusskategorien,0),2)*Nachhaltigkeit_PRISC!$H$13","v":{"v":0,"d":"0.0%"}},{"$f":"INDEX($D$22:$E$25,MATCH(Nachhaltigkeit_PRISC!I49,Impact_SDG,0),2)*Nachhaltigkeit_PRISC!$I$13","v":{"v":0,"d":"0.0%"}},{"$f":"INDEX($D$26:$E$29,MATCH(Nachhaltigkeit_PRISC!J49,ESG_Messmethode,0),2)*Nachhaltigkeit_PRISC!$J$13","v":{"v":0,"d":"0.0%"}},{"$f":"INDEX($D$30:$E$33,MATCH(Nachhaltigkeit_PRISC!K49,Best_of_Universe_Best_in_Class,0),2)*Nachhaltigkeit_PRISC!$K$13","v":{"v":0,"d":"0.0%"}},{"$f":"INDEX($D$34:$E$37,MATCH(Nachhaltigkeit_PRISC!L49,ESG_Top,0),2)*Nachhaltigkeit_PRISC!$L$13","v":{"v":0,"d":"0.0%"}},{"$f":"INDEX($D$38:$E$41,MATCH(Nachhaltigkeit_PRISC!M49,ESG_Frequenz,0),2)*Nachhaltigkeit_PRISC!$M$13","v":{"v":0,"d":"0.0%"}},{"$f":"INDEX($D$42:$E$45,MATCH(Nachhaltigkeit_PRISC!N49,Stimmrechtsausübung,0),2)*Nachhaltigkeit_PRISC!$N$13","v":{"v":0,"d":"0.0%"}},{"$f":"INDEX($D$46:$E$49,MATCH(Nachhaltigkeit_PRISC!O49,Engagement,0),2)*Nachhaltigkeit_PRISC!$O$13","v":{"v":0,"d":"0.0%"}},{"v":0,"d":"0.0%"},{"$error":"#REF!"}]
[null,{"$f":"Vermögen!E46","v":"36."},{"$f":"Vermögen!F46","v":0},{"$f":"Vermögen!S46","v":0},{"$f":"INDEX($D$18:$E$21,MATCH(Nachhaltigkeit_PRISC!H50,Ausschlusskategorien,0),2)*Nachhaltigkeit_PRISC!$H$13","v":{"v":0,"d":"0.0%"}},{"$f":"INDEX($D$22:$E$25,MATCH(Nachhaltigkeit_PRISC!I50,Impact_SDG,0),2)*Nachhaltigkeit_PRISC!$I$13","v":{"v":0,"d":"0.0%"}},{"$f":"INDEX($D$26:$E$29,MATCH(Nachhaltigkeit_PRISC!J50,ESG_Messmethode,0),2)*Nachhaltigkeit_PRISC!$J$13","v":{"v":0,"d":"0.0%"}},{"$f":"INDEX($D$30:$E$33,MATCH(Nachhaltigkeit_PRISC!K50,Best_of_Universe_Best_in_Class,0),2)*Nachhaltigkeit_PRISC!$K$13","v":{"v":0,"d":"0.0%"}},{"$f":"INDEX($D$34:$E$37,MATCH(Nachhaltigkeit_PRISC!L50,ESG_Top,0),2)*Nachhaltigkeit_PRISC!$L$13","v":{"v":0,"d":"0.0%"}},{"$f":"INDEX($D$38:$E$41,MATCH(Nachhaltigkeit_PRISC!M50,ESG_Frequenz,0),2)*Nachhaltigkeit_PRISC!$M$13","v":{"v":0,"d":"0.0%"}},{"$f":"INDEX($D$42:$E$45,MATCH(Nachhaltigkeit_PRISC!N50,Stimmrechtsausübung,0),2)*Nachhaltigkeit_PRISC!$N$13","v":{"v":0,"d":"0.0%"}},{"$f":"INDEX($D$46:$E$49,MATCH(Nachhaltigkeit_PRISC!O50,Engagement,0),2)*Nachhaltigkeit_PRISC!$O$13","v":{"v":0,"d":"0.0%"}},{"v":0,"d":"0.0%"},{"$error":"#REF!"}]
[null,{"$f":"Vermögen!E47","v":"37."},{"$f":"Vermögen!F60","v":0},{"$f":"Vermögen!S47","v":0},{"$f":"INDEX($D$18:$E$21,MATCH(Nachhaltigkeit_PRISC!H64,Ausschlusskategorien,0),2)*Nachhaltigkeit_PRISC!$H$13","v":{"v":0,"d":"0.0%"}},{"$f":"INDEX($D$22:$E$25,MATCH(Nachhaltigkeit_PRISC!I64,Impact_SDG,0),2)*Nachhaltigkeit_PRISC!$I$13","v":{"v":0,"d":"0.0%"}},{"$f":"INDEX($D$26:$E$29,MATCH(Nachhaltigkeit_PRISC!J64,ESG_Messmethode,0),2)*Nachhaltigkeit_PRISC!$J$13","v":{"v":0,"d":"0.0%"}},{"$f":"INDEX($D$30:$E$33,MATCH(Nachhaltigkeit_PRISC!K64,Best_of_Universe_Best_in_Class,0),2)*Nachhaltigkeit_PRISC!$K$13","v":{"v":0,"d":"0.0%"}},{"$f":"INDEX($D$34:$E$37,MATCH(Nachhaltigkeit_PRISC!L64,ESG_Top,0),2)*Nachhaltigkeit_PRISC!$L$13","v":{"v":0,"d":"0.0%"}},{"$f":"INDEX($D$38:$E$41,MATCH(Nachhaltigkeit_PRISC!M64,ESG_Frequenz,0),2)*Nachhaltigkeit_PRISC!$M$13","v":{"v":0,"d":"0.0%"}},{"$f":"INDEX($D$42:$E$45,MATCH(Nachhaltigkeit_PRISC!N64,Stimmrechtsausübung,0),2)*Nachhaltigkeit_PRISC!$N$13","v":{"v":0,"d":"0.0%"}},{"$f":"INDEX($D$46:$E$49,MATCH(Nachhaltigkeit_PRISC!O64,Engagement,0),2)*Nachhaltigkeit_PRISC!$O$13","v":{"v":0,"d":"0.0%"}},{"$f":"SUM(E91:L91)","v":{"v":0,"d":"0.0%"}},{"$error":"#REF!"}]
[null,null,"Summe",{"$f":"SUM(D55:D91)","v":{"$error":"#REF!"}},{"v":0,"d":"0.0%"},{"v":0,"d":"0.0%"},{"v":0,"d":"0.0%"},{"v":0,"d":"0.0%"},{"v":0,"d":"0.0%"},{"v":0,"d":"0.0%"},{"v":0,"d":"0.0%"},{"v":0,"d":"0.0%"},{"v":0,"d":"0.0%"},{"$error":"#REF!"}]
[]
[null,"Nachhaltigkeitsstrategien quantitativ im Bestandsvermögen"]
[{"$nulls":4},{"$f":"E54","v":"Ausschlusskategorien"},"Impact/SDG-Ziele","ESG-Messmethode","Best of Univ./in Class","ESG Top %","ESG Messfrequenz","Stimmrechtsausübg.","Engagement","VG vorh."]
[null,{"$f":"B55","v":"1."},0,{"$error":"#REF!"},{"$f":"IF(E55>0,1,0)","v":0},0,0,0,0,0,0,0,{"$f":"IF(C96>0,1,0)","v":0}]
[null,"2.",0,0,0,0,0,0,0,0,0,0,{"$f":"IF(C97>0,1,0)","v":0}]
[null,"3.",0,0,0,0,0,0,0,0,0,0,0]
[null,"4.",0,0,0,0,0,0,0,0,0,0,0]
[null,"5.",0,0,0,0,0,0,0,0,0,0,0]
[null,"6.",{"$error":"#REF!"},0,0,0,0,0,0,0,0,0,{"$error":"#REF!"}]
[null,"7.",0,0,0,0,0,0,0,0,0,0,0]
[null,"8.",0,0,0,0,0,0,0,0,0,0,0]
[null,"9.",0,0,0,0,0,0,0,0,0,0,0]
[null,"10.",0,0,0,0,0,0,0,0,0,0,0]
[null,"11.",0,0,0,0,0,0,0,0,0,0,0]
[null,{"$f":"#REF!","v":{"$error":"#REF!"}},{"$f":"#REF!","v":{"$error":"#REF!"}},{"$f":"#REF!","v":{"$error":"#REF!"}},{"$f":"IF(#REF!>0,1,0)","v":{"$error":"#REF!"}},{"$f":"IF(#REF!>0,1,0)","v":{"$error":"#REF!"}},{"$f":"IF(#REF!>0,1,0)","v":{"$error":"#REF!"}},{"$f":"IF(#REF!>0,1,0)","v":{"$error":"#REF!"}},{"$f":"IF(#REF!>0,1,0)","v":{"$error":"#REF!"}},{"$f":"IF(#REF!>0,1,0)","v":{"$error":"#REF!"}},{"$f":"IF(#REF!>0,1,0)","v":{"$error":"#REF!"}},{"$f":"IF(#REF!>0,1,0)","v":{"$error":"#REF!"}},{"$error":"#REF!"}]
[null,null,"Summe",{"$f":"SUM(D96:D107)","v":{"$error":"#REF!"}},{"$f":"SUMIF(E96:E107,1,$D$96:$D$107)","v":0},0,0,0,0,0,0,0,{"$f":"SUM(E108:L108)","v":0}]
[null,null,"Quote",{"v":1,"d":"100%"},{"$f":"E108/$D$108","v":{"$error":"#REF!"}},{"$error":"#REF!"},{"$error":"#REF!"},{"$error":"#REF!"},{"$error":"#REF!"},{"$error":"#REF!"},{"$error":"#REF!"},{"$error":"#REF!"},{"$f":"SUM(E109:L109)","v":{"$error":"#REF!"}}]
[null,null,"Zielerreichung",null,{"$f":"IF(E109>Anlageziele!$O$32,Anlageziele!$O$32,'Daten_Nachhaltigkt. PRISC'!E109)","v":{"$error":"#REF!"}},{"$f":"IF(F109>Anlageziele!$O$33,Anlageziele!$O$33,'Daten_Nachhaltigkt. PRISC'!F109)","v":{"$error":"#REF!"}},{"$f":"IF(G109>Anlageziele!$O$34,Anlageziele!$O$34,'Daten_Nachhaltigkt. PRISC'!G109)","v":{"$error":"#REF!"}},{"$f":"IF(H109>Anlageziele!$O$35,Anlageziele!$O$35,'Daten_Nachhaltigkt. PRISC'!H109)","v":{"$error":"#REF!"}},{"$f":"IF(I109>Anlageziele!$O$36,Anlageziele!$O$36,'Daten_Nachhaltigkt. PRISC'!I109)","v":{"$error":"#REF!"}},{"$f":"IF(J109>Anlageziele!$O$37,Anlageziele!$O$37,'Daten_Nachhaltigkt. PRISC'!J109)","v":{"$error":"#REF!"}},{"$f":"IF(K109>Anlageziele!$O$38,Anlageziele!$O$38,'Daten_Nachhaltigkt. PRISC'!K109)","v":{"$error":"#REF!"}},{"$f":"IF(L109>Anlageziele!$O$39,Anlageziele!$O$39,'Daten_Nachhaltigkt. PRISC'!L109)","v":{"$error":"#REF!"}},{"$f":"SUM(E110:L110)","v":{"$error":"#REF!"}}]
[]
[{"$nulls":12},"PRISC-Sore","PRISC-Sore"]
[null,"Nr. ","Umschichtung","Wert EUR",{"$f":"E54","v":"Ausschlusskategorien"},"Impact/SDG-Ziele","ESG-Messmethode","Best of Univ./in Class","ESG Top %","ESG Messfrequenz","Stimmrechtsausübg.","Engagement","absolut","gewichtet"]
[null,{"$f":"Umschichtung!F13","v":"U1"},{"$f":"Umschichtung!G13","v":0},{"$f":"Umschichtung!K13","v":0},{"$f":"INDEX($D$18:$E$49,MATCH(Nachhaltigkeit_PRISC!H67,'Daten_Nachhaltigkt. PRISC'!$D$18:$D$49,0),2)*Nachhaltigkeit_PRISC!H$13","v":{"v":0,"d":"0.0%"}},{"$f":"INDEX($D$18:$E$49,MATCH(Nachhaltigkeit_PRISC!I67,'Daten_Nachhaltigkt. PRISC'!$D$18:$D$49,0),2)*Nachhaltigkeit_PRISC!I$13","v":{"v":0,"d":"0.0%"}},{"$f":"INDEX($D$18:$E$49,MATCH(Nachhaltigkeit_PRISC!J67,'Daten_Nachhaltigkt. PRISC'!$D$18:$D$49,0),2)*Nachhaltigkeit_PRISC!J$13","v":{"v":0,"d":"0.0%"}},{"$f":"INDEX($D$18:$E$49,MATCH(Nachhaltigkeit_PRISC!K67,'Daten_Nachhaltigkt. PRISC'!$D$18:$D$49,0),2)*Nachhaltigkeit_PRISC!K$13","v":{"v":0,"d":"0.0%"}},{"$f":"INDEX($D$18:$E$49,MATCH(Nachhaltigkeit_PRISC!L67,'Daten_Nachhaltigkt. PRISC'!$D$18:$D$49,0),2)*Nachhaltigkeit_PRISC!L$13","v":{"v":0,"d":"0.0%"}},{"$f":"INDEX($D$18:$E$49,MATCH(Nachhaltigkeit_PRISC!M67,'Daten_Nachhaltigkt. PRISC'!$D$18:$D$49,0),2)*Nachhaltigkeit_PRISC!M$13","v":{"v":0,"d":"0.0%"}},{"$f":"INDEX($D$18:$E$49,MATCH(Nachhaltigkeit_PRISC!N67,'Daten_Nachhaltigkt. PRISC'!$D$18:$D$49,0),2)*Nachhaltigkeit_PRISC!N$13","v":{"v":0,"d":"0.0%"}},{"$f":"INDEX($D$18:$E$49,MATCH(Nachhaltigkeit_PRISC!O67,'Daten_Nachhaltigkt. PRISC'!$D$18:$D$49,0),2)*Nachhaltigkeit_PRISC!O$13","v":{"v":0,"d":"0.0%"}},{"$f":"SUM(E114:L114)","v":{"v":0,"d":"0.0%"}},{"$f":"M114*$D114/$D$120","v":{"$error":"#DIV/0!"}}]
[null,{"$f":"Umschichtung!F14","v":"U2"},{"$f":"Umschichtung!G14","v":0},{"$f":"Umschichtung!K14","v":0},{"$f":"INDEX($D$18:$E$49,MATCH(Nachhaltigkeit_PRISC!H68,'Daten_Nachhaltigkt. PRISC'!$D$18:$D$49,0),2)*Nachhaltigkeit_PRISC!H$13","v":{"v":0,"d":"0.0%"}},{"$f":"INDEX($D$18:$E$49,MATCH(Nachhaltigkeit_PRISC!I68,'Daten_Nachhaltigkt. PRISC'!$D$18:$D$49,0),2)*Nachhaltigkeit_PRISC!I$13","v":{"v":0,"d":"0.0%"}},{"$f":"INDEX($D$18:$E$49,MATCH(Nachhaltigkeit_PRISC!J68,'Daten_Nachhaltigkt. PRISC'!$D$18:$D$49,0),2)*Nachhaltigkeit_PRISC!J$13","v":{"v":0,"d":"0.0%"}},{"$f":"INDEX($D$18:$E$49,MATCH(Nachhaltigkeit_PRISC!K68,'Daten_Nachhaltigkt. PRISC'!$D$18:$D$49,0),2)*Nachhaltigkeit_PRISC!K$13","v":{"v":0,"d":"0.0%"}},{"$f":"INDEX($D$18:$E$49,MATCH(Nachhaltigkeit_PRISC!L68,'Daten_Nachhaltigkt. PRISC'!$D$18:$D$49,0),2)*Nachhaltigkeit_PRISC!L$13","v":{"v":0,"d":"0.0%"}},{"$f":"INDEX($D$18:$E$49,MATCH(Nachhaltigkeit_PRISC!M68,'Daten_Nachhaltigkt. PRISC'!$D$18:$D$49,0),2)*Nachhaltigkeit_PRISC!M$13","v":{"v":0,"d":"0.0%"}},{"$f":"INDEX($D$18:$E$49,MATCH(Nachhaltigkeit_PRISC!N68,'Daten_Nachhaltigkt. PRISC'!$D$18:$D$49,0),2)*Nachhaltigkeit_PRISC!N$13","v":{"v":0,"d":"0.0%"}},{"$f":"INDEX($D$18:$E$49,MATCH(Nachhaltigkeit_PRISC!O68,'Daten_Nachhaltigkt. PRISC'!$D$18:$D$49,0),2)*Nachhaltigkeit_PRISC!O$13","v":{"v":0,"d":"0.0%"}},{"v":0,"d":"0.0%"},{"$error":"#DIV/0!"}]
[null,{"$f":"Umschichtung!F15","v":"U3"},{"$f":"Umschichtung!G15","v":0},{"$f":"Umschichtung!K15","v":0},{"$f":"INDEX($D$18:$E$49,MATCH(Nachhaltigkeit_PRISC!H69,'Daten_Nachhaltigkt. PRISC'!$D$18:$D$49,0),2)*Nachhaltigkeit_PRISC!H$13","v":{"v":0,"d":"0.0%"}},{"$f":"INDEX($D$18:$E$49,MATCH(Nachhaltigkeit_PRISC!I69,'Daten_Nachhaltigkt. PRISC'!$D$18:$D$49,0),2)*Nachhaltigkeit_PRISC!I$13","v":{"v":0,"d":"0.0%"}},{"$f":"INDEX($D$18:$E$49,MATCH(Nachhaltigkeit_PRISC!J69,'Daten_Nachhaltigkt. PRISC'!$D$18:$D$49,0),2)*Nachhaltigkeit_PRISC!J$13","v":{"v":0,"d":"0.0%"}},{"$f":"INDEX($D$18:$E$49,MATCH(Nachhaltigkeit_PRISC!K69,'Daten_Nachhaltigkt. PRISC'!$D$18:$D$49,0),2)*Nachhaltigkeit_PRISC!K$13","v":{"v":0,"d":"0.0%"}},{"$f":"INDEX($D$18:$E$49,MATCH(Nachhaltigkeit_PRISC!L69,'Daten_Nachhaltigkt. PRISC'!$D$18:$D$49,0),2)*Nachhaltigkeit_PRISC!L$13","v":{"v":0,"d":"0.0%"}},{"$f":"INDEX($D$18:$E$49,MATCH(Nachhaltigkeit_PRISC!M69,'Daten_Nachhaltigkt. PRISC'!$D$18:$D$49,0),2)*Nachhaltigkeit_PRISC!M$13","v":{"v":0,"d":"0.0%"}},{"$f":"INDEX($D$18:$E$49,MATCH(Nachhaltigkeit_PRISC!N69,'Daten_Nachhaltigkt. PRISC'!$D$18:$D$49,0),2)*Nachhaltigkeit_PRISC!N$13","v":{"v":0,"d":"0.0%"}},{"$f":"INDEX($D$18:$E$49,MATCH(Nachhaltigkeit_PRISC!O69,'Daten_Nachhaltigkt. PRISC'!$D$18:$D$49,0),2)*Nachhaltigkeit_PRISC!O$13","v":{"v":0,"d":"0.0%"}},{"v":0,"d":"0.0%"},{"$error":"#DIV/0!"}]
[null,{"$f":"Umschichtung!F16","v":"U4"},{"$f":"Umschichtung!G16","v":0},{"$f":"Umschichtung!K16","v":0},{"$f":"INDEX($D$18:$E$49,MATCH(Nachhaltigkeit_PRISC!H70,'Daten_Nachhaltigkt. PRISC'!$D$18:$D$49,0),2)*Nachhaltigkeit_PRISC!H$13","v":{"v":0,"d":"0.0%"}},{"$f":"INDEX($D$18:$E$49,MATCH(Nachhaltigkeit_PRISC!I70,'Daten_Nachhaltigkt. PRISC'!$D$18:$D$49,0),2)*Nachhaltigkeit_PRISC!I$13","v":{"v":0,"d":"0.0%"}},{"$f":"INDEX($D$18:$E$49,MATCH(Nachhaltigkeit_PRISC!J70,'Daten_Nachhaltigkt. PRISC'!$D$18:$D$49,0),2)*Nachhaltigkeit_PRISC!J$13","v":{"v":0,"d":"0.0%"}},{"$f":"INDEX($D$18:$E$49,MATCH(Nachhaltigkeit_PRISC!K70,'Daten_Nachhaltigkt. PRISC'!$D$18:$D$49,0),2)*Nachhaltigkeit_PRISC!K$13","v":{"v":0,"d":"0.0%"}},{"$f":"INDEX($D$18:$E$49,MATCH(Nachhaltigkeit_PRISC!L70,'Daten_Nachhaltigkt. PRISC'!$D$18:$D$49,0),2)*Nachhaltigkeit_PRISC!L$13","v":{"v":0,"d":"0.0%"}},{"$f":"INDEX($D$18:$E$49,MATCH(Nachhaltigkeit_PRISC!M70,'Daten_Nachhaltigkt. PRISC'!$D$18:$D$49,0),2)*Nachhaltigkeit_PRISC!M$13","v":{"v":0,"d":"0.0%"}},{"$f":"INDEX($D$18:$E$49,MATCH(Nachhaltigkeit_PRISC!N70,'Daten_Nachhaltigkt. PRISC'!$D$18:$D$49,0),2)*Nachhaltigkeit_PRISC!N$13","v":{"v":0,"d":"0.0%"}},{"$f":"INDEX($D$18:$E$49,MATCH(Nachhaltigkeit_PRISC!O70,'Daten_Nachhaltigkt. PRISC'!$D$18:$D$49,0),2)*Nachhaltigkeit_PRISC!O$13","v":{"v":0,"d":"0.0%"}},{"v":0,"d":"0.0%"},{"$error":"#DIV/0!"}]
[null,{"$f":"Umschichtung!F17","v":"U5"},{"$f":"Umschichtung!G17","v":0},{"$f":"Umschichtung!K17","v":0},{"$f":"INDEX($D$18:$E$49,MATCH(Nachhaltigkeit_PRISC!H71,'Daten_Nachhaltigkt. PRISC'!$D$18:$D$49,0),2)*Nachhaltigkeit_PRISC!H$13","v":{"v":0,"d":"0.0%"}},{"$f":"INDEX($D$18:$E$49,MATCH(Nachhaltigkeit_PRISC!I71,'Daten_Nachhaltigkt. PRISC'!$D$18:$D$49,0),2)*Nachhaltigkeit_PRISC!I$13","v":{"v":0,"d":"0.0%"}},{"$f":"INDEX($D$18:$E$49,MATCH(Nachhaltigkeit_PRISC!J71,'Daten_Nachhaltigkt. PRISC'!$D$18:$D$49,0),2)*Nachhaltigkeit_PRISC!J$13","v":{"v":0,"d":"0.0%"}},{"$f":"INDEX($D$18:$E$49,MATCH(Nachhaltigkeit_PRISC!K71,'Daten_Nachhaltigkt. PRISC'!$D$18:$D$49,0),2)*Nachhaltigkeit_PRISC!K$13","v":{"v":0,"d":"0.0%"}},{"$f":"INDEX($D$18:$E$49,MATCH(Nachhaltigkeit_PRISC!L71,'Daten_Nachhaltigkt. PRISC'!$D$18:$D$49,0),2)*Nachhaltigkeit_PRISC!L$13","v":{"v":0,"d":"0.0%"}},{"$f":"INDEX($D$18:$E$49,MATCH(Nachhaltigkeit_PRISC!M71,'Daten_Nachhaltigkt. PRISC'!$D$18:$D$49,0),2)*Nachhaltigkeit_PRISC!M$13","v":{"v":0,"d":"0.0%"}},{"$f":"INDEX($D$18:$E$49,MATCH(Nachhaltigkeit_PRISC!N71,'Daten_Nachhaltigkt. PRISC'!$D$18:$D$49,0),2)*Nachhaltigkeit_PRISC!N$13","v":{"v":0,"d":"0.0%"}},{"$f":"INDEX($D$18:$E$49,MATCH(Nachhaltigkeit_PRISC!O71,'Daten_Nachhaltigkt. PRISC'!$D$18:$D$49,0),2)*Nachhaltigkeit_PRISC!O$13","v":{"v":0,"d":"0.0%"}},{"v":0,"d":"0.0%"},{"$error":"#DIV/0!"}]
[null,{"$f":"Umschichtung!F18","v":"U6"},{"$f":"Umschichtung!G18","v":0},{"$f":"Umschichtung!K18","v":0},{"$f":"INDEX($D$18:$E$49,MATCH(Nachhaltigkeit_PRISC!H72,'Daten_Nachhaltigkt. PRISC'!$D$18:$D$49,0),2)*Nachhaltigkeit_PRISC!H$13","v":{"v":0,"d":"0.0%"}},{"$f":"INDEX($D$18:$E$49,MATCH(Nachhaltigkeit_PRISC!I72,'Daten_Nachhaltigkt. PRISC'!$D$18:$D$49,0),2)*Nachhaltigkeit_PRISC!I$13","v":{"v":0,"d":"0.0%"}},{"$f":"INDEX($D$18:$E$49,MATCH(Nachhaltigkeit_PRISC!J72,'Daten_Nachhaltigkt. PRISC'!$D$18:$D$49,0),2)*Nachhaltigkeit_PRISC!J$13","v":{"v":0,"d":"0.0%"}},{"$f":"INDEX($D$18:$E$49,MATCH(Nachhaltigkeit_PRISC!K72,'Daten_Nachhaltigkt. PRISC'!$D$18:$D$49,0),2)*Nachhaltigkeit_PRISC!K$13","v":{"v":0,"d":"0.0%"}},{"$f":"INDEX($D$18:$E$49,MATCH(Nachhaltigkeit_PRISC!L72,'Daten_Nachhaltigkt. PRISC'!$D$18:$D$49,0),2)*Nachhaltigkeit_PRISC!L$13","v":{"v":0,"d":"0.0%"}},{"$f":"INDEX($D$18:$E$49,MATCH(Nachhaltigkeit_PRISC!M72,'Daten_Nachhaltigkt. PRISC'!$D$18:$D$49,0),2)*Nachhaltigkeit_PRISC!M$13","v":{"v":0,"d":"0.0%"}},{"$f":"INDEX($D$18:$E$49,MATCH(Nachhaltigkeit_PRISC!N72,'Daten_Nachhaltigkt. PRISC'!$D$18:$D$49,0),2)*Nachhaltigkeit_PRISC!N$13","v":{"v":0,"d":"0.0%"}},{"$f":"INDEX($D$18:$E$49,MATCH(Nachhaltigkeit_PRISC!O72,'Daten_Nachhaltigkt. PRISC'!$D$18:$D$49,0),2)*Nachhaltigkeit_PRISC!O$13","v":{"v":0,"d":"0.0%"}},{"v":0,"d":"0.0%"},{"$error":"#DIV/0!"}]
[null,null,"Summe",{"$f":"SUM(D114:D119)","v":0},{"$f":"SUM(E114:E119)","v":{"v":0,"d":"0.0%"}},{"v":0,"d":"0.0%"},{"v":0,"d":"0.0%"},{"v":0,"d":"0.0%"},{"v":0,"d":"0.0%"},{"v":0,"d":"0.0%"},{"v":0,"d":"0.0%"},{"v":0,"d":"0.0%"},{"$f":"SUM(M114:M119)","v":{"v":0,"d":"0.0%"}},{"$f":"SUM(N114:N119)","v":{"$error":"#DIV/0!"}}]
[]
[null,"Nachhaltigkeitsstrategien quantitativ bei Umschichtungen"]
[{"$nulls":12},"VG vorh."]
[null,{"$f":"B114","v":"U1"},{"$f":"C114","v":0},null,{"$f":"IF(E114>0,1,0)","v":0},{"$f":"IF(F114>0,1,0)","v":0},0,0,0,0,0,0,{"$f":"IF(C124>0,1,0)","v":0}]
[null,{"$f":"B115","v":"U2"},0,null,{"$f":"IF(E115>0,1,0)","v":0},0,0,0,0,0,0,0,0]
[null,"U3",0,null,0,0,0,0,0,0,0,0,0]
[null,"U4",0,null,0,0,0,0,0,0,0,0,0]
[null,"U5",0,null,0,0,0,0,0,0,0,0,0]
[null,"U6",0,null,0,0,0,0,0,0,0,0,0]
[]
[null,"Multi-Asset",{"$nulls":6},"Attribution"]
[]
[]
[]
[{"$nulls":8},"Vermögen"]
[null,"Aktien","Anleihen","Alternative Inv.","Rohstoffe","Liquidität","Summe",null,"Gew. Rendite","Aktien","Anleihen","Alternative Inv.","Rohstoffe","Liquidität","Summe"]
[null,{"$f":"#REF!*Vermögen!J11","v":{"$error":"#REF!"}},{"$f":"#REF!*Vermögen!K11","v":{"$error":"#REF!"}},{"$f":"#REF!*Vermögen!L11","v":{"$error":"#REF!"}},{"$f":"#REF!*Vermögen!M11","v":{"$error":"#REF!"}},{"$f":"#REF!*Vermögen!N11","v":{"$error":"#REF!"}},{"$f":"SUM(B137:F137)","v":{"$error":"#REF!"}},null,{"$f":"Vermögen!U11*Vermögen!V11","v":{"$error":"#VALUE!"}},{"$f":"$I137*Vermögen!J11","v":{"$error":"#VALUE!"}},{"$f":"$I137*Vermögen!K11","v":{"$error":"#VALUE!"}},{"$f":"$I137*Vermögen!L11","v":{"$error":"#VALUE!"}},{"$f":"$I137*Vermögen!M11","v":{"$error":"#VALUE!"}},{"$f":"$I137*Vermögen!N11","v":{"$error":"#VALUE!"}},{"$f":"SUM(J137:N137)","v":{"$error":"#VALUE!"}}]
[null,{"$f":"#REF!*Vermögen!J12","v":{"$error":"#REF!"}},{"$f":"#REF!*Vermögen!K12","v":{"$error":"#REF!"}},{"$f":"#REF!*Vermögen!L12","v":{"$error":"#REF!"}},{"$f":"#REF!*Vermögen!M12","v":{"$error":"#REF!"}},{"$f":"#REF!*Vermögen!N12","v":{"$error":"#REF!"}},{"$f":"SUM(B138:F138)","v":{"$error":"#REF!"}},null,{"$f":"Vermögen!U12*Vermögen!V12","v":{"$error":"#VALUE!"}},{"$f":"$I138*Vermögen!J12","v":{"$error":"#VALUE!"}},{"$f":"$I138*Vermögen!K12","v":{"$error":"#VALUE!"}},{"$f":"$I138*Vermögen!L12","v":{"$error":"#VALUE!"}},{"$f":"$I138*Vermögen!M12","v":{"$error":"#VALUE!"}},{"$f":"$I138*Vermögen!N12","v":{"$error":"#VALUE!"}},{"$f":"SUM(J138:N138)","v":{"$error":"#VALUE!"}}]
[null,{"$f":"#REF!*Vermögen!J13","v":{"$error":"#REF!"}},{"$f":"#REF!*Vermögen!K13","v":{"$error":"#REF!"}},{"$f":"#REF!*Vermögen!L13","v":{"$error":"#REF!"}},{"$f":"#REF!*Vermögen!M13","v":{"$error":"#REF!"}},{"$f":"#REF!*Vermögen!N13","v":{"$error":"#REF!"}},{"$error":"#REF!"},null,{"$f":"Vermögen!U13*Vermögen!V13","v":{"$error":"#VALUE!"}},{"$f":"$I139*Vermögen!J13","v":{"$error":"#VALUE!"}},{"$f":"$I139*Vermögen!K13","v":{"$error":"#VALUE!"}},{"$f":"$I139*Vermögen!L13","v":{"$error":"#VALUE!"}},{"$f":"$I139*Vermögen!M13","v":{"$error":"#VALUE!"}},{"$f":"$I139*Vermögen!N13","v":{"$error":"#VALUE!"}},{"$error":"#VALUE!"}]
[null,{"$f":"#REF!*Vermögen!J14","v":{"$error":"#REF!"}},{"$f":"#REF!*Vermögen!K14","v":{"$error":"#REF!"}},{"$f":"#REF!*Vermögen!L14","v":{"$error":"#REF!"}},{"$f":"#REF!*Vermögen!M14","v":{"$error":"#REF!"}},{"$f":"#REF!*Vermögen!N14","v":{"$error":"#REF!"}},{"$error":"#REF!"},null,{"$f":"Vermögen!U14*Vermögen!V14","v":{"$error":"#VALUE!"}},{"$f":"$I140*Vermögen!J14","v":{"$error":"#VALUE!"}},{"$f":"$I140*Vermögen!K14","v":{"$error":"#VALUE!"}},{"$f":"$I140*Vermögen!L14","v":{"$error":"#VALUE!"}},{"$f":"$I140*Vermögen!M14","v":{"$error":"#VALUE!"}},{"$f":"$I140*Vermögen!N14","v":{"$error":"#VALUE!"}},{"$error":"#VALUE!"}]
[null,{"$f":"#REF!*Vermögen!J15","v":{"$error":"#REF!"}},{"$f":"#REF!*Vermögen!K15","v":{"$error":"#REF!"}},{"$f":"#REF!*Vermögen!L15","v":{"$error":"#REF!"}},{"$f":"#REF!*Vermögen!M15","v":{"$error":"#REF!"}},{"$f":"#REF!*Vermögen!N15","v":{"$error":"#REF!"}},{"$error":"#REF!"},null,{"$f":"Vermögen!U15*Vermögen!V15","v":{"$error":"#VALUE!"}},{"$f":"$I141*Vermögen!J15","v":{"$error":"#VALUE!"}},{"$f":"$I141*Vermögen!K15","v":{"$error":"#VALUE!"}},{"$f":"$I141*Vermögen!L15","v":{"$error":"#VALUE!"}},{"$f":"$I141*Vermögen!M15","v":{"$error":"#VALUE!"}},{"$f":"$I141*Vermögen!N15","v":{"$error":"#VALUE!"}},{"$error":"#VALUE!"}]
[null,{"$f":"#REF!*Vermögen!J16","v":{"$error":"#REF!"}},{"$f":"#REF!*Vermögen!K16","v":{"$error":"#REF!"}},{"$f":"#REF!*Vermögen!L16","v":{"$error":"#REF!"}},{"$f":"#REF!*Vermögen!M16","v":{"$error":"#REF!"}},{"$f":"#REF!*Vermögen!N16","v":{"$error":"#REF!"}},{"$error":"#REF!"},null,{"$f":"Vermögen!U16*Vermögen!V16","v":{"$error":"#VALUE!"}},{"$f":"$I142*Vermögen!J16","v":{"$error":"#VALUE!"}},{"$f":"$I142*Vermögen!K16","v":{"$error":"#VALUE!"}},{"$f":"$I142*Vermögen!L16","v":{"$error":"#VALUE!"}},{"$f":"$I142*Vermögen!M16","v":{"$error":"#VALUE!"}},{"$f":"$I142*Vermögen!N16","v":{"$error":"#VALUE!"}},{"$error":"#VALUE!"}]
[null,{"$f":"#REF!*Vermögen!J17","v":{"$error":"#REF!"}},{"$f":"#REF!*Vermögen!K17","v":{"$error":"#REF!"}},{"$f":"#REF!*Vermögen!L17","v":{"$error":"#REF!"}},{"$f":"#REF!*Vermögen!M17","v":{"$error":"#REF!"}},{"$f":"#REF!*Vermögen!N17","v":{"$error":"#REF!"}},{"$error":"#REF!"},null,{"$f":"Vermögen!U17*Vermögen!V17","v":{"$error":"#VALUE!"}},{"$f":"$I143*Vermögen!J17","v":{"$error":"#VALUE!"}},{"$f":"$I143*Vermögen!K17","v":{"$error":"#VALUE!"}},{"$f":"$I143*Vermögen!L17","v":{"$error":"#VALUE!"}},{"$f":"$I143*Vermögen!M17","v":{"$error":"#VALUE!"}},{"$f":"$I143*Vermögen!N17","v":{"$error":"#VALUE!"}},{"$error":"#VALUE!"}]
[null,{"$f":"#REF!*Vermögen!J18","v":{"$error":"#REF!"}},{"$f":"#REF!*Vermögen!K18","v":{"$error":"#REF!"}},{"$f":"#REF!*Vermögen!L18","v":{"$error":"#REF!"}},{"$f":"#REF!*Vermögen!M18","v":{"$error":"#REF!"}},{"$f":"#REF!*Vermögen!N18","v":{"$error":"#REF!"}},{"$error":"#REF!"},null,{"$f":"Vermögen!U18*Vermögen!V18","v":{"$error":"#VALUE!"}},{"$f":"$I144*Vermögen!J18","v":{"$error":"#VALUE!"}},{"$f":"$I144*Vermögen!K18","v":{"$error":"#VALUE!"}},{"$f":"$I144*Vermögen!L18","v":{"$error":"#VALUE!"}},{"$f":"$I144*Vermögen!M18","v":{"$error":"#VALUE!"}},{"$f":"$I144*Vermögen!N18","v":{"$error":"#VALUE!"}},{"$error":"#VALUE!"}]
[null,{"$f":"#REF!*Vermögen!J19","v":{"$error":"#REF!"}},{"$f":"#REF!*Vermögen!K19","v":{"$error":"#REF!"}},{"$f":"#REF!*Vermögen!L19","v":{"$error":"#REF!"}},{"$f":"#REF!*Vermögen!M19","v":{"$error":"#REF!"}},{"$f":"#REF!*Vermögen!N19","v":{"$error":"#REF!"}},{"$error":"#REF!"},null,{"$f":"Vermögen!U19*Vermögen!V19","v":{"$error":"#VALUE!"}},{"$f":"$I145*Vermögen!J19","v":{"$error":"#VALUE!"}},{"$f":"$I145*Vermögen!K19","v":{"$error":"#VALUE!"}},{"$f":"$I145*Vermögen!L19","v":{"$error":"#VALUE!"}},{"$f":"$I145*Vermögen!M19","v":{"$error":"#VALUE!"}},{"$f":"$I145*Vermögen!N19","v":{"$error":"#VALUE!"}},{"$error":"#VALUE!"}]
[null,{"$f":"#REF!*Vermögen!J20","v":{"$error":"#REF!"}},{"$f":"#REF!*Vermögen!K20","v":{"$error":"#REF!"}},{"$f":"#REF!*Vermögen!L20","v":{"$error":"#REF!"}},{"$f":"#REF!*Vermögen!M20","v":{"$error":"#REF!"}},{"$f":"#REF!*Vermögen!N20","v":{"$error":"#REF!"}},{"$error":"#REF!"},null,{"$f":"Vermögen!U20*Vermögen!V20","v":{"$error":"#VALUE!"}},{"$f":"$I146*Vermögen!J20","v":{"$error":"#VALUE!"}},{"$f":"$I146*Vermögen!K20","v":{"$error":"#VALUE!"}},{"$f":"$I146*Vermögen!L20","v":{"$error":"#VALUE!"}},{"$f":"$I146*Vermögen!M20","v":{"$error":"#VALUE!"}},{"$f":"$I146*Vermögen!N20","v":{"$error":"#VALUE!"}},{"$error":"#VALUE!"}]
[null,{"$f":"#REF!*Vermögen!J21","v":{"$error":"#REF!"}},{"$f":"#REF!*Vermögen!K21","v":{"$error":"#REF!"}},{"$f":"#REF!*Vermögen!L21","v":{"$error":"#REF!"}},{"$f":"#REF!*Vermögen!M21","v":{"$error":"#REF!"}},{"$f":"#REF!*Vermögen!N21","v":{"$error":"#REF!"}},{"$error":"#REF!"},null,{"$f":"Vermögen!U21*Vermögen!V21","v":{"$error":"#VALUE!"}},{"$f":"$I147*Vermögen!J21","v":{"$error":"#VALUE!"}},{"$f":"$I147*Vermögen!K21","v":{"$error":"#VALUE!"}},{"$f":"$I147*Vermögen!L21","v":{"$error":"#VALUE!"}},{"$f":"$I147*Vermögen!M21","v":{"$error":"#VALUE!"}},{"$f":"$I147*Vermögen!N21","v":{"$error":"#VALUE!"}},{"$error":"#VALUE!"}]
[null,{"$f":"#REF!*Vermögen!J22","v":{"$error":"#REF!"}},{"$f":"#REF!*Vermögen!K22","v":{"$error":"#REF!"}},{"$f":"#REF!*Vermögen!L22","v":{"$error":"#REF!"}},{"$f":"#REF!*Vermögen!M22","v":{"$error":"#REF!"}},{"$f":"#REF!*Vermögen!N22","v":{"$error":"#REF!"}},{"$error":"#REF!"},null,{"$f":"Vermögen!U22*Vermögen!V22","v":{"$error":"#VALUE!"}},{"$f":"$I148*Vermögen!J22","v":{"$error":"#VALUE!"}},{"$f":"$I148*Vermögen!K22","v":{"$error":"#VALUE!"}},{"$f":"$I148*Vermögen!L22","v":{"$error":"#VALUE!"}},{"$f":"$I148*Vermögen!M22","v":{"$error":"#VALUE!"}},{"$f":"$I148*Vermögen!N22","v":{"$error":"#VALUE!"}},{"$error":"#VALUE!"}]
[null,{"$f":"#REF!*Vermögen!J23","v":{"$error":"#REF!"}},{"$f":"#REF!*Vermögen!K23","v":{"$error":"#REF!"}},{"$f":"#REF!*Vermögen!L23","v":{"$error":"#REF!"}},{"$f":"#REF!*Vermögen!M23","v":{"$error":"#REF!"}},{"$f":"#REF!*Vermögen!N23","v":{"$error":"#REF!"}},{"$error":"#REF!"},null,{"$f":"Vermögen!U23*Vermögen!V23","v":{"$error":"#VALUE!"}},{"$f":"$I149*Vermögen!J23","v":{"$error":"#VALUE!"}},{"$f":"$I149*Vermögen!K23","v":{"$error":"#VALUE!"}},{"$f":"$I149*Vermögen!L23","v":{"$error":"#VALUE!"}},{"$f":"$I149*Vermögen!M23","v":{"$error":"#VALUE!"}},{"$f":"$I149*Vermögen!N23","v":{"$error":"#VALUE!"}},{"$error":"#VALUE!"}]
[null,{"$f":"#REF!*Vermögen!J24","v":{"$error":"#REF!"}},{"$f":"#REF!*Vermögen!K24","v":{"$error":"#REF!"}},{"$f":"#REF!*Vermögen!L24","v":{"$error":"#REF!"}},{"$f":"#REF!*Vermögen!M24","v":{"$error":"#REF!"}},{"$f":"#REF!*Vermögen!N24","v":{"$error":"#REF!"}},{"$error":"#REF!"},null,{"$f":"Vermögen!U24*Vermögen!V24","v":{"$error":"#VALUE!"}},{"$f":"$I150*Vermögen!J24","v":{"$error":"#VALUE!"}},{"$f":"$I150*Vermögen!K24","v":{"$error":"#VALUE!"}},{"$f":"$I150*Vermögen!L24","v":{"$error":"#VALUE!"}},{"$f":"$I150*Vermögen!M24","v":{"$error":"#VALUE!"}},{"$f":"$I150*Vermögen!N24","v":{"$error":"#VALUE!"}},{"$error":"#VALUE!"}]
[null,{"$f":"#REF!*Vermögen!J25","v":{"$error":"#REF!"}},{"$f":"#REF!*Vermögen!K25","v":{"$error":"#REF!"}},{"$f":"#REF!*Vermögen!L25","v":{"$error":"#REF!"}},{"$f":"#REF!*Vermögen!M25","v":{"$error":"#REF!"}},{"$f":"#REF!*Vermögen!N25","v":{"$error":"#REF!"}},{"$error":"#REF!"},null,{"$f":"Vermögen!U25*Vermögen!V25","v":{"$error":"#VALUE!"}},{"$f":"$I151*Vermögen!J25","v":{"$error":"#VALUE!"}},{"$f":"$I151*Vermögen!K25","v":{"$error":"#VALUE!"}},{"$f":"$I151*Vermögen!L25","v":{"$error":"#VALUE!"}},{"$f":"$I151*Vermögen!M25","v":{"$error":"#VALUE!"}},{"$f":"$I151*Vermögen!N25","v":{"$error":"#VALUE!"}},{"$error":"#VALUE!"}]
[null,{"$f":"#REF!*Vermögen!J26","v":{"$error":"#REF!"}},{"$f":"#REF!*Vermögen!K26","v":{"$error":"#REF!"}},{"$f":"#REF!*Vermögen!L26","v":{"$error":"#REF!"}},{"$f":"#REF!*Vermögen!M26","v":{"$error":"#REF!"}},{"$f":"#REF!*Vermögen!N26","v":{"$error":"#REF!"}},{"$error":"#REF!"},null,{"$f":"Vermögen!U26*Vermögen!V26","v":{"$error":"#VALUE!"}},{"$f":"$I152*Vermögen!J26","v":{"$error":"#VALUE!"}},{"$f":"$I152*Vermögen!K26","v":{"$error":"#VALUE!"}},{"$f":"$I152*Vermögen!L26","v":{"$error":"#VALUE!"}},{"$f":"$I152*Vermögen!M26","v":{"$error":"#VALUE!"}},{"$f":"$I152*Vermögen!N26","v":{"$error":"#VALUE!"}},{"$error":"#VALUE!"}]
[null,{"$f":"#REF!*Vermögen!J27","v":{"$error":"#REF!"}},{"$f":"#REF!*Vermögen!K27","v":{"$error":"#REF!"}},{"$f":"#REF!*Vermögen!L27","v":{"$error":"#REF!"}},{"$f":"#REF!*Vermögen!M27","v":{"$error":"#REF!"}},{"$f":"#REF!*Vermögen!N27","v":{"$error":"#REF!"}},{"$error":"#REF!"},null,{"$f":"Vermögen!U27*Vermögen!V27","v":{"$error":"#VALUE!"}},{"$f":"$I153*Vermögen!J27","v":{"$error":"#VALUE!"}},{"$f":"$I153*Vermögen!K27","v":{"$error":"#VALUE!"}},{"$f":"$I153*Vermögen!L27","v":{"$error":"#VALUE!"}},{"$f":"$I153*Vermögen!M27","v":{"$error":"#VALUE!"}},{"$f":"$I153*Vermögen!N27","v":{"$error":"#VALUE!"}},{"$error":"#VALUE!"}]
[null,{"$f":"#REF!*Vermögen!J28","v":{"$error":"#REF!"}},{"$f":"#REF!*Vermögen!K28","v":{"$error":"#REF!"}},{"$f":"#REF!*Vermögen!L28","v":{"$error":"#REF!"}},{"$f":"#REF!*Vermögen!M28","v":{"$error":"#REF!"}},{"$f":"#REF!*Vermögen!N28","v":{"$error":"#REF!"}},{"$error":"#REF!"},null,{"$f":"Vermögen!U28*Vermögen!V28","v":{"$error":"#VALUE!"}},{"$f":"$I154*Vermögen!J28","v":{"$error":"#VALUE!"}},{"$f":"$I154*Vermögen!K28","v":{"$error":"#VALUE!"}},{"$f":"$I154*Vermögen!L28","v":{"$error":"#VALUE!"}},{"$f":"$I154*Vermögen!M28","v":{"$error":"#VALUE!"}},{"$f":"$I154*Vermögen!N28","v":{"$error":"#VALUE!"}},{"$error":"#VALUE!"}]
[null,{"$f":"#REF!*Vermögen!J29","v":{"$error":"#REF!"}},{"$f":"#REF!*Vermögen!K29","v":{"$error":"#REF!"}},{"$f":"#REF!*Vermögen!L29","v":{"$error":"#REF!"}},{"$f":"#REF!*Vermögen!M29","v":{"$error":"#REF!"}},{"$f":"#REF!*Vermögen!N29","v":{"$error":"#REF!"}},{"$error":"#REF!"},null,{"$f":"Vermögen!U29*Vermögen!V29","v":{"$error":"#VALUE!"}},{"$f":"$I155*Vermögen!J29","v":{"$error":"#VALUE!"}},{"$f":"$I155*Vermögen!K29","v":{"$error":"#VALUE!"}},{"$f":"$I155*Vermögen!L29","v":{"$error":"#VALUE!"}},{"$f":"$I155*Vermögen!M29","v":{"$error":"#VALUE!"}},{"$f":"$I155*Vermögen!N29","v":{"$error":"#VALUE!"}},{"$error":"#VALUE!"}]
[null,{"$f":"#REF!*Vermögen!J30","v":{"$error":"#REF!"}},{"$f":"#REF!*Vermögen!K30","v":{"$error":"#REF!"}},{"$f":"#REF!*Vermögen!L30","v":{"$error":"#REF!"}},{"$f":"#REF!*Vermögen!M30","v":{"$error":"#REF!"}},{"$f":"#REF!*Vermögen!N30","v":{"$error":"#REF!"}},{"$error":"#REF!"},null,{"$f":"Vermögen!U30*Vermögen!V30","v":{"$error":"#VALUE!"}},{"$f":"$I156*Vermögen!J30","v":{"$error":"#VALUE!"}},{"$f":"$I156*Vermögen!K30","v":{"$error":"#VALUE!"}},{"$f":"$I156*Vermögen!L30","v":{"$error":"#VALUE!"}},{"$f":"$I156*Vermögen!M30","v":{"$error":"#VALUE!"}},{"$f":"$I156*Vermögen!N30","v":{"$error":"#VALUE!"}},{"$error":"#VALUE!"}]
[null,{"$f":"#REF!*Vermögen!J31","v":{"$error":"#REF!"}},{"$f":"#REF!*Vermögen!K31","v":{"$error":"#REF!"}},{"$f":"#REF!*Vermögen!L31","v":{"$error":"#REF!"}},{"$f":"#REF!*Vermögen!M31","v":{"$error":"#REF!"}},{"$f":"#REF!*Vermögen!N31","v":{"$error":"#REF!"}},{"$error":"#REF!"},null,{"$f":"Vermögen!U31*Vermögen!V31","v":{"$error":"#VALUE!"}},{"$f":"$I157*Vermögen!J31","v":{"$error":"#VALUE!"}},{"$f":"$I157*Vermögen!K31","v":{"$error":"#VALUE!"}},{"$f":"$I157*Vermögen!L31","v":{"$error":"#VALUE!"}},{"$f":"$I157*Vermögen!M31","v":{"$error":"#VALUE!"}},{"$f":"$I157*Vermögen!N31","v":{"$error":"#VALUE!"}},{"$error":"#VALUE!"}]
[null,{"$f":"#REF!*Vermögen!J32","v":{"$error":"#REF!"}},{"$f":"#REF!*Vermögen!K32","v":{"$error":"#REF!"}},{"$f":"#REF!*Vermögen!L32","v":{"$error":"#REF!"}},{"$f":"#REF!*Vermögen!M32","v":{"$error":"#REF!"}},{"$f":"#REF!*Vermögen!N32","v":{"$error":"#REF!"}},{"$error":"#REF!"},null,{"$f":"Vermögen!U32*Vermögen!V32","v":{"$error":"#VALUE!"}},{"$f":"$I158*Vermögen!J32","v":{"$error":"#VALUE!"}},{"$f":"$I158*Vermögen!K32","v":{"$error":"#VALUE!"}},{"$f":"$I158*Vermögen!L32","v":{"$error":"#VALUE!"}},{"$f":"$I158*Vermögen!M32","v":{"$error":"#VALUE!"}},{"$f":"$I158*Vermögen!N32","v":{"$error":"#VALUE!"}},{"$error":"#VALUE!"}]
[null,{"$f":"#REF!*Vermögen!J33","v":{"$error":"#REF!"}},{"$f":"#REF!*Vermögen!K33","v":{"$error":"#REF!"}},{"$f":"#REF!*Vermögen!L33","v":{"$error":"#REF!"}},{"$f":"#REF!*Vermögen!M33","v":{"$error":"#REF!"}},{"$f":"#REF!*Vermögen!N33","v":{"$error":"#REF!"}},{"$error":"#REF!"},null,{"$f":"Vermögen!U33*Vermögen!V33","v":{"$error":"#VALUE!"}},{"$f":"$I159*Vermögen!J33","v":{"$error":"#VALUE!"}},{"$f":"$I159*Vermögen!K33","v":{"$error":"#VALUE!"}},{"$f":"$I159*Vermögen!L33","v":{"$error":"#VALUE!"}},{"$f":"$I159*Vermögen!M33","v":{"$error":"#VALUE!"}},{"$f":"$I159*Vermögen!N33","v":{"$error":"#VALUE!"}},{"$error":"#VALUE!"}]
[null,{"$f":"#REF!*Vermögen!J34","v":{"$error":"#REF!"}},{"$f":"#REF!*Vermögen!K34","v":{"$error":"#REF!"}},{"$f":"#REF!*Vermögen!L34","v":{"$error":"#REF!"}},{"$f":"#REF!*Vermögen!M34","v":{"$error":"#REF!"}},{"$f":"#REF!*Vermögen!N34","v":{"$error":"#REF!"}},{"$error":"#REF!"},null,{"$f":"Vermögen!U34*Vermögen!V34","v":{"$error":"#VALUE!"}},{"$f":"$I160*Vermögen!J34","v":{"$error":"#VALUE!"}},{"$f":"$I160*Vermögen!K34","v":{"$error":"#VALUE!"}},{"$f":"$I160*Vermögen!L34","v":{"$error":"#VALUE!"}},{"$f":"$I160*Vermögen!M34","v":{"$error":"#VALUE!"}},{"$f":"$I160*Vermögen!N34","v":{"$error":"#VALUE!"}},{"$error":"#VALUE!"}]
[null,{"$f":"#REF!*Vermögen!J35","v":{"$error":"#REF!"}},{"$f":"#REF!*Vermögen!K35","v":{"$error":"#REF!"}},{"$f":"#REF!*Vermögen!L35","v":{"$error":"#REF!"}},{"$f":"#REF!*Vermögen!M35","v":{"$error":"#REF!"}},{"$f":"#REF!*Vermögen!N35","v":{"$error":"#REF!"}},{"$error":"#REF!"},null,{"$f":"Vermögen!U35*Vermögen!V35","v":{"$error":"#VALUE!"}},{"$f":"$I161*Vermögen!J35","v":{"$error":"#VALUE!"}},{"$f":"$I161*Vermögen!K35","v":{"$error":"#VALUE!"}},{"$f":"$I161*Vermögen!L35","v":{"$error":"#VALUE!"}},{"$f":"$I161*Vermögen!M35","v":{"$error":"#VALUE!"}},{"$f":"$I161*Vermögen!N35","v":{"$error":"#VALUE!"}},{"$error":"#VALUE!"}]
[null,{"$f":"#REF!*Vermögen!J36","v":{"$error":"#REF!"}},{"$f":"#REF!*Vermögen!K36","v":{"$error":"#REF!"}},{"$f":"#REF!*Vermögen!L36","v":{"$error":"#REF!"}},{"$f":"#REF!*Vermögen!M36","v":{"$error":"#REF!"}},{"$f":"#REF!*Vermögen!N36","v":{"$error":"#REF!"}},{"$error":"#REF!"},null,{"$f":"Vermögen!U36*Vermögen!V36","v":{"$error":"#VALUE!"}},{"$f":"$I162*Vermögen!J36","v":{"$error":"#VALUE!"}},{"$f":"$I162*Vermögen!K36","v":{"$error":"#VALUE!"}},{"$f":"$I162*Vermögen!L36","v":{"$error":"#VALUE!"}},{"$f":"$I162*Vermögen!M36","v":{"$error":"#VALUE!"}},{"$f":"$I162*Vermögen!N36","v":{"$error":"#VALUE!"}},{"$error":"#VALUE!"}]
[null,{"$f":"#REF!*Vermögen!J37","v":{"$error":"#REF!"}},{"$f":"#REF!*Vermögen!K37","v":{"$error":"#REF!"}},{"$f":"#REF!*Vermögen!L37","v":{"$error":"#REF!"}},{"$f":"#REF!*Vermögen!M37","v":{"$error":"#REF!"}},{"$f":"#REF!*Vermögen!N37","v":{"$error":"#REF!"}},{"$error":"#REF!"},null,{"$f":"Vermögen!U37*Vermögen!V37","v":{"$error":"#VALUE!"}},{"$f":"$I163*Vermögen!J37","v":{"$error":"#VALUE!"}},{"$f":"$I163*Vermögen!K37","v":{"$error":"#VALUE!"}},{"$f":"$I163*Vermögen!L37","v":{"$error":"#VALUE!"}},{"$f":"$I163*Vermögen!M37","v":{"$error":"#VALUE!"}},{"$f":"$I163*Vermögen!N37","v":{"$error":"#VALUE!"}},{"$error":"#VALUE!"}]
[null,{"$f":"#REF!*Vermögen!J38","v":{"$error":"#REF!"}},{"$f":"#REF!*Vermögen!K38","v":{"$error":"#REF!"}},{"$f":"#REF!*Vermögen!L38","v":{"$error":"#REF!"}},{"$f":"#REF!*Vermögen!M38","v":{"$error":"#REF!"}},{"$f":"#REF!*Vermögen!N38","v":{"$error":"#REF!"}},{"$error":"#REF!"},null,{"$f":"Vermögen!U38*Vermögen!V38","v":{"$error":"#VALUE!"}},{"$f":"$I164*Vermögen!J38","v":{"$error":"#VALUE!"}},{"$f":"$I164*Vermögen!K38","v":{"$error":"#VALUE!"}},{"$f":"$I164*Vermögen!L38","v":{"$error":"#VALUE!"}},{"$f":"$I164*Vermögen!M38","v":{"$error":"#VALUE!"}},{"$f":"$I164*Vermögen!N38","v":{"$error":"#VALUE!"}},{"$error":"#VALUE!"}]
[null,{"$f":"#REF!*Vermögen!J39","v":{"$error":"#REF!"}},{"$f":"#REF!*Vermögen!K39","v":{"$error":"#REF!"}},{"$f":"#REF!*Vermögen!L39","v":{"$error":"#REF!"}},{"$f":"#REF!*Vermögen!M39","v":{"$error":"#REF!"}},{"$f":"#REF!*Vermögen!N39","v":{"$error":"#REF!"}},{"$error":"#REF!"},null,{"$f":"Vermögen!U39*Vermögen!V39","v":{"$error":"#VALUE!"}},{"$f":"$I165*Vermögen!J39","v":{"$error":"#VALUE!"}},{"$f":"$I165*Vermögen!K39","v":{"$error":"#VALUE!"}},{"$f":"$I165*Vermögen!L39","v":{"$error":"#VALUE!"}},{"$f":"$I165*Vermögen!M39","v":{"$error":"#VALUE!"}},{"$f":"$I165*Vermögen!N39","v":{"$error":"#VALUE!"}},{"$error":"#VALUE!"}]
[null,{"$f":"#REF!*Vermögen!J40","v":{"$error":"#REF!"}},{"$f":"#REF!*Vermögen!K40","v":{"$error":"#REF!"}},{"$f":"#REF!*Vermögen!L40","v":{"$error":"#REF!"}},{"$f":"#REF!*Vermögen!M40","v":{"$error":"#REF!"}},{"$f":"#REF!*Vermögen!N40","v":{"$error":"#REF!"}},{"$error":"#REF!"},null,{"$f":"Vermögen!U40*Vermögen!V40","v":{"$error":"#VALUE!"}},{"$f":"$I166*Vermögen!J40","v":{"$error":"#VALUE!"}},{"$f":"$I166*Vermögen!K40","v":{"$error":"#VALUE!"}},{"$f":"$I166*Vermögen!L40","v":{"$error":"#VALUE!"}},{"$f":"$I166*Vermögen!M40","v":{"$error":"#VALUE!"}},{"$f":"$I166*Vermögen!N40","v":{"$error":"#VALUE!"}},{"$error":"#VALUE!"}]
[null,{"$f":"#REF!*Vermögen!J41","v":{"$error":"#REF!"}},{"$f":"#REF!*Vermögen!K41","v":{"$error":"#REF!"}},{"$f":"#REF!*Vermögen!L41","v":{"$error":"#REF!"}},{"$f":"#REF!*Vermögen!M41","v":{"$error":"#REF!"}},{"$f":"#REF!*Vermögen!N41","v":{"$error":"#REF!"}},{"$error":"#REF!"},null,{"$f":"Vermögen!U41*Vermögen!V41","v":{"$error":"#VALUE!"}},{"$f":"$I167*Vermögen!J41","v":{"$error":"#VALUE!"}},{"$f":"$I167*Vermögen!K41","v":{"$error":"#VALUE!"}},{"$f":"$I167*Vermögen!L41","v":{"$error":"#VALUE!"}},{"$f":"$I167*Vermögen!M41","v":{"$error":"#VALUE!"}},{"$f":"$I167*Vermögen!N41","v":{"$error":"#VALUE!"}},{"$error":"#VALUE!"}]
[null,{"$f":"#REF!*Vermögen!J42","v":{"$error":"#REF!"}},{"$f":"#REF!*Vermögen!K42","v":{"$error":"#REF!"}},{"$f":"#REF!*Vermögen!L42","v":{"$error":"#REF!"}},{"$f":"#REF!*Vermögen!M42","v":{"$error":"#REF!"}},{"$f":"#REF!*Vermögen!N42","v":{"$error":"#REF!"}},{"$error":"#REF!"},null,{"$f":"Vermögen!U42*Vermögen!V42","v":{"$error":"#VALUE!"}},{"$f":"$I168*Vermögen!J42","v":{"$error":"#VALUE!"}},{"$f":"$I168*Vermögen!K42","v":{"$error":"#VALUE!"}},{"$f":"$I168*Vermögen!L42","v":{"$error":"#VALUE!"}},{"$f":"$I168*Vermögen!M42","v":{"$error":"#VALUE!"}},{"$f":"$I168*Vermögen!N42","v":{"$error":"#VALUE!"}},{"$error":"#VALUE!"}]
[null,{"$f":"#REF!*Vermögen!J43","v":{"$error":"#REF!"}},{"$f":"#REF!*Vermögen!K43","v":{"$error":"#REF!"}},{"$f":"#REF!*Vermögen!L43","v":{"$error":"#REF!"}},{"$f":"#REF!*Vermögen!M43","v":{"$error":"#REF!"}},{"$f":"#REF!*Vermögen!N43","v":{"$error":"#REF!"}},{"$error":"#REF!"},null,{"$f":"Vermögen!U43*Vermögen!V43","v":{"$error":"#VALUE!"}},{"$f":"$I169*Vermögen!J43","v":{"$error":"#VALUE!"}},{"$f":"$I169*Vermögen!K43","v":{"$error":"#VALUE!"}},{"$f":"$I169*Vermögen!L43","v":{"$error":"#VALUE!"}},{"$f":"$I169*Vermögen!M43","v":{"$error":"#VALUE!"}},{"$f":"$I169*Vermögen!N43","v":{"$error":"#VALUE!"}},{"$error":"#VALUE!"}]
[null,{"$f":"#REF!*Vermögen!J44","v":{"$error":"#REF!"}},{"$f":"#REF!*Vermögen!K44","v":{"$error":"#REF!"}},{"$f":"#REF!*Vermögen!L44","v":{"$error":"#REF!"}},{"$f":"#REF!*Vermögen!M44","v":{"$error":"#REF!"}},{"$f":"#REF!*Vermögen!N44","v":{"$error":"#REF!"}},{"$error":"#REF!"},null,{"$f":"Vermögen!U44*Vermögen!V44","v":{"$error":"#VALUE!"}},{"$f":"$I170*Vermögen!J44","v":{"$error":"#VALUE!"}},{"$f":"$I170*Vermögen!K44","v":{"$error":"#VALUE!"}},{"$f":"$I170*Vermögen!L44","v":{"$error":"#VALUE!"}},{"$f":"$I170*Vermögen!M44","v":{"$error":"#VALUE!"}},{"$f":"$I170*Vermögen!N44","v":{"$error":"#VALUE!"}},{"$error":"#VALUE!"}]
[null,{"$f":"#REF!*Vermögen!J45","v":{"$error":"#REF!"}},{"$f":"#REF!*Vermögen!K45","v":{"$error":"#REF!"}},{"$f":"#REF!*Vermögen!L45","v":{"$error":"#REF!"}},{"$f":"#REF!*Vermögen!M45","v":{"$error":"#REF!"}},{"$f":"#REF!*Vermögen!N45","v":{"$error":"#REF!"}},{"$error":"#REF!"},null,{"$f":"Vermögen!U45*Vermögen!V45","v":{"$error":"#VALUE!"}},{"$f":"$I171*Vermögen!J45","v":{"$error":"#VALUE!"}},{"$f":"$I171*Vermögen!K45","v":{"$error":"#VALUE!"}},{"$f":"$I171*Vermögen!L45","v":{"$error":"#VALUE!"}},{"$f":"$I171*Vermögen!M45","v":{"$error":"#VALUE!"}},{"$f":"$I171*Vermögen!N45","v":{"$error":"#VALUE!"}},{"$error":"#VALUE!"}]
[null,{"$f":"#REF!*Vermögen!J46","v":{"$error":"#REF!"}},{"$f":"#REF!*Vermögen!K46","v":{"$error":"#REF!"}},{"$f":"#REF!*Vermögen!L46","v":{"$error":"#REF!"}},{"$f":"#REF!*Vermögen!M46","v":{"$error":"#REF!"}},{"$f":"#REF!*Vermögen!N46","v":{"$error":"#REF!"}},{"$error":"#REF!"},null,{"$f":"Vermögen!U46*Vermögen!V46","v":{"$error":"#VALUE!"}},{"$f":"$I172*Vermögen!J46","v":{"$error":"#VALUE!"}},{"$f":"$I172*Vermögen!K46","v":{"$error":"#VALUE!"}},{"$f":"$I172*Vermögen!L46","v":{"$error":"#VALUE!"}},{"$f":"$I172*Vermögen!M46","v":{"$error":"#VALUE!"}},{"$f":"$I172*Vermögen!N46","v":{"$error":"#VALUE!"}},{"$error":"#VALUE!"}]
[null,{"$f":"#REF!*Vermögen!J47","v":{"$error":"#REF!"}},{"$f":"#REF!*Vermögen!K47","v":{"$error":"#REF!"}},{"$f":"#REF!*Vermögen!L47","v":{"$error":"#REF!"}},{"$f":"#REF!*Vermögen!M47","v":{"$error":"#REF!"}},{"$f":"#REF!*Vermögen!N47","v":{"$error":"#REF!"}},{"$error":"#REF!"},null,{"$f":"Vermögen!U47*Vermögen!V47","v":{"$error":"#VALUE!"}},{"$f":"$I173*Vermögen!J47","v":{"$error":"#VALUE!"}},{"$f":"$I173*Vermögen!K47","v":{"$error":"#VALUE!"}},{"$f":"$I173*Vermögen!L47","v":{"$error":"#VALUE!"}},{"$f":"$I173*Vermögen!M47","v":{"$error":"#VALUE!"}},{"$f":"$I173*Vermögen!N47","v":{"$error":"#VALUE!"}},{"$error":"#VALUE!"}]
[null,{"$f":"#REF!*Vermögen!J48","v":{"$error":"#REF!"}},{"$f":"#REF!*Vermögen!K48","v":{"$error":"#REF!"}},{"$f":"#REF!*Vermögen!L48","v":{"$error":"#REF!"}},{"$f":"#REF!*Vermögen!M48","v":{"$error":"#REF!"}},{"$f":"#REF!*Vermögen!N48","v":{"$error":"#REF!"}},{"$error":"#REF!"},null,{"$f":"Vermögen!U48*Vermögen!V48","v":{"$error":"#VALUE!"}},{"$f":"$I174*Vermögen!J48","v":{"$error":"#VALUE!"}},{"$f":"$I174*Vermögen!K48","v":{"$error":"#VALUE!"}},{"$f":"$I174*Vermögen!L48","v":{"$error":"#VALUE!"}},{"$f":"$I174*Vermögen!M48","v":{"$error":"#VALUE!"}},{"$f":"$I174*Vermögen!N48","v":{"$error":"#VALUE!"}},{"$error":"#VALUE!"}]
[null,{"$f":"#REF!*Vermögen!J49","v":{"$error":"#REF!"}},{"$f":"#REF!*Vermögen!K49","v":{"$error":"#REF!"}},{"$f":"#REF!*Vermögen!L49","v":{"$error":"#REF!"}},{"$f":"#REF!*Vermögen!M49","v":{"$error":"#REF!"}},{"$f":"#REF!*Vermögen!N49","v":{"$error":"#REF!"}},{"$error":"#REF!"},null,{"$f":"Vermögen!U49*Vermögen!V49","v":{"$error":"#VALUE!"}},{"$f":"$I175*Vermögen!J49","v":{"$error":"#VALUE!"}},{"$f":"$I175*Vermögen!K49","v":{"$error":"#VALUE!"}},{"$f":"$I175*Vermögen!L49","v":{"$error":"#VALUE!"}},{"$f":"$I175*Vermögen!M49","v":{"$error":"#VALUE!"}},{"$f":"$I175*Vermögen!N49","v":{"$error":"#VALUE!"}},{"$error":"#VALUE!"}]
[null,{"$f":"#REF!*Vermögen!J50","v":{"$error":"#REF!"}},{"$f":"#REF!*Vermögen!K50","v":{"$error":"#REF!"}},{"$f":"#REF!*Vermögen!L50","v":{"$error":"#REF!"}},{"$f":"#REF!*Vermögen!M50","v":{"$error":"#REF!"}},{"$f":"#REF!*Vermögen!N50","v":{"$error":"#REF!"}},{"$error":"#REF!"},null,{"$f":"Vermögen!U50*Vermögen!V50","v":{"$error":"#VALUE!"}},{"$f":"$I176*Vermögen!J50","v":{"$error":"#VALUE!"}},{"$f":"$I176*Vermögen!K50","v":{"$error":"#VALUE!"}},{"$f":"$I176*Vermögen!L50","v":{"$error":"#VALUE!"}},{"$f":"$I176*Vermögen!M50","v":{"$error":"#VALUE!"}},{"$f":"$I176*Vermögen!N50","v":{"$error":"#VALUE!"}},{"$error":"#VALUE!"}]
[null,{"$f":"#REF!*Vermögen!J51","v":{"$error":"#REF!"}},{"$f":"#REF!*Vermögen!K51","v":{"$error":"#REF!"}},{"$f":"#REF!*Vermögen!L51","v":{"$error":"#REF!"}},{"$f":"#REF!*Vermögen!M51","v":{"$error":"#REF!"}},{"$f":"#REF!*Vermögen!N51","v":{"$error":"#REF!"}},{"$error":"#REF!"},null,{"$f":"Vermögen!U51*Vermögen!V51","v":{"$error":"#VALUE!"}},{"$f":"$I177*Vermögen!J51","v":{"$error":"#VALUE!"}},{"$f":"$I177*Vermögen!K51","v":{"$error":"#VALUE!"}},{"$f":"$I177*Vermögen!L51","v":{"$error":"#VALUE!"}},{"$f":"$I177*Vermögen!M51","v":{"$error":"#VALUE!"}},{"$f":"$I177*Vermögen!N51","v":{"$error":"#VALUE!"}},{"$error":"#VALUE!"}]
[null,{"$f":"#REF!*Vermögen!J52","v":{"$error":"#REF!"}},{"$f":"#REF!*Vermögen!K52","v":{"$error":"#REF!"}},{"$f":"#REF!*Vermögen!L52","v":{"$error":"#REF!"}},{"$f":"#REF!*Vermögen!M52","v":{"$error":"#REF!"}},{"$f":"#REF!*Vermögen!N52","v":{"$error":"#REF!"}},{"$error":"#REF!"},null,{"$f":"Vermögen!U52*Vermögen!V52","v":{"$error":"#VALUE!"}},{"$f":"$I178*Vermögen!J52","v":{"$error":"#VALUE!"}},{"$f":"$I178*Vermögen!K52","v":{"$error":"#VALUE!"}},{"$f":"$I178*Vermögen!L52","v":{"$error":"#VALUE!"}},{"$f":"$I178*Vermögen!M52","v":{"$error":"#VALUE!"}},{"$f":"$I178*Vermögen!N52","v":{"$error":"#VALUE!"}},{"$error":"#VALUE!"}]
[null,{"$f":"#REF!*Vermögen!J53","v":{"$error":"#REF!"}},{"$f":"#REF!*Vermögen!K53","v":{"$error":"#REF!"}},{"$f":"#REF!*Vermögen!L53","v":{"$error":"#REF!"}},{"$f":"#REF!*Vermögen!M53","v":{"$error":"#REF!"}},{"$f":"#REF!*Vermögen!N53","v":{"$error":"#REF!"}},{"$error":"#REF!"},null,{"$f":"Vermögen!U53*Vermögen!V53","v":{"$error":"#VALUE!"}},{"$f":"$I179*Vermögen!J53","v":{"$error":"#VALUE!"}},{"$f":"$I179*Vermögen!K53","v":{"$error":"#VALUE!"}},{"$f":"$I179*Vermögen!L53","v":{"$error":"#VALUE!"}},{"$f":"$I179*Vermögen!M53","v":{"$error":"#VALUE!"}},{"$f":"$I179*Vermögen!N53","v":{"$error":"#VALUE!"}},{"$error":"#VALUE!"}]
[null,{"$f":"#REF!*Vermögen!J54","v":{"$error":"#REF!"}},{"$f":"#REF!*Vermögen!K54","v":{"$error":"#REF!"}},{"$f":"#REF!*Vermögen!L54","v":{"$error":"#REF!"}},{"$f":"#REF!*Vermögen!M54","v":{"$error":"#REF!"}},{"$f":"#REF!*Vermögen!N54","v":{"$error":"#REF!"}},{"$error":"#REF!"},null,{"$f":"Vermögen!U54*Vermögen!V54","v":{"$error":"#VALUE!"}},{"$f":"$I180*Vermögen!J54","v":{"$error":"#VALUE!"}},{"$f":"$I180*Vermögen!K54","v":{"$error":"#VALUE!"}},{"$f":"$I180*Vermögen!L54","v":{"$error":"#VALUE!"}},{"$f":"$I180*Vermögen!M54","v":{"$error":"#VALUE!"}},{"$f":"$I180*Vermögen!N54","v":{"$error":"#VALUE!"}},{"$error":"#VALUE!"}]
[null,{"$f":"#REF!*Vermögen!J55","v":{"$error":"#REF!"}},{"$f":"#REF!*Vermögen!K55","v":{"$error":"#REF!"}},{"$f":"#REF!*Vermögen!L55","v":{"$error":"#REF!"}},{"$f":"#REF!*Vermögen!M55","v":{"$error":"#REF!"}},{"$f":"#REF!*Vermögen!N55","v":{"$error":"#REF!"}},{"$error":"#REF!"},null,{"$f":"Vermögen!U55*Vermögen!V55","v":{"$error":"#VALUE!"}},{"$f":"$I181*Vermögen!J55","v":{"$error":"#VALUE!"}},{"$f":"$I181*Vermögen!K55","v":{"$error":"#VALUE!"}},{"$f":"$I181*Vermögen!L55","v":{"$error":"#VALUE!"}},{"$f":"$I181*Vermögen!M55","v":{"$error":"#VALUE!"}},{"$f":"$I181*Vermögen!N55","v":{"$error":"#VALUE!"}},{"$error":"#VALUE!"}]
[null,{"$f":"#REF!*Vermögen!J56","v":{"$error":"#REF!"}},{"$f":"#REF!*Vermögen!K56","v":{"$error":"#REF!"}},{"$f":"#REF!*Vermögen!L56","v":{"$error":"#REF!"}},{"$f":"#REF!*Vermögen!M56","v":{"$error":"#REF!"}},{"$f":"#REF!*Vermögen!N56","v":{"$error":"#REF!"}},{"$error":"#REF!"},null,{"$f":"Vermögen!U56*Vermögen!V56","v":{"$error":"#VALUE!"}},{"$f":"$I182*Vermögen!J56","v":{"$error":"#VALUE!"}},{"$f":"$I182*Vermögen!K56","v":{"$error":"#VALUE!"}},{"$f":"$I182*Vermögen!L56","v":{"$error":"#VALUE!"}},{"$f":"$I182*Vermögen!M56","v":{"$error":"#VALUE!"}},{"$f":"$I182*Vermögen!N56","v":{"$error":"#VALUE!"}},{"$error":"#VALUE!"}]
[null,{"$f":"#REF!*Vermögen!J57","v":{"$error":"#REF!"}},{"$f":"#REF!*Vermögen!K57","v":{"$error":"#REF!"}},{"$f":"#REF!*Vermögen!L57","v":{"$error":"#REF!"}},{"$f":"#REF!*Vermögen!M57","v":{"$error":"#REF!"}},{"$f":"#REF!*Vermögen!N57","v":{"$error":"#REF!"}},{"$error":"#REF!"},null,{"$f":"Vermögen!U57*Vermögen!V57","v":{"$error":"#VALUE!"}},{"$f":"$I183*Vermögen!J57","v":{"$error":"#VALUE!"}},{"$f":"$I183*Vermögen!K57","v":{"$error":"#VALUE!"}},{"$f":"$I183*Vermögen!L57","v":{"$error":"#VALUE!"}},{"$f":"$I183*Vermögen!M57","v":{"$error":"#VALUE!"}},{"$f":"$I183*Vermögen!N57","v":{"$error":"#VALUE!"}},{"$error":"#VALUE!"}]
[null,{"$f":"#REF!*Vermögen!J58","v":{"$error":"#REF!"}},{"$f":"#REF!*Vermögen!K58","v":{"$error":"#REF!"}},{"$f":"#REF!*Vermögen!L58","v":{"$error":"#REF!"}},{"$f":"#REF!*Vermögen!M58","v":{"$error":"#REF!"}},{"$f":"#REF!*Vermögen!N58","v":{"$error":"#REF!"}},{"$error":"#REF!"},null,{"$f":"Vermögen!U58*Vermögen!V58","v":{"$error":"#VALUE!"}},{"$f":"$I184*Vermögen!J58","v":{"$error":"#VALUE!"}},{"$f":"$I184*Vermögen!K58","v":{"$error":"#VALUE!"}},{"$f":"$I184*Vermögen!L58","v":{"$error":"#VALUE!"}},{"$f":"$I184*Vermögen!M58","v":{"$error":"#VALUE!"}},{"$f":"$I184*Vermögen!N58","v":{"$error":"#VALUE!"}},{"$error":"#VALUE!"}]
[null,{"$f":"#REF!*Vermögen!J59","v":{"$error":"#REF!"}},{"$f":"#REF!*Vermögen!K59","v":{"$error":"#REF!"}},{"$f":"#REF!*Vermögen!L59","v":{"$error":"#REF!"}},{"$f":"#REF!*Vermögen!M59","v":{"$error":"#REF!"}},{"$f":"#REF!*Vermögen!N59","v":{"$error":"#REF!"}},{"$error":"#REF!"},null,{"$f":"Vermögen!U59*Vermögen!V59","v":{"$error":"#VALUE!"}},{"$f":"$I185*Vermögen!J59","v":{"$error":"#VALUE!"}},{"$f":"$I185*Vermögen!K59","v":{"$error":"#VALUE!"}},{"$f":"$I185*Vermögen!L59","v":{"$error":"#VALUE!"}},{"$f":"$I185*Vermögen!M59","v":{"$error":"#VALUE!"}},{"$f":"$I185*Vermögen!N59","v":{"$error":"#VALUE!"}},{"$error":"#VALUE!"}]
[null,{"$f":"#REF!*Vermögen!J60","v":{"$error":"#REF!"}},{"$f":"#REF!*Vermögen!K60","v":{"$error":"#REF!"}},{"$f":"#REF!*Vermögen!L60","v":{"$error":"#REF!"}},{"$f":"#REF!*Vermögen!M60","v":{"$error":"#REF!"}},{"$f":"#REF!*Vermögen!N60","v":{"$error":"#REF!"}},{"$error":"#REF!"},null,{"$f":"Vermögen!U60*Vermögen!V60","v":{"$error":"#VALUE!"}},{"$f":"$I186*Vermögen!J60","v":{"$error":"#VALUE!"}},{"$f":"$I186*Vermögen!K60","v":{"$error":"#VALUE!"}},{"$f":"$I186*Vermögen!L60","v":{"$error":"#VALUE!"}},{"$f":"$I186*Vermögen!M60","v":{"$error":"#VALUE!"}},{"$f":"$I186*Vermögen!N60","v":{"$error":"#VALUE!"}},{"$error":"#VALUE!"}]
[null,{"$f":"SUM(B137:B186)","v":{"$error":"#REF!"}},{"$f":"SUM(C137:C186)","v":{"$error":"#REF!"}},{"$error":"#REF!"},{"$error":"#REF!"},{"$error":"#REF!"},{"$f":"SUM(B187:F187)","v":{"$error":"#REF!"}},null,{"$f":"SUM(I137:I186)","v":{"$error":"#VALUE!"}},{"$f":"SUM(J137:J186)","v":{"$error":"#VALUE!"}},{"$error":"#VALUE!"},{"$error":"#VALUE!"},{"$error":"#VALUE!"},{"$error":"#VALUE!"},{"$f":"SUM(J187:N187)","v":{"$error":"#VALUE!"}}]

{"sheet":"Daten Projektion","index":10,"n_rows":388,"n_cols":31,"rows_kept":388,"hidden":true,"merged":[[226,3,226,13],[227,3,227,13],[297,3,297,13],[298,3,298,13],[386,3,386,13],[387,3,387,13]]}
["Daten Projektion"]
[{"$nulls":5},"Szenariojahr","Ausfalljahr"]
[null,null,"Import","Export",null,"Bitte ausw.","Kein Ausfall"]
[null,null,"Vermögen!","Cockpit!",null,{"$f":"Einstellungen!G13","v":2024},{"$f":"Einstellungen!G13","v":2024}]
[{"$nulls":5},{"$f":"F4+1","v":2025},{"$f":"G4+1","v":2025}]
[{"$nulls":5},{"$f":"F5+1","v":2026},2026]
[{"$nulls":5},2027,2027]
[{"$nulls":5},2028,2028]
[]
[null,null,"Vermögen",{"$nulls":11},"Basisszen.:",{"$f":"Szenarien!F12","v":"Linear"},{"$nulls":4},"Worst Case:",{"$f":"Szenarien!O12","v":"Worst Case"},{"$nulls":4},"Szenario 3:",{"$f":"Szenarien!W12","v":"Mischszenario"}]
[{"$nulls":14},2,3,4,5,6,null,2,3,4,5,6,null,2,3,4,5,6]
[null,"Nr.","Vermögensgegenstand","Anlageklasse",{"$f":"Daten_Vermögen!B7","v":"Aktien"},{"$f":"Daten_Vermögen!B8","v":"Anleihen"},{"$f":"Daten_Vermögen!B9","v":"Alternative Inv."},{"$f":"Daten_Vermögen!B10","v":"Rohstoffe"},{"$f":"Daten_Vermögen!B11","v":"Liquidität"},{"$f":"Daten_Vermögen!B13","v":"Immobilien"},{"$f":"Daten_Vermögen!B14","v":"Beteiligungen"},{"$f":"Daten_Vermögen!B15","v":"Sonst. Verm."},{"$f":"Daten_Vermögen!B16","v":"Verbindlichkeiten"},{"$f":"O12-1","v":2023},{"$f":"Einstellungen!G13","v":2024},{"$f":"O12+1","v":2025},{"$f":"P12+1","v":2026},{"$f":"Q12+1","v":2027},{"$f":"R12+1","v":2028},null,{"$f":"O12","v":2024},{"$f":"P12","v":2025},{"$f":"Q12","v":2026},{"$f":"R12","v":2027},{"$f":"S12","v":2028},null,{"$f":"U12","v":2024},{"$f":"V12","v":2025},{"$f":"W12","v":2026},{"$f":"X12","v":2027},{"$f":"Y12","v":2028}]
[null,{"$f":"Vermögen!E11","v":"1."},{"$f":"IF(Vermögen!F11=0,\"\",Vermögen!F11)","v":""},{"$f":"Vermögen!I11","v":"Bitte auswählen"},{"$f":"Vermögen!J11","v":{"v":0,"d":"0.0%"}},{"$f":"Vermögen!K11","v":{"v":0,"d":"0.0%"}},{"$f":"Vermögen!L11","v":{"v":0,"d":"0.0%"}},{"$f":"Vermögen!M11","v":{"v":0,"d":"0.0%"}},{"$f":"Vermögen!N11","v":{"v":0,"d":"0.0%"}},{"$f":"IF(D13=$J$12,1,0)","v":{"v":0,"d":"0.0%"}},{"$f":"IF(D13=$K$12,1,0)","v":{"v":0,"d":"0.0%"}},{"$f":"IF(D13=$L$12,1,0)","v":{"v":0,"d":"0.0%"}},{"$f":"IF(D13=$M$12,1,0)","v":{"v":0,"d":"0.0%"}},{"$f":"Daten_Vermögen!C44","v":0},{"$f":"N13+N13*Vermögen!$V11","v":0},{"$f":"O13+O13*Vermögen!$V11","v":0},{"$f":"P13+P13*Vermögen!$V11","v":0},{"$f":"Q13+Q13*Vermögen!$V11","v":0},{"$f":"R13+R13*Vermögen!$V11","v":0},null,{"$f":"N13+N13*$E13*Szenarien!P$31+N13*$F13*Szenarien!P$32+N13*'Daten Projektion'!$G13*Szenarien!P$33+N13*'Daten Projektion'!$H13*Szenarien!P$34+N13*'Daten Projektion'!$I13*Szenarien!P$35+N13*'Daten Projektion'!$J13*Szenarien!P$36+N13*'Daten Projektion'!$K13*Szenarien!P$37+N13*'Daten Projektion'!$L13*Szenarien!P$38+N13*'Daten Projektion'!$M13*Szenarien!P$39","v":0},{"$f":"U13+U13*$E13*Szenarien!Q$31+U13*$F13*Szenarien!Q$32+U13*'Daten Projektion'!$G13*Szenarien!Q$33+U13*'Daten Projektion'!$H13*Szenarien!Q$34+U13*'Daten Projektion'!$I13*Szenarien!Q$35+U13*'Daten Projektion'!$J13*Szenarien!Q$36+U13*'Daten Projektion'!$K13*Szenarien!Q$37+U13*'Daten Projektion'!$L13*Szenarien!Q$38+U13*'Daten Projektion'!$M13*Szenarien!Q$39","v":0},{"$f":"V13+V13*$E13*Szenarien!R$31+V13*$F13*Szenarien!R$32+V13*'Daten Projektion'!$G13*Szenarien!R$33+V13*'Daten Projektion'!$H13*Szenarien!R$34+V13*'Daten Projektion'!$I13*Szenarien!R$35+V13*'Daten Projektion'!$J13*Szenarien!R$36+V13*'Daten Projektion'!$K13*Szenarien!R$37+V13*'Daten Projektion'!$L13*Szenarien!R$38+V13*'Daten Projektion'!$M13*Szenarien!R$39","v":0},{"$f":"W13+W13*$E13*Szenarien!S$31+W13*$F13*Szenarien!S$32+W13*'Daten Projektion'!$G13*Szenarien!S$33+W13*'Daten Projektion'!$H13*Szenarien!S$34+W13*'Daten Projektion'!$I13*Szenarien!S$35+W13*'Daten Projektion'!$J13*Szenarien!S$36+W13*'Daten Projektion'!$K13*Szenarien!S$37+W13*'Daten Projektion'!$L13*Szenarien!S$38+W13*'Daten Projektion'!$M13*Szenarien!S$39","v":0},{"$f":"X13+X13*$E13*Szenarien!T$31+X13*$F13*Szenarien!T$32+X13*'Daten Projektion'!$G13*Szenarien!T$33+X13*'Daten Projektion'!$H13*Szenarien!T$34+X13*'Daten Projektion'!$I13*Szenarien!T$35+X13*'Daten Projektion'!$J13*Szenarien!T$36+X13*'Daten Projektion'!$K13*Szenarien!T$37+X13*'Daten Projektion'!$L13*Szenarien!T$38+X13*'Daten Projektion'!$M13*Szenarien!T$39","v":0},null,{"$f":"N13+N13*$E13*Szenarien!X$31+N13*$F13*Szenarien!X$32+N13*'Daten Projektion'!$G13*Szenarien!X$33+N13*'Daten Projektion'!$H13*Szenarien!X$34+N13*'Daten Projektion'!$I13*Szenarien!X$35+N13*'Daten Projektion'!$J13*Szenarien!X$36+N13*'Daten Projektion'!$K13*Szenarien!X$37+N13*'Daten Projektion'!$L13*Szenarien!X$38+N13*'Daten Projektion'!$M13*Szenarien!X$39","v":0},{"$f":"AA13+AA13*$E13*Szenarien!Y$31+AA13*$F13*Szenarien!Y$32+AA13*'Daten Projektion'!$G13*Szenarien!Y$33+AA13*'Daten Projektion'!$H13*Szenarien!Y$34+AA13*'Daten Projektion'!$I13*Szenarien!Y$35+AA13*'Daten Projektion'!$J13*Szenarien!Y$36+AA13*'Daten Projektion'!$K13*Szenarien!Y$37+AA13*'Daten Projektion'!$L13*Szenarien!Y$38+AA13*'Daten Projektion'!$M13*Szenarien!Y$39","v":0},{"$f":"AB13+AB13*$E13*Szenarien!Z$31+AB13*$F13*Szenarien!Z$32+AB13*'Daten Projektion'!$G13*Szenarien!Z$33+AB13*'Daten Projektion'!$H13*Szenarien!Z$34+AB13*'Daten Projektion'!$I13*Szenarien!Z$35+AB13*'Daten Projektion'!$J13*Szenarien!Z$36+AB13*'Daten Projektion'!$K13*Szenarien!Z$37+AB13*'Daten Projektion'!$L13*Szenarien!Z$38+AB13*'Daten Projektion'!$M13*Szenarien!Z$39","v":0},{"$f":"AC13+AC13*$E13*Szenarien!AA$31+AC13*$F13*Szenarien!AA$32+AC13*'Daten Projektion'!$G13*Szenarien!AA$33+AC13*'Daten Projektion'!$H13*Szenarien!AA$34+AC13*'Daten Projektion'!$I13*Szenarien!AA$35+AC13*'Daten Projektion'!$J13*Szenarien!AA$36+AC13*'Daten Projektion'!$K13*Szenarien!AA$37+AC13*'Daten Projektion'!$L13*Szenarien!AA$38+AC13*'Daten Projektion'!$M13*Szenarien!AA$39","v":0},{"$f":"AD13+AD13*$E13*Szenarien!AB$31+AD13*$F13*Szenarien!AB$32+AD13*'Daten Projektion'!$G13*Szenarien!AB$33+AD13*'Daten Projektion'!$H13*Szenarien!AB$34+AD13*'Daten Projektion'!$I13*Szenarien!AB$35+AD13*'Daten Projektion'!$J13*Szenarien!AB$36+AD13*'Daten Projektion'!$K13*Szenarien!AB$37+AD13*'Daten Projektion'!$L13*Szenarien!AB$38+AD13*'Daten Projektion'!$M13*Szenarien!AB$39","v":0}]
[null,{"$f":"Vermögen!E12","v":"2."},{"$f":"IF(Vermögen!F12=0,\"\",Vermögen!F12)","v":""},{"$f":"Vermögen!I12","v":"Bitte auswählen"},{"$f":"Vermögen!J12","v":{"v":0,"d":"0.0%"}},{"$f":"Vermögen!K12","v":{"v":0,"d":"0.0%"}},{"$f":"Vermögen!L12","v":{"v":0,"d":"0.0%"}},{"$f":"Vermögen!M12","v":{"v":0,"d":"0.0%"}},{"$f":"Vermögen!N12","v":{"v":0,"d":"0.0%"}},{"$f":"IF(D14=$J$12,1,0)","v":{"v":0,"d":"0.0%"}},{"$f":"IF(D14=$K$12,1,0)","v":{"v":0,"d":"0.0%"}},{"$f":"IF(D14=$L$12,1,0)","v":{"v":0,"d":"0.0%"}},{"$f":"IF(D14=$M$12,1,0)","v":{"v":0,"d":"0.0%"}},{"$f":"Daten_Vermögen!C45","v":0},{"$f":"N14+N14*Vermögen!V12","v":0},{"$f":"O14+O14*Vermögen!$V12","v":0},{"$f":"P14+P14*Vermögen!$V12","v":0},{"$f":"Q14+Q14*Vermögen!$V12","v":0},{"$f":"R14+R14*Vermögen!$V12","v":0},null,{"$f":"N14+N14*$E14*Szenarien!P$31+N14*$F14*Szenarien!P$32+N14*'Daten Projektion'!$G14*Szenarien!P$33+N14*'Daten Projektion'!$H14*Szenarien!P$34+N14*'Daten Projektion'!$I14*Szenarien!P$35+N14*'Daten Projektion'!$J14*Szenarien!P$36+N14*'Daten Projektion'!$K14*Szenarien!P$37+N14*'Daten Projektion'!$L14*Szenarien!P$38+N14*'Daten Projektion'!$M14*Szenarien!P$39","v":0},{"$f":"U14+U14*$E14*Szenarien!Q$31+U14*$F14*Szenarien!Q$32+U14*'Daten Projektion'!$G14*Szenarien!Q$33+U14*'Daten Projektion'!$H14*Szenarien!Q$34+U14*'Daten Projektion'!$I14*Szenarien!Q$35+U14*'Daten Projektion'!$J14*Szenarien!Q$36+U14*'Daten Projektion'!$K14*Szenarien!Q$37+U14*'Daten Projektion'!$L14*Szenarien!Q$38+U14*'Daten Projektion'!$M14*Szenarien!Q$39","v":0},{"$f":"V14+V14*$E14*Szenarien!R$31+V14*$F14*Szenarien!R$32+V14*'Daten Projektion'!$G14*Szenarien!R$33+V14*'Daten Projektion'!$H14*Szenarien!R$34+V14*'Daten Projektion'!$I14*Szenarien!R$35+V14*'Daten Projektion'!$J14*Szenarien!R$36+V14*'Daten Projektion'!$K14*Szenarien!R$37+V14*'Daten Projektion'!$L14*Szenarien!R$38+V14*'Daten Projektion'!$M14*Szenarien!R$39","v":0},{"$f":"W14+W14*$E14*Szenarien!S$31+W14*$F14*Szenarien!S$32+W14*'Daten Projektion'!$G14*Szenarien!S$33+W14*'Daten Projektion'!$H14*Szenarien!S$34+W14*'Daten Projektion'!$I14*Szenarien!S$35+W14*'Daten Projektion'!$J14*Szenarien!S$36+W14*'Daten Projektion'!$K14*Szenarien!S$37+W14*'Daten Projektion'!$L14*Szenarien!S$38+W14*'Daten Projektion'!$M14*Szenarien!S$39","v":0},{"$f":"X14+X14*$E14*Szenarien!T$31+X14*$F14*Szenarien!T$32+X14*'Daten Projektion'!$G14*Szenarien!T$33+X14*'Daten Projektion'!$H14*Szenarien!T$34+X14*'Daten Projektion'!$I14*Szenarien!T$35+X14*'Daten Projektion'!$J14*Szenarien!T$36+X14*'Daten Projektion'!$K14*Szenarien!T$37+X14*'Daten Projektion'!$L14*Szenarien!T$38+X14*'Daten Projektion'!$M14*Szenarien!T$39","v":0},null,{"$f":"N14+N14*$E14*Szenarien!X$31+N14*$F14*Szenarien!X$32+N14*'Daten Projektion'!$G14*Szenarien!X$33+N14*'Daten Projektion'!$H14*Szenarien!X$34+N14*'Daten Projektion'!$I14*Szenarien!X$35+N14*'Daten Projektion'!$J14*Szenarien!X$36+N14*'Daten Projektion'!$K14*Szenarien!X$37+N14*'Daten Projektion'!$L14*Szenarien!X$38+N14*'Daten Projektion'!$M14*Szenarien!X$39","v":0},{"$f":"AA14+AA14*$E14*Szenarien!Y$31+AA14*$F14*Szenarien!Y$32+AA14*'Daten Projektion'!$G14*Szenarien!Y$33+AA14*'Daten Projektion'!$H14*Szenarien!Y$34+AA14*'Daten Projektion'!$I14*Szenarien!Y$35+AA14*'Daten Projektion'!$J14*Szenarien!Y$36+AA14*'Daten Projektion'!$K14*Szenarien!Y$37+AA14*'Daten Projektion'!$L14*Szenarien!Y$38+AA14*'Daten Projektion'!$M14*Szenarien!Y$39","v":0},{"$f":"AB14+AB14*$E14*Szenarien!Z$31+AB14*$F14*Szenarien!Z$32+AB14*'Daten Projektion'!$G14*Szenarien!Z$33+AB14*'Daten Projektion'!$H14*Szenarien!Z$34+AB14*'Daten Projektion'!$I14*Szenarien!Z$35+AB14*'Daten Projektion'!$J14*Szenarien!Z$36+AB14*'Daten Projektion'!$K14*Szenarien!Z$37+AB14*'Daten Projektion'!$L14*Szenarien!Z$38+AB14*'Daten Projektion'!$M14*Szenarien!Z$39","v":0},{"$f":"AC14+AC14*$E14*Szenarien!AA$31+AC14*$F14*Szenarien!AA$32+AC14*'Daten Projektion'!$G14*Szenarien!AA$33+AC14*'Daten Projektion'!$H14*Szenarien!AA$34+AC14*'Daten Projektion'!$I14*Szenarien!AA$35+AC14*'Daten Projektion'!$J14*Szenarien!AA$36+AC14*'Daten Projektion'!$K14*Szenarien!AA$37+AC14*'Daten Projektion'!$L14*Szenarien!AA$38+AC14*'Daten Projektion'!$M14*Szenarien!AA$39","v":0},{"$f":"AD14+AD14*$E14*Szenarien!AB$31+AD14*$F14*Szenarien!AB$32+AD14*'Daten Projektion'!$G14*Szenarien!AB$33+AD14*'Daten Projektion'!$H14*Szenarien!AB$34+AD14*'Daten Projektion'!$I14*Szenarien!AB$35+AD14*'Daten Projektion'!$J14*Szenarien!AB$36+AD14*'Daten Projektion'!$K14*Szenarien!AB$37+AD14*'Daten Projektion'!$L14*Szenarien!AB$38+AD14*'Daten Projektion'!$M14*Szenarien!AB$39","v":0}]
[null,{"$f":"Vermögen!E13","v":"3."},{"$f":"IF(Vermögen!F13=0,\"\",Vermögen!F13)","v":""},{"$f":"Vermögen!I13","v":"Bitte auswählen"},{"$f":"Vermögen!J13","v":{"v":0,"d":"0.0%"}},{"$f":"Vermögen!K13","v":{"v":0,"d":"0.0%"}},{"$f":"Vermögen!L13","v":{"v":0,"d":"0.0%"}},{"$f":"Vermögen!M13","v":{"v":0,"d":"0.0%"}},{"$f":"Vermögen!N13","v":{"v":0,"d":"0.0%"}},{"v":0,"d":"0.0%"},{"v":0,"d":"0.0%"},{"v":0,"d":"0.0%"},{"v":0,"d":"0.0%"},{"$f":"Daten_Vermögen!C46","v":0},{"$f":"N15+N15*Vermögen!V13","v":0},{"$f":"O15+O15*Vermögen!$V13","v":0},{"$f":"P15+P15*Vermögen!$V13","v":0},{"$f":"Q15+Q15*Vermögen!$V13","v":0},{"$f":"R15+R15*Vermögen!$V13","v":0},null,{"$f":"N15+N15*$E15*Szenarien!P$31+N15*$F15*Szenarien!P$32+N15*'Daten Projektion'!$G15*Szenarien!P$33+N15*'Daten Projektion'!$H15*Szenarien!P$34+N15*'Daten Projektion'!$I15*Szenarien!P$35+N15*'Daten Projektion'!$J15*Szenarien!P$36+N15*'Daten Projektion'!$K15*Szenarien!P$37+N15*'Daten Projektion'!$L15*Szenarien!P$38+N15*'Daten Projektion'!$M15*Szenarien!P$39","v":0},{"$f":"U15+U15*$E15*Szenarien!Q$31+U15*$F15*Szenarien!Q$32+U15*'Daten Projektion'!$G15*Szenarien!Q$33+U15*'Daten Projektion'!$H15*Szenarien!Q$34+U15*'Daten Projektion'!$I15*Szenarien!Q$35+U15*'Daten Projektion'!$J15*Szenarien!Q$36+U15*'Daten Projektion'!$K15*Szenarien!Q$37+U15*'Daten Projektion'!$L15*Szenarien!Q$38+U15*'Daten Projektion'!$M15*Szenarien!Q$39","v":0},{"$f":"V15+V15*$E15*Szenarien!R$31+V15*$F15*Szenarien!R$32+V15*'Daten Projektion'!$G15*Szenarien!R$33+V15*'Daten Projektion'!$H15*Szenarien!R$34+V15*'Daten Projektion'!$I15*Szenarien!R$35+V15*'Daten Projektion'!$J15*Szenarien!R$36+V15*'Daten Projektion'!$K15*Szenarien!R$37+V15*'Daten Projektion'!$L15*Szenarien!R$38+V15*'Daten Projektion'!$M15*Szenarien!R$39","v":0},{"$f":"W15+W15*$E15*Szenarien!S$31+W15*$F15*Szenarien!S$32+W15*'Daten Projektion'!$G15*Szenarien!S$33+W15*'Daten Projektion'!$H15*Szenarien!S$34+W15*'Daten Projektion'!$I15*Szenarien!S$35+W15*'Daten Projektion'!$J15*Szenarien!S$36+W15*'Daten Projektion'!$K15*Szenarien!S$37+W15*'Daten Projektion'!$L15*Szenarien!S$38+W15*'Daten Projektion'!$M15*Szenarien!S$39","v":0},{"$f":"X15+X15*$E15*Szenarien!T$31+X15*$F15*Szenarien!T$32+X15*'Daten Projektion'!$G15*Szenarien!T$33+X15*'Daten Projektion'!$H15*Szenarien!T$34+X15*'Daten Projektion'!$I15*Szenarien!T$35+X15*'Daten Projektion'!$J15*Szenarien!T$36+X15*'Daten Projektion'!$K15*Szenarien!T$37+X15*'Daten Projektion'!$L15*Szenarien!T$38+X15*'Daten Projektion'!$M15*Szenarien!T$39","v":0},null,{"$f":"N15+N15*$E15*Szenarien!X$31+N15*$F15*Szenarien!X$32+N15*'Daten Projektion'!$G15*Szenarien!X$33+N15*'Daten Projektion'!$H15*Szenarien!X$34+N15*'Daten Projektion'!$I15*Szenarien!X$35+N15*'Daten Projektion'!$J15*Szenarien!X$36+N15*'Daten Projektion'!$K15*Szenarien!X$37+N15*'Daten Projektion'!$L15*Szenarien!X$38+N15*'Daten Projektion'!$M15*Szenarien!X$39","v":0},{"$f":"AA15+AA15*$E15*Szenarien!Y$31+AA15*$F15*Szenarien!Y$32+AA15*'Daten Projektion'!$G15*Szenarien!Y$33+AA15*'Daten Projektion'!$H15*Szenarien!Y$34+AA15*'Daten Projektion'!$I15*Szenarien!Y$35+AA15*'Daten Projektion'!$J15*Szenarien!Y$36+AA15*'Daten Projektion'!$K15*Szenarien!Y$37+AA15*'Daten Projektion'!$L15*Szenarien!Y$38+AA15*'Daten Projektion'!$M15*Szenarien!Y$39","v":0},{"$f":"AB15+AB15*$E15*Szenarien!Z$31+AB15*$F15*Szenarien!Z$32+AB15*'Daten Projektion'!$G15*Szenarien!Z$33+AB15*'Daten Projektion'!$H15*Szenarien!Z$34+AB15*'Daten Projektion'!$I15*Szenarien!Z$35+AB15*'Daten Projektion'!$J15*Szenarien!Z$36+AB15*'Daten Projektion'!$K15*Szenarien!Z$37+AB15*'Daten Projektion'!$L15*Szenarien!Z$38+AB15*'Daten Projektion'!$M15*Szenarien!Z$39","v":0},{"$f":"AC15+AC15*$E15*Szenarien!AA$31+AC15*$F15*Szenarien!AA$32+AC15*'Daten Projektion'!$G15*Szenarien!AA$33+AC15*'Daten Projektion'!$H15*Szenarien!AA$34+AC15*'Daten Projektion'!$I15*Szenarien!AA$35+AC15*'Daten Projektion'!$J15*Szenarien!AA$36+AC15*'Daten Projektion'!$K15*Szenarien!AA$37+AC15*'Daten Projektion'!$L15*Szenarien!AA$38+AC15*'Daten Projektion'!$M15*Szenarien!AA$39","v":0},{"$f":"AD15+AD15*$E15*Szenarien!AB$31+AD15*$F15*Szenarien!AB$32+AD15*'Daten Projektion'!$G15*Szenarien!AB$33+AD15*'Daten Projektion'!$H15*Szenarien!AB$34+AD15*'Daten Projektion'!$I15*Szenarien!AB$35+AD15*'Daten Projektion'!$J15*Szenarien!AB$36+AD15*'Daten Projektion'!$K15*Szenarien!AB$37+AD15*'Daten Projektion'!$L15*Szenarien!AB$38+AD15*'Daten Projektion'!$M15*Szenarien!AB$39","v":0}]
[null,{"$f":"Vermögen!E14","v":"4."},{"$f":"IF(Vermögen!F14=0,\"\",Vermögen!F14)","v":""},{"$f":"Vermögen!I14","v":"Bitte auswählen"},{"$f":"Vermögen!J14","v":{"v":0,"d":"0.0%"}},{"$f":"Vermögen!K14","v":{"v":0,"d":"0.0%"}},{"$f":"Vermögen!L14","v":{"v":0,"d":"0.0%"}},{"$f":"Vermögen!M14","v":{"v":0,"d":"0.0%"}},{"$f":"Vermögen!N14","v":{"v":0,"d":"0.0%"}},{"v":0,"d":"0.0%"},{"v":0,"d":"0.0%"},{"v":0,"d":"0.0%"},{"v":0,"d":"0.0%"},{"$f":"Daten_Vermögen!C47","v":0},{"$f":"N16+N16*Vermögen!V14","v":0},{"$f":"O16+O16*Vermögen!$V14","v":0},{"$f":"P16+P16*Vermögen!$V14","v":0},{"$f":"Q16+Q16*Vermögen!$V14","v":0},{"$f":"R16+R16*Vermögen!$V14","v":0},null,{"$f":"N16+N16*$E16*Szenarien!P$31+N16*$F16*Szenarien!P$32+N16*'Daten Projektion'!$G16*Szenarien!P$33+N16*'Daten Projektion'!$H16*Szenarien!P$34+N16*'Daten Projektion'!$I16*Szenarien!P$35+N16*'Daten Projektion'!$J16*Szenarien!P$36+N16*'Daten Projektion'!$K16*Szenarien!P$37+N16*'Daten Projektion'!$L16*Szenarien!P$38+N16*'Daten Projektion'!$M16*Szenarien!P$39","v":0},{"$f":"U16+U16*$E16*Szenarien!Q$31+U16*$F16*Szenarien!Q$32+U16*'Daten Projektion'!$G16*Szenarien!Q$33+U16*'Daten Projektion'!$H16*Szenarien!Q$34+U16*'Daten Projektion'!$I16*Szenarien!Q$35+U16*'Daten Projektion'!$J16*Szenarien!Q$36+U16*'Daten Projektion'!$K16*Szenarien!Q$37+U16*'Daten Projektion'!$L16*Szenarien!Q$38+U16*'Daten Projektion'!$M16*Szenarien!Q$39","v":0},{"$f":"V16+V16*$E16*Szenarien!R$31+V16*$F16*Szenarien!R$32+V16*'Daten Projektion'!$G16*Szenarien!R$33+V16*'Daten Projektion'!$H16*Szenarien!R$34+V16*'Daten Projektion'!$I16*Szenarien!R$35+V16*'Daten Projektion'!$J16*Szenarien!R$36+V16*'Daten Projektion'!$K16*Szenarien!R$37+V16*'Daten Projektion'!$L16*Szenarien!R$38+V16*'Daten Projektion'!$M16*Szenarien!R$39","v":0},{"$f":"W16+W16*$E16*Szenarien!S$31+W16*$F16*Szenarien!S$32+W16*'Daten Projektion'!$G16*Szenarien!S$33+W16*'Daten Projektion'!$H16*Szenarien!S$34+W16*'Daten Projektion'!$I16*Szenarien!S$35+W16*'Daten Projektion'!$J16*Szenarien!S$36+W16*'Daten Projektion'!$K16*Szenarien!S$37+W16*'Daten Projektion'!$L16*Szenarien!S$38+W16*'Daten Projektion'!$M16*Szenarien!S$39","v":0},{"$f":"X16+X16*$E16*Szenarien!T$31+X16*$F16*Szenarien!T$32+X16*'Daten Projektion'!$G16*Szenarien!T$33+X16*'Daten Projektion'!$H16*Szenarien!T$34+X16*'Daten Projektion'!$I16*Szenarien!T$35+X16*'Daten Projektion'!$J16*Szenarien!T$36+X16*'Daten Projektion'!$K16*Szenarien!T$37+X16*'Daten Projektion'!$L16*Szenarien!T$38+X16*'Daten Projektion'!$M16*Szenarien!T$39","v":0},null,{"$f":"N16+N16*$E16*Szenarien!X$31+N16*$F16*Szenarien!X$32+N16*'Daten Projektion'!$G16*Szenarien!X$33+N16*'Daten Projektion'!$H16*Szenarien!X$34+N16*'Daten Projektion'!$I16*Szenarien!X$35+N16*'Daten Projektion'!$J16*Szenarien!X$36+N16*'Daten Projektion'!$K16*Szenarien!X$37+N16*'Daten Projektion'!$L16*Szenarien!X$38+N16*'Daten Projektion'!$M16*Szenarien!X$39","v":0},{"$f":"AA16+AA16*$E16*Szenarien!Y$31+AA16*$F16*Szenarien!Y$32+AA16*'Daten Projektion'!$G16*Szenarien!Y$33+AA16*'Daten Projektion'!$H16*Szenarien!Y$34+AA16*'Daten Projektion'!$I16*Szenarien!Y$35+AA16*'Daten Projektion'!$J16*Szenarien!Y$36+AA16*'Daten Projektion'!$K16*Szenarien!Y$37+AA16*'Daten Projektion'!$L16*Szenarien!Y$38+AA16*'Daten Projektion'!$M16*Szenarien!Y$39","v":0},{"$f":"AB16+AB16*$E16*Szenarien!Z$31+AB16*$F16*Szenarien!Z$32+AB16*'Daten Projektion'!$G16*Szenarien!Z$33+AB16*'Daten Projektion'!$H16*Szenarien!Z$34+AB16*'Daten Projektion'!$I16*Szenarien!Z$35+AB16*'Daten Projektion'!$J16*Szenarien!Z$36+AB16*'Daten Projektion'!$K16*Szenarien!Z$37+AB16*'Daten Projektion'!$L16*Szenarien!Z$38+AB16*'Daten Projektion'!$M16*Szenarien!Z$39","v":0},{"$f":"AC16+AC16*$E16*Szenarien!AA$31+AC16*$F16*Szenarien!AA$32+AC16*'Daten Projektion'!$G16*Szenarien!AA$33+AC16*'Daten Projektion'!$H16*Szenarien!AA$34+AC16*'Daten Projektion'!$I16*Szenarien!AA$35+AC16*'Daten Projektion'!$J16*Szenarien!AA$36+AC16*'Daten Projektion'!$K16*Szenarien!AA$37+AC16*'Daten Projektion'!$L16*Szenarien!AA$38+AC16*'Daten Projektion'!$M16*Szenarien!AA$39","v":0},{"$f":"AD16+AD16*$E16*Szenarien!AB$31+AD16*$F16*Szenarien!AB$32+AD16*'Daten Projektion'!$G16*Szenarien!AB$33+AD16*'Daten Projektion'!$H16*Szenarien!AB$34+AD16*'Daten Projektion'!$I16*Szenarien!AB$35+AD16*'Daten Projektion'!$J16*Szenarien!AB$36+AD16*'Daten Projektion'!$K16*Szenarien!AB$37+AD16*'Daten Projektion'!$L16*Szenarien!AB$38+AD16*'Daten Projektion'!$M16*Szenarien!AB$39","v":0}]
[null,{"$f":"Vermögen!E15","v":"5."},{"$f":"IF(Vermögen!F15=0,\"\",Vermögen!F15)","v":""},{"$f":"Vermögen!I15","v":"Bitte auswählen"},{"$f":"Vermögen!J15","v":{"v":0,"d":"0.0%"}},{"$f":"Vermögen!K15","v":{"v":0,"d":"0.0%"}},{"$f":"Vermögen!L15","v":{"v":0,"d":"0.0%"}},{"$f":"Vermögen!M15","v":{"v":0,"d":"0.0%"}},{"$f":"Vermögen!N15","v":{"v":0,"d":"0.0%"}},{"v":0,"d":"0.0%"},{"v":0,"d":"0.0%"},{"v":0,"d":"0.0%"},{"v":0,"d":"0.0%"},{"$f":"Daten_Vermögen!C48","v":0},{"$f":"N17+N17*Vermögen!V15","v":0},{"$f":"O17+O17*Vermögen!$V15","v":0},{"$f":"P17+P17*Vermögen!$V15","v":0},{"$f":"Q17+Q17*Vermögen!$V15","v":0},{"$f":"R17+R17*Vermögen!$V15","v":0},null,{"$f":"N17+N17*$E17*Szenarien!P$31+N17*$F17*Szenarien!P$32+N17*'Daten Projektion'!$G17*Szenarien!P$33+N17*'Daten Projektion'!$H17*Szenarien!P$34+N17*'Daten Projektion'!$I17*Szenarien!P$35+N17*'Daten Projektion'!$J17*Szenarien!P$36+N17*'Daten Projektion'!$K17*Szenarien!P$37+N17*'Daten Projektion'!$L17*Szenarien!P$38+N17*'Daten Projektion'!$M17*Szenarien!P$39","v":0},{"$f":"U17+U17*$E17*Szenarien!Q$31+U17*$F17*Szenarien!Q$32+U17*'Daten Projektion'!$G17*Szenarien!Q$33+U17*'Daten Projektion'!$H17*Szenarien!Q$34+U17*'Daten Projektion'!$I17*Szenarien!Q$35+U17*'Daten Projektion'!$J17*Szenarien!Q$36+U17*'Daten Projektion'!$K17*Szenarien!Q$37+U17*'Daten Projektion'!$L17*Szenarien!Q$38+U17*'Daten Projektion'!$M17*Szenarien!Q$39","v":0},{"$f":"V17+V17*$E17*Szenarien!R$31+V17*$F17*Szenarien!R$32+V17*'Daten Projektion'!$G17*Szenarien!R$33+V17*'Daten Projektion'!$H17*Szenarien!R$34+V17*'Daten Projektion'!$I17*Szenarien!R$35+V17*'Daten Projektion'!$J17*Szenarien!R$36+V17*'Daten Projektion'!$K17*Szenarien!R$37+V17*'Daten Projektion'!$L17*Szenarien!R$38+V17*'Daten Projektion'!$M17*Szenarien!R$39","v":0},{"$f":"W17+W17*$E17*Szenarien!S$31+W17*$F17*Szenarien!S$32+W17*'Daten Projektion'!$G17*Szenarien!S$33+W17*'Daten Projektion'!$H17*Szenarien!S$34+W17*'Daten Projektion'!$I17*Szenarien!S$35+W17*'Daten Projektion'!$J17*Szenarien!S$36+W17*'Daten Projektion'!$K17*Szenarien!S$37+W17*'Daten Projektion'!$L17*Szenarien!S$38+W17*'Daten Projektion'!$M17*Szenarien!S$39","v":0},{"$f":"X17+X17*$E17*Szenarien!T$31+X17*$F17*Szenarien!T$32+X17*'Daten Projektion'!$G17*Szenarien!T$33+X17*'Daten Projektion'!$H17*Szenarien!T$34+X17*'Daten Projektion'!$I17*Szenarien!T$35+X17*'Daten Projektion'!$J17*Szenarien!T$36+X17*'Daten Projektion'!$K17*Szenarien!T$37+X17*'Daten Projektion'!$L17*Szenarien!T$38+X17*'Daten Projektion'!$M17*Szenarien!T$39","v":0},null,{"$f":"N17+N17*$E17*Szenarien!X$31+N17*$F17*Szenarien!X$32+N17*'Daten Projektion'!$G17*Szenarien!X$33+N17*'Daten Projektion'!$H17*Szenarien!X$34+N17*'Daten Projektion'!$I17*Szenarien!X$35+N17*'Daten Projektion'!$J17*Szenarien!X$36+N17*'Daten Projektion'!$K17*Szenarien!X$37+N17*'Daten Projektion'!$L17*Szenarien!X$38+N17*'Daten Projektion'!$M17*Szenarien!X$39","v":0},{"$f":"AA17+AA17*$E17*Szenarien!Y$31+AA17*$F17*Szenarien!Y$32+AA17*'Daten Projektion'!$G17*Szenarien!Y$33+AA17*'Daten Projektion'!$H17*Szenarien!Y$34+AA17*'Daten Projektion'!$I17*Szenarien!Y$35+AA17*'Daten Projektion'!$J17*Szenarien!Y$36+AA17*'Daten Projektion'!$K17*Szenarien!Y$37+AA17*'Daten Projektion'!$L17*Szenarien!Y$38+AA17*'Daten Projektion'!$M17*Szenarien!Y$39","v":0},{"$f":"AB17+AB17*$E17*Szenarien!Z$31+AB17*$F17*Szenarien!Z$32+AB17*'Daten Projektion'!$G17*Szenarien!Z$33+AB17*'Daten Projektion'!$H17*Szenarien!Z$34+AB17*'Daten Projektion'!$I17*Szenarien!Z$35+AB17*'Daten Projektion'!$J17*Szenarien!Z$36+AB17*'Daten Projektion'!$K17*Szenarien!Z$37+AB17*'Daten Projektion'!$L17*Szenarien!Z$38+AB17*'Daten Projektion'!$M17*Szenarien!Z$39","v":0},{"$f":"AC17+AC17*$E17*Szenarien!AA$31+AC17*$F17*Szenarien!AA$32+AC17*'Daten Projektion'!$G17*Szenarien!AA$33+AC17*'Daten Projektion'!$H17*Szenarien!AA$34+AC17*'Daten Projektion'!$I17*Szenarien!AA$35+AC17*'Daten Projektion'!$J17*Szenarien!AA$36+AC17*'Daten Projektion'!$K17*Szenarien!AA$37+AC17*'Daten Projektion'!$L17*Szenarien!AA$38+AC17*'Daten Projektion'!$M17*Szenarien!AA$39","v":0},{"$f":"AD17+AD17*$E17*Szenarien!AB$31+AD17*$F17*Szenarien!AB$32+AD17*'Daten Projektion'!$G17*Szenarien!AB$33+AD17*'Daten Projektion'!$H17*Szenarien!AB$34+AD17*'Daten Projektion'!$I17*Szenarien!AB$35+AD17*'Daten Projektion'!$J17*Szenarien!AB$36+AD17*'Daten Projektion'!$K17*Szenarien!AB$37+AD17*'Daten Projektion'!$L17*Szenarien!AB$38+AD17*'Daten Projektion'!$M17*Szenarien!AB$39","v":0}]
[null,{"$f":"Vermögen!E16","v":"6."},{"$f":"IF(Vermögen!F16=0,\"\",Vermögen!F16)","v":""},{"$f":"Vermögen!I16","v":"Bitte auswählen"},{"$f":"Vermögen!J16","v":{"v":0,"d":"0.0%"}},{"$f":"Vermögen!K16","v":{"v":0,"d":"0.0%"}},{"$f":"Vermögen!L16","v":{"v":0,"d":"0.0%"}},{"$f":"Vermögen!M16","v":{"v":0,"d":"0.0%"}},{"$f":"Vermögen!N16","v":{"v":0,"d":"0.0%"}},{"v":0,"d":"0.0%"},{"v":0,"d":"0.0%"},{"v":0,"d":"0.0%"},{"v":0,"d":"0.0%"},{"$f":"Daten_Vermögen!C49","v":0},{"$f":"N18+N18*Vermögen!V16","v":0},{"$f":"O18+O18*Vermögen!$V16","v":0},{"$f":"P18+P18*Vermögen!$V16","v":0},{"$f":"Q18+Q18*Vermögen!$V16","v":0},{"$f":"R18+R18*Vermögen!$V16","v":0},null,{"$f":"N18+N18*$E18*Szenarien!P$31+N18*$F18*Szenarien!P$32+N18*'Daten Projektion'!$G18*Szenarien!P$33+N18*'Daten Projektion'!$H18*Szenarien!P$34+N18*'Daten Projektion'!$I18*Szenarien!P$35+N18*'Daten Projektion'!$J18*Szenarien!P$36+N18*'Daten Projektion'!$K18*Szenarien!P$37+N18*'Daten Projektion'!$L18*Szenarien!P$38+N18*'Daten Projektion'!$M18*Szenarien!P$39","v":0},{"$f":"U18+U18*$E18*Szenarien!Q$31+U18*$F18*Szenarien!Q$32+U18*'Daten Projektion'!$G18*Szenarien!Q$33+U18*'Daten Projektion'!$H18*Szenarien!Q$34+U18*'Daten Projektion'!$I18*Szenarien!Q$35+U18*'Daten Projektion'!$J18*Szenarien!Q$36+U18*'Daten Projektion'!$K18*Szenarien!Q$37+U18*'Daten Projektion'!$L18*Szenarien!Q$38+U18*'Daten Projektion'!$M18*Szenarien!Q$39","v":0},{"$f":"V18+V18*$E18*Szenarien!R$31+V18*$F18*Szenarien!R$32+V18*'Daten Projektion'!$G18*Szenarien!R$33+V18*'Daten Projektion'!$H18*Szenarien!R$34+V18*'Daten Projektion'!$I18*Szenarien!R$35+V18*'Daten Projektion'!$J18*Szenarien!R$36+V18*'Daten Projektion'!$K18*Szenarien!R$37+V18*'Daten Projektion'!$L18*Szenarien!R$38+V18*'Daten Projektion'!$M18*Szenarien!R$39","v":0},{"$f":"W18+W18*$E18*Szenarien!S$31+W18*$F18*Szenarien!S$32+W18*'Daten Projektion'!$G18*Szenarien!S$33+W18*'Daten Projektion'!$H18*Szenarien!S$34+W18*'Daten Projektion'!$I18*Szenarien!S$35+W18*'Daten Projektion'!$J18*Szenarien!S$36+W18*'Daten Projektion'!$K18*Szenarien!S$37+W18*'Daten Projektion'!$L18*Szenarien!S$38+W18*'Daten Projektion'!$M18*Szenarien!S$39","v":0},{"$f":"X18+X18*$E18*Szenarien!T$31+X18*$F18*Szenarien!T$32+X18*'Daten Projektion'!$G18*Szenarien!T$33+X18*'Daten Projektion'!$H18*Szenarien!T$34+X18*'Daten Projektion'!$I18*Szenarien!T$35+X18*'Daten Projektion'!$J18*Szenarien!T$36+X18*'Daten Projektion'!$K18*Szenarien!T$37+X18*'Daten Projektion'!$L18*Szenarien!T$38+X18*'Daten Projektion'!$M18*Szenarien!T$39","v":0},null,{"$f":"N18+N18*$E18*Szenarien!X$31+N18*$F18*Szenarien!X$32+N18*'Daten Projektion'!$G18*Szenarien!X$33+N18*'Daten Projektion'!$H18*Szenarien!X$34+N18*'Daten Projektion'!$I18*Szenarien!X$35+N18*'Daten Projektion'!$J18*Szenarien!X$36+N18*'Daten Projektion'!$K18*Szenarien!X$37+N18*'Daten Projektion'!$L18*Szenarien!X$38+N18*'Daten Projektion'!$M18*Szenarien!X$39","v":0},{"$f":"AA18+AA18*$E18*Szenarien!Y$31+AA18*$F18*Szenarien!Y$32+AA18*'Daten Projektion'!$G18*Szenarien!Y$33+AA18*'Daten Projektion'!$H18*Szenarien!Y$34+AA18*'Daten Projektion'!$I18*Szenarien!Y$35+AA18*'Daten Projektion'!$J18*Szenarien!Y$36+AA18*'Daten Projektion'!$K18*Szenarien!Y$37+AA18*'Daten Projektion'!$L18*Szenarien!Y$38+AA18*'Daten Projektion'!$M18*Szenarien!Y$39","v":0},{"$f":"AB18+AB18*$E18*Szenarien!Z$31+AB18*$F18*Szenarien!Z$32+AB18*'Daten Projektion'!$G18*Szenarien!Z$33+AB18*'Daten Projektion'!$H18*Szenarien!Z$34+AB18*'Daten Projektion'!$I18*Szenarien!Z$35+AB18*'Daten Projektion'!$J18*Szenarien!Z$36+AB18*'Daten Projektion'!$K18*Szenarien!Z$37+AB18*'Daten Projektion'!$L18*Szenarien!Z$38+AB18*'Daten Projektion'!$M18*Szenarien!Z$39","v":0},{"$f":"AC18+AC18*$E18*Szenarien!AA$31+AC18*$F18*Szenarien!AA$32+AC18*'Daten Projektion'!$G18*Szenarien!AA$33+AC18*'Daten Projektion'!$H18*Szenarien!AA$34+AC18*'Daten Projektion'!$I18*Szenarien!AA$35+AC18*'Daten Projektion'!$J18*Szenarien!AA$36+AC18*'Daten Projektion'!$K18*Szenarien!AA$37+AC18*'Daten Projektion'!$L18*Szenarien!AA$38+AC18*'Daten Projektion'!$M18*Szenarien!AA$39","v":0},{"$f":"AD18+AD18*$E18*Szenarien!AB$31+AD18*$F18*Szenarien!AB$32+AD18*'Daten Projektion'!$G18*Szenarien!AB$33+AD18*'Daten Projektion'!$H18*Szenarien!AB$34+AD18*'Daten Projektion'!$I18*Szenarien!AB$35+AD18*'Daten Projektion'!$J18*Szenarien!AB$36+AD18*'Daten Projektion'!$K18*Szenarien!AB$37+AD18*'Daten Projektion'!$L18*Szenarien!AB$38+AD18*'Daten Projektion'!$M18*Szenarien!AB$39","v":0}]
[null,{"$f":"Vermögen!E17","v":"7."},{"$f":"IF(Vermögen!F17=0,\"\",Vermögen!F17)","v":""},{"$f":"Vermögen!I17","v":"Bitte auswählen"},{"$f":"Vermögen!J17","v":{"v":0,"d":"0.0%"}},{"$f":"Vermögen!K17","v":{"v":0,"d":"0.0%"}},{"$f":"Vermögen!L17","v":{"v":0,"d":"0.0%"}},{"$f":"Vermögen!M17","v":{"v":0,"d":"0.0%"}},{"$f":"Vermögen!N17","v":{"v":0,"d":"0.0%"}},{"v":0,"d":"0.0%"},{"v":0,"d":"0.0%"},{"v":0,"d":"0.0%"},{"v":0,"d":"0.0%"},{"$f":"Daten_Vermögen!C50","v":0},{"$f":"N19+N19*Vermögen!V17","v":0},{"$f":"O19+O19*Vermögen!$V17","v":0},{"$f":"P19+P19*Vermögen!$V17","v":0},{"$f":"Q19+Q19*Vermögen!$V17","v":0},{"$f":"R19+R19*Vermögen!$V17","v":0},null,{"$f":"N19+N19*$E19*Szenarien!P$31+N19*$F19*Szenarien!P$32+N19*'Daten Projektion'!$G19*Szenarien!P$33+N19*'Daten Projektion'!$H19*Szenarien!P$34+N19*'Daten Projektion'!$I19*Szenarien!P$35+N19*'Daten Projektion'!$J19*Szenarien!P$36+N19*'Daten Projektion'!$K19*Szenarien!P$37+N19*'Daten Projektion'!$L19*Szenarien!P$38+N19*'Daten Projektion'!$M19*Szenarien!P$39","v":0},{"$f":"U19+U19*$E19*Szenarien!Q$31+U19*$F19*Szenarien!Q$32+U19*'Daten Projektion'!$G19*Szenarien!Q$33+U19*'Daten Projektion'!$H19*Szenarien!Q$34+U19*'Daten Projektion'!$I19*Szenarien!Q$35+U19*'Daten Projektion'!$J19*Szenarien!Q$36+U19*'Daten Projektion'!$K19*Szenarien!Q$37+U19*'Daten Projektion'!$L19*Szenarien!Q$38+U19*'Daten Projektion'!$M19*Szenarien!Q$39","v":0},{"$f":"V19+V19*$E19*Szenarien!R$31+V19*$F19*Szenarien!R$32+V19*'Daten Projektion'!$G19*Szenarien!R$33+V19*'Daten Projektion'!$H19*Szenarien!R$34+V19*'Daten Projektion'!$I19*Szenarien!R$35+V19*'Daten Projektion'!$J19*Szenarien!R$36+V19*'Daten Projektion'!$K19*Szenarien!R$37+V19*'Daten Projektion'!$L19*Szenarien!R$38+V19*'Daten Projektion'!$M19*Szenarien!R$39","v":0},{"$f":"W19+W19*$E19*Szenarien!S$31+W19*$F19*Szenarien!S$32+W19*'Daten Projektion'!$G19*Szenarien!S$33+W19*'Daten Projektion'!$H19*Szenarien!S$34+W19*'Daten Projektion'!$I19*Szenarien!S$35+W19*'Daten Projektion'!$J19*Szenarien!S$36+W19*'Daten Projektion'!$K19*Szenarien!S$37+W19*'Daten Projektion'!$L19*Szenarien!S$38+W19*'Daten Projektion'!$M19*Szenarien!S$39","v":0},{"$f":"X19+X19*$E19*Szenarien!T$31+X19*$F19*Szenarien!T$32+X19*'Daten Projektion'!$G19*Szenarien!T$33+X19*'Daten Projektion'!$H19*Szenarien!T$34+X19*'Daten Projektion'!$I19*Szenarien!T$35+X19*'Daten Projektion'!$J19*Szenarien!T$36+X19*'Daten Projektion'!$K19*Szenarien!T$37+X19*'Daten Projektion'!$L19*Szenarien!T$38+X19*'Daten Projektion'!$M19*Szenarien!T$39","v":0},null,{"$f":"N19+N19*$E19*Szenarien!X$31+N19*$F19*Szenarien!X$32+N19*'Daten Projektion'!$G19*Szenarien!X$33+N19*'Daten Projektion'!$H19*Szenarien!X$34+N19*'Daten Projektion'!$I19*Szenarien!X$35+N19*'Daten Projektion'!$J19*Szenarien!X$36+N19*'Daten Projektion'!$K19*Szenarien!X$37+N19*'Daten Projektion'!$L19*Szenarien!X$38+N19*'Daten Projektion'!$M19*Szenarien!X$39","v":0},{"$f":"AA19+AA19*$E19*Szenarien!Y$31+AA19*$F19*Szenarien!Y$32+AA19*'Daten Projektion'!$G19*Szenarien!Y$33+AA19*'Daten Projektion'!$H19*Szenarien!Y$34+AA19*'Daten Projektion'!$I19*Szenarien!Y$35+AA19*'Daten Projektion'!$J19*Szenarien!Y$36+AA19*'Daten Projektion'!$K19*Szenarien!Y$37+AA19*'Daten Projektion'!$L19*Szenarien!Y$38+AA19*'Daten Projektion'!$M19*Szenarien!Y$39","v":0},{"$f":"AB19+AB19*$E19*Szenarien!Z$31+AB19*$F19*Szenarien!Z$32+AB19*'Daten Projektion'!$G19*Szenarien!Z$33+AB19*'Daten Projektion'!$H19*Szenarien!Z$34+AB19*'Daten Projektion'!$I19*Szenarien!Z$35+AB19*'Daten Projektion'!$J19*Szenarien!Z$36+AB19*'Daten Projektion'!$K19*Szenarien!Z$37+AB19*'Daten Projektion'!$L19*Szenarien!Z$38+AB19*'Daten Projektion'!$M19*Szenarien!Z$39","v":0},{"$f":"AC19+AC19*$E19*Szenarien!AA$31+AC19*$F19*Szenarien!AA$32+AC19*'Daten Projektion'!$G19*Szenarien!AA$33+AC19*'Daten Projektion'!$H19*Szenarien!AA$34+AC19*'Daten Projektion'!$I19*Szenarien!AA$35+AC19*'Daten Projektion'!$J19*Szenarien!AA$36+AC19*'Daten Projektion'!$K19*Szenarien!AA$37+AC19*'Daten Projektion'!$L19*Szenarien!AA$38+AC19*'Daten Projektion'!$M19*Szenarien!AA$39","v":0},{"$f":"AD19+AD19*$E19*Szenarien!AB$31+AD19*$F19*Szenarien!AB$32+AD19*'Daten Projektion'!$G19*Szenarien!AB$33+AD19*'Daten Projektion'!$H19*Szenarien!AB$34+AD19*'Daten Projektion'!$I19*Szenarien!AB$35+AD19*'Daten Projektion'!$J19*Szenarien!AB$36+AD19*'Daten Projektion'!$K19*Szenarien!AB$37+AD19*'Daten Projektion'!$L19*Szenarien!AB$38+AD19*'Daten Projektion'!$M19*Szenarien!AB$39","v":0}]
[null,{"$f":"Vermögen!E18","v":"8."},{"$f":"IF(Vermögen!F18=0,\"\",Vermögen!F18)","v":""},{"$f":"Vermögen!I18","v":"Bitte auswählen"},{"$f":"Vermögen!J18","v":{"v":0,"d":"0.0%"}},{"$f":"Vermögen!K18","v":{"v":0,"d":"0.0%"}},{"$f":"Vermögen!L18","v":{"v":0,"d":"0.0%"}},{"$f":"Vermögen!M18","v":{"v":0,"d":"0.0%"}},{"$f":"Vermögen!N18","v":{"v":0,"d":"0.0%"}},{"v":0,"d":"0.0%"},{"v":0,"d":"0.0%"},{"v":0,"d":"0.0%"},{"v":0,"d":"0.0%"},{"$f":"Daten_Vermögen!C51","v":0},{"$f":"N20+N20*Vermögen!V18","v":0},{"$f":"O20+O20*Vermögen!$V18","v":0},{"$f":"P20+P20*Vermögen!$V18","v":0},{"$f":"Q20+Q20*Vermögen!$V18","v":0},{"$f":"R20+R20*Vermögen!$V18","v":0},null,{"$f":"N20+N20*$E20*Szenarien!P$31+N20*$F20*Szenarien!P$32+N20*'Daten Projektion'!$G20*Szenarien!P$33+N20*'Daten Projektion'!$H20*Szenarien!P$34+N20*'Daten Projektion'!$I20*Szenarien!P$35+N20*'Daten Projektion'!$J20*Szenarien!P$36+N20*'Daten Projektion'!$K20*Szenarien!P$37+N20*'Daten Projektion'!$L20*Szenarien!P$38+N20*'Daten Projektion'!$M20*Szenarien!P$39","v":0},{"$f":"U20+U20*$E20*Szenarien!Q$31+U20*$F20*Szenarien!Q$32+U20*'Daten Projektion'!$G20*Szenarien!Q$33+U20*'Daten Projektion'!$H20*Szenarien!Q$34+U20*'Daten Projektion'!$I20*Szenarien!Q$35+U20*'Daten Projektion'!$J20*Szenarien!Q$36+U20*'Daten Projektion'!$K20*Szenarien!Q$37+U20*'Daten Projektion'!$L20*Szenarien!Q$38+U20*'Daten Projektion'!$M20*Szenarien!Q$39","v":0},{"$f":"V20+V20*$E20*Szenarien!R$31+V20*$F20*Szenarien!R$32+V20*'Daten Projektion'!$G20*Szenarien!R$33+V20*'Daten Projektion'!$H20*Szenarien!R$34+V20*'Daten Projektion'!$I20*Szenarien!R$35+V20*'Daten Projektion'!$J20*Szenarien!R$36+V20*'Daten Projektion'!$K20*Szenarien!R$37+V20*'Daten Projektion'!$L20*Szenarien!R$38+V20*'Daten Projektion'!$M20*Szenarien!R$39","v":0},{"$f":"W20+W20*$E20*Szenarien!S$31+W20*$F20*Szenarien!S$32+W20*'Daten Projektion'!$G20*Szenarien!S$33+W20*'Daten Projektion'!$H20*Szenarien!S$34+W20*'Daten Projektion'!$I20*Szenarien!S$35+W20*'Daten Projektion'!$J20*Szenarien!S$36+W20*'Daten Projektion'!$K20*Szenarien!S$37+W20*'Daten Projektion'!$L20*Szenarien!S$38+W20*'Daten Projektion'!$M20*Szenarien!S$39","v":0},{"$f":"X20+X20*$E20*Szenarien!T$31+X20*$F20*Szenarien!T$32+X20*'Daten Projektion'!$G20*Szenarien!T$33+X20*'Daten Projektion'!$H20*Szenarien!T$34+X20*'Daten Projektion'!$I20*Szenarien!T$35+X20*'Daten Projektion'!$J20*Szenarien!T$36+X20*'Daten Projektion'!$K20*Szenarien!T$37+X20*'Daten Projektion'!$L20*Szenarien!T$38+X20*'Daten Projektion'!$M20*Szenarien!T$39","v":0},null,{"$f":"N20+N20*$E20*Szenarien!X$31+N20*$F20*Szenarien!X$32+N20*'Daten Projektion'!$G20*Szenarien!X$33+N20*'Daten Projektion'!$H20*Szenarien!X$34+N20*'Daten Projektion'!$I20*Szenarien!X$35+N20*'Daten Projektion'!$J20*Szenarien!X$36+N20*'Daten Projektion'!$K20*Szenarien!X$37+N20*'Daten Projektion'!$L20*Szenarien!X$38+N20*'Daten Projektion'!$M20*Szenarien!X$39","v":0},{"$f":"AA20+AA20*$E20*Szenarien!Y$31+AA20*$F20*Szenarien!Y$32+AA20*'Daten Projektion'!$G20*Szenarien!Y$33+AA20*'Daten Projektion'!$H20*Szenarien!Y$34+AA20*'Daten Projektion'!$I20*Szenarien!Y$35+AA20*'Daten Projektion'!$J20*Szenarien!Y$36+AA20*'Daten Projektion'!$K20*Szenarien!Y$37+AA20*'Daten Projektion'!$L20*Szenarien!Y$38+AA20*'Daten Projektion'!$M20*Szenarien!Y$39","v":0},{"$f":"AB20+AB20*$E20*Szenarien!Z$31+AB20*$F20*Szenarien!Z$32+AB20*'Daten Projektion'!$G20*Szenarien!Z$33+AB20*'Daten Projektion'!$H20*Szenarien!Z$34+AB20*'Daten Projektion'!$I20*Szenarien!Z$35+AB20*'Daten Projektion'!$J20*Szenarien!Z$36+AB20*'Daten Projektion'!$K20*Szenarien!Z$37+AB20*'Daten Projektion'!$L20*Szenarien!Z$38+AB20*'Daten Projektion'!$M20*Szenarien!Z$39","v":0},{"$f":"AC20+AC20*$E20*Szenarien!AA$31+AC20*$F20*Szenarien!AA$32+AC20*'Daten Projektion'!$G20*Szenarien!AA$33+AC20*'Daten Projektion'!$H20*Szenarien!AA$34+AC20*'Daten Projektion'!$I20*Szenarien!AA$35+AC20*'Daten Projektion'!$J20*Szenarien!AA$36+AC20*'Daten Projektion'!$K20*Szenarien!AA$37+AC20*'Daten Projektion'!$L20*Szenarien!AA$38+AC20*'Daten Projektion'!$M20*Szenarien!AA$39","v":0},{"$f":"AD20+AD20*$E20*Szenarien!AB$31+AD20*$F20*Szenarien!AB$32+AD20*'Daten Projektion'!$G20*Szenarien!AB$33+AD20*'Daten Projektion'!$H20*Szenarien!AB$34+AD20*'Daten Projektion'!$I20*Szenarien!AB$35+AD20*'Daten Projektion'!$J20*Szenarien!AB$36+AD20*'Daten Projektion'!$K20*Szenarien!AB$37+AD20*'Daten Projektion'!$L20*Szenarien!AB$38+AD20*'Daten Projektion'!$M20*Szenarien!AB$39","v":0}]
[null,{"$f":"Vermögen!E19","v":"9."},{"$f":"IF(Vermögen!F19=0,\"\",Vermögen!F19)","v":""},{"$f":"Vermögen!I19","v":"Bitte auswählen"},{"$f":"Vermögen!J19","v":{"v":0,"d":"0.0%"}},{"$f":"Vermögen!K19","v":{"v":0,"d":"0.0%"}},{"$f":"Vermögen!L19","v":{"v":0,"d":"0.0%"}},{"$f":"Vermögen!M19","v":{"v":0,"d":"0.0%"}},{"$f":"Vermögen!N19","v":{"v":0,"d":"0.0%"}},{"v":0,"d":"0.0%"},{"v":0,"d":"0.0%"},{"v":0,"d":"0.0%"},{"v":0,"d":"0.0%"},{"$f":"Daten_Vermögen!C52","v":0},{"$f":"N21+N21*Vermögen!V19","v":0},{"$f":"O21+O21*Vermögen!$V19","v":0},{"$f":"P21+P21*Vermögen!$V19","v":0},{"$f":"Q21+Q21*Vermögen!$V19","v":0},{"$f":"R21+R21*Vermögen!$V19","v":0},null,{"$f":"N21+N21*$E21*Szenarien!P$31+N21*$F21*Szenarien!P$32+N21*'Daten Projektion'!$G21*Szenarien!P$33+N21*'Daten Projektion'!$H21*Szenarien!P$34+N21*'Daten Projektion'!$I21*Szenarien!P$35+N21*'Daten Projektion'!$J21*Szenarien!P$36+N21*'Daten Projektion'!$K21*Szenarien!P$37+N21*'Daten Projektion'!$L21*Szenarien!P$38+N21*'Daten Projektion'!$M21*Szenarien!P$39","v":0},{"$f":"U21+U21*$E21*Szenarien!Q$31+U21*$F21*Szenarien!Q$32+U21*'Daten Projektion'!$G21*Szenarien!Q$33+U21*'Daten Projektion'!$H21*Szenarien!Q$34+U21*'Daten Projektion'!$I21*Szenarien!Q$35+U21*'Daten Projektion'!$J21*Szenarien!Q$36+U21*'Daten Projektion'!$K21*Szenarien!Q$37+U21*'Daten Projektion'!$L21*Szenarien!Q$38+U21*'Daten Projektion'!$M21*Szenarien!Q$39","v":0},{"$f":"V21+V21*$E21*Szenarien!R$31+V21*$F21*Szenarien!R$32+V21*'Daten Projektion'!$G21*Szenarien!R$33+V21*'Daten Projektion'!$H21*Szenarien!R$34+V21*'Daten Projektion'!$I21*Szenarien!R$35+V21*'Daten Projektion'!$J21*Szenarien!R$36+V21*'Daten Projektion'!$K21*Szenarien!R$37+V21*'Daten Projektion'!$L21*Szenarien!R$38+V21*'Daten Projektion'!$M21*Szenarien!R$39","v":0},{"$f":"W21+W21*$E21*Szenarien!S$31+W21*$F21*Szenarien!S$32+W21*'Daten Projektion'!$G21*Szenarien!S$33+W21*'Daten Projektion'!$H21*Szenarien!S$34+W21*'Daten Projektion'!$I21*Szenarien!S$35+W21*'Daten Projektion'!$J21*Szenarien!S$36+W21*'Daten Projektion'!$K21*Szenarien!S$37+W21*'Daten Projektion'!$L21*Szenarien!S$38+W21*'Daten Projektion'!$M21*Szenarien!S$39","v":0},{"$f":"X21+X21*$E21*Szenarien!T$31+X21*$F21*Szenarien!T$32+X21*'Daten Projektion'!$G21*Szenarien!T$33+X21*'Daten Projektion'!$H21*Szenarien!T$34+X21*'Daten Projektion'!$I21*Szenarien!T$35+X21*'Daten Projektion'!$J21*Szenarien!T$36+X21*'Daten Projektion'!$K21*Szenarien!T$37+X21*'Daten Projektion'!$L21*Szenarien!T$38+X21*'Daten Projektion'!$M21*Szenarien!T$39","v":0},null,{"$f":"N21+N21*$E21*Szenarien!X$31+N21*$F21*Szenarien!X$32+N21*'Daten Projektion'!$G21*Szenarien!X$33+N21*'Daten Projektion'!$H21*Szenarien!X$34+N21*'Daten Projektion'!$I21*Szenarien!X$35+N21*'Daten Projektion'!$J21*Szenarien!X$36+N21*'Daten Projektion'!$K21*Szenarien!X$37+N21*'Daten Projektion'!$L21*Szenarien!X$38+N21*'Daten Projektion'!$M21*Szenarien!X$39","v":0},{"$f":"AA21+AA21*$E21*Szenarien!Y$31+AA21*$F21*Szenarien!Y$32+AA21*'Daten Projektion'!$G21*Szenarien!Y$33+AA21*'Daten Projektion'!$H21*Szenarien!Y$34+AA21*'Daten Projektion'!$I21*Szenarien!Y$35+AA21*'Daten Projektion'!$J21*Szenarien!Y$36+AA21*'Daten Projektion'!$K21*Szenarien!Y$37+AA21*'Daten Projektion'!$L21*Szenarien!Y$38+AA21*'Daten Projektion'!$M21*Szenarien!Y$39","v":0},{"$f":"AB21+AB21*$E21*Szenarien!Z$31+AB21*$F21*Szenarien!Z$32+AB21*'Daten Projektion'!$G21*Szenarien!Z$33+AB21*'Daten Projektion'!$H21*Szenarien!Z$34+AB21*'Daten Projektion'!$I21*Szenarien!Z$35+AB21*'Daten Projektion'!$J21*Szenarien!Z$36+AB21*'Daten Projektion'!$K21*Szenarien!Z$37+AB21*'Daten Projektion'!$L21*Szenarien!Z$38+AB21*'Daten Projektion'!$M21*Szenarien!Z$39","v":0},{"$f":"AC21+AC21*$E21*Szenarien!AA$31+AC21*$F21*Szenarien!AA$32+AC21*'Daten Projektion'!$G21*Szenarien!AA$33+AC21*'Daten Projektion'!$H21*Szenarien!AA$34+AC21*'Daten Projektion'!$I21*Szenarien!AA$35+AC21*'Daten Projektion'!$J21*Szenarien!AA$36+AC21*'Daten Projektion'!$K21*Szenarien!AA$37+AC21*'Daten Projektion'!$L21*Szenarien!AA$38+AC21*'Daten Projektion'!$M21*Szenarien!AA$39","v":0},{"$f":"AD21+AD21*$E21*Szenarien!AB$31+AD21*$F21*Szenarien!AB$32+AD21*'Daten Projektion'!$G21*Szenarien!AB$33+AD21*'Daten Projektion'!$H21*Szenarien!AB$34+AD21*'Daten Projektion'!$I21*Szenarien!AB$35+AD21*'Daten Projektion'!$J21*Szenarien!AB$36+AD21*'Daten Projektion'!$K21*Szenarien!AB$37+AD21*'Daten Projektion'!$L21*Szenarien!AB$38+AD21*'Daten Projektion'!$M21*Szenarien!AB$39","v":0}]
[null,{"$f":"Vermögen!E20","v":"10."},{"$f":"IF(Vermögen!F20=0,\"\",Vermögen!F20)","v":""},{"$f":"Vermögen!I20","v":"Bitte auswählen"},{"$f":"Vermögen!J20","v":{"v":0,"d":"0.0%"}},{"$f":"Vermögen!K20","v":{"v":0,"d":"0.0%"}},{"$f":"Vermögen!L20","v":{"v":0,"d":"0.0%"}},{"$f":"Vermögen!M20","v":{"v":0,"d":"0.0%"}},{"$f":"Vermögen!N20","v":{"v":0,"d":"0.0%"}},{"v":0,"d":"0.0%"},{"v":0,"d":"0.0%"},{"v":0,"d":"0.0%"},{"v":0,"d":"0.0%"},{"$f":"Daten_Vermögen!C53","v":0},{"$f":"N22+N22*Vermögen!V20","v":0},{"$f":"O22+O22*Vermögen!$V20","v":0},{"$f":"P22+P22*Vermögen!$V20","v":0},{"$f":"Q22+Q22*Vermögen!$V20","v":0},{"$f":"R22+R22*Vermögen!$V20","v":0},null,{"$f":"N22+N22*$E22*Szenarien!P$31+N22*$F22*Szenarien!P$32+N22*'Daten Projektion'!$G22*Szenarien!P$33+N22*'Daten Projektion'!$H22*Szenarien!P$34+N22*'Daten Projektion'!$I22*Szenarien!P$35+N22*'Daten Projektion'!$J22*Szenarien!P$36+N22*'Daten Projektion'!$K22*Szenarien!P$37+N22*'Daten Projektion'!$L22*Szenarien!P$38+N22*'Daten Projektion'!$M22*Szenarien!P$39","v":0},{"$f":"U22+U22*$E22*Szenarien!Q$31+U22*$F22*Szenarien!Q$32+U22*'Daten Projektion'!$G22*Szenarien!Q$33+U22*'Daten Projektion'!$H22*Szenarien!Q$34+U22*'Daten Projektion'!$I22*Szenarien!Q$35+U22*'Daten Projektion'!$J22*Szenarien!Q$36+U22*'Daten Projektion'!$K22*Szenarien!Q$37+U22*'Daten Projektion'!$L22*Szenarien!Q$38+U22*'Daten Projektion'!$M22*Szenarien!Q$39","v":0},{"$f":"V22+V22*$E22*Szenarien!R$31+V22*$F22*Szenarien!R$32+V22*'Daten Projektion'!$G22*Szenarien!R$33+V22*'Daten Projektion'!$H22*Szenarien!R$34+V22*'Daten Projektion'!$I22*Szenarien!R$35+V22*'Daten Projektion'!$J22*Szenarien!R$36+V22*'Daten Projektion'!$K22*Szenarien!R$37+V22*'Daten Projektion'!$L22*Szenarien!R$38+V22*'Daten Projektion'!$M22*Szenarien!R$39","v":0},{"$f":"W22+W22*$E22*Szenarien!S$31+W22*$F22*Szenarien!S$32+W22*'Daten Projektion'!$G22*Szenarien!S$33+W22*'Daten Projektion'!$H22*Szenarien!S$34+W22*'Daten Projektion'!$I22*Szenarien!S$35+W22*'Daten Projektion'!$J22*Szenarien!S$36+W22*'Daten Projektion'!$K22*Szenarien!S$37+W22*'Daten Projektion'!$L22*Szenarien!S$38+W22*'Daten Projektion'!$M22*Szenarien!S$39","v":0},{"$f":"X22+X22*$E22*Szenarien!T$31+X22*$F22*Szenarien!T$32+X22*'Daten Projektion'!$G22*Szenarien!T$33+X22*'Daten Projektion'!$H22*Szenarien!T$34+X22*'Daten Projektion'!$I22*Szenarien!T$35+X22*'Daten Projektion'!$J22*Szenarien!T$36+X22*'Daten Projektion'!$K22*Szenarien!T$37+X22*'Daten Projektion'!$L22*Szenarien!T$38+X22*'Daten Projektion'!$M22*Szenarien!T$39","v":0},null,{"$f":"N22+N22*$E22*Szenarien!X$31+N22*$F22*Szenarien!X$32+N22*'Daten Projektion'!$G22*Szenarien!X$33+N22*'Daten Projektion'!$H22*Szenarien!X$34+N22*'Daten Projektion'!$I22*Szenarien!X$35+N22*'Daten Projektion'!$J22*Szenarien!X$36+N22*'Daten Projektion'!$K22*Szenarien!X$37+N22*'Daten Projektion'!$L22*Szenarien!X$38+N22*'Daten Projektion'!$M22*Szenarien!X$39","v":0},{"$f":"AA22+AA22*$E22*Szenarien!Y$31+AA22*$F22*Szenarien!Y$32+AA22*'Daten Projektion'!$G22*Szenarien!Y$33+AA22*'Daten Projektion'!$H22*Szenarien!Y$34+AA22*'Daten Projektion'!$I22*Szenarien!Y$35+AA22*'Daten Projektion'!$J22*Szenarien!Y$36+AA22*'Daten Projektion'!$K22*Szenarien!Y$37+AA22*'Daten Projektion'!$L22*Szenarien!Y$38+AA22*'Daten Projektion'!$M22*Szenarien!Y$39","v":0},{"$f":"AB22+AB22*$E22*Szenarien!Z$31+AB22*$F22*Szenarien!Z$32+AB22*'Daten Projektion'!$G22*Szenarien!Z$33+AB22*'Daten Projektion'!$H22*Szenarien!Z$34+AB22*'Daten Projektion'!$I22*Szenarien!Z$35+AB22*'Daten Projektion'!$J22*Szenarien!Z$36+AB22*'Daten Projektion'!$K22*Szenarien!Z$37+AB22*'Daten Projektion'!$L22*Szenarien!Z$38+AB22*'Daten Projektion'!$M22*Szenarien!Z$39","v":0},{"$f":"AC22+AC22*$E22*Szenarien!AA$31+AC22*$F22*Szenarien!AA$32+AC22*'Daten Projektion'!$G22*Szenarien!AA$33+AC22*'Daten Projektion'!$H22*Szenarien!AA$34+AC22*'Daten Projektion'!$I22*Szenarien!AA$35+AC22*'Daten Projektion'!$J22*Szenarien!AA$36+AC22*'Daten Projektion'!$K22*Szenarien!AA$37+AC22*'Daten Projektion'!$L22*Szenarien!AA$38+AC22*'Daten Projektion'!$M22*Szenarien!AA$39","v":0},{"$f":"AD22+AD22*$E22*Szenarien!AB$31+AD22*$F22*Szenarien!AB$32+AD22*'Daten Projektion'!$G22*Szenarien!AB$33+AD22*'Daten Projektion'!$H22*Szenarien!AB$34+AD22*'Daten Projektion'!$I22*Szenarien!AB$35+AD22*'Daten Projektion'!$J22*Szenarien!AB$36+AD22*'Daten Projektion'!$K22*Szenarien!AB$37+AD22*'Daten Projektion'!$L22*Szenarien!AB$38+AD22*'Daten Projektion'!$M22*Szenarien!AB$39","v":0}]
[null,{"$f":"Vermögen!E21","v":"11."},{"$f":"IF(Vermögen!F21=0,\"\",Vermögen!F21)","v":""},{"$f":"Vermögen!I21","v":"Bitte auswählen"},{"$f":"Vermögen!J21","v":{"v":0,"d":"0.0%"}},{"$f":"Vermögen!K21","v":{"v":0,"d":"0.0%"}},{"$f":"Vermögen!L21","v":{"v":0,"d":"0.0%"}},{"$f":"Vermögen!M21","v":{"v":0,"d":"0.0%"}},{"$f":"Vermögen!N21","v":{"v":0,"d":"0.0%"}},{"v":0,"d":"0.0%"},{"v":0,"d":"0.0%"},{"v":0,"d":"0.0%"},{"v":0,"d":"0.0%"},{"$f":"Daten_Vermögen!C54","v":0},{"$f":"N23+N23*Vermögen!V21","v":0},{"$f":"O23+O23*Vermögen!$V21","v":0},{"$f":"P23+P23*Vermögen!$V21","v":0},{"$f":"Q23+Q23*Vermögen!$V21","v":0},{"$f":"R23+R23*Vermögen!$V21","v":0},null,{"$f":"N23+N23*$E23*Szenarien!P$31+N23*$F23*Szenarien!P$32+N23*'Daten Projektion'!$G23*Szenarien!P$33+N23*'Daten Projektion'!$H23*Szenarien!P$34+N23*'Daten Projektion'!$I23*Szenarien!P$35+N23*'Daten Projektion'!$J23*Szenarien!P$36+N23*'Daten Projektion'!$K23*Szenarien!P$37+N23*'Daten Projektion'!$L23*Szenarien!P$38+N23*'Daten Projektion'!$M23*Szenarien!P$39","v":0},{"$f":"U23+U23*$E23*Szenarien!Q$31+U23*$F23*Szenarien!Q$32+U23*'Daten Projektion'!$G23*Szenarien!Q$33+U23*'Daten Projektion'!$H23*Szenarien!Q$34+U23*'Daten Projektion'!$I23*Szenarien!Q$35+U23*'Daten Projektion'!$J23*Szenarien!Q$36+U23*'Daten Projektion'!$K23*Szenarien!Q$37+U23*'Daten Projektion'!$L23*Szenarien!Q$38+U23*'Daten Projektion'!$M23*Szenarien!Q$39","v":0},{"$f":"V23+V23*$E23*Szenarien!R$31+V23*$F23*Szenarien!R$32+V23*'Daten Projektion'!$G23*Szenarien!R$33+V23*'Daten Projektion'!$H23*Szenarien!R$34+V23*'Daten Projektion'!$I23*Szenarien!R$35+V23*'Daten Projektion'!$J23*Szenarien!R$36+V23*'Daten Projektion'!$K23*Szenarien!R$37+V23*'Daten Projektion'!$L23*Szenarien!R$38+V23*'Daten Projektion'!$M23*Szenarien!R$39","v":0},{"$f":"W23+W23*$E23*Szenarien!S$31+W23*$F23*Szenarien!S$32+W23*'Daten Projektion'!$G23*Szenarien!S$33+W23*'Daten Projektion'!$H23*Szenarien!S$34+W23*'Daten Projektion'!$I23*Szenarien!S$35+W23*'Daten Projektion'!$J23*Szenarien!S$36+W23*'Daten Projektion'!$K23*Szenarien!S$37+W23*'Daten Projektion'!$L23*Szenarien!S$38+W23*'Daten Projektion'!$M23*Szenarien!S$39","v":0},{"$f":"X23+X23*$E23*Szenarien!T$31+X23*$F23*Szenarien!T$32+X23*'Daten Projektion'!$G23*Szenarien!T$33+X23*'Daten Projektion'!$H23*Szenarien!T$34+X23*'Daten Projektion'!$I23*Szenarien!T$35+X23*'Daten Projektion'!$J23*Szenarien!T$36+X23*'Daten Projektion'!$K23*Szenarien!T$37+X23*'Daten Projektion'!$L23*Szenarien!T$38+X23*'Daten Projektion'!$M23*Szenarien!T$39","v":0},null,{"$f":"N23+N23*$E23*Szenarien!X$31+N23*$F23*Szenarien!X$32+N23*'Daten Projektion'!$G23*Szenarien!X$33+N23*'Daten Projektion'!$H23*Szenarien!X$34+N23*'Daten Projektion'!$I23*Szenarien!X$35+N23*'Daten Projektion'!$J23*Szenarien!X$36+N23*'Daten Projektion'!$K23*Szenarien!X$37+N23*'Daten Projektion'!$L23*Szenarien!X$38+N23*'Daten Projektion'!$M23*Szenarien!X$39","v":0},{"$f":"AA23+AA23*$E23*Szenarien!Y$31+AA23*$F23*Szenarien!Y$32+AA23*'Daten Projektion'!$G23*Szenarien!Y$33+AA23*'Daten Projektion'!$H23*Szenarien!Y$34+AA23*'Daten Projektion'!$I23*Szenarien!Y$35+AA23*'Daten Projektion'!$J23*Szenarien!Y$36+AA23*'Daten Projektion'!$K23*Szenarien!Y$37+AA23*'Daten Projektion'!$L23*Szenarien!Y$38+AA23*'Daten Projektion'!$M23*Szenarien!Y$39","v":0},{"$f":"AB23+AB23*$E23*Szenarien!Z$31+AB23*$F23*Szenarien!Z$32+AB23*'Daten Projektion'!$G23*Szenarien!Z$33+AB23*'Daten Projektion'!$H23*Szenarien!Z$34+AB23*'Daten Projektion'!$I23*Szenarien!Z$35+AB23*'Daten Projektion'!$J23*Szenarien!Z$36+AB23*'Daten Projektion'!$K23*Szenarien!Z$37+AB23*'Daten Projektion'!$L23*Szenarien!Z$38+AB23*'Daten Projektion'!$M23*Szenarien!Z$39","v":0},{"$f":"AC23+AC23*$E23*Szenarien!AA$31+AC23*$F23*Szenarien!AA$32+AC23*'Daten Projektion'!$G23*Szenarien!AA$33+AC23*'Daten Projektion'!$H23*Szenarien!AA$34+AC23*'Daten Projektion'!$I23*Szenarien!AA$35+AC23*'Daten Projektion'!$J23*Szenarien!AA$36+AC23*'Daten Projektion'!$K23*Szenarien!AA$37+AC23*'Daten Projektion'!$L23*Szenarien!AA$38+AC23*'Daten Projektion'!$M23*Szenarien!AA$39","v":0},{"$f":"AD23+AD23*$E23*Szenarien!AB$31+AD23*$F23*Szenarien!AB$32+AD23*'Daten Projektion'!$G23*Szenarien!AB$33+AD23*'Daten Projektion'!$H23*Szenarien!AB$34+AD23*'Daten Projektion'!$I23*Szenarien!AB$35+AD23*'Daten Projektion'!$J23*Szenarien!AB$36+AD23*'Daten Projektion'!$K23*Szenarien!AB$37+AD23*'Daten Projektion'!$L23*Szenarien!AB$38+AD23*'Daten Projektion'!$M23*Szenarien!AB$39","v":0}]
[null,{"$f":"Vermögen!E22","v":"12."},{"$f":"IF(Vermögen!F22=0,\"\",Vermögen!F22)","v":""},{"$f":"Vermögen!I22","v":"Bitte auswählen"},{"$f":"Vermögen!J22","v":{"v":0,"d":"0.0%"}},{"$f":"Vermögen!K22","v":{"v":0,"d":"0.0%"}},{"$f":"Vermögen!L22","v":{"v":0,"d":"0.0%"}},{"$f":"Vermögen!M22","v":{"v":0,"d":"0.0%"}},{"$f":"Vermögen!N22","v":{"v":0,"d":"0.0%"}},{"v":0,"d":"0.0%"},{"v":0,"d":"0.0%"},{"v":0,"d":"0.0%"},{"v":0,"d":"0.0%"},{"$f":"Daten_Vermögen!C55","v":0},{"$f":"N24+N24*Vermögen!V22","v":0},{"$f":"O24+O24*Vermögen!$V22","v":0},{"$f":"P24+P24*Vermögen!$V22","v":0},{"$f":"Q24+Q24*Vermögen!$V22","v":0},{"$f":"R24+R24*Vermögen!$V22","v":0},null,{"$f":"N24+N24*$E24*Szenarien!P$31+N24*$F24*Szenarien!P$32+N24*'Daten Projektion'!$G24*Szenarien!P$33+N24*'Daten Projektion'!$H24*Szenarien!P$34+N24*'Daten Projektion'!$I24*Szenarien!P$35+N24*'Daten Projektion'!$J24*Szenarien!P$36+N24*'Daten Projektion'!$K24*Szenarien!P$37+N24*'Daten Projektion'!$L24*Szenarien!P$38+N24*'Daten Projektion'!$M24*Szenarien!P$39","v":0},{"$f":"U24+U24*$E24*Szenarien!Q$31+U24*$F24*Szenarien!Q$32+U24*'Daten Projektion'!$G24*Szenarien!Q$33+U24*'Daten Projektion'!$H24*Szenarien!Q$34+U24*'Daten Projektion'!$I24*Szenarien!Q$35+U24*'Daten Projektion'!$J24*Szenarien!Q$36+U24*'Daten Projektion'!$K24*Szenarien!Q$37+U24*'Daten Projektion'!$L24*Szenarien!Q$38+U24*'Daten Projektion'!$M24*Szenarien!Q$39","v":0},{"$f":"V24+V24*$E24*Szenarien!R$31+V24*$F24*Szenarien!R$32+V24*'Daten Projektion'!$G24*Szenarien!R$33+V24*'Daten Projektion'!$H24*Szenarien!R$34+V24*'Daten Projektion'!$I24*Szenarien!R$35+V24*'Daten Projektion'!$J24*Szenarien!R$36+V24*'Daten Projektion'!$K24*Szenarien!R$37+V24*'Daten Projektion'!$L24*Szenarien!R$38+V24*'Daten Projektion'!$M24*Szenarien!R$39","v":0},{"$f":"W24+W24*$E24*Szenarien!S$31+W24*$F24*Szenarien!S$32+W24*'Daten Projektion'!$G24*Szenarien!S$33+W24*'Daten Projektion'!$H24*Szenarien!S$34+W24*'Daten Projektion'!$I24*Szenarien!S$35+W24*'Daten Projektion'!$J24*Szenarien!S$36+W24*'Daten Projektion'!$K24*Szenarien!S$37+W24*'Daten Projektion'!$L24*Szenarien!S$38+W24*'Daten Projektion'!$M24*Szenarien!S$39","v":0},{"$f":"X24+X24*$E24*Szenarien!T$31+X24*$F24*Szenarien!T$32+X24*'Daten Projektion'!$G24*Szenarien!T$33+X24*'Daten Projektion'!$H24*Szenarien!T$34+X24*'Daten Projektion'!$I24*Szenarien!T$35+X24*'Daten Projektion'!$J24*Szenarien!T$36+X24*'Daten Projektion'!$K24*Szenarien!T$37+X24*'Daten Projektion'!$L24*Szenarien!T$38+X24*'Daten Projektion'!$M24*Szenarien!T$39","v":0},null,{"$f":"N24+N24*$E24*Szenarien!X$31+N24*$F24*Szenarien!X$32+N24*'Daten Projektion'!$G24*Szenarien!X$33+N24*'Daten Projektion'!$H24*Szenarien!X$34+N24*'Daten Projektion'!$I24*Szenarien!X$35+N24*'Daten Projektion'!$J24*Szenarien!X$36+N24*'Daten Projektion'!$K24*Szenarien!X$37+N24*'Daten Projektion'!$L24*Szenarien!X$38+N24*'Daten Projektion'!$M24*Szenarien!X$39","v":0},{"$f":"AA24+AA24*$E24*Szenarien!Y$31+AA24*$F24*Szenarien!Y$32+AA24*'Daten Projektion'!$G24*Szenarien!Y$33+AA24*'Daten Projektion'!$H24*Szenarien!Y$34+AA24*'Daten Projektion'!$I24*Szenarien!Y$35+AA24*'Daten Projektion'!$J24*Szenarien!Y$36+AA24*'Daten Projektion'!$K24*Szenarien!Y$37+AA24*'Daten Projektion'!$L24*Szenarien!Y$38+AA24*'Daten Projektion'!$M24*Szenarien!Y$39","v":0},{"$f":"AB24+AB24*$E24*Szenarien!Z$31+AB24*$F24*Szenarien!Z$32+AB24*'Daten Projektion'!$G24*Szenarien!Z$33+AB24*'Daten Projektion'!$H24*Szenarien!Z$34+AB24*'Daten Projektion'!$I24*Szenarien!Z$35+AB24*'Daten Projektion'!$J24*Szenarien!Z$36+AB24*'Daten Projektion'!$K24*Szenarien!Z$37+AB24*'Daten Projektion'!$L24*Szenarien!Z$38+AB24*'Daten Projektion'!$M24*Szenarien!Z$39","v":0},{"$f":"AC24+AC24*$E24*Szenarien!AA$31+AC24*$F24*Szenarien!AA$32+AC24*'Daten Projektion'!$G24*Szenarien!AA$33+AC24*'Daten Projektion'!$H24*Szenarien!AA$34+AC24*'Daten Projektion'!$I24*Szenarien!AA$35+AC24*'Daten Projektion'!$J24*Szenarien!AA$36+AC24*'Daten Projektion'!$K24*Szenarien!AA$37+AC24*'Daten Projektion'!$L24*Szenarien!AA$38+AC24*'Daten Projektion'!$M24*Szenarien!AA$39","v":0},{"$f":"AD24+AD24*$E24*Szenarien!AB$31+AD24*$F24*Szenarien!AB$32+AD24*'Daten Projektion'!$G24*Szenarien!AB$33+AD24*'Daten Projektion'!$H24*Szenarien!AB$34+AD24*'Daten Projektion'!$I24*Szenarien!AB$35+AD24*'Daten Projektion'!$J24*Szenarien!AB$36+AD24*'Daten Projektion'!$K24*Szenarien!AB$37+AD24*'Daten Projektion'!$L24*Szenarien!AB$38+AD24*'Daten Projektion'!$M24*Szenarien!AB$39","v":0}]
[null,{"$f":"Vermögen!E23","v":"13."},{"$f":"IF(Vermögen!F23=0,\"\",Vermögen!F23)","v":""},{"$f":"Vermögen!I23","v":"Bitte auswählen"},{"$f":"Vermögen!J23","v":{"v":0,"d":"0.0%"}},{"$f":"Vermögen!K23","v":{"v":0,"d":"0.0%"}},{"$f":"Vermögen!L23","v":{"v":0,"d":"0.0%"}},{"$f":"Vermögen!M23","v":{"v":0,"d":"0.0%"}},{"$f":"Vermögen!N23","v":{"v":0,"d":"0.0%"}},{"v":0,"d":"0.0%"},{"v":0,"d":"0.0%"},{"v":0,"d":"0.0%"},{"v":0,"d":"0.0%"},{"$f":"Daten_Vermögen!C56","v":0},{"$f":"N25+N25*Vermögen!V23","v":0},{"$f":"O25+O25*Vermögen!$V23","v":0},{"$f":"P25+P25*Vermögen!$V23","v":0},{"$f":"Q25+Q25*Vermögen!$V23","v":0},{"$f":"R25+R25*Vermögen!$V23","v":0},null,{"$f":"N25+N25*$E25*Szenarien!P$31+N25*$F25*Szenarien!P$32+N25*'Daten Projektion'!$G25*Szenarien!P$33+N25*'Daten Projektion'!$H25*Szenarien!P$34+N25*'Daten Projektion'!$I25*Szenarien!P$35+N25*'Daten Projektion'!$J25*Szenarien!P$36+N25*'Daten Projektion'!$K25*Szenarien!P$37+N25*'Daten Projektion'!$L25*Szenarien!P$38+N25*'Daten Projektion'!$M25*Szenarien!P$39","v":0},{"$f":"U25+U25*$E25*Szenarien!Q$31+U25*$F25*Szenarien!Q$32+U25*'Daten Projektion'!$G25*Szenarien!Q$33+U25*'Daten Projektion'!$H25*Szenarien!Q$34+U25*'Daten Projektion'!$I25*Szenarien!Q$35+U25*'Daten Projektion'!$J25*Szenarien!Q$36+U25*'Daten Projektion'!$K25*Szenarien!Q$37+U25*'Daten Projektion'!$L25*Szenarien!Q$38+U25*'Daten Projektion'!$M25*Szenarien!Q$39","v":0},{"$f":"V25+V25*$E25*Szenarien!R$31+V25*$F25*Szenarien!R$32+V25*'Daten Projektion'!$G25*Szenarien!R$33+V25*'Daten Projektion'!$H25*Szenarien!R$34+V25*'Daten Projektion'!$I25*Szenarien!R$35+V25*'Daten Projektion'!$J25*Szenarien!R$36+V25*'Daten Projektion'!$K25*Szenarien!R$37+V25*'Daten Projektion'!$L25*Szenarien!R$38+V25*'Daten Projektion'!$M25*Szenarien!R$39","v":0},{"$f":"W25+W25*$E25*Szenarien!S$31+W25*$F25*Szenarien!S$32+W25*'Daten Projektion'!$G25*Szenarien!S$33+W25*'Daten Projektion'!$H25*Szenarien!S$34+W25*'Daten Projektion'!$I25*Szenarien!S$35+W25*'Daten Projektion'!$J25*Szenarien!S$36+W25*'Daten Projektion'!$K25*Szenarien!S$37+W25*'Daten Projektion'!$L25*Szenarien!S$38+W25*'Daten Projektion'!$M25*Szenarien!S$39","v":0},{"$f":"X25+X25*$E25*Szenarien!T$31+X25*$F25*Szenarien!T$32+X25*'Daten Projektion'!$G25*Szenarien!T$33+X25*'Daten Projektion'!$H25*Szenarien!T$34+X25*'Daten Projektion'!$I25*Szenarien!T$35+X25*'Daten Projektion'!$J25*Szenarien!T$36+X25*'Daten Projektion'!$K25*Szenarien!T$37+X25*'Daten Projektion'!$L25*Szenarien!T$38+X25*'Daten Projektion'!$M25*Szenarien!T$39","v":0},null,{"$f":"N25+N25*$E25*Szenarien!X$31+N25*$F25*Szenarien!X$32+N25*'Daten Projektion'!$G25*Szenarien!X$33+N25*'Daten Projektion'!$H25*Szenarien!X$34+N25*'Daten Projektion'!$I25*Szenarien!X$35+N25*'Daten Projektion'!$J25*Szenarien!X$36+N25*'Daten Projektion'!$K25*Szenarien!X$37+N25*'Daten Projektion'!$L25*Szenarien!X$38+N25*'Daten Projektion'!$M25*Szenarien!X$39","v":0},{"$f":"AA25+AA25*$E25*Szenarien!Y$31+AA25*$F25*Szenarien!Y$32+AA25*'Daten Projektion'!$G25*Szenarien!Y$33+AA25*'Daten Projektion'!$H25*Szenarien!Y$34+AA25*'Daten Projektion'!$I25*Szenarien!Y$35+AA25*'Daten Projektion'!$J25*Szenarien!Y$36+AA25*'Daten Projektion'!$K25*Szenarien!Y$37+AA25*'Daten Projektion'!$L25*Szenarien!Y$38+AA25*'Daten Projektion'!$M25*Szenarien!Y$39","v":0},{"$f":"AB25+AB25*$E25*Szenarien!Z$31+AB25*$F25*Szenarien!Z$32+AB25*'Daten Projektion'!$G25*Szenarien!Z$33+AB25*'Daten Projektion'!$H25*Szenarien!Z$34+AB25*'Daten Projektion'!$I25*Szenarien!Z$35+AB25*'Daten Projektion'!$J25*Szenarien!Z$36+AB25*'Daten Projektion'!$K25*Szenarien!Z$37+AB25*'Daten Projektion'!$L25*Szenarien!Z$38+AB25*'Daten Projektion'!$M25*Szenarien!Z$39","v":0},{"$f":"AC25+AC25*$E25*Szenarien!AA$31+AC25*$F25*Szenarien!AA$32+AC25*'Daten Projektion'!$G25*Szenarien!AA$33+AC25*'Daten Projektion'!$H25*Szenarien!AA$34+AC25*'Daten Projektion'!$I25*Szenarien!AA$35+AC25*'Daten Projektion'!$J25*Szenarien!AA$36+AC25*'Daten Projektion'!$K25*Szenarien!AA$37+AC25*'Daten Projektion'!$L25*Szenarien!AA$38+AC25*'Daten Projektion'!$M25*Szenarien!AA$39","v":0},{"$f":"AD25+AD25*$E25*Szenarien!AB$31+AD25*$F25*Szenarien!AB$32+AD25*'Daten Projektion'!$G25*Szenarien!AB$33+AD25*'Daten Projektion'!$H25*Szenarien!AB$34+AD25*'Daten Projektion'!$I25*Szenarien!AB$35+AD25*'Daten Projektion'!$J25*Szenarien!AB$36+AD25*'Daten Projektion'!$K25*Szenarien!AB$37+AD25*'Daten Projektion'!$L25*Szenarien!AB$38+AD25*'Daten Projektion'!$M25*Szenarien!AB$39","v":0}]
[null,{"$f":"Vermögen!E24","v":"14."},{"$f":"IF(Vermögen!F24=0,\"\",Vermögen!F24)","v":""},{"$f":"Vermögen!I24","v":"Bitte auswählen"},{"$f":"Vermögen!J24","v":{"v":0,"d":"0.0%"}},{"$f":"Vermögen!K24","v":{"v":0,"d":"0.0%"}},{"$f":"Vermögen!L24","v":{"v":0,"d":"0.0%"}},{"$f":"Vermögen!M24","v":{"v":0,"d":"0.0%"}},{"$f":"Vermögen!N24","v":{"v":0,"d":"0.0%"}},{"v":0,"d":"0.0%"},{"v":0,"d":"0.0%"},{"v":0,"d":"0.0%"},{"v":0,"d":"0.0%"},{"$f":"Daten_Vermögen!C57","v":0},{"$f":"N26+N26*Vermögen!V24","v":0},{"$f":"O26+O26*Vermögen!$V24","v":0},{"$f":"P26+P26*Vermögen!$V24","v":0},{"$f":"Q26+Q26*Vermögen!$V24","v":0},{"$f":"R26+R26*Vermögen!$V24","v":0},null,{"$f":"N26+N26*$E26*Szenarien!P$31+N26*$F26*Szenarien!P$32+N26*'Daten Projektion'!$G26*Szenarien!P$33+N26*'Daten Projektion'!$H26*Szenarien!P$34+N26*'Daten Projektion'!$I26*Szenarien!P$35+N26*'Daten Projektion'!$J26*Szenarien!P$36+N26*'Daten Projektion'!$K26*Szenarien!P$37+N26*'Daten Projektion'!$L26*Szenarien!P$38+N26*'Daten Projektion'!$M26*Szenarien!P$39","v":0},{"$f":"U26+U26*$E26*Szenarien!Q$31+U26*$F26*Szenarien!Q$32+U26*'Daten Projektion'!$G26*Szenarien!Q$33+U26*'Daten Projektion'!$H26*Szenarien!Q$34+U26*'Daten Projektion'!$I26*Szenarien!Q$35+U26*'Daten Projektion'!$J26*Szenarien!Q$36+U26*'Daten Projektion'!$K26*Szenarien!Q$37+U26*'Daten Projektion'!$L26*Szenarien!Q$38+U26*'Daten Projektion'!$M26*Szenarien!Q$39","v":0},{"$f":"V26+V26*$E26*Szenarien!R$31+V26*$F26*Szenarien!R$32+V26*'Daten Projektion'!$G26*Szenarien!R$33+V26*'Daten Projektion'!$H26*Szenarien!R$34+V26*'Daten Projektion'!$I26*Szenarien!R$35+V26*'Daten Projektion'!$J26*Szenarien!R$36+V26*'Daten Projektion'!$K26*Szenarien!R$37+V26*'Daten Projektion'!$L26*Szenarien!R$38+V26*'Daten Projektion'!$M26*Szenarien!R$39","v":0},{"$f":"W26+W26*$E26*Szenarien!S$31+W26*$F26*Szenarien!S$32+W26*'Daten Projektion'!$G26*Szenarien!S$33+W26*'Daten Projektion'!$H26*Szenarien!S$34+W26*'Daten Projektion'!$I26*Szenarien!S$35+W26*'Daten Projektion'!$J26*Szenarien!S$36+W26*'Daten Projektion'!$K26*Szenarien!S$37+W26*'Daten Projektion'!$L26*Szenarien!S$38+W26*'Daten Projektion'!$M26*Szenarien!S$39","v":0},{"$f":"X26+X26*$E26*Szenarien!T$31+X26*$F26*Szenarien!T$32+X26*'Daten Projektion'!$G26*Szenarien!T$33+X26*'Daten Projektion'!$H26*Szenarien!T$34+X26*'Daten Projektion'!$I26*Szenarien!T$35+X26*'Daten Projektion'!$J26*Szenarien!T$36+X26*'Daten Projektion'!$K26*Szenarien!T$37+X26*'Daten Projektion'!$L26*Szenarien!T$38+X26*'Daten Projektion'!$M26*Szenarien!T$39","v":0},null,{"$f":"N26+N26*$E26*Szenarien!X$31+N26*$F26*Szenarien!X$32+N26*'Daten Projektion'!$G26*Szenarien!X$33+N26*'Daten Projektion'!$H26*Szenarien!X$34+N26*'Daten Projektion'!$I26*Szenarien!X$35+N26*'Daten Projektion'!$J26*Szenarien!X$36+N26*'Daten Projektion'!$K26*Szenarien!X$37+N26*'Daten Projektion'!$L26*Szenarien!X$38+N26*'Daten Projektion'!$M26*Szenarien!X$39","v":0},{"$f":"AA26+AA26*$E26*Szenarien!Y$31+AA26*$F26*Szenarien!Y$32+AA26*'Daten Projektion'!$G26*Szenarien!Y$33+AA26*'Daten Projektion'!$H26*Szenarien!Y$34+AA26*'Daten Projektion'!$I26*Szenarien!Y$35+AA26*'Daten Projektion'!$J26*Szenarien!Y$36+AA26*'Daten Projektion'!$K26*Szenarien!Y$37+AA26*'Daten Projektion'!$L26*Szenarien!Y$38+AA26*'Daten Projektion'!$M26*Szenarien!Y$39","v":0},{"$f":"AB26+AB26*$E26*Szenarien!Z$31+AB26*$F26*Szenarien!Z$32+AB26*'Daten Projektion'!$G26*Szenarien!Z$33+AB26*'Daten Projektion'!$H26*Szenarien!Z$34+AB26*'Daten Projektion'!$I26*Szenarien!Z$35+AB26*'Daten Projektion'!$J26*Szenarien!Z$36+AB26*'Daten Projektion'!$K26*Szenarien!Z$37+AB26*'Daten Projektion'!$L26*Szenarien!Z$38+AB26*'Daten Projektion'!$M26*Szenarien!Z$39","v":0},{"$f":"AC26+AC26*$E26*Szenarien!AA$31+AC26*$F26*Szenarien!AA$32+AC26*'Daten Projektion'!$G26*Szenarien!AA$33+AC26*'Daten Projektion'!$H26*Szenarien!AA$34+AC26*'Daten Projektion'!$I26*Szenarien!AA$35+AC26*'Daten Projektion'!$J26*Szenarien!AA$36+AC26*'Daten Projektion'!$K26*Szenarien!AA$37+AC26*'Daten Projektion'!$L26*Szenarien!AA$38+AC26*'Daten Projektion'!$M26*Szenarien!AA$39","v":0},{"$f":"AD26+AD26*$E26*Szenarien!AB$31+AD26*$F26*Szenarien!AB$32+AD26*'Daten Projektion'!$G26*Szenarien!AB$33+AD26*'Daten Projektion'!$H26*Szenarien!AB$34+AD26*'Daten Projektion'!$I26*Szenarien!AB$35+AD26*'Daten Projektion'!$J26*Szenarien!AB$36+AD26*'Daten Projektion'!$K26*Szenarien!AB$37+AD26*'Daten Projektion'!$L26*Szenarien!AB$38+AD26*'Daten Projektion'!$M26*Szenarien!AB$39","v":0}]
[null,{"$f":"Vermögen!E25","v":"15."},{"$f":"IF(Vermögen!F25=0,\"\",Vermögen!F25)","v":""},{"$f":"Vermögen!I25","v":"Bitte auswählen"},{"$f":"Vermögen!J25","v":{"v":0,"d":"0.0%"}},{"$f":"Vermögen!K25","v":{"v":0,"d":"0.0%"}},{"$f":"Vermögen!L25","v":{"v":0,"d":"0.0%"}},{"$f":"Vermögen!M25","v":{"v":0,"d":"0.0%"}},{"$f":"Vermögen!N25","v":{"v":0,"d":"0.0%"}},{"v":0,"d":"0.0%"},{"v":0,"d":"0.0%"},{"v":0,"d":"0.0%"},{"v":0,"d":"0.0%"},{"$f":"Daten_Vermögen!C58","v":0},{"$f":"N27+N27*Vermögen!V25","v":0},{"$f":"O27+O27*Vermögen!$V25","v":0},{"$f":"P27+P27*Vermögen!$V25","v":0},{"$f":"Q27+Q27*Vermögen!$V25","v":0},{"$f":"R27+R27*Vermögen!$V25","v":0},null,{"$f":"N27+N27*$E27*Szenarien!P$31+N27*$F27*Szenarien!P$32+N27*'Daten Projektion'!$G27*Szenarien!P$33+N27*'Daten Projektion'!$H27*Szenarien!P$34+N27*'Daten Projektion'!$I27*Szenarien!P$35+N27*'Daten Projektion'!$J27*Szenarien!P$36+N27*'Daten Projektion'!$K27*Szenarien!P$37+N27*'Daten Projektion'!$L27*Szenarien!P$38+N27*'Daten Projektion'!$M27*Szenarien!P$39","v":0},{"$f":"U27+U27*$E27*Szenarien!Q$31+U27*$F27*Szenarien!Q$32+U27*'Daten Projektion'!$G27*Szenarien!Q$33+U27*'Daten Projektion'!$H27*Szenarien!Q$34+U27*'Daten Projektion'!$I27*Szenarien!Q$35+U27*'Daten Projektion'!$J27*Szenarien!Q$36+U27*'Daten Projektion'!$K27*Szenarien!Q$37+U27*'Daten Projektion'!$L27*Szenarien!Q$38+U27*'Daten Projektion'!$M27*Szenarien!Q$39","v":0},{"$f":"V27+V27*$E27*Szenarien!R$31+V27*$F27*Szenarien!R$32+V27*'Daten Projektion'!$G27*Szenarien!R$33+V27*'Daten Projektion'!$H27*Szenarien!R$34+V27*'Daten Projektion'!$I27*Szenarien!R$35+V27*'Daten Projektion'!$J27*Szenarien!R$36+V27*'Daten Projektion'!$K27*Szenarien!R$37+V27*'Daten Projektion'!$L27*Szenarien!R$38+V27*'Daten Projektion'!$M27*Szenarien!R$39","v":0},{"$f":"W27+W27*$E27*Szenarien!S$31+W27*$F27*Szenarien!S$32+W27*'Daten Projektion'!$G27*Szenarien!S$33+W27*'Daten Projektion'!$H27*Szenarien!S$34+W27*'Daten Projektion'!$I27*Szenarien!S$35+W27*'Daten Projektion'!$J27*Szenarien!S$36+W27*'Daten Projektion'!$K27*Szenarien!S$37+W27*'Daten Projektion'!$L27*Szenarien!S$38+W27*'Daten Projektion'!$M27*Szenarien!S$39","v":0},{"$f":"X27+X27*$E27*Szenarien!T$31+X27*$F27*Szenarien!T$32+X27*'Daten Projektion'!$G27*Szenarien!T$33+X27*'Daten Projektion'!$H27*Szenarien!T$34+X27*'Daten Projektion'!$I27*Szenarien!T$35+X27*'Daten Projektion'!$J27*Szenarien!T$36+X27*'Daten Projektion'!$K27*Szenarien!T$37+X27*'Daten Projektion'!$L27*Szenarien!T$38+X27*'Daten Projektion'!$M27*Szenarien!T$39","v":0},null,{"$f":"N27+N27*$E27*Szenarien!X$31+N27*$F27*Szenarien!X$32+N27*'Daten Projektion'!$G27*Szenarien!X$33+N27*'Daten Projektion'!$H27*Szenarien!X$34+N27*'Daten Projektion'!$I27*Szenarien!X$35+N27*'Daten Projektion'!$J27*Szenarien!X$36+N27*'Daten Projektion'!$K27*Szenarien!X$37+N27*'Daten Projektion'!$L27*Szenarien!X$38+N27*'Daten Projektion'!$M27*Szenarien!X$39","v":0},{"$f":"AA27+AA27*$E27*Szenarien!Y$31+AA27*$F27*Szenarien!Y$32+AA27*'Daten Projektion'!$G27*Szenarien!Y$33+AA27*'Daten Projektion'!$H27*Szenarien!Y$34+AA27*'Daten Projektion'!$I27*Szenarien!Y$35+AA27*'Daten Projektion'!$J27*Szenarien!Y$36+AA27*'Daten Projektion'!$K27*Szenarien!Y$37+AA27*'Daten Projektion'!$L27*Szenarien!Y$38+AA27*'Daten Projektion'!$M27*Szenarien!Y$39","v":0},{"$f":"AB27+AB27*$E27*Szenarien!Z$31+AB27*$F27*Szenarien!Z$32+AB27*'Daten Projektion'!$G27*Szenarien!Z$33+AB27*'Daten Projektion'!$H27*Szenarien!Z$34+AB27*'Daten Projektion'!$I27*Szenarien!Z$35+AB27*'Daten Projektion'!$J27*Szenarien!Z$36+AB27*'Daten Projektion'!$K27*Szenarien!Z$37+AB27*'Daten Projektion'!$L27*Szenarien!Z$38+AB27*'Daten Projektion'!$M27*Szenarien!Z$39","v":0},{"$f":"AC27+AC27*$E27*Szenarien!AA$31+AC27*$F27*Szenarien!AA$32+AC27*'Daten Projektion'!$G27*Szenarien!AA$33+AC27*'Daten Projektion'!$H27*Szenarien!AA$34+AC27*'Daten Projektion'!$I27*Szenarien!AA$35+AC27*'Daten Projektion'!$J27*Szenarien!AA$36+AC27*'Daten Projektion'!$K27*Szenarien!AA$37+AC27*'Daten Projektion'!$L27*Szenarien!AA$38+AC27*'Daten Projektion'!$M27*Szenarien!AA$39","v":0},{"$f":"AD27+AD27*$E27*Szenarien!AB$31+AD27*$F27*Szenarien!AB$32+AD27*'Daten Projektion'!$G27*Szenarien!AB$33+AD27*'Daten Projektion'!$H27*Szenarien!AB$34+AD27*'Daten Projektion'!$I27*Szenarien!AB$35+AD27*'Daten Projektion'!$J27*Szenarien!AB$36+AD27*'Daten Projektion'!$K27*Szenarien!AB$37+AD27*'Daten Projektion'!$L27*Szenarien!AB$38+AD27*'Daten Projektion'!$M27*Szenarien!AB$39","v":0}]
[null,{"$f":"Vermögen!E26","v":"16."},{"$f":"IF(Vermögen!F26=0,\"\",Vermögen!F26)","v":""},{"$f":"Vermögen!I26","v":"Bitte auswählen"},{"$f":"Vermögen!J26","v":{"v":0,"d":"0.0%"}},{"$f":"Vermögen!K26","v":{"v":0,"d":"0.0%"}},{"$f":"Vermögen!L26","v":{"v":0,"d":"0.0%"}},{"$f":"Vermögen!M26","v":{"v":0,"d":"0.0%"}},{"$f":"Vermögen!N26","v":{"v":0,"d":"0.0%"}},{"v":0,"d":"0.0%"},{"v":0,"d":"0.0%"},{"v":0,"d":"0.0%"},{"v":0,"d":"0.0%"},{"$f":"Daten_Vermögen!C59","v":0},{"$f":"N28+N28*Vermögen!V26","v":0},{"$f":"O28+O28*Vermögen!$V26","v":0},{"$f":"P28+P28*Vermögen!$V26","v":0},{"$f":"Q28+Q28*Vermögen!$V26","v":0},{"$f":"R28+R28*Vermögen!$V26","v":0},null,{"$f":"N28+N28*$E28*Szenarien!P$31+N28*$F28*Szenarien!P$32+N28*'Daten Projektion'!$G28*Szenarien!P$33+N28*'Daten Projektion'!$H28*Szenarien!P$34+N28*'Daten Projektion'!$I28*Szenarien!P$35+N28*'Daten Projektion'!$J28*Szenarien!P$36+N28*'Daten Projektion'!$K28*Szenarien!P$37+N28*'Daten Projektion'!$L28*Szenarien!P$38+N28*'Daten Projektion'!$M28*Szenarien!P$39","v":0},{"$f":"U28+U28*$E28*Szenarien!Q$31+U28*$F28*Szenarien!Q$32+U28*'Daten Projektion'!$G28*Szenarien!Q$33+U28*'Daten Projektion'!$H28*Szenarien!Q$34+U28*'Daten Projektion'!$I28*Szenarien!Q$35+U28*'Daten Projektion'!$J28*Szenarien!Q$36+U28*'Daten Projektion'!$K28*Szenarien!Q$37+U28*'Daten Projektion'!$L28*Szenarien!Q$38+U28*'Daten Projektion'!$M28*Szenarien!Q$39","v":0},{"$f":"V28+V28*$E28*Szenarien!R$31+V28*$F28*Szenarien!R$32+V28*'Daten Projektion'!$G28*Szenarien!R$33+V28*'Daten Projektion'!$H28*Szenarien!R$34+V28*'Daten Projektion'!$I28*Szenarien!R$35+V28*'Daten Projektion'!$J28*Szenarien!R$36+V28*'Daten Projektion'!$K28*Szenarien!R$37+V28*'Daten Projektion'!$L28*Szenarien!R$38+V28*'Daten Projektion'!$M28*Szenarien!R$39","v":0},{"$f":"W28+W28*$E28*Szenarien!S$31+W28*$F28*Szenarien!S$32+W28*'Daten Projektion'!$G28*Szenarien!S$33+W28*'Daten Projektion'!$H28*Szenarien!S$34+W28*'Daten Projektion'!$I28*Szenarien!S$35+W28*'Daten Projektion'!$J28*Szenarien!S$36+W28*'Daten Projektion'!$K28*Szenarien!S$37+W28*'Daten Projektion'!$L28*Szenarien!S$38+W28*'Daten Projektion'!$M28*Szenarien!S$39","v":0},{"$f":"X28+X28*$E28*Szenarien!T$31+X28*$F28*Szenarien!T$32+X28*'Daten Projektion'!$G28*Szenarien!T$33+X28*'Daten Projektion'!$H28*Szenarien!T$34+X28*'Daten Projektion'!$I28*Szenarien!T$35+X28*'Daten Projektion'!$J28*Szenarien!T$36+X28*'Daten Projektion'!$K28*Szenarien!T$37+X28*'Daten Projektion'!$L28*Szenarien!T$38+X28*'Daten Projektion'!$M28*Szenarien!T$39","v":0},null,{"$f":"N28+N28*$E28*Szenarien!X$31+N28*$F28*Szenarien!X$32+N28*'Daten Projektion'!$G28*Szenarien!X$33+N28*'Daten Projektion'!$H28*Szenarien!X$34+N28*'Daten Projektion'!$I28*Szenarien!X$35+N28*'Daten Projektion'!$J28*Szenarien!X$36+N28*'Daten Projektion'!$K28*Szenarien!X$37+N28*'Daten Projektion'!$L28*Szenarien!X$38+N28*'Daten Projektion'!$M28*Szenarien!X$39","v":0},{"$f":"AA28+AA28*$E28*Szenarien!Y$31+AA28*$F28*Szenarien!Y$32+AA28*'Daten Projektion'!$G28*Szenarien!Y$33+AA28*'Daten Projektion'!$H28*Szenarien!Y$34+AA28*'Daten Projektion'!$I28*Szenarien!Y$35+AA28*'Daten Projektion'!$J28*Szenarien!Y$36+AA28*'Daten Projektion'!$K28*Szenarien!Y$37+AA28*'Daten Projektion'!$L28*Szenarien!Y$38+AA28*'Daten Projektion'!$M28*Szenarien!Y$39","v":0},{"$f":"AB28+AB28*$E28*Szenarien!Z$31+AB28*$F28*Szenarien!Z$32+AB28*'Daten Projektion'!$G28*Szenarien!Z$33+AB28*'Daten Projektion'!$H28*Szenarien!Z$34+AB28*'Daten Projektion'!$I28*Szenarien!Z$35+AB28*'Daten Projektion'!$J28*Szenarien!Z$36+AB28*'Daten Projektion'!$K28*Szenarien!Z$37+AB28*'Daten Projektion'!$L28*Szenarien!Z$38+AB28*'Daten Projektion'!$M28*Szenarien!Z$39","v":0},{"$f":"AC28+AC28*$E28*Szenarien!AA$31+AC28*$F28*Szenarien!AA$32+AC28*'Daten Projektion'!$G28*Szenarien!AA$33+AC28*'Daten Projektion'!$H28*Szenarien!AA$34+AC28*'Daten Projektion'!$I28*Szenarien!AA$35+AC28*'Daten Projektion'!$J28*Szenarien!AA$36+AC28*'Daten Projektion'!$K28*Szenarien!AA$37+AC28*'Daten Projektion'!$L28*Szenarien!AA$38+AC28*'Daten Projektion'!$M28*Szenarien!AA$39","v":0},{"$f":"AD28+AD28*$E28*Szenarien!AB$31+AD28*$F28*Szenarien!AB$32+AD28*'Daten Projektion'!$G28*Szenarien!AB$33+AD28*'Daten Projektion'!$H28*Szenarien!AB$34+AD28*'Daten Projektion'!$I28*Szenarien!AB$35+AD28*'Daten Projektion'!$J28*Szenarien!AB$36+AD28*'Daten Projektion'!$K28*Szenarien!AB$37+AD28*'Daten Projektion'!$L28*Szenarien!AB$38+AD28*'Daten Projektion'!$M28*Szenarien!AB$39","v":0}]
[null,{"$f":"Vermögen!E27","v":"17."},{"$f":"IF(Vermögen!F27=0,\"\",Vermögen!F27)","v":""},{"$f":"Vermögen!I27","v":"Bitte auswählen"},{"$f":"Vermögen!J27","v":{"v":0,"d":"0.0%"}},{"$f":"Vermögen!K27","v":{"v":0,"d":"0.0%"}},{"$f":"Vermögen!L27","v":{"v":0,"d":"0.0%"}},{"$f":"Vermögen!M27","v":{"v":0,"d":"0.0%"}},{"$f":"Vermögen!N27","v":{"v":0,"d":"0.0%"}},{"v":0,"d":"0.0%"},{"v":0,"d":"0.0%"},{"v":0,"d":"0.0%"},{"v":0,"d":"0.0%"},{"$f":"Daten_Vermögen!C60","v":0},{"$f":"N29+N29*Vermögen!V27","v":0},{"$f":"O29+O29*Vermögen!$V27","v":0},{"$f":"P29+P29*Vermögen!$V27","v":0},{"$f":"Q29+Q29*Vermögen!$V27","v":0},{"$f":"R29+R29*Vermögen!$V27","v":0},null,{"$f":"N29+N29*$E29*Szenarien!P$31+N29*$F29*Szenarien!P$32+N29*'Daten Projektion'!$G29*Szenarien!P$33+N29*'Daten Projektion'!$H29*Szenarien!P$34+N29*'Daten Projektion'!$I29*Szenarien!P$35+N29*'Daten Projektion'!$J29*Szenarien!P$36+N29*'Daten Projektion'!$K29*Szenarien!P$37+N29*'Daten Projektion'!$L29*Szenarien!P$38+N29*'Daten Projektion'!$M29*Szenarien!P$39","v":0},{"$f":"U29+U29*$E29*Szenarien!Q$31+U29*$F29*Szenarien!Q$32+U29*'Daten Projektion'!$G29*Szenarien!Q$33+U29*'Daten Projektion'!$H29*Szenarien!Q$34+U29*'Daten Projektion'!$I29*Szenarien!Q$35+U29*'Daten Projektion'!$J29*Szenarien!Q$36+U29*'Daten Projektion'!$K29*Szenarien!Q$37+U29*'Daten Projektion'!$L29*Szenarien!Q$38+U29*'Daten Projektion'!$M29*Szenarien!Q$39","v":0},{"$f":"V29+V29*$E29*Szenarien!R$31+V29*$F29*Szenarien!R$32+V29*'Daten Projektion'!$G29*Szenarien!R$33+V29*'Daten Projektion'!$H29*Szenarien!R$34+V29*'Daten Projektion'!$I29*Szenarien!R$35+V29*'Daten Projektion'!$J29*Szenarien!R$36+V29*'Daten Projektion'!$K29*Szenarien!R$37+V29*'Daten Projektion'!$L29*Szenarien!R$38+V29*'Daten Projektion'!$M29*Szenarien!R$39","v":0},{"$f":"W29+W29*$E29*Szenarien!S$31+W29*$F29*Szenarien!S$32+W29*'Daten Projektion'!$G29*Szenarien!S$33+W29*'Daten Projektion'!$H29*Szenarien!S$34+W29*'Daten Projektion'!$I29*Szenarien!S$35+W29*'Daten Projektion'!$J29*Szenarien!S$36+W29*'Daten Projektion'!$K29*Szenarien!S$37+W29*'Daten Projektion'!$L29*Szenarien!S$38+W29*'Daten Projektion'!$M29*Szenarien!S$39","v":0},{"$f":"X29+X29*$E29*Szenarien!T$31+X29*$F29*Szenarien!T$32+X29*'Daten Projektion'!$G29*Szenarien!T$33+X29*'Daten Projektion'!$H29*Szenarien!T$34+X29*'Daten Projektion'!$I29*Szenarien!T$35+X29*'Daten Projektion'!$J29*Szenarien!T$36+X29*'Daten Projektion'!$K29*Szenarien!T$37+X29*'Daten Projektion'!$L29*Szenarien!T$38+X29*'Daten Projektion'!$M29*Szenarien!T$39","v":0},null,{"$f":"N29+N29*$E29*Szenarien!X$31+N29*$F29*Szenarien!X$32+N29*'Daten Projektion'!$G29*Szenarien!X$33+N29*'Daten Projektion'!$H29*Szenarien!X$34+N29*'Daten Projektion'!$I29*Szenarien!X$35+N29*'Daten Projektion'!$J29*Szenarien!X$36+N29*'Daten Projektion'!$K29*Szenarien!X$37+N29*'Daten Projektion'!$L29*Szenarien!X$38+N29*'Daten Projektion'!$M29*Szenarien!X$39","v":0},{"$f":"AA29+AA29*$E29*Szenarien!Y$31+AA29*$F29*Szenarien!Y$32+AA29*'Daten Projektion'!$G29*Szenarien!Y$33+AA29*'Daten Projektion'!$H29*Szenarien!Y$34+AA29*'Daten Projektion'!$I29*Szenarien!Y$35+AA29*'Daten Projektion'!$J29*Szenarien!Y$36+AA29*'Daten Projektion'!$K29*Szenarien!Y$37+AA29*'Daten Projektion'!$L29*Szenarien!Y$38+AA29*'Daten Projektion'!$M29*Szenarien!Y$39","v":0},{"$f":"AB29+AB29*$E29*Szenarien!Z$31+AB29*$F29*Szenarien!Z$32+AB29*'Daten Projektion'!$G29*Szenarien!Z$33+AB29*'Daten Projektion'!$H29*Szenarien!Z$34+AB29*'Daten Projektion'!$I29*Szenarien!Z$35+AB29*'Daten Projektion'!$J29*Szenarien!Z$36+AB29*'Daten Projektion'!$K29*Szenarien!Z$37+AB29*'Daten Projektion'!$L29*Szenarien!Z$38+AB29*'Daten Projektion'!$M29*Szenarien!Z$39","v":0},{"$f":"AC29+AC29*$E29*Szenarien!AA$31+AC29*$F29*Szenarien!AA$32+AC29*'Daten Projektion'!$G29*Szenarien!AA$33+AC29*'Daten Projektion'!$H29*Szenarien!AA$34+AC29*'Daten Projektion'!$I29*Szenarien!AA$35+AC29*'Daten Projektion'!$J29*Szenarien!AA$36+AC29*'Daten Projektion'!$K29*Szenarien!AA$37+AC29*'Daten Projektion'!$L29*Szenarien!AA$38+AC29*'Daten Projektion'!$M29*Szenarien!AA$39","v":0},{"$f":"AD29+AD29*$E29*Szenarien!AB$31+AD29*$F29*Szenarien!AB$32+AD29*'Daten Projektion'!$G29*Szenarien!AB$33+AD29*'Daten Projektion'!$H29*Szenarien!AB$34+AD29*'Daten Projektion'!$I29*Szenarien!AB$35+AD29*'Daten Projektion'!$J29*Szenarien!AB$36+AD29*'Daten Projektion'!$K29*Szenarien!AB$37+AD29*'Daten Projektion'!$L29*Szenarien!AB$38+AD29*'Daten Projektion'!$M29*Szenarien!AB$39","v":0}]
[null,{"$f":"Vermögen!E28","v":"18."},{"$f":"IF(Vermögen!F28=0,\"\",Vermögen!F28)","v":""},{"$f":"Vermögen!I28","v":"Bitte auswählen"},{"$f":"Vermögen!J28","v":{"v":0,"d":"0.0%"}},{"$f":"Vermögen!K28","v":{"v":0,"d":"0.0%"}},{"$f":"Vermögen!L28","v":{"v":0,"d":"0.0%"}},{"$f":"Vermögen!M28","v":{"v":0,"d":"0.0%"}},{"$f":"Vermögen!N28","v":{"v":0,"d":"0.0%"}},{"v":0,"d":"0.0%"},{"v":0,"d":"0.0%"},{"v":0,"d":"0.0%"},{"v":0,"d":"0.0%"},{"$f":"Daten_Vermögen!C61","v":0},{"$f":"N30+N30*Vermögen!V28","v":0},{"$f":"O30+O30*Vermögen!$V28","v":0},{"$f":"P30+P30*Vermögen!$V28","v":0},{"$f":"Q30+Q30*Vermögen!$V28","v":0},{"$f":"R30+R30*Vermögen!$V28","v":0},null,{"$f":"N30+N30*$E30*Szenarien!P$31+N30*$F30*Szenarien!P$32+N30*'Daten Projektion'!$G30*Szenarien!P$33+N30*'Daten Projektion'!$H30*Szenarien!P$34+N30*'Daten Projektion'!$I30*Szenarien!P$35+N30*'Daten Projektion'!$J30*Szenarien!P$36+N30*'Daten Projektion'!$K30*Szenarien!P$37+N30*'Daten Projektion'!$L30*Szenarien!P$38+N30*'Daten Projektion'!$M30*Szenarien!P$39","v":0},{"$f":"U30+U30*$E30*Szenarien!Q$31+U30*$F30*Szenarien!Q$32+U30*'Daten Projektion'!$G30*Szenarien!Q$33+U30*'Daten Projektion'!$H30*Szenarien!Q$34+U30*'Daten Projektion'!$I30*Szenarien!Q$35+U30*'Daten Projektion'!$J30*Szenarien!Q$36+U30*'Daten Projektion'!$K30*Szenarien!Q$37+U30*'Daten Projektion'!$L30*Szenarien!Q$38+U30*'Daten Projektion'!$M30*Szenarien!Q$39","v":0},{"$f":"V30+V30*$E30*Szenarien!R$31+V30*$F30*Szenarien!R$32+V30*'Daten Projektion'!$G30*Szenarien!R$33+V30*'Daten Projektion'!$H30*Szenarien!R$34+V30*'Daten Projektion'!$I30*Szenarien!R$35+V30*'Daten Projektion'!$J30*Szenarien!R$36+V30*'Daten Projektion'!$K30*Szenarien!R$37+V30*'Daten Projektion'!$L30*Szenarien!R$38+V30*'Daten Projektion'!$M30*Szenarien!R$39","v":0},{"$f":"W30+W30*$E30*Szenarien!S$31+W30*$F30*Szenarien!S$32+W30*'Daten Projektion'!$G30*Szenarien!S$33+W30*'Daten Projektion'!$H30*Szenarien!S$34+W30*'Daten Projektion'!$I30*Szenarien!S$35+W30*'Daten Projektion'!$J30*Szenarien!S$36+W30*'Daten Projektion'!$K30*Szenarien!S$37+W30*'Daten Projektion'!$L30*Szenarien!S$38+W30*'Daten Projektion'!$M30*Szenarien!S$39","v":0},{"$f":"X30+X30*$E30*Szenarien!T$31+X30*$F30*Szenarien!T$32+X30*'Daten Projektion'!$G30*Szenarien!T$33+X30*'Daten Projektion'!$H30*Szenarien!T$34+X30*'Daten Projektion'!$I30*Szenarien!T$35+X30*'Daten Projektion'!$J30*Szenarien!T$36+X30*'Daten Projektion'!$K30*Szenarien!T$37+X30*'Daten Projektion'!$L30*Szenarien!T$38+X30*'Daten Projektion'!$M30*Szenarien!T$39","v":0},null,{"$f":"N30+N30*$E30*Szenarien!X$31+N30*$F30*Szenarien!X$32+N30*'Daten Projektion'!$G30*Szenarien!X$33+N30*'Daten Projektion'!$H30*Szenarien!X$34+N30*'Daten Projektion'!$I30*Szenarien!X$35+N30*'Daten Projektion'!$J30*Szenarien!X$36+N30*'Daten Projektion'!$K30*Szenarien!X$37+N30*'Daten Projektion'!$L30*Szenarien!X$38+N30*'Daten Projektion'!$M30*Szenarien!X$39","v":0},{"$f":"AA30+AA30*$E30*Szenarien!Y$31+AA30*$F30*Szenarien!Y$32+AA30*'Daten Projektion'!$G30*Szenarien!Y$33+AA30*'Daten Projektion'!$H30*Szenarien!Y$34+AA30*'Daten Projektion'!$I30*Szenarien!Y$35+AA30*'Daten Projektion'!$J30*Szenarien!Y$36+AA30*'Daten Projektion'!$K30*Szenarien!Y$37+AA30*'Daten Projektion'!$L30*Szenarien!Y$38+AA30*'Daten Projektion'!$M30*Szenarien!Y$39","v":0},{"$f":"AB30+AB30*$E30*Szenarien!Z$31+AB30*$F30*Szenarien!Z$32+AB30*'Daten Projektion'!$G30*Szenarien!Z$33+AB30*'Daten Projektion'!$H30*Szenarien!Z$34+AB30*'Daten Projektion'!$I30*Szenarien!Z$35+AB30*'Daten Projektion'!$J30*Szenarien!Z$36+AB30*'Daten Projektion'!$K30*Szenarien!Z$37+AB30*'Daten Projektion'!$L30*Szenarien!Z$38+AB30*'Daten Projektion'!$M30*Szenarien!Z$39","v":0},{"$f":"AC30+AC30*$E30*Szenarien!AA$31+AC30*$F30*Szenarien!AA$32+AC30*'Daten Projektion'!$G30*Szenarien!AA$33+AC30*'Daten Projektion'!$H30*Szenarien!AA$34+AC30*'Daten Projektion'!$I30*Szenarien!AA$35+AC30*'Daten Projektion'!$J30*Szenarien!AA$36+AC30*'Daten Projektion'!$K30*Szenarien!AA$37+AC30*'Daten Projektion'!$L30*Szenarien!AA$38+AC30*'Daten Projektion'!$M30*Szenarien!AA$39","v":0},{"$f":"AD30+AD30*$E30*Szenarien!AB$31+AD30*$F30*Szenarien!AB$32+AD30*'Daten Projektion'!$G30*Szenarien!AB$33+AD30*'Daten Projektion'!$H30*Szenarien!AB$34+AD30*'Daten Projektion'!$I30*Szenarien!AB$35+AD30*'Daten Projektion'!$J30*Szenarien!AB$36+AD30*'Daten Projektion'!$K30*Szenarien!AB$37+AD30*'Daten Projektion'!$L30*Szenarien!AB$38+AD30*'Daten Projektion'!$M30*Szenarien!AB$39","v":0}]
[null,{"$f":"Vermögen!E29","v":"19."},{"$f":"IF(Vermögen!F29=0,\"\",Vermögen!F29)","v":""},{"$f":"Vermögen!I29","v":"Bitte auswählen"},{"$f":"Vermögen!J29","v":{"v":0,"d":"0.0%"}},{"$f":"Vermögen!K29","v":{"v":0,"d":"0.0%"}},{"$f":"Vermögen!L29","v":{"v":0,"d":"0.0%"}},{"$f":"Vermögen!M29","v":{"v":0,"d":"0.0%"}},{"$f":"Vermögen!N29","v":{"v":0,"d":"0.0%"}},{"v":0,"d":"0.0%"},{"v":0,"d":"0.0%"},{"v":0,"d":"0.0%"},{"v":0,"d":"0.0%"},{"$f":"Daten_Vermögen!C62","v":0},{"$f":"N31+N31*Vermögen!V29","v":0},{"$f":"O31+O31*Vermögen!$V29","v":0},{"$f":"P31+P31*Vermögen!$V29","v":0},{"$f":"Q31+Q31*Vermögen!$V29","v":0},{"$f":"R31+R31*Vermögen!$V29","v":0},null,{"$f":"N31+N31*$E31*Szenarien!P$31+N31*$F31*Szenarien!P$32+N31*'Daten Projektion'!$G31*Szenarien!P$33+N31*'Daten Projektion'!$H31*Szenarien!P$34+N31*'Daten Projektion'!$I31*Szenarien!P$35+N31*'Daten Projektion'!$J31*Szenarien!P$36+N31*'Daten Projektion'!$K31*Szenarien!P$37+N31*'Daten Projektion'!$L31*Szenarien!P$38+N31*'Daten Projektion'!$M31*Szenarien!P$39","v":0},{"$f":"U31+U31*$E31*Szenarien!Q$31+U31*$F31*Szenarien!Q$32+U31*'Daten Projektion'!$G31*Szenarien!Q$33+U31*'Daten Projektion'!$H31*Szenarien!Q$34+U31*'Daten Projektion'!$I31*Szenarien!Q$35+U31*'Daten Projektion'!$J31*Szenarien!Q$36+U31*'Daten Projektion'!$K31*Szenarien!Q$37+U31*'Daten Projektion'!$L31*Szenarien!Q$38+U31*'Daten Projektion'!$M31*Szenarien!Q$39","v":0},{"$f":"V31+V31*$E31*Szenarien!R$31+V31*$F31*Szenarien!R$32+V31*'Daten Projektion'!$G31*Szenarien!R$33+V31*'Daten Projektion'!$H31*Szenarien!R$34+V31*'Daten Projektion'!$I31*Szenarien!R$35+V31*'Daten Projektion'!$J31*Szenarien!R$36+V31*'Daten Projektion'!$K31*Szenarien!R$37+V31*'Daten Projektion'!$L31*Szenarien!R$38+V31*'Daten Projektion'!$M31*Szenarien!R$39","v":0},{"$f":"W31+W31*$E31*Szenarien!S$31+W31*$F31*Szenarien!S$32+W31*'Daten Projektion'!$G31*Szenarien!S$33+W31*'Daten Projektion'!$H31*Szenarien!S$34+W31*'Daten Projektion'!$I31*Szenarien!S$35+W31*'Daten Projektion'!$J31*Szenarien!S$36+W31*'Daten Projektion'!$K31*Szenarien!S$37+W31*'Daten Projektion'!$L31*Szenarien!S$38+W31*'Daten Projektion'!$M31*Szenarien!S$39","v":0},{"$f":"X31+X31*$E31*Szenarien!T$31+X31*$F31*Szenarien!T$32+X31*'Daten Projektion'!$G31*Szenarien!T$33+X31*'Daten Projektion'!$H31*Szenarien!T$34+X31*'Daten Projektion'!$I31*Szenarien!T$35+X31*'Daten Projektion'!$J31*Szenarien!T$36+X31*'Daten Projektion'!$K31*Szenarien!T$37+X31*'Daten Projektion'!$L31*Szenarien!T$38+X31*'Daten Projektion'!$M31*Szenarien!T$39","v":0},null,{"$f":"N31+N31*$E31*Szenarien!X$31+N31*$F31*Szenarien!X$32+N31*'Daten Projektion'!$G31*Szenarien!X$33+N31*'Daten Projektion'!$H31*Szenarien!X$34+N31*'Daten Projektion'!$I31*Szenarien!X$35+N31*'Daten Projektion'!$J31*Szenarien!X$36+N31*'Daten Projektion'!$K31*Szenarien!X$37+N31*'Daten Projektion'!$L31*Szenarien!X$38+N31*'Daten Projektion'!$M31*Szenarien!X$39","v":0},{"$f":"AA31+AA31*$E31*Szenarien!Y$31+AA31*$F31*Szenarien!Y$32+AA31*'Daten Projektion'!$G31*Szenarien!Y$33+AA31*'Daten Projektion'!$H31*Szenarien!Y$34+AA31*'Daten Projektion'!$I31*Szenarien!Y$35+AA31*'Daten Projektion'!$J31*Szenarien!Y$36+AA31*'Daten Projektion'!$K31*Szenarien!Y$37+AA31*'Daten Projektion'!$L31*Szenarien!Y$38+AA31*'Daten Projektion'!$M31*Szenarien!Y$39","v":0},{"$f":"AB31+AB31*$E31*Szenarien!Z$31+AB31*$F31*Szenarien!Z$32+AB31*'Daten Projektion'!$G31*Szenarien!Z$33+AB31*'Daten Projektion'!$H31*Szenarien!Z$34+AB31*'Daten Projektion'!$I31*Szenarien!Z$35+AB31*'Daten Projektion'!$J31*Szenarien!Z$36+AB31*'Daten Projektion'!$K31*Szenarien!Z$37+AB31*'Daten Projektion'!$L31*Szenarien!Z$38+AB31*'Daten Projektion'!$M31*Szenarien!Z$39","v":0},{"$f":"AC31+AC31*$E31*Szenarien!AA$31+AC31*$F31*Szenarien!AA$32+AC31*'Daten Projektion'!$G31*Szenarien!AA$33+AC31*'Daten Projektion'!$H31*Szenarien!AA$34+AC31*'Daten Projektion'!$I31*Szenarien!AA$35+AC31*'Daten Projektion'!$J31*Szenarien!AA$36+AC31*'Daten Projektion'!$K31*Szenarien!AA$37+AC31*'Daten Projektion'!$L31*Szenarien!AA$38+AC31*'Daten Projektion'!$M31*Szenarien!AA$39","v":0},{"$f":"AD31+AD31*$E31*Szenarien!AB$31+AD31*$F31*Szenarien!AB$32+AD31*'Daten Projektion'!$G31*Szenarien!AB$33+AD31*'Daten Projektion'!$H31*Szenarien!AB$34+AD31*'Daten Projektion'!$I31*Szenarien!AB$35+AD31*'Daten Projektion'!$J31*Szenarien!AB$36+AD31*'Daten Projektion'!$K31*Szenarien!AB$37+AD31*'Daten Projektion'!$L31*Szenarien!AB$38+AD31*'Daten Projektion'!$M31*Szenarien!AB$39","v":0}]
[null,{"$f":"Vermögen!E30","v":"20."},{"$f":"IF(Vermögen!F30=0,\"\",Vermögen!F30)","v":""},{"$f":"Vermögen!I30","v":"Bitte auswählen"},{"$f":"Vermögen!J30","v":{"v":0,"d":"0.0%"}},{"$f":"Vermögen!K30","v":{"v":0,"d":"0.0%"}},{"$f":"Vermögen!L30","v":{"v":0,"d":"0.0%"}},{"$f":"Vermögen!M30","v":{"v":0,"d":"0.0%"}},{"$f":"Vermögen!N30","v":{"v":0,"d":"0.0%"}},{"v":0,"d":"0.0%"},{"v":0,"d":"0.0%"},{"v":0,"d":"0.0%"},{"v":0,"d":"0.0%"},{"$f":"Daten_Vermögen!C63","v":0},{"$f":"N32+N32*Vermögen!V30","v":0},{"$f":"O32+O32*Vermögen!$V30","v":0},{"$f":"P32+P32*Vermögen!$V30","v":0},{"$f":"Q32+Q32*Vermögen!$V30","v":0},{"$f":"R32+R32*Vermögen!$V30","v":0},null,{"$f":"N32+N32*$E32*Szenarien!P$31+N32*$F32*Szenarien!P$32+N32*'Daten Projektion'!$G32*Szenarien!P$33+N32*'Daten Projektion'!$H32*Szenarien!P$34+N32*'Daten Projektion'!$I32*Szenarien!P$35+N32*'Daten Projektion'!$J32*Szenarien!P$36+N32*'Daten Projektion'!$K32*Szenarien!P$37+N32*'Daten Projektion'!$L32*Szenarien!P$38+N32*'Daten Projektion'!$M32*Szenarien!P$39","v":0},{"$f":"U32+U32*$E32*Szenarien!Q$31+U32*$F32*Szenarien!Q$32+U32*'Daten Projektion'!$G32*Szenarien!Q$33+U32*'Daten Projektion'!$H32*Szenarien!Q$34+U32*'Daten Projektion'!$I32*Szenarien!Q$35+U32*'Daten Projektion'!$J32*Szenarien!Q$36+U32*'Daten Projektion'!$K32*Szenarien!Q$37+U32*'Daten Projektion'!$L32*Szenarien!Q$38+U32*'Daten Projektion'!$M32*Szenarien!Q$39","v":0},{"$f":"V32+V32*$E32*Szenarien!R$31+V32*$F32*Szenarien!R$32+V32*'Daten Projektion'!$G32*Szenarien!R$33+V32*'Daten Projektion'!$H32*Szenarien!R$34+V32*'Daten Projektion'!$I32*Szenarien!R$35+V32*'Daten Projektion'!$J32*Szenarien!R$36+V32*'Daten Projektion'!$K32*Szenarien!R$37+V32*'Daten Projektion'!$L32*Szenarien!R$38+V32*'Daten Projektion'!$M32*Szenarien!R$39","v":0},{"$f":"W32+W32*$E32*Szenarien!S$31+W32*$F32*Szenarien!S$32+W32*'Daten Projektion'!$G32*Szenarien!S$33+W32*'Daten Projektion'!$H32*Szenarien!S$34+W32*'Daten Projektion'!$I32*Szenarien!S$35+W32*'Daten Projektion'!$J32*Szenarien!S$36+W32*'Daten Projektion'!$K32*Szenarien!S$37+W32*'Daten Projektion'!$L32*Szenarien!S$38+W32*'Daten Projektion'!$M32*Szenarien!S$39","v":0},{"$f":"X32+X32*$E32*Szenarien!T$31+X32*$F32*Szenarien!T$32+X32*'Daten Projektion'!$G32*Szenarien!T$33+X32*'Daten Projektion'!$H32*Szenarien!T$34+X32*'Daten Projektion'!$I32*Szenarien!T$35+X32*'Daten Projektion'!$J32*Szenarien!T$36+X32*'Daten Projektion'!$K32*Szenarien!T$37+X32*'Daten Projektion'!$L32*Szenarien!T$38+X32*'Daten Projektion'!$M32*Szenarien!T$39","v":0},null,{"$f":"N32+N32*$E32*Szenarien!X$31+N32*$F32*Szenarien!X$32+N32*'Daten Projektion'!$G32*Szenarien!X$33+N32*'Daten Projektion'!$H32*Szenarien!X$34+N32*'Daten Projektion'!$I32*Szenarien!X$35+N32*'Daten Projektion'!$J32*Szenarien!X$36+N32*'Daten Projektion'!$K32*Szenarien!X$37+N32*'Daten Projektion'!$L32*Szenarien!X$38+N32*'Daten Projektion'!$M32*Szenarien!X$39","v":0},{"$f":"AA32+AA32*$E32*Szenarien!Y$31+AA32*$F32*Szenarien!Y$32+AA32*'Daten Projektion'!$G32*Szenarien!Y$33+AA32*'Daten Projektion'!$H32*Szenarien!Y$34+AA32*'Daten Projektion'!$I32*Szenarien!Y$35+AA32*'Daten Projektion'!$J32*Szenarien!Y$36+AA32*'Daten Projektion'!$K32*Szenarien!Y$37+AA32*'Daten Projektion'!$L32*Szenarien!Y$38+AA32*'Daten Projektion'!$M32*Szenarien!Y$39","v":0},{"$f":"AB32+AB32*$E32*Szenarien!Z$31+AB32*$F32*Szenarien!Z$32+AB32*'Daten Projektion'!$G32*Szenarien!Z$33+AB32*'Daten Projektion'!$H32*Szenarien!Z$34+AB32*'Daten Projektion'!$I32*Szenarien!Z$35+AB32*'Daten Projektion'!$J32*Szenarien!Z$36+AB32*'Daten Projektion'!$K32*Szenarien!Z$37+AB32*'Daten Projektion'!$L32*Szenarien!Z$38+AB32*'Daten Projektion'!$M32*Szenarien!Z$39","v":0},{"$f":"AC32+AC32*$E32*Szenarien!AA$31+AC32*$F32*Szenarien!AA$32+AC32*'Daten Projektion'!$G32*Szenarien!AA$33+AC32*'Daten Projektion'!$H32*Szenarien!AA$34+AC32*'Daten Projektion'!$I32*Szenarien!AA$35+AC32*'Daten Projektion'!$J32*Szenarien!AA$36+AC32*'Daten Projektion'!$K32*Szenarien!AA$37+AC32*'Daten Projektion'!$L32*Szenarien!AA$38+AC32*'Daten Projektion'!$M32*Szenarien!AA$39","v":0},{"$f":"AD32+AD32*$E32*Szenarien!AB$31+AD32*$F32*Szenarien!AB$32+AD32*'Daten Projektion'!$G32*Szenarien!AB$33+AD32*'Daten Projektion'!$H32*Szenarien!AB$34+AD32*'Daten Projektion'!$I32*Szenarien!AB$35+AD32*'Daten Projektion'!$J32*Szenarien!AB$36+AD32*'Daten Projektion'!$K32*Szenarien!AB$37+AD32*'Daten Projektion'!$L32*Szenarien!AB$38+AD32*'Daten Projektion'!$M32*Szenarien!AB$39","v":0}]
[null,{"$f":"Vermögen!E31","v":"21."},{"$f":"IF(Vermögen!F31=0,\"\",Vermögen!F31)","v":""},{"$f":"Vermögen!I31","v":"Bitte auswählen"},{"$f":"Vermögen!J31","v":{"v":0,"d":"0.0%"}},{"$f":"Vermögen!K31","v":{"v":0,"d":"0.0%"}},{"$f":"Vermögen!L31","v":{"v":0,"d":"0.0%"}},{"$f":"Vermögen!M31","v":{"v":0,"d":"0.0%"}},{"$f":"Vermögen!N31","v":{"v":0,"d":"0.0%"}},{"v":0,"d":"0.0%"},{"v":0,"d":"0.0%"},{"v":0,"d":"0.0%"},{"v":0,"d":"0.0%"},{"$f":"Daten_Vermögen!C64","v":0},{"$f":"N33+N33*Vermögen!V31","v":0},{"$f":"O33+O33*Vermögen!$V31","v":0},{"$f":"P33+P33*Vermögen!$V31","v":0},{"$f":"Q33+Q33*Vermögen!$V31","v":0},{"$f":"R33+R33*Vermögen!$V31","v":0},null,{"$f":"N33+N33*$E33*Szenarien!P$31+N33*$F33*Szenarien!P$32+N33*'Daten Projektion'!$G33*Szenarien!P$33+N33*'Daten Projektion'!$H33*Szenarien!P$34+N33*'Daten Projektion'!$I33*Szenarien!P$35+N33*'Daten Projektion'!$J33*Szenarien!P$36+N33*'Daten Projektion'!$K33*Szenarien!P$37+N33*'Daten Projektion'!$L33*Szenarien!P$38+N33*'Daten Projektion'!$M33*Szenarien!P$39","v":0},{"$f":"U33+U33*$E33*Szenarien!Q$31+U33*$F33*Szenarien!Q$32+U33*'Daten Projektion'!$G33*Szenarien!Q$33+U33*'Daten Projektion'!$H33*Szenarien!Q$34+U33*'Daten Projektion'!$I33*Szenarien!Q$35+U33*'Daten Projektion'!$J33*Szenarien!Q$36+U33*'Daten Projektion'!$K33*Szenarien!Q$37+U33*'Daten Projektion'!$L33*Szenarien!Q$38+U33*'Daten Projektion'!$M33*Szenarien!Q$39","v":0},{"$f":"V33+V33*$E33*Szenarien!R$31+V33*$F33*Szenarien!R$32+V33*'Daten Projektion'!$G33*Szenarien!R$33+V33*'Daten Projektion'!$H33*Szenarien!R$34+V33*'Daten Projektion'!$I33*Szenarien!R$35+V33*'Daten Projektion'!$J33*Szenarien!R$36+V33*'Daten Projektion'!$K33*Szenarien!R$37+V33*'Daten Projektion'!$L33*Szenarien!R$38+V33*'Daten Projektion'!$M33*Szenarien!R$39","v":0},{"$f":"W33+W33*$E33*Szenarien!S$31+W33*$F33*Szenarien!S$32+W33*'Daten Projektion'!$G33*Szenarien!S$33+W33*'Daten Projektion'!$H33*Szenarien!S$34+W33*'Daten Projektion'!$I33*Szenarien!S$35+W33*'Daten Projektion'!$J33*Szenarien!S$36+W33*'Daten Projektion'!$K33*Szenarien!S$37+W33*'Daten Projektion'!$L33*Szenarien!S$38+W33*'Daten Projektion'!$M33*Szenarien!S$39","v":0},{"$f":"X33+X33*$E33*Szenarien!T$31+X33*$F33*Szenarien!T$32+X33*'Daten Projektion'!$G33*Szenarien!T$33+X33*'Daten Projektion'!$H33*Szenarien!T$34+X33*'Daten Projektion'!$I33*Szenarien!T$35+X33*'Daten Projektion'!$J33*Szenarien!T$36+X33*'Daten Projektion'!$K33*Szenarien!T$37+X33*'Daten Projektion'!$L33*Szenarien!T$38+X33*'Daten Projektion'!$M33*Szenarien!T$39","v":0},null,{"$f":"N33+N33*$E33*Szenarien!X$31+N33*$F33*Szenarien!X$32+N33*'Daten Projektion'!$G33*Szenarien!X$33+N33*'Daten Projektion'!$H33*Szenarien!X$34+N33*'Daten Projektion'!$I33*Szenarien!X$35+N33*'Daten Projektion'!$J33*Szenarien!X$36+N33*'Daten Projektion'!$K33*Szenarien!X$37+N33*'Daten Projektion'!$L33*Szenarien!X$38+N33*'Daten Projektion'!$M33*Szenarien!X$39","v":0},{"$f":"AA33+AA33*$E33*Szenarien!Y$31+AA33*$F33*Szenarien!Y$32+AA33*'Daten Projektion'!$G33*Szenarien!Y$33+AA33*'Daten Projektion'!$H33*Szenarien!Y$34+AA33*'Daten Projektion'!$I33*Szenarien!Y$35+AA33*'Daten Projektion'!$J33*Szenarien!Y$36+AA33*'Daten Projektion'!$K33*Szenarien!Y$37+AA33*'Daten Projektion'!$L33*Szenarien!Y$38+AA33*'Daten Projektion'!$M33*Szenarien!Y$39","v":0},{"$f":"AB33+AB33*$E33*Szenarien!Z$31+AB33*$F33*Szenarien!Z$32+AB33*'Daten Projektion'!$G33*Szenarien!Z$33+AB33*'Daten Projektion'!$H33*Szenarien!Z$34+AB33*'Daten Projektion'!$I33*Szenarien!Z$35+AB33*'Daten Projektion'!$J33*Szenarien!Z$36+AB33*'Daten Projektion'!$K33*Szenarien!Z$37+AB33*'Daten Projektion'!$L33*Szenarien!Z$38+AB33*'Daten Projektion'!$M33*Szenarien!Z$39","v":0},{"$f":"AC33+AC33*$E33*Szenarien!AA$31+AC33*$F33*Szenarien!AA$32+AC33*'Daten Projektion'!$G33*Szenarien!AA$33+AC33*'Daten Projektion'!$H33*Szenarien!AA$34+AC33*'Daten Projektion'!$I33*Szenarien!AA$35+AC33*'Daten Projektion'!$J33*Szenarien!AA$36+AC33*'Daten Projektion'!$K33*Szenarien!AA$37+AC33*'Daten Projektion'!$L33*Szenarien!AA$38+AC33*'Daten Projektion'!$M33*Szenarien!AA$39","v":0},{"$f":"AD33+AD33*$E33*Szenarien!AB$31+AD33*$F33*Szenarien!AB$32+AD33*'Daten Projektion'!$G33*Szenarien!AB$33+AD33*'Daten Projektion'!$H33*Szenarien!AB$34+AD33*'Daten Projektion'!$I33*Szenarien!AB$35+AD33*'Daten Projektion'!$J33*Szenarien!AB$36+AD33*'Daten Projektion'!$K33*Szenarien!AB$37+AD33*'Daten Projektion'!$L33*Szenarien!AB$38+AD33*'Daten Projektion'!$M33*Szenarien!AB$39","v":0}]
[null,{"$f":"Vermögen!E32","v":"22."},{"$f":"IF(Vermögen!F32=0,\"\",Vermögen!F32)","v":""},{"$f":"Vermögen!I32","v":"Bitte auswählen"},{"$f":"Vermögen!J32","v":{"v":0,"d":"0.0%"}},{"$f":"Vermögen!K32","v":{"v":0,"d":"0.0%"}},{"$f":"Vermögen!L32","v":{"v":0,"d":"0.0%"}},{"$f":"Vermögen!M32","v":{"v":0,"d":"0.0%"}},{"$f":"Vermögen!N32","v":{"v":0,"d":"0.0%"}},{"v":0,"d":"0.0%"},{"v":0,"d":"0.0%"},{"v":0,"d":"0.0%"},{"v":0,"d":"0.0%"},{"$f":"Daten_Vermögen!C65","v":0},{"$f":"N34+N34*Vermögen!V32","v":0},{"$f":"O34+O34*Vermögen!$V32","v":0},{"$f":"P34+P34*Vermögen!$V32","v":0},{"$f":"Q34+Q34*Vermögen!$V32","v":0},{"$f":"R34+R34*Vermögen!$V32","v":0},null,{"$f":"N34+N34*$E34*Szenarien!P$31+N34*$F34*Szenarien!P$32+N34*'Daten Projektion'!$G34*Szenarien!P$33+N34*'Daten Projektion'!$H34*Szenarien!P$34+N34*'Daten Projektion'!$I34*Szenarien!P$35+N34*'Daten Projektion'!$J34*Szenarien!P$36+N34*'Daten Projektion'!$K34*Szenarien!P$37+N34*'Daten Projektion'!$L34*Szenarien!P$38+N34*'Daten Projektion'!$M34*Szenarien!P$39","v":0},{"$f":"U34+U34*$E34*Szenarien!Q$31+U34*$F34*Szenarien!Q$32+U34*'Daten Projektion'!$G34*Szenarien!Q$33+U34*'Daten Projektion'!$H34*Szenarien!Q$34+U34*'Daten Projektion'!$I34*Szenarien!Q$35+U34*'Daten Projektion'!$J34*Szenarien!Q$36+U34*'Daten Projektion'!$K34*Szenarien!Q$37+U34*'Daten Projektion'!$L34*Szenarien!Q$38+U34*'Daten Projektion'!$M34*Szenarien!Q$39","v":0},{"$f":"V34+V34*$E34*Szenarien!R$31+V34*$F34*Szenarien!R$32+V34*'Daten Projektion'!$G34*Szenarien!R$33+V34*'Daten Projektion'!$H34*Szenarien!R$34+V34*'Daten Projektion'!$I34*Szenarien!R$35+V34*'Daten Projektion'!$J34*Szenarien!R$36+V34*'Daten Projektion'!$K34*Szenarien!R$37+V34*'Daten Projektion'!$L34*Szenarien!R$38+V34*'Daten Projektion'!$M34*Szenarien!R$39","v":0},{"$f":"W34+W34*$E34*Szenarien!S$31+W34*$F34*Szenarien!S$32+W34*'Daten Projektion'!$G34*Szenarien!S$33+W34*'Daten Projektion'!$H34*Szenarien!S$34+W34*'Daten Projektion'!$I34*Szenarien!S$35+W34*'Daten Projektion'!$J34*Szenarien!S$36+W34*'Daten Projektion'!$K34*Szenarien!S$37+W34*'Daten Projektion'!$L34*Szenarien!S$38+W34*'Daten Projektion'!$M34*Szenarien!S$39","v":0},{"$f":"X34+X34*$E34*Szenarien!T$31+X34*$F34*Szenarien!T$32+X34*'Daten Projektion'!$G34*Szenarien!T$33+X34*'Daten Projektion'!$H34*Szenarien!T$34+X34*'Daten Projektion'!$I34*Szenarien!T$35+X34*'Daten Projektion'!$J34*Szenarien!T$36+X34*'Daten Projektion'!$K34*Szenarien!T$37+X34*'Daten Projektion'!$L34*Szenarien!T$38+X34*'Daten Projektion'!$M34*Szenarien!T$39","v":0},null,{"$f":"N34+N34*$E34*Szenarien!X$31+N34*$F34*Szenarien!X$32+N34*'Daten Projektion'!$G34*Szenarien!X$33+N34*'Daten Projektion'!$H34*Szenarien!X$34+N34*'Daten Projektion'!$I34*Szenarien!X$35+N34*'Daten Projektion'!$J34*Szenarien!X$36+N34*'Daten Projektion'!$K34*Szenarien!X$37+N34*'Daten Projektion'!$L34*Szenarien!X$38+N34*'Daten Projektion'!$M34*Szenarien!X$39","v":0},{"$f":"AA34+AA34*$E34*Szenarien!Y$31+AA34*$F34*Szenarien!Y$32+AA34*'Daten Projektion'!$G34*Szenarien!Y$33+AA34*'Daten Projektion'!$H34*Szenarien!Y$34+AA34*'Daten Projektion'!$I34*Szenarien!Y$35+AA34*'Daten Projektion'!$J34*Szenarien!Y$36+AA34*'Daten Projektion'!$K34*Szenarien!Y$37+AA34*'Daten Projektion'!$L34*Szenarien!Y$38+AA34*'Daten Projektion'!$M34*Szenarien!Y$39","v":0},{"$f":"AB34+AB34*$E34*Szenarien!Z$31+AB34*$F34*Szenarien!Z$32+AB34*'Daten Projektion'!$G34*Szenarien!Z$33+AB34*'Daten Projektion'!$H34*Szenarien!Z$34+AB34*'Daten Projektion'!$I34*Szenarien!Z$35+AB34*'Daten Projektion'!$J34*Szenarien!Z$36+AB34*'Daten Projektion'!$K34*Szenarien!Z$37+AB34*'Daten Projektion'!$L34*Szenarien!Z$38+AB34*'Daten Projektion'!$M34*Szenarien!Z$39","v":0},{"$f":"AC34+AC34*$E34*Szenarien!AA$31+AC34*$F34*Szenarien!AA$32+AC34*'Daten Projektion'!$G34*Szenarien!AA$33+AC34*'Daten Projektion'!$H34*Szenarien!AA$34+AC34*'Daten Projektion'!$I34*Szenarien!AA$35+AC34*'Daten Projektion'!$J34*Szenarien!AA$36+AC34*'Daten Projektion'!$K34*Szenarien!AA$37+AC34*'Daten Projektion'!$L34*Szenarien!AA$38+AC34*'Daten Projektion'!$M34*Szenarien!AA$39","v":0},{"$f":"AD34+AD34*$E34*Szenarien!AB$31+AD34*$F34*Szenarien!AB$32+AD34*'Daten Projektion'!$G34*Szenarien!AB$33+AD34*'Daten Projektion'!$H34*Szenarien!AB$34+AD34*'Daten Projektion'!$I34*Szenarien!AB$35+AD34*'Daten Projektion'!$J34*Szenarien!AB$36+AD34*'Daten Projektion'!$K34*Szenarien!AB$37+AD34*'Daten Projektion'!$L34*Szenarien!AB$38+AD34*'Daten Projektion'!$M34*Szenarien!AB$39","v":0}]
[null,{"$f":"Vermögen!E33","v":"23."},{"$f":"IF(Vermögen!F33=0,\"\",Vermögen!F33)","v":""},{"$f":"Vermögen!I33","v":"Bitte auswählen"},{"$f":"Vermögen!J33","v":{"v":0,"d":"0.0%"}},{"$f":"Vermögen!K33","v":{"v":0,"d":"0.0%"}},{"$f":"Vermögen!L33","v":{"v":0,"d":"0.0%"}},{"$f":"Vermögen!M33","v":{"v":0,"d":"0.0%"}},{"$f":"Vermögen!N33","v":{"v":0,"d":"0.0%"}},{"v":0,"d":"0.0%"},{"v":0,"d":"0.0%"},{"v":0,"d":"0.0%"},{"v":0,"d":"0.0%"},{"$f":"Daten_Vermögen!C66","v":0},{"$f":"N35+N35*Vermögen!V33","v":0},{"$f":"O35+O35*Vermögen!$V33","v":0},{"$f":"P35+P35*Vermögen!$V33","v":0},{"$f":"Q35+Q35*Vermögen!$V33","v":0},{"$f":"R35+R35*Vermögen!$V33","v":0},null,{"$f":"N35+N35*$E35*Szenarien!P$31+N35*$F35*Szenarien!P$32+N35*'Daten Projektion'!$G35*Szenarien!P$33+N35*'Daten Projektion'!$H35*Szenarien!P$34+N35*'Daten Projektion'!$I35*Szenarien!P$35+N35*'Daten Projektion'!$J35*Szenarien!P$36+N35*'Daten Projektion'!$K35*Szenarien!P$37+N35*'Daten Projektion'!$L35*Szenarien!P$38+N35*'Daten Projektion'!$M35*Szenarien!P$39","v":0},{"$f":"U35+U35*$E35*Szenarien!Q$31+U35*$F35*Szenarien!Q$32+U35*'Daten Projektion'!$G35*Szenarien!Q$33+U35*'Daten Projektion'!$H35*Szenarien!Q$34+U35*'Daten Projektion'!$I35*Szenarien!Q$35+U35*'Daten Projektion'!$J35*Szenarien!Q$36+U35*'Daten Projektion'!$K35*Szenarien!Q$37+U35*'Daten Projektion'!$L35*Szenarien!Q$38+U35*'Daten Projektion'!$M35*Szenarien!Q$39","v":0},{"$f":"V35+V35*$E35*Szenarien!R$31+V35*$F35*Szenarien!R$32+V35*'Daten Projektion'!$G35*Szenarien!R$33+V35*'Daten Projektion'!$H35*Szenarien!R$34+V35*'Daten Projektion'!$I35*Szenarien!R$35+V35*'Daten Projektion'!$J35*Szenarien!R$36+V35*'Daten Projektion'!$K35*Szenarien!R$37+V35*'Daten Projektion'!$L35*Szenarien!R$38+V35*'Daten Projektion'!$M35*Szenarien!R$39","v":0},{"$f":"W35+W35*$E35*Szenarien!S$31+W35*$F35*Szenarien!S$32+W35*'Daten Projektion'!$G35*Szenarien!S$33+W35*'Daten Projektion'!$H35*Szenarien!S$34+W35*'Daten Projektion'!$I35*Szenarien!S$35+W35*'Daten Projektion'!$J35*Szenarien!S$36+W35*'Daten Projektion'!$K35*Szenarien!S$37+W35*'Daten Projektion'!$L35*Szenarien!S$38+W35*'Daten Projektion'!$M35*Szenarien!S$39","v":0},{"$f":"X35+X35*$E35*Szenarien!T$31+X35*$F35*Szenarien!T$32+X35*'Daten Projektion'!$G35*Szenarien!T$33+X35*'Daten Projektion'!$H35*Szenarien!T$34+X35*'Daten Projektion'!$I35*Szenarien!T$35+X35*'Daten Projektion'!$J35*Szenarien!T$36+X35*'Daten Projektion'!$K35*Szenarien!T$37+X35*'Daten Projektion'!$L35*Szenarien!T$38+X35*'Daten Projektion'!$M35*Szenarien!T$39","v":0},null,{"$f":"N35+N35*$E35*Szenarien!X$31+N35*$F35*Szenarien!X$32+N35*'Daten Projektion'!$G35*Szenarien!X$33+N35*'Daten Projektion'!$H35*Szenarien!X$34+N35*'Daten Projektion'!$I35*Szenarien!X$35+N35*'Daten Projektion'!$J35*Szenarien!X$36+N35*'Daten Projektion'!$K35*Szenarien!X$37+N35*'Daten Projektion'!$L35*Szenarien!X$38+N35*'Daten Projektion'!$M35*Szenarien!X$39","v":0},{"$f":"AA35+AA35*$E35*Szenarien!Y$31+AA35*$F35*Szenarien!Y$32+AA35*'Daten Projektion'!$G35*Szenarien!Y$33+AA35*'Daten Projektion'!$H35*Szenarien!Y$34+AA35*'Daten Projektion'!$I35*Szenarien!Y$35+AA35*'Daten Projektion'!$J35*Szenarien!Y$36+AA35*'Daten Projektion'!$K35*Szenarien!Y$37+AA35*'Daten Projektion'!$L35*Szenarien!Y$38+AA35*'Daten Projektion'!$M35*Szenarien!Y$39","v":0},{"$f":"AB35+AB35*$E35*Szenarien!Z$31+AB35*$F35*Szenarien!Z$32+AB35*'Daten Projektion'!$G35*Szenarien!Z$33+AB35*'Daten Projektion'!$H35*Szenarien!Z$34+AB35*'Daten Projektion'!$I35*Szenarien!Z$35+AB35*'Daten Projektion'!$J35*Szenarien!Z$36+AB35*'Daten Projektion'!$K35*Szenarien!Z$37+AB35*'Daten Projektion'!$L35*Szenarien!Z$38+AB35*'Daten Projektion'!$M35*Szenarien!Z$39","v":0},{"$f":"AC35+AC35*$E35*Szenarien!AA$31+AC35*$F35*Szenarien!AA$32+AC35*'Daten Projektion'!$G35*Szenarien!AA$33+AC35*'Daten Projektion'!$H35*Szenarien!AA$34+AC35*'Daten Projektion'!$I35*Szenarien!AA$35+AC35*'Daten Projektion'!$J35*Szenarien!AA$36+AC35*'Daten Projektion'!$K35*Szenarien!AA$37+AC35*'Daten Projektion'!$L35*Szenarien!AA$38+AC35*'Daten Projektion'!$M35*Szenarien!AA$39","v":0},{"$f":"AD35+AD35*$E35*Szenarien!AB$31+AD35*$F35*Szenarien!AB$32+AD35*'Daten Projektion'!$G35*Szenarien!AB$33+AD35*'Daten Projektion'!$H35*Szenarien!AB$34+AD35*'Daten Projektion'!$I35*Szenarien!AB$35+AD35*'Daten Projektion'!$J35*Szenarien!AB$36+AD35*'Daten Projektion'!$K35*Szenarien!AB$37+AD35*'Daten Projektion'!$L35*Szenarien!AB$38+AD35*'Daten Projektion'!$M35*Szenarien!AB$39","v":0}]
[null,{"$f":"Vermögen!E34","v":"24."},{"$f":"IF(Vermögen!F34=0,\"\",Vermögen!F34)","v":""},{"$f":"Vermögen!I34","v":"Bitte auswählen"},{"$f":"Vermögen!J34","v":{"v":0,"d":"0.0%"}},{"$f":"Vermögen!K34","v":{"v":0,"d":"0.0%"}},{"$f":"Vermögen!L34","v":{"v":0,"d":"0.0%"}},{"$f":"Vermögen!M34","v":{"v":0,"d":"0.0%"}},{"$f":"Vermögen!N34","v":{"v":0,"d":"0.0%"}},{"v":0,"d":"0.0%"},{"v":0,"d":"0.0%"},{"v":0,"d":"0.0%"},{"v":0,"d":"0.0%"},{"$f":"Daten_Vermögen!C67","v":0},{"$f":"N36+N36*Vermögen!V34","v":0},{"$f":"O36+O36*Vermögen!$V34","v":0},{"$f":"P36+P36*Vermögen!$V34","v":0},{"$f":"Q36+Q36*Vermögen!$V34","v":0},{"$f":"R36+R36*Vermögen!$V34","v":0},null,{"$f":"N36+N36*$E36*Szenarien!P$31+N36*$F36*Szenarien!P$32+N36*'Daten Projektion'!$G36*Szenarien!P$33+N36*'Daten Projektion'!$H36*Szenarien!P$34+N36*'Daten Projektion'!$I36*Szenarien!P$35+N36*'Daten Projektion'!$J36*Szenarien!P$36+N36*'Daten Projektion'!$K36*Szenarien!P$37+N36*'Daten Projektion'!$L36*Szenarien!P$38+N36*'Daten Projektion'!$M36*Szenarien!P$39","v":0},{"$f":"U36+U36*$E36*Szenarien!Q$31+U36*$F36*Szenarien!Q$32+U36*'Daten Projektion'!$G36*Szenarien!Q$33+U36*'Daten Projektion'!$H36*Szenarien!Q$34+U36*'Daten Projektion'!$I36*Szenarien!Q$35+U36*'Daten Projektion'!$J36*Szenarien!Q$36+U36*'Daten Projektion'!$K36*Szenarien!Q$37+U36*'Daten Projektion'!$L36*Szenarien!Q$38+U36*'Daten Projektion'!$M36*Szenarien!Q$39","v":0},{"$f":"V36+V36*$E36*Szenarien!R$31+V36*$F36*Szenarien!R$32+V36*'Daten Projektion'!$G36*Szenarien!R$33+V36*'Daten Projektion'!$H36*Szenarien!R$34+V36*'Daten Projektion'!$I36*Szenarien!R$35+V36*'Daten Projektion'!$J36*Szenarien!R$36+V36*'Daten Projektion'!$K36*Szenarien!R$37+V36*'Daten Projektion'!$L36*Szenarien!R$38+V36*'Daten Projektion'!$M36*Szenarien!R$39","v":0},{"$f":"W36+W36*$E36*Szenarien!S$31+W36*$F36*Szenarien!S$32+W36*'Daten Projektion'!$G36*Szenarien!S$33+W36*'Daten Projektion'!$H36*Szenarien!S$34+W36*'Daten Projektion'!$I36*Szenarien!S$35+W36*'Daten Projektion'!$J36*Szenarien!S$36+W36*'Daten Projektion'!$K36*Szenarien!S$37+W36*'Daten Projektion'!$L36*Szenarien!S$38+W36*'Daten Projektion'!$M36*Szenarien!S$39","v":0},{"$f":"X36+X36*$E36*Szenarien!T$31+X36*$F36*Szenarien!T$32+X36*'Daten Projektion'!$G36*Szenarien!T$33+X36*'Daten Projektion'!$H36*Szenarien!T$34+X36*'Daten Projektion'!$I36*Szenarien!T$35+X36*'Daten Projektion'!$J36*Szenarien!T$36+X36*'Daten Projektion'!$K36*Szenarien!T$37+X36*'Daten Projektion'!$L36*Szenarien!T$38+X36*'Daten Projektion'!$M36*Szenarien!T$39","v":0},null,{"$f":"N36+N36*$E36*Szenarien!X$31+N36*$F36*Szenarien!X$32+N36*'Daten Projektion'!$G36*Szenarien!X$33+N36*'Daten Projektion'!$H36*Szenarien!X$34+N36*'Daten Projektion'!$I36*Szenarien!X$35+N36*'Daten Projektion'!$J36*Szenarien!X$36+N36*'Daten Projektion'!$K36*Szenarien!X$37+N36*'Daten Projektion'!$L36*Szenarien!X$38+N36*'Daten Projektion'!$M36*Szenarien!X$39","v":0},{"$f":"AA36+AA36*$E36*Szenarien!Y$31+AA36*$F36*Szenarien!Y$32+AA36*'Daten Projektion'!$G36*Szenarien!Y$33+AA36*'Daten Projektion'!$H36*Szenarien!Y$34+AA36*'Daten Projektion'!$I36*Szenarien!Y$35+AA36*'Daten Projektion'!$J36*Szenarien!Y$36+AA36*'Daten Projektion'!$K36*Szenarien!Y$37+AA36*'Daten Projektion'!$L36*Szenarien!Y$38+AA36*'Daten Projektion'!$M36*Szenarien!Y$39","v":0},{"$f":"AB36+AB36*$E36*Szenarien!Z$31+AB36*$F36*Szenarien!Z$32+AB36*'Daten Projektion'!$G36*Szenarien!Z$33+AB36*'Daten Projektion'!$H36*Szenarien!Z$34+AB36*'Daten Projektion'!$I36*Szenarien!Z$35+AB36*'Daten Projektion'!$J36*Szenarien!Z$36+AB36*'Daten Projektion'!$K36*Szenarien!Z$37+AB36*'Daten Projektion'!$L36*Szenarien!Z$38+AB36*'Daten Projektion'!$M36*Szenarien!Z$39","v":0},{"$f":"AC36+AC36*$E36*Szenarien!AA$31+AC36*$F36*Szenarien!AA$32+AC36*'Daten Projektion'!$G36*Szenarien!AA$33+AC36*'Daten Projektion'!$H36*Szenarien!AA$34+AC36*'Daten Projektion'!$I36*Szenarien!AA$35+AC36*'Daten Projektion'!$J36*Szenarien!AA$36+AC36*'Daten Projektion'!$K36*Szenarien!AA$37+AC36*'Daten Projektion'!$L36*Szenarien!AA$38+AC36*'Daten Projektion'!$M36*Szenarien!AA$39","v":0},{"$f":"AD36+AD36*$E36*Szenarien!AB$31+AD36*$F36*Szenarien!AB$32+AD36*'Daten Projektion'!$G36*Szenarien!AB$33+AD36*'Daten Projektion'!$H36*Szenarien!AB$34+AD36*'Daten Projektion'!$I36*Szenarien!AB$35+AD36*'Daten Projektion'!$J36*Szenarien!AB$36+AD36*'Daten Projektion'!$K36*Szenarien!AB$37+AD36*'Daten Projektion'!$L36*Szenarien!AB$38+AD36*'Daten Projektion'!$M36*Szenarien!AB$39","v":0}]
[null,{"$f":"Vermögen!E35","v":"25."},{"$f":"IF(Vermögen!F35=0,\"\",Vermögen!F35)","v":""},{"$f":"Vermögen!I35","v":"Bitte auswählen"},{"$f":"Vermögen!J35","v":{"v":0,"d":"0.0%"}},{"$f":"Vermögen!K35","v":{"v":0,"d":"0.0%"}},{"$f":"Vermögen!L35","v":{"v":0,"d":"0.0%"}},{"$f":"Vermögen!M35","v":{"v":0,"d":"0.0%"}},{"$f":"Vermögen!N35","v":{"v":0,"d":"0.0%"}},{"v":0,"d":"0.0%"},{"v":0,"d":"0.0%"},{"v":0,"d":"0.0%"},{"v":0,"d":"0.0%"},{"$f":"Daten_Vermögen!C68","v":0},{"$f":"N37+N37*Vermögen!V35","v":0},{"$f":"O37+O37*Vermögen!$V35","v":0},{"$f":"P37+P37*Vermögen!$V35","v":0},{"$f":"Q37+Q37*Vermögen!$V35","v":0},{"$f":"R37+R37*Vermögen!$V35","v":0},null,{"$f":"N37+N37*$E37*Szenarien!P$31+N37*$F37*Szenarien!P$32+N37*'Daten Projektion'!$G37*Szenarien!P$33+N37*'Daten Projektion'!$H37*Szenarien!P$34+N37*'Daten Projektion'!$I37*Szenarien!P$35+N37*'Daten Projektion'!$J37*Szenarien!P$36+N37*'Daten Projektion'!$K37*Szenarien!P$37+N37*'Daten Projektion'!$L37*Szenarien!P$38+N37*'Daten Projektion'!$M37*Szenarien!P$39","v":0},{"$f":"U37+U37*$E37*Szenarien!Q$31+U37*$F37*Szenarien!Q$32+U37*'Daten Projektion'!$G37*Szenarien!Q$33+U37*'Daten Projektion'!$H37*Szenarien!Q$34+U37*'Daten Projektion'!$I37*Szenarien!Q$35+U37*'Daten Projektion'!$J37*Szenarien!Q$36+U37*'Daten Projektion'!$K37*Szenarien!Q$37+U37*'Daten Projektion'!$L37*Szenarien!Q$38+U37*'Daten Projektion'!$M37*Szenarien!Q$39","v":0},{"$f":"V37+V37*$E37*Szenarien!R$31+V37*$F37*Szenarien!R$32+V37*'Daten Projektion'!$G37*Szenarien!R$33+V37*'Daten Projektion'!$H37*Szenarien!R$34+V37*'Daten Projektion'!$I37*Szenarien!R$35+V37*'Daten Projektion'!$J37*Szenarien!R$36+V37*'Daten Projektion'!$K37*Szenarien!R$37+V37*'Daten Projektion'!$L37*Szenarien!R$38+V37*'Daten Projektion'!$M37*Szenarien!R$39","v":0},{"$f":"W37+W37*$E37*Szenarien!S$31+W37*$F37*Szenarien!S$32+W37*'Daten Projektion'!$G37*Szenarien!S$33+W37*'Daten Projektion'!$H37*Szenarien!S$34+W37*'Daten Projektion'!$I37*Szenarien!S$35+W37*'Daten Projektion'!$J37*Szenarien!S$36+W37*'Daten Projektion'!$K37*Szenarien!S$37+W37*'Daten Projektion'!$L37*Szenarien!S$38+W37*'Daten Projektion'!$M37*Szenarien!S$39","v":0},{"$f":"X37+X37*$E37*Szenarien!T$31+X37*$F37*Szenarien!T$32+X37*'Daten Projektion'!$G37*Szenarien!T$33+X37*'Daten Projektion'!$H37*Szenarien!T$34+X37*'Daten Projektion'!$I37*Szenarien!T$35+X37*'Daten Projektion'!$J37*Szenarien!T$36+X37*'Daten Projektion'!$K37*Szenarien!T$37+X37*'Daten Projektion'!$L37*Szenarien!T$38+X37*'Daten Projektion'!$M37*Szenarien!T$39","v":0},null,{"$f":"N37+N37*$E37*Szenarien!X$31+N37*$F37*Szenarien!X$32+N37*'Daten Projektion'!$G37*Szenarien!X$33+N37*'Daten Projektion'!$H37*Szenarien!X$34+N37*'Daten Projektion'!$I37*Szenarien!X$35+N37*'Daten Projektion'!$J37*Szenarien!X$36+N37*'Daten Projektion'!$K37*Szenarien!X$37+N37*'Daten Projektion'!$L37*Szenarien!X$38+N37*'Daten Projektion'!$M37*Szenarien!X$39","v":0},{"$f":"AA37+AA37*$E37*Szenarien!Y$31+AA37*$F37*Szenarien!Y$32+AA37*'Daten Projektion'!$G37*Szenarien!Y$33+AA37*'Daten Projektion'!$H37*Szenarien!Y$34+AA37*'Daten Projektion'!$I37*Szenarien!Y$35+AA37*'Daten Projektion'!$J37*Szenarien!Y$36+AA37*'Daten Projektion'!$K37*Szenarien!Y$37+AA37*'Daten Projektion'!$L37*Szenarien!Y$38+AA37*'Daten Projektion'!$M37*Szenarien!Y$39","v":0},{"$f":"AB37+AB37*$E37*Szenarien!Z$31+AB37*$F37*Szenarien!Z$32+AB37*'Daten Projektion'!$G37*Szenarien!Z$33+AB37*'Daten Projektion'!$H37*Szenarien!Z$34+AB37*'Daten Projektion'!$I37*Szenarien!Z$35+AB37*'Daten Projektion'!$J37*Szenarien!Z$36+AB37*'Daten Projektion'!$K37*Szenarien!Z$37+AB37*'Daten Projektion'!$L37*Szenarien!Z$38+AB37*'Daten Projektion'!$M37*Szenarien!Z$39","v":0},{"$f":"AC37+AC37*$E37*Szenarien!AA$31+AC37*$F37*Szenarien!AA$32+AC37*'Daten Projektion'!$G37*Szenarien!AA$33+AC37*'Daten Projektion'!$H37*Szenarien!AA$34+AC37*'Daten Projektion'!$I37*Szenarien!AA$35+AC37*'Daten Projektion'!$J37*Szenarien!AA$36+AC37*'Daten Projektion'!$K37*Szenarien!AA$37+AC37*'Daten Projektion'!$L37*Szenarien!AA$38+AC37*'Daten Projektion'!$M37*Szenarien!AA$39","v":0},{"$f":"AD37+AD37*$E37*Szenarien!AB$31+AD37*$F37*Szenarien!AB$32+AD37*'Daten Projektion'!$G37*Szenarien!AB$33+AD37*'Daten Projektion'!$H37*Szenarien!AB$34+AD37*'Daten Projektion'!$I37*Szenarien!AB$35+AD37*'Daten Projektion'!$J37*Szenarien!AB$36+AD37*'Daten Projektion'!$K37*Szenarien!AB$37+AD37*'Daten Projektion'!$L37*Szenarien!AB$38+AD37*'Daten Projektion'!$M37*Szenarien!AB$39","v":0}]
[null,{"$f":"Vermögen!E36","v":"26."},{"$f":"IF(Vermögen!F36=0,\"\",Vermögen!F36)","v":""},{"$f":"Vermögen!I36","v":"Bitte auswählen"},{"$f":"Vermögen!J36","v":{"v":0,"d":"0.0%"}},{"$f":"Vermögen!K36","v":{"v":0,"d":"0.0%"}},{"$f":"Vermögen!L36","v":{"v":0,"d":"0.0%"}},{"$f":"Vermögen!M36","v":{"v":0,"d":"0.0%"}},{"$f":"Vermögen!N36","v":{"v":0,"d":"0.0%"}},{"v":0,"d":"0.0%"},{"v":0,"d":"0.0%"},{"v":0,"d":"0.0%"},{"v":0,"d":"0.0%"},{"$f":"Daten_Vermögen!C69","v":0},{"$f":"N38+N38*Vermögen!V36","v":0},{"$f":"O38+O38*Vermögen!$V36","v":0},{"$f":"P38+P38*Vermögen!$V36","v":0},{"$f":"Q38+Q38*Vermögen!$V36","v":0},{"$f":"R38+R38*Vermögen!$V36","v":0},null,{"$f":"N38+N38*$E38*Szenarien!P$31+N38*$F38*Szenarien!P$32+N38*'Daten Projektion'!$G38*Szenarien!P$33+N38*'Daten Projektion'!$H38*Szenarien!P$34+N38*'Daten Projektion'!$I38*Szenarien!P$35+N38*'Daten Projektion'!$J38*Szenarien!P$36+N38*'Daten Projektion'!$K38*Szenarien!P$37+N38*'Daten Projektion'!$L38*Szenarien!P$38+N38*'Daten Projektion'!$M38*Szenarien!P$39","v":0},{"$f":"U38+U38*$E38*Szenarien!Q$31+U38*$F38*Szenarien!Q$32+U38*'Daten Projektion'!$G38*Szenarien!Q$33+U38*'Daten Projektion'!$H38*Szenarien!Q$34+U38*'Daten Projektion'!$I38*Szenarien!Q$35+U38*'Daten Projektion'!$J38*Szenarien!Q$36+U38*'Daten Projektion'!$K38*Szenarien!Q$37+U38*'Daten Projektion'!$L38*Szenarien!Q$38+U38*'Daten Projektion'!$M38*Szenarien!Q$39","v":0},{"$f":"V38+V38*$E38*Szenarien!R$31+V38*$F38*Szenarien!R$32+V38*'Daten Projektion'!$G38*Szenarien!R$33+V38*'Daten Projektion'!$H38*Szenarien!R$34+V38*'Daten Projektion'!$I38*Szenarien!R$35+V38*'Daten Projektion'!$J38*Szenarien!R$36+V38*'Daten Projektion'!$K38*Szenarien!R$37+V38*'Daten Projektion'!$L38*Szenarien!R$38+V38*'Daten Projektion'!$M38*Szenarien!R$39","v":0},{"$f":"W38+W38*$E38*Szenarien!S$31+W38*$F38*Szenarien!S$32+W38*'Daten Projektion'!$G38*Szenarien!S$33+W38*'Daten Projektion'!$H38*Szenarien!S$34+W38*'Daten Projektion'!$I38*Szenarien!S$35+W38*'Daten Projektion'!$J38*Szenarien!S$36+W38*'Daten Projektion'!$K38*Szenarien!S$37+W38*'Daten Projektion'!$L38*Szenarien!S$38+W38*'Daten Projektion'!$M38*Szenarien!S$39","v":0},{"$f":"X38+X38*$E38*Szenarien!T$31+X38*$F38*Szenarien!T$32+X38*'Daten Projektion'!$G38*Szenarien!T$33+X38*'Daten Projektion'!$H38*Szenarien!T$34+X38*'Daten Projektion'!$I38*Szenarien!T$35+X38*'Daten Projektion'!$J38*Szenarien!T$36+X38*'Daten Projektion'!$K38*Szenarien!T$37+X38*'Daten Projektion'!$L38*Szenarien!T$38+X38*'Daten Projektion'!$M38*Szenarien!T$39","v":0},null,{"$f":"N38+N38*$E38*Szenarien!X$31+N38*$F38*Szenarien!X$32+N38*'Daten Projektion'!$G38*Szenarien!X$33+N38*'Daten Projektion'!$H38*Szenarien!X$34+N38*'Daten Projektion'!$I38*Szenarien!X$35+N38*'Daten Projektion'!$J38*Szenarien!X$36+N38*'Daten Projektion'!$K38*Szenarien!X$37+N38*'Daten Projektion'!$L38*Szenarien!X$38+N38*'Daten Projektion'!$M38*Szenarien!X$39","v":0},{"$f":"AA38+AA38*$E38*Szenarien!Y$31+AA38*$F38*Szenarien!Y$32+AA38*'Daten Projektion'!$G38*Szenarien!Y$33+AA38*'Daten Projektion'!$H38*Szenarien!Y$34+AA38*'Daten Projektion'!$I38*Szenarien!Y$35+AA38*'Daten Projektion'!$J38*Szenarien!Y$36+AA38*'Daten Projektion'!$K38*Szenarien!Y$37+AA38*'Daten Projektion'!$L38*Szenarien!Y$38+AA38*'Daten Projektion'!$M38*Szenarien!Y$39","v":0},{"$f":"AB38+AB38*$E38*Szenarien!Z$31+AB38*$F38*Szenarien!Z$32+AB38*'Daten Projektion'!$G38*Szenarien!Z$33+AB38*'Daten Projektion'!$H38*Szenarien!Z$34+AB38*'Daten Projektion'!$I38*Szenarien!Z$35+AB38*'Daten Projektion'!$J38*Szenarien!Z$36+AB38*'Daten Projektion'!$K38*Szenarien!Z$37+AB38*'Daten Projektion'!$L38*Szenarien!Z$38+AB38*'Daten Projektion'!$M38*Szenarien!Z$39","v":0},{"$f":"AC38+AC38*$E38*Szenarien!AA$31+AC38*$F38*Szenarien!AA$32+AC38*'Daten Projektion'!$G38*Szenarien!AA$33+AC38*'Daten Projektion'!$H38*Szenarien!AA$34+AC38*'Daten Projektion'!$I38*Szenarien!AA$35+AC38*'Daten Projektion'!$J38*Szenarien!AA$36+AC38*'Daten Projektion'!$K38*Szenarien!AA$37+AC38*'Daten Projektion'!$L38*Szenarien!AA$38+AC38*'Daten Projektion'!$M38*Szenarien!AA$39","v":0},{"$f":"AD38+AD38*$E38*Szenarien!AB$31+AD38*$F38*Szenarien!AB$32+AD38*'Daten Projektion'!$G38*Szenarien!AB$33+AD38*'Daten Projektion'!$H38*Szenarien!AB$34+AD38*'Daten Projektion'!$I38*Szenarien!AB$35+AD38*'Daten Projektion'!$J38*Szenarien!AB$36+AD38*'Daten Projektion'!$K38*Szenarien!AB$37+AD38*'Daten Projektion'!$L38*Szenarien!AB$38+AD38*'Daten Projektion'!$M38*Szenarien!AB$39","v":0}]
[null,{"$f":"Vermögen!E37","v":"27."},{"$f":"IF(Vermögen!F37=0,\"\",Vermögen!F37)","v":""},{"$f":"Vermögen!I37","v":"Bitte auswählen"},{"$f":"Vermögen!J37","v":{"v":0,"d":"0.0%"}},{"$f":"Vermögen!K37","v":{"v":0,"d":"0.0%"}},{"$f":"Vermögen!L37","v":{"v":0,"d":"0.0%"}},{"$f":"Vermögen!M37","v":{"v":0,"d":"0.0%"}},{"$f":"Vermögen!N37","v":{"v":0,"d":"0.0%"}},{"v":0,"d":"0.0%"},{"v":0,"d":"0.0%"},{"v":0,"d":"0.0%"},{"v":0,"d":"0.0%"},{"$f":"Daten_Vermögen!C70","v":0},{"$f":"N39+N39*Vermögen!V37","v":0},{"$f":"O39+O39*Vermögen!$V37","v":0},{"$f":"P39+P39*Vermögen!$V37","v":0},{"$f":"Q39+Q39*Vermögen!$V37","v":0},{"$f":"R39+R39*Vermögen!$V37","v":0},null,{"$f":"N39+N39*$E39*Szenarien!P$31+N39*$F39*Szenarien!P$32+N39*'Daten Projektion'!$G39*Szenarien!P$33+N39*'Daten Projektion'!$H39*Szenarien!P$34+N39*'Daten Projektion'!$I39*Szenarien!P$35+N39*'Daten Projektion'!$J39*Szenarien!P$36+N39*'Daten Projektion'!$K39*Szenarien!P$37+N39*'Daten Projektion'!$L39*Szenarien!P$38+N39*'Daten Projektion'!$M39*Szenarien!P$39","v":0},{"$f":"U39+U39*$E39*Szenarien!Q$31+U39*$F39*Szenarien!Q$32+U39*'Daten Projektion'!$G39*Szenarien!Q$33+U39*'Daten Projektion'!$H39*Szenarien!Q$34+U39*'Daten Projektion'!$I39*Szenarien!Q$35+U39*'Daten Projektion'!$J39*Szenarien!Q$36+U39*'Daten Projektion'!$K39*Szenarien!Q$37+U39*'Daten Projektion'!$L39*Szenarien!Q$38+U39*'Daten Projektion'!$M39*Szenarien!Q$39","v":0},{"$f":"V39+V39*$E39*Szenarien!R$31+V39*$F39*Szenarien!R$32+V39*'Daten Projektion'!$G39*Szenarien!R$33+V39*'Daten Projektion'!$H39*Szenarien!R$34+V39*'Daten Projektion'!$I39*Szenarien!R$35+V39*'Daten Projektion'!$J39*Szenarien!R$36+V39*'Daten Projektion'!$K39*Szenarien!R$37+V39*'Daten Projektion'!$L39*Szenarien!R$38+V39*'Daten Projektion'!$M39*Szenarien!R$39","v":0},{"$f":"W39+W39*$E39*Szenarien!S$31+W39*$F39*Szenarien!S$32+W39*'Daten Projektion'!$G39*Szenarien!S$33+W39*'Daten Projektion'!$H39*Szenarien!S$34+W39*'Daten Projektion'!$I39*Szenarien!S$35+W39*'Daten Projektion'!$J39*Szenarien!S$36+W39*'Daten Projektion'!$K39*Szenarien!S$37+W39*'Daten Projektion'!$L39*Szenarien!S$38+W39*'Daten Projektion'!$M39*Szenarien!S$39","v":0},{"$f":"X39+X39*$E39*Szenarien!T$31+X39*$F39*Szenarien!T$32+X39*'Daten Projektion'!$G39*Szenarien!T$33+X39*'Daten Projektion'!$H39*Szenarien!T$34+X39*'Daten Projektion'!$I39*Szenarien!T$35+X39*'Daten Projektion'!$J39*Szenarien!T$36+X39*'Daten Projektion'!$K39*Szenarien!T$37+X39*'Daten Projektion'!$L39*Szenarien!T$38+X39*'Daten Projektion'!$M39*Szenarien!T$39","v":0},null,{"$f":"N39+N39*$E39*Szenarien!X$31+N39*$F39*Szenarien!X$32+N39*'Daten Projektion'!$G39*Szenarien!X$33+N39*'Daten Projektion'!$H39*Szenarien!X$34+N39*'Daten Projektion'!$I39*Szenarien!X$35+N39*'Daten Projektion'!$J39*Szenarien!X$36+N39*'Daten Projektion'!$K39*Szenarien!X$37+N39*'Daten Projektion'!$L39*Szenarien!X$38+N39*'Daten Projektion'!$M39*Szenarien!X$39","v":0},{"$f":"AA39+AA39*$E39*Szenarien!Y$31+AA39*$F39*Szenarien!Y$32+AA39*'Daten Projektion'!$G39*Szenarien!Y$33+AA39*'Daten Projektion'!$H39*Szenarien!Y$34+AA39*'Daten Projektion'!$I39*Szenarien!Y$35+AA39*'Daten Projektion'!$J39*Szenarien!Y$36+AA39*'Daten Projektion'!$K39*Szenarien!Y$37+AA39*'Daten Projektion'!$L39*Szenarien!Y$38+AA39*'Daten Projektion'!$M39*Szenarien!Y$39","v":0},{"$f":"AB39+AB39*$E39*Szenarien!Z$31+AB39*$F39*Szenarien!Z$32+AB39*'Daten Projektion'!$G39*Szenarien!Z$33+AB39*'Daten Projektion'!$H39*Szenarien!Z$34+AB39*'Daten Projektion'!$I39*Szenarien!Z$35+AB39*'Daten Projektion'!$J39*Szenarien!Z$36+AB39*'Daten Projektion'!$K39*Szenarien!Z$37+AB39*'Daten Projektion'!$L39*Szenarien!Z$38+AB39*'Daten Projektion'!$M39*Szenarien!Z$39","v":0},{"$f":"AC39+AC39*$E39*Szenarien!AA$31+AC39*$F39*Szenarien!AA$32+AC39*'Daten Projektion'!$G39*Szenarien!AA$33+AC39*'Daten Projektion'!$H39*Szenarien!AA$34+AC39*'Daten Projektion'!$I39*Szenarien!AA$35+AC39*'Daten Projektion'!$J39*Szenarien!AA$36+AC39*'Daten Projektion'!$K39*Szenarien!AA$37+AC39*'Daten Projektion'!$L39*Szenarien!AA$38+AC39*'Daten Projektion'!$M39*Szenarien!AA$39","v":0},{"$f":"AD39+AD39*$E39*Szenarien!AB$31+AD39*$F39*Szenarien!AB$32+AD39*'Daten Projektion'!$G39*Szenarien!AB$33+AD39*'Daten Projektion'!$H39*Szenarien!AB$34+AD39*'Daten Projektion'!$I39*Szenarien!AB$35+AD39*'Daten Projektion'!$J39*Szenarien!AB$36+AD39*'Daten Projektion'!$K39*Szenarien!AB$37+AD39*'Daten Projektion'!$L39*Szenarien!AB$38+AD39*'Daten Projektion'!$M39*Szenarien!AB$39","v":0}]
[null,{"$f":"Vermögen!E38","v":"28."},{"$f":"IF(Vermögen!F38=0,\"\",Vermögen!F38)","v":""},{"$f":"Vermögen!I38","v":"Bitte auswählen"},{"$f":"Vermögen!J38","v":{"v":0,"d":"0.0%"}},{"$f":"Vermögen!K38","v":{"v":0,"d":"0.0%"}},{"$f":"Vermögen!L38","v":{"v":0,"d":"0.0%"}},{"$f":"Vermögen!M38","v":{"v":0,"d":"0.0%"}},{"$f":"Vermögen!N38","v":{"v":0,"d":"0.0%"}},{"v":0,"d":"0.0%"},{"v":0,"d":"0.0%"},{"v":0,"d":"0.0%"},{"v":0,"d":"0.0%"},{"$f":"Daten_Vermögen!C71","v":0},{"$f":"N40+N40*Vermögen!V38","v":0},{"$f":"O40+O40*Vermögen!$V38","v":0},{"$f":"P40+P40*Vermögen!$V38","v":0},{"$f":"Q40+Q40*Vermögen!$V38","v":0},{"$f":"R40+R40*Vermögen!$V38","v":0},null,{"$f":"N40+N40*$E40*Szenarien!P$31+N40*$F40*Szenarien!P$32+N40*'Daten Projektion'!$G40*Szenarien!P$33+N40*'Daten Projektion'!$H40*Szenarien!P$34+N40*'Daten Projektion'!$I40*Szenarien!P$35+N40*'Daten Projektion'!$J40*Szenarien!P$36+N40*'Daten Projektion'!$K40*Szenarien!P$37+N40*'Daten Projektion'!$L40*Szenarien!P$38+N40*'Daten Projektion'!$M40*Szenarien!P$39","v":0},{"$f":"U40+U40*$E40*Szenarien!Q$31+U40*$F40*Szenarien!Q$32+U40*'Daten Projektion'!$G40*Szenarien!Q$33+U40*'Daten Projektion'!$H40*Szenarien!Q$34+U40*'Daten Projektion'!$I40*Szenarien!Q$35+U40*'Daten Projektion'!$J40*Szenarien!Q$36+U40*'Daten Projektion'!$K40*Szenarien!Q$37+U40*'Daten Projektion'!$L40*Szenarien!Q$38+U40*'Daten Projektion'!$M40*Szenarien!Q$39","v":0},{"$f":"V40+V40*$E40*Szenarien!R$31+V40*$F40*Szenarien!R$32+V40*'Daten Projektion'!$G40*Szenarien!R$33+V40*'Daten Projektion'!$H40*Szenarien!R$34+V40*'Daten Projektion'!$I40*Szenarien!R$35+V40*'Daten Projektion'!$J40*Szenarien!R$36+V40*'Daten Projektion'!$K40*Szenarien!R$37+V40*'Daten Projektion'!$L40*Szenarien!R$38+V40*'Daten Projektion'!$M40*Szenarien!R$39","v":0},{"$f":"W40+W40*$E40*Szenarien!S$31+W40*$F40*Szenarien!S$32+W40*'Daten Projektion'!$G40*Szenarien!S$33+W40*'Daten Projektion'!$H40*Szenarien!S$34+W40*'Daten Projektion'!$I40*Szenarien!S$35+W40*'Daten Projektion'!$J40*Szenarien!S$36+W40*'Daten Projektion'!$K40*Szenarien!S$37+W40*'Daten Projektion'!$L40*Szenarien!S$38+W40*'Daten Projektion'!$M40*Szenarien!S$39","v":0},{"$f":"X40+X40*$E40*Szenarien!T$31+X40*$F40*Szenarien!T$32+X40*'Daten Projektion'!$G40*Szenarien!T$33+X40*'Daten Projektion'!$H40*Szenarien!T$34+X40*'Daten Projektion'!$I40*Szenarien!T$35+X40*'Daten Projektion'!$J40*Szenarien!T$36+X40*'Daten Projektion'!$K40*Szenarien!T$37+X40*'Daten Projektion'!$L40*Szenarien!T$38+X40*'Daten Projektion'!$M40*Szenarien!T$39","v":0},null,{"$f":"N40+N40*$E40*Szenarien!X$31+N40*$F40*Szenarien!X$32+N40*'Daten Projektion'!$G40*Szenarien!X$33+N40*'Daten Projektion'!$H40*Szenarien!X$34+N40*'Daten Projektion'!$I40*Szenarien!X$35+N40*'Daten Projektion'!$J40*Szenarien!X$36+N40*'Daten Projektion'!$K40*Szenarien!X$37+N40*'Daten Projektion'!$L40*Szenarien!X$38+N40*'Daten Projektion'!$M40*Szenarien!X$39","v":0},{"$f":"AA40+AA40*$E40*Szenarien!Y$31+AA40*$F40*Szenarien!Y$32+AA40*'Daten Projektion'!$G40*Szenarien!Y$33+AA40*'Daten Projektion'!$H40*Szenarien!Y$34+AA40*'Daten Projektion'!$I40*Szenarien!Y$35+AA40*'Daten Projektion'!$J40*Szenarien!Y$36+AA40*'Daten Projektion'!$K40*Szenarien!Y$37+AA40*'Daten Projektion'!$L40*Szenarien!Y$38+AA40*'Daten Projektion'!$M40*Szenarien!Y$39","v":0},{"$f":"AB40+AB40*$E40*Szenarien!Z$31+AB40*$F40*Szenarien!Z$32+AB40*'Daten Projektion'!$G40*Szenarien!Z$33+AB40*'Daten Projektion'!$H40*Szenarien!Z$34+AB40*'Daten Projektion'!$I40*Szenarien!Z$35+AB40*'Daten Projektion'!$J40*Szenarien!Z$36+AB40*'Daten Projektion'!$K40*Szenarien!Z$37+AB40*'Daten Projektion'!$L40*Szenarien!Z$38+AB40*'Daten Projektion'!$M40*Szenarien!Z$39","v":0},{"$f":"AC40+AC40*$E40*Szenarien!AA$31+AC40*$F40*Szenarien!AA$32+AC40*'Daten Projektion'!$G40*Szenarien!AA$33+AC40*'Daten Projektion'!$H40*Szenarien!AA$34+AC40*'Daten Projektion'!$I40*Szenarien!AA$35+AC40*'Daten Projektion'!$J40*Szenarien!AA$36+AC40*'Daten Projektion'!$K40*Szenarien!AA$37+AC40*'Daten Projektion'!$L40*Szenarien!AA$38+AC40*'Daten Projektion'!$M40*Szenarien!AA$39","v":0},{"$f":"AD40+AD40*$E40*Szenarien!AB$31+AD40*$F40*Szenarien!AB$32+AD40*'Daten Projektion'!$G40*Szenarien!AB$33+AD40*'Daten Projektion'!$H40*Szenarien!AB$34+AD40*'Daten Projektion'!$I40*Szenarien!AB$35+AD40*'Daten Projektion'!$J40*Szenarien!AB$36+AD40*'Daten Projektion'!$K40*Szenarien!AB$37+AD40*'Daten Projektion'!$L40*Szenarien!AB$38+AD40*'Daten Projektion'!$M40*Szenarien!AB$39","v":0}]
[null,{"$f":"Vermögen!E39","v":"29."},{"$f":"IF(Vermögen!F39=0,\"\",Vermögen!F39)","v":""},{"$f":"Vermögen!I39","v":"Bitte auswählen"},{"$f":"Vermögen!J39","v":{"v":0,"d":"0.0%"}},{"$f":"Vermögen!K39","v":{"v":0,"d":"0.0%"}},{"$f":"Vermögen!L39","v":{"v":0,"d":"0.0%"}},{"$f":"Vermögen!M39","v":{"v":0,"d":"0.0%"}},{"$f":"Vermögen!N39","v":{"v":0,"d":"0.0%"}},{"v":0,"d":"0.0%"},{"v":0,"d":"0.0%"},{"v":0,"d":"0.0%"},{"v":0,"d":"0.0%"},{"$f":"Daten_Vermögen!C72","v":0},{"$f":"N41+N41*Vermögen!V39","v":0},{"$f":"O41+O41*Vermögen!$V39","v":0},{"$f":"P41+P41*Vermögen!$V39","v":0},{"$f":"Q41+Q41*Vermögen!$V39","v":0},{"$f":"R41+R41*Vermögen!$V39","v":0},null,{"$f":"N41+N41*$E41*Szenarien!P$31+N41*$F41*Szenarien!P$32+N41*'Daten Projektion'!$G41*Szenarien!P$33+N41*'Daten Projektion'!$H41*Szenarien!P$34+N41*'Daten Projektion'!$I41*Szenarien!P$35+N41*'Daten Projektion'!$J41*Szenarien!P$36+N41*'Daten Projektion'!$K41*Szenarien!P$37+N41*'Daten Projektion'!$L41*Szenarien!P$38+N41*'Daten Projektion'!$M41*Szenarien!P$39","v":0},{"$f":"U41+U41*$E41*Szenarien!Q$31+U41*$F41*Szenarien!Q$32+U41*'Daten Projektion'!$G41*Szenarien!Q$33+U41*'Daten Projektion'!$H41*Szenarien!Q$34+U41*'Daten Projektion'!$I41*Szenarien!Q$35+U41*'Daten Projektion'!$J41*Szenarien!Q$36+U41*'Daten Projektion'!$K41*Szenarien!Q$37+U41*'Daten Projektion'!$L41*Szenarien!Q$38+U41*'Daten Projektion'!$M41*Szenarien!Q$39","v":0},{"$f":"V41+V41*$E41*Szenarien!R$31+V41*$F41*Szenarien!R$32+V41*'Daten Projektion'!$G41*Szenarien!R$33+V41*'Daten Projektion'!$H41*Szenarien!R$34+V41*'Daten Projektion'!$I41*Szenarien!R$35+V41*'Daten Projektion'!$J41*Szenarien!R$36+V41*'Daten Projektion'!$K41*Szenarien!R$37+V41*'Daten Projektion'!$L41*Szenarien!R$38+V41*'Daten Projektion'!$M41*Szenarien!R$39","v":0},{"$f":"W41+W41*$E41*Szenarien!S$31+W41*$F41*Szenarien!S$32+W41*'Daten Projektion'!$G41*Szenarien!S$33+W41*'Daten Projektion'!$H41*Szenarien!S$34+W41*'Daten Projektion'!$I41*Szenarien!S$35+W41*'Daten Projektion'!$J41*Szenarien!S$36+W41*'Daten Projektion'!$K41*Szenarien!S$37+W41*'Daten Projektion'!$L41*Szenarien!S$38+W41*'Daten Projektion'!$M41*Szenarien!S$39","v":0},{"$f":"X41+X41*$E41*Szenarien!T$31+X41*$F41*Szenarien!T$32+X41*'Daten Projektion'!$G41*Szenarien!T$33+X41*'Daten Projektion'!$H41*Szenarien!T$34+X41*'Daten Projektion'!$I41*Szenarien!T$35+X41*'Daten Projektion'!$J41*Szenarien!T$36+X41*'Daten Projektion'!$K41*Szenarien!T$37+X41*'Daten Projektion'!$L41*Szenarien!T$38+X41*'Daten Projektion'!$M41*Szenarien!T$39","v":0},null,{"$f":"N41+N41*$E41*Szenarien!X$31+N41*$F41*Szenarien!X$32+N41*'Daten Projektion'!$G41*Szenarien!X$33+N41*'Daten Projektion'!$H41*Szenarien!X$34+N41*'Daten Projektion'!$I41*Szenarien!X$35+N41*'Daten Projektion'!$J41*Szenarien!X$36+N41*'Daten Projektion'!$K41*Szenarien!X$37+N41*'Daten Projektion'!$L41*Szenarien!X$38+N41*'Daten Projektion'!$M41*Szenarien!X$39","v":0},{"$f":"AA41+AA41*$E41*Szenarien!Y$31+AA41*$F41*Szenarien!Y$32+AA41*'Daten Projektion'!$G41*Szenarien!Y$33+AA41*'Daten Projektion'!$H41*Szenarien!Y$34+AA41*'Daten Projektion'!$I41*Szenarien!Y$35+AA41*'Daten Projektion'!$J41*Szenarien!Y$36+AA41*'Daten Projektion'!$K41*Szenarien!Y$37+AA41*'Daten Projektion'!$L41*Szenarien!Y$38+AA41*'Daten Projektion'!$M41*Szenarien!Y$39","v":0},{"$f":"AB41+AB41*$E41*Szenarien!Z$31+AB41*$F41*Szenarien!Z$32+AB41*'Daten Projektion'!$G41*Szenarien!Z$33+AB41*'Daten Projektion'!$H41*Szenarien!Z$34+AB41*'Daten Projektion'!$I41*Szenarien!Z$35+AB41*'Daten Projektion'!$J41*Szenarien!Z$36+AB41*'Daten Projektion'!$K41*Szenarien!Z$37+AB41*'Daten Projektion'!$L41*Szenarien!Z$38+AB41*'Daten Projektion'!$M41*Szenarien!Z$39","v":0},{"$f":"AC41+AC41*$E41*Szenarien!AA$31+AC41*$F41*Szenarien!AA$32+AC41*'Daten Projektion'!$G41*Szenarien!AA$33+AC41*'Daten Projektion'!$H41*Szenarien!AA$34+AC41*'Daten Projektion'!$I41*Szenarien!AA$35+AC41*'Daten Projektion'!$J41*Szenarien!AA$36+AC41*'Daten Projektion'!$K41*Szenarien!AA$37+AC41*'Daten Projektion'!$L41*Szenarien!AA$38+AC41*'Daten Projektion'!$M41*Szenarien!AA$39","v":0},{"$f":"AD41+AD41*$E41*Szenarien!AB$31+AD41*$F41*Szenarien!AB$32+AD41*'Daten Projektion'!$G41*Szenarien!AB$33+AD41*'Daten Projektion'!$H41*Szenarien!AB$34+AD41*'Daten Projektion'!$I41*Szenarien!AB$35+AD41*'Daten Projektion'!$J41*Szenarien!AB$36+AD41*'Daten Projektion'!$K41*Szenarien!AB$37+AD41*'Daten Projektion'!$L41*Szenarien!AB$38+AD41*'Daten Projektion'!$M41*Szenarien!AB$39","v":0}]
[null,{"$f":"Vermögen!E40","v":"30."},{"$f":"IF(Vermögen!F40=0,\"\",Vermögen!F40)","v":""},{"$f":"Vermögen!I40","v":"Bitte auswählen"},{"$f":"Vermögen!J40","v":{"v":0,"d":"0.0%"}},{"$f":"Vermögen!K40","v":{"v":0,"d":"0.0%"}},{"$f":"Vermögen!L40","v":{"v":0,"d":"0.0%"}},{"$f":"Vermögen!M40","v":{"v":0,"d":"0.0%"}},{"$f":"Vermögen!N40","v":{"v":0,"d":"0.0%"}},{"v":0,"d":"0.0%"},{"v":0,"d":"0.0%"},{"v":0,"d":"0.0%"},{"v":0,"d":"0.0%"},{"$f":"Daten_Vermögen!C73","v":0},{"$f":"N42+N42*Vermögen!V40","v":0},{"$f":"O42+O42*Vermögen!$V40","v":0},{"$f":"P42+P42*Vermögen!$V40","v":0},{"$f":"Q42+Q42*Vermögen!$V40","v":0},{"$f":"R42+R42*Vermögen!$V40","v":0},null,{"$f":"N42+N42*$E42*Szenarien!P$31+N42*$F42*Szenarien!P$32+N42*'Daten Projektion'!$G42*Szenarien!P$33+N42*'Daten Projektion'!$H42*Szenarien!P$34+N42*'Daten Projektion'!$I42*Szenarien!P$35+N42*'Daten Projektion'!$J42*Szenarien!P$36+N42*'Daten Projektion'!$K42*Szenarien!P$37+N42*'Daten Projektion'!$L42*Szenarien!P$38+N42*'Daten Projektion'!$M42*Szenarien!P$39","v":0},{"$f":"U42+U42*$E42*Szenarien!Q$31+U42*$F42*Szenarien!Q$32+U42*'Daten Projektion'!$G42*Szenarien!Q$33+U42*'Daten Projektion'!$H42*Szenarien!Q$34+U42*'Daten Projektion'!$I42*Szenarien!Q$35+U42*'Daten Projektion'!$J42*Szenarien!Q$36+U42*'Daten Projektion'!$K42*Szenarien!Q$37+U42*'Daten Projektion'!$L42*Szenarien!Q$38+U42*'Daten Projektion'!$M42*Szenarien!Q$39","v":0},{"$f":"V42+V42*$E42*Szenarien!R$31+V42*$F42*Szenarien!R$32+V42*'Daten Projektion'!$G42*Szenarien!R$33+V42*'Daten Projektion'!$H42*Szenarien!R$34+V42*'Daten Projektion'!$I42*Szenarien!R$35+V42*'Daten Projektion'!$J42*Szenarien!R$36+V42*'Daten Projektion'!$K42*Szenarien!R$37+V42*'Daten Projektion'!$L42*Szenarien!R$38+V42*'Daten Projektion'!$M42*Szenarien!R$39","v":0},{"$f":"W42+W42*$E42*Szenarien!S$31+W42*$F42*Szenarien!S$32+W42*'Daten Projektion'!$G42*Szenarien!S$33+W42*'Daten Projektion'!$H42*Szenarien!S$34+W42*'Daten Projektion'!$I42*Szenarien!S$35+W42*'Daten Projektion'!$J42*Szenarien!S$36+W42*'Daten Projektion'!$K42*Szenarien!S$37+W42*'Daten Projektion'!$L42*Szenarien!S$38+W42*'Daten Projektion'!$M42*Szenarien!S$39","v":0},{"$f":"X42+X42*$E42*Szenarien!T$31+X42*$F42*Szenarien!T$32+X42*'Daten Projektion'!$G42*Szenarien!T$33+X42*'Daten Projektion'!$H42*Szenarien!T$34+X42*'Daten Projektion'!$I42*Szenarien!T$35+X42*'Daten Projektion'!$J42*Szenarien!T$36+X42*'Daten Projektion'!$K42*Szenarien!T$37+X42*'Daten Projektion'!$L42*Szenarien!T$38+X42*'Daten Projektion'!$M42*Szenarien!T$39","v":0},null,{"$f":"N42+N42*$E42*Szenarien!X$31+N42*$F42*Szenarien!X$32+N42*'Daten Projektion'!$G42*Szenarien!X$33+N42*'Daten Projektion'!$H42*Szenarien!X$34+N42*'Daten Projektion'!$I42*Szenarien!X$35+N42*'Daten Projektion'!$J42*Szenarien!X$36+N42*'Daten Projektion'!$K42*Szenarien!X$37+N42*'Daten Projektion'!$L42*Szenarien!X$38+N42*'Daten Projektion'!$M42*Szenarien!X$39","v":0},{"$f":"AA42+AA42*$E42*Szenarien!Y$31+AA42*$F42*Szenarien!Y$32+AA42*'Daten Projektion'!$G42*Szenarien!Y$33+AA42*'Daten Projektion'!$H42*Szenarien!Y$34+AA42*'Daten Projektion'!$I42*Szenarien!Y$35+AA42*'Daten Projektion'!$J42*Szenarien!Y$36+AA42*'Daten Projektion'!$K42*Szenarien!Y$37+AA42*'Daten Projektion'!$L42*Szenarien!Y$38+AA42*'Daten Projektion'!$M42*Szenarien!Y$39","v":0},{"$f":"AB42+AB42*$E42*Szenarien!Z$31+AB42*$F42*Szenarien!Z$32+AB42*'Daten Projektion'!$G42*Szenarien!Z$33+AB42*'Daten Projektion'!$H42*Szenarien!Z$34+AB42*'Daten Projektion'!$I42*Szenarien!Z$35+AB42*'Daten Projektion'!$J42*Szenarien!Z$36+AB42*'Daten Projektion'!$K42*Szenarien!Z$37+AB42*'Daten Projektion'!$L42*Szenarien!Z$38+AB42*'Daten Projektion'!$M42*Szenarien!Z$39","v":0},{"$f":"AC42+AC42*$E42*Szenarien!AA$31+AC42*$F42*Szenarien!AA$32+AC42*'Daten Projektion'!$G42*Szenarien!AA$33+AC42*'Daten Projektion'!$H42*Szenarien!AA$34+AC42*'Daten Projektion'!$I42*Szenarien!AA$35+AC42*'Daten Projektion'!$J42*Szenarien!AA$36+AC42*'Daten Projektion'!$K42*Szenarien!AA$37+AC42*'Daten Projektion'!$L42*Szenarien!AA$38+AC42*'Daten Projektion'!$M42*Szenarien!AA$39","v":0},{"$f":"AD42+AD42*$E42*Szenarien!AB$31+AD42*$F42*Szenarien!AB$32+AD42*'Daten Projektion'!$G42*Szenarien!AB$33+AD42*'Daten Projektion'!$H42*Szenarien!AB$34+AD42*'Daten Projektion'!$I42*Szenarien!AB$35+AD42*'Daten Projektion'!$J42*Szenarien!AB$36+AD42*'Daten Projektion'!$K42*Szenarien!AB$37+AD42*'Daten Projektion'!$L42*Szenarien!AB$38+AD42*'Daten Projektion'!$M42*Szenarien!AB$39","v":0}]
[null,{"$f":"Vermögen!E41","v":"31."},{"$f":"IF(Vermögen!F41=0,\"\",Vermögen!F41)","v":""},{"$f":"Vermögen!I41","v":"Bitte auswählen"},{"$f":"Vermögen!J41","v":{"v":0,"d":"0.0%"}},{"$f":"Vermögen!K41","v":{"v":0,"d":"0.0%"}},{"$f":"Vermögen!L41","v":{"v":0,"d":"0.0%"}},{"$f":"Vermögen!M41","v":{"v":0,"d":"0.0%"}},{"$f":"Vermögen!N41","v":{"v":0,"d":"0.0%"}},{"v":0,"d":"0.0%"},{"v":0,"d":"0.0%"},{"v":0,"d":"0.0%"},{"v":0,"d":"0.0%"},{"$f":"Daten_Vermögen!C74","v":0},{"$f":"N43+N43*Vermögen!V41","v":0},{"$f":"O43+O43*Vermögen!$V41","v":0},{"$f":"P43+P43*Vermögen!$V41","v":0},{"$f":"Q43+Q43*Vermögen!$V41","v":0},{"$f":"R43+R43*Vermögen!$V41","v":0},null,{"$f":"N43+N43*$E43*Szenarien!P$31+N43*$F43*Szenarien!P$32+N43*'Daten Projektion'!$G43*Szenarien!P$33+N43*'Daten Projektion'!$H43*Szenarien!P$34+N43*'Daten Projektion'!$I43*Szenarien!P$35+N43*'Daten Projektion'!$J43*Szenarien!P$36+N43*'Daten Projektion'!$K43*Szenarien!P$37+N43*'Daten Projektion'!$L43*Szenarien!P$38+N43*'Daten Projektion'!$M43*Szenarien!P$39","v":0},{"$f":"U43+U43*$E43*Szenarien!Q$31+U43*$F43*Szenarien!Q$32+U43*'Daten Projektion'!$G43*Szenarien!Q$33+U43*'Daten Projektion'!$H43*Szenarien!Q$34+U43*'Daten Projektion'!$I43*Szenarien!Q$35+U43*'Daten Projektion'!$J43*Szenarien!Q$36+U43*'Daten Projektion'!$K43*Szenarien!Q$37+U43*'Daten Projektion'!$L43*Szenarien!Q$38+U43*'Daten Projektion'!$M43*Szenarien!Q$39","v":0},{"$f":"V43+V43*$E43*Szenarien!R$31+V43*$F43*Szenarien!R$32+V43*'Daten Projektion'!$G43*Szenarien!R$33+V43*'Daten Projektion'!$H43*Szenarien!R$34+V43*'Daten Projektion'!$I43*Szenarien!R$35+V43*'Daten Projektion'!$J43*Szenarien!R$36+V43*'Daten Projektion'!$K43*Szenarien!R$37+V43*'Daten Projektion'!$L43*Szenarien!R$38+V43*'Daten Projektion'!$M43*Szenarien!R$39","v":0},{"$f":"W43+W43*$E43*Szenarien!S$31+W43*$F43*Szenarien!S$32+W43*'Daten Projektion'!$G43*Szenarien!S$33+W43*'Daten Projektion'!$H43*Szenarien!S$34+W43*'Daten Projektion'!$I43*Szenarien!S$35+W43*'Daten Projektion'!$J43*Szenarien!S$36+W43*'Daten Projektion'!$K43*Szenarien!S$37+W43*'Daten Projektion'!$L43*Szenarien!S$38+W43*'Daten Projektion'!$M43*Szenarien!S$39","v":0},{"$f":"X43+X43*$E43*Szenarien!T$31+X43*$F43*Szenarien!T$32+X43*'Daten Projektion'!$G43*Szenarien!T$33+X43*'Daten Projektion'!$H43*Szenarien!T$34+X43*'Daten Projektion'!$I43*Szenarien!T$35+X43*'Daten Projektion'!$J43*Szenarien!T$36+X43*'Daten Projektion'!$K43*Szenarien!T$37+X43*'Daten Projektion'!$L43*Szenarien!T$38+X43*'Daten Projektion'!$M43*Szenarien!T$39","v":0},null,{"$f":"N43+N43*$E43*Szenarien!X$31+N43*$F43*Szenarien!X$32+N43*'Daten Projektion'!$G43*Szenarien!X$33+N43*'Daten Projektion'!$H43*Szenarien!X$34+N43*'Daten Projektion'!$I43*Szenarien!X$35+N43*'Daten Projektion'!$J43*Szenarien!X$36+N43*'Daten Projektion'!$K43*Szenarien!X$37+N43*'Daten Projektion'!$L43*Szenarien!X$38+N43*'Daten Projektion'!$M43*Szenarien!X$39","v":0},{"$f":"AA43+AA43*$E43*Szenarien!Y$31+AA43*$F43*Szenarien!Y$32+AA43*'Daten Projektion'!$G43*Szenarien!Y$33+AA43*'Daten Projektion'!$H43*Szenarien!Y$34+AA43*'Daten Projektion'!$I43*Szenarien!Y$35+AA43*'Daten Projektion'!$J43*Szenarien!Y$36+AA43*'Daten Projektion'!$K43*Szenarien!Y$37+AA43*'Daten Projektion'!$L43*Szenarien!Y$38+AA43*'Daten Projektion'!$M43*Szenarien!Y$39","v":0},{"$f":"AB43+AB43*$E43*Szenarien!Z$31+AB43*$F43*Szenarien!Z$32+AB43*'Daten Projektion'!$G43*Szenarien!Z$33+AB43*'Daten Projektion'!$H43*Szenarien!Z$34+AB43*'Daten Projektion'!$I43*Szenarien!Z$35+AB43*'Daten Projektion'!$J43*Szenarien!Z$36+AB43*'Daten Projektion'!$K43*Szenarien!Z$37+AB43*'Daten Projektion'!$L43*Szenarien!Z$38+AB43*'Daten Projektion'!$M43*Szenarien!Z$39","v":0},{"$f":"AC43+AC43*$E43*Szenarien!AA$31+AC43*$F43*Szenarien!AA$32+AC43*'Daten Projektion'!$G43*Szenarien!AA$33+AC43*'Daten Projektion'!$H43*Szenarien!AA$34+AC43*'Daten Projektion'!$I43*Szenarien!AA$35+AC43*'Daten Projektion'!$J43*Szenarien!AA$36+AC43*'Daten Projektion'!$K43*Szenarien!AA$37+AC43*'Daten Projektion'!$L43*Szenarien!AA$38+AC43*'Daten Projektion'!$M43*Szenarien!AA$39","v":0},{"$f":"AD43+AD43*$E43*Szenarien!AB$31+AD43*$F43*Szenarien!AB$32+AD43*'Daten Projektion'!$G43*Szenarien!AB$33+AD43*'Daten Projektion'!$H43*Szenarien!AB$34+AD43*'Daten Projektion'!$I43*Szenarien!AB$35+AD43*'Daten Projektion'!$J43*Szenarien!AB$36+AD43*'Daten Projektion'!$K43*Szenarien!AB$37+AD43*'Daten Projektion'!$L43*Szenarien!AB$38+AD43*'Daten Projektion'!$M43*Szenarien!AB$39","v":0}]
[null,{"$f":"Vermögen!E42","v":"32."},{"$f":"IF(Vermögen!F42=0,\"\",Vermögen!F42)","v":""},{"$f":"Vermögen!I42","v":"Bitte auswählen"},{"$f":"Vermögen!J42","v":{"v":0,"d":"0.0%"}},{"$f":"Vermögen!K42","v":{"v":0,"d":"0.0%"}},{"$f":"Vermögen!L42","v":{"v":0,"d":"0.0%"}},{"$f":"Vermögen!M42","v":{"v":0,"d":"0.0%"}},{"$f":"Vermögen!N42","v":{"v":0,"d":"0.0%"}},{"v":0,"d":"0.0%"},{"v":0,"d":"0.0%"},{"v":0,"d":"0.0%"},{"v":0,"d":"0.0%"},{"$f":"Daten_Vermögen!C75","v":0},{"$f":"N44+N44*Vermögen!V42","v":0},{"$f":"O44+O44*Vermögen!$V42","v":0},{"$f":"P44+P44*Vermögen!$V42","v":0},{"$f":"Q44+Q44*Vermögen!$V42","v":0},{"$f":"R44+R44*Vermögen!$V42","v":0},null,{"$f":"N44+N44*$E44*Szenarien!P$31+N44*$F44*Szenarien!P$32+N44*'Daten Projektion'!$G44*Szenarien!P$33+N44*'Daten Projektion'!$H44*Szenarien!P$34+N44*'Daten Projektion'!$I44*Szenarien!P$35+N44*'Daten Projektion'!$J44*Szenarien!P$36+N44*'Daten Projektion'!$K44*Szenarien!P$37+N44*'Daten Projektion'!$L44*Szenarien!P$38+N44*'Daten Projektion'!$M44*Szenarien!P$39","v":0},{"$f":"U44+U44*$E44*Szenarien!Q$31+U44*$F44*Szenarien!Q$32+U44*'Daten Projektion'!$G44*Szenarien!Q$33+U44*'Daten Projektion'!$H44*Szenarien!Q$34+U44*'Daten Projektion'!$I44*Szenarien!Q$35+U44*'Daten Projektion'!$J44*Szenarien!Q$36+U44*'Daten Projektion'!$K44*Szenarien!Q$37+U44*'Daten Projektion'!$L44*Szenarien!Q$38+U44*'Daten Projektion'!$M44*Szenarien!Q$39","v":0},{"$f":"V44+V44*$E44*Szenarien!R$31+V44*$F44*Szenarien!R$32+V44*'Daten Projektion'!$G44*Szenarien!R$33+V44*'Daten Projektion'!$H44*Szenarien!R$34+V44*'Daten Projektion'!$I44*Szenarien!R$35+V44*'Daten Projektion'!$J44*Szenarien!R$36+V44*'Daten Projektion'!$K44*Szenarien!R$37+V44*'Daten Projektion'!$L44*Szenarien!R$38+V44*'Daten Projektion'!$M44*Szenarien!R$39","v":0},{"$f":"W44+W44*$E44*Szenarien!S$31+W44*$F44*Szenarien!S$32+W44*'Daten Projektion'!$G44*Szenarien!S$33+W44*'Daten Projektion'!$H44*Szenarien!S$34+W44*'Daten Projektion'!$I44*Szenarien!S$35+W44*'Daten Projektion'!$J44*Szenarien!S$36+W44*'Daten Projektion'!$K44*Szenarien!S$37+W44*'Daten Projektion'!$L44*Szenarien!S$38+W44*'Daten Projektion'!$M44*Szenarien!S$39","v":0},{"$f":"X44+X44*$E44*Szenarien!T$31+X44*$F44*Szenarien!T$32+X44*'Daten Projektion'!$G44*Szenarien!T$33+X44*'Daten Projektion'!$H44*Szenarien!T$34+X44*'Daten Projektion'!$I44*Szenarien!T$35+X44*'Daten Projektion'!$J44*Szenarien!T$36+X44*'Daten Projektion'!$K44*Szenarien!T$37+X44*'Daten Projektion'!$L44*Szenarien!T$38+X44*'Daten Projektion'!$M44*Szenarien!T$39","v":0},null,{"$f":"N44+N44*$E44*Szenarien!X$31+N44*$F44*Szenarien!X$32+N44*'Daten Projektion'!$G44*Szenarien!X$33+N44*'Daten Projektion'!$H44*Szenarien!X$34+N44*'Daten Projektion'!$I44*Szenarien!X$35+N44*'Daten Projektion'!$J44*Szenarien!X$36+N44*'Daten Projektion'!$K44*Szenarien!X$37+N44*'Daten Projektion'!$L44*Szenarien!X$38+N44*'Daten Projektion'!$M44*Szenarien!X$39","v":0},{"$f":"AA44+AA44*$E44*Szenarien!Y$31+AA44*$F44*Szenarien!Y$32+AA44*'Daten Projektion'!$G44*Szenarien!Y$33+AA44*'Daten Projektion'!$H44*Szenarien!Y$34+AA44*'Daten Projektion'!$I44*Szenarien!Y$35+AA44*'Daten Projektion'!$J44*Szenarien!Y$36+AA44*'Daten Projektion'!$K44*Szenarien!Y$37+AA44*'Daten Projektion'!$L44*Szenarien!Y$38+AA44*'Daten Projektion'!$M44*Szenarien!Y$39","v":0},{"$f":"AB44+AB44*$E44*Szenarien!Z$31+AB44*$F44*Szenarien!Z$32+AB44*'Daten Projektion'!$G44*Szenarien!Z$33+AB44*'Daten Projektion'!$H44*Szenarien!Z$34+AB44*'Daten Projektion'!$I44*Szenarien!Z$35+AB44*'Daten Projektion'!$J44*Szenarien!Z$36+AB44*'Daten Projektion'!$K44*Szenarien!Z$37+AB44*'Daten Projektion'!$L44*Szenarien!Z$38+AB44*'Daten Projektion'!$M44*Szenarien!Z$39","v":0},{"$f":"AC44+AC44*$E44*Szenarien!AA$31+AC44*$F44*Szenarien!AA$32+AC44*'Daten Projektion'!$G44*Szenarien!AA$33+AC44*'Daten Projektion'!$H44*Szenarien!AA$34+AC44*'Daten Projektion'!$I44*Szenarien!AA$35+AC44*'Daten Projektion'!$J44*Szenarien!AA$36+AC44*'Daten Projektion'!$K44*Szenarien!AA$37+AC44*'Daten Projektion'!$L44*Szenarien!AA$38+AC44*'Daten Projektion'!$M44*Szenarien!AA$39","v":0},{"$f":"AD44+AD44*$E44*Szenarien!AB$31+AD44*$F44*Szenarien!AB$32+AD44*'Daten Projektion'!$G44*Szenarien!AB$33+AD44*'Daten Projektion'!$H44*Szenarien!AB$34+AD44*'Daten Projektion'!$I44*Szenarien!AB$35+AD44*'Daten Projektion'!$J44*Szenarien!AB$36+AD44*'Daten Projektion'!$K44*Szenarien!AB$37+AD44*'Daten Projektion'!$L44*Szenarien!AB$38+AD44*'Daten Projektion'!$M44*Szenarien!AB$39","v":0}]
[null,{"$f":"Vermögen!E43","v":"33."},{"$f":"IF(Vermögen!F43=0,\"\",Vermögen!F43)","v":""},{"$f":"Vermögen!I43","v":"Bitte auswählen"},{"$f":"Vermögen!J43","v":{"v":0,"d":"0.0%"}},{"$f":"Vermögen!K43","v":{"v":0,"d":"0.0%"}},{"$f":"Vermögen!L43","v":{"v":0,"d":"0.0%"}},{"$f":"Vermögen!M43","v":{"v":0,"d":"0.0%"}},{"$f":"Vermögen!N43","v":{"v":0,"d":"0.0%"}},{"v":0,"d":"0.0%"},{"v":0,"d":"0.0%"},{"v":0,"d":"0.0%"},{"v":0,"d":"0.0%"},{"$f":"Daten_Vermögen!C76","v":0},{"$f":"N45+N45*Vermögen!V43","v":0},{"$f":"O45+O45*Vermögen!$V43","v":0},{"$f":"P45+P45*Vermögen!$V43","v":0},{"$f":"Q45+Q45*Vermögen!$V43","v":0},{"$f":"R45+R45*Vermögen!$V43","v":0},null,{"$f":"N45+N45*$E45*Szenarien!P$31+N45*$F45*Szenarien!P$32+N45*'Daten Projektion'!$G45*Szenarien!P$33+N45*'Daten Projektion'!$H45*Szenarien!P$34+N45*'Daten Projektion'!$I45*Szenarien!P$35+N45*'Daten Projektion'!$J45*Szenarien!P$36+N45*'Daten Projektion'!$K45*Szenarien!P$37+N45*'Daten Projektion'!$L45*Szenarien!P$38+N45*'Daten Projektion'!$M45*Szenarien!P$39","v":0},{"$f":"U45+U45*$E45*Szenarien!Q$31+U45*$F45*Szenarien!Q$32+U45*'Daten Projektion'!$G45*Szenarien!Q$33+U45*'Daten Projektion'!$H45*Szenarien!Q$34+U45*'Daten Projektion'!$I45*Szenarien!Q$35+U45*'Daten Projektion'!$J45*Szenarien!Q$36+U45*'Daten Projektion'!$K45*Szenarien!Q$37+U45*'Daten Projektion'!$L45*Szenarien!Q$38+U45*'Daten Projektion'!$M45*Szenarien!Q$39","v":0},{"$f":"V45+V45*$E45*Szenarien!R$31+V45*$F45*Szenarien!R$32+V45*'Daten Projektion'!$G45*Szenarien!R$33+V45*'Daten Projektion'!$H45*Szenarien!R$34+V45*'Daten Projektion'!$I45*Szenarien!R$35+V45*'Daten Projektion'!$J45*Szenarien!R$36+V45*'Daten Projektion'!$K45*Szenarien!R$37+V45*'Daten Projektion'!$L45*Szenarien!R$38+V45*'Daten Projektion'!$M45*Szenarien!R$39","v":0},{"$f":"W45+W45*$E45*Szenarien!S$31+W45*$F45*Szenarien!S$32+W45*'Daten Projektion'!$G45*Szenarien!S$33+W45*'Daten Projektion'!$H45*Szenarien!S$34+W45*'Daten Projektion'!$I45*Szenarien!S$35+W45*'Daten Projektion'!$J45*Szenarien!S$36+W45*'Daten Projektion'!$K45*Szenarien!S$37+W45*'Daten Projektion'!$L45*Szenarien!S$38+W45*'Daten Projektion'!$M45*Szenarien!S$39","v":0},{"$f":"X45+X45*$E45*Szenarien!T$31+X45*$F45*Szenarien!T$32+X45*'Daten Projektion'!$G45*Szenarien!T$33+X45*'Daten Projektion'!$H45*Szenarien!T$34+X45*'Daten Projektion'!$I45*Szenarien!T$35+X45*'Daten Projektion'!$J45*Szenarien!T$36+X45*'Daten Projektion'!$K45*Szenarien!T$37+X45*'Daten Projektion'!$L45*Szenarien!T$38+X45*'Daten Projektion'!$M45*Szenarien!T$39","v":0},null,{"$f":"N45+N45*$E45*Szenarien!X$31+N45*$F45*Szenarien!X$32+N45*'Daten Projektion'!$G45*Szenarien!X$33+N45*'Daten Projektion'!$H45*Szenarien!X$34+N45*'Daten Projektion'!$I45*Szenarien!X$35+N45*'Daten Projektion'!$J45*Szenarien!X$36+N45*'Daten Projektion'!$K45*Szenarien!X$37+N45*'Daten Projektion'!$L45*Szenarien!X$38+N45*'Daten Projektion'!$M45*Szenarien!X$39","v":0},{"$f":"AA45+AA45*$E45*Szenarien!Y$31+AA45*$F45*Szenarien!Y$32+AA45*'Daten Projektion'!$G45*Szenarien!Y$33+AA45*'Daten Projektion'!$H45*Szenarien!Y$34+AA45*'Daten Projektion'!$I45*Szenarien!Y$35+AA45*'Daten Projektion'!$J45*Szenarien!Y$36+AA45*'Daten Projektion'!$K45*Szenarien!Y$37+AA45*'Daten Projektion'!$L45*Szenarien!Y$38+AA45*'Daten Projektion'!$M45*Szenarien!Y$39","v":0},{"$f":"AB45+AB45*$E45*Szenarien!Z$31+AB45*$F45*Szenarien!Z$32+AB45*'Daten Projektion'!$G45*Szenarien!Z$33+AB45*'Daten Projektion'!$H45*Szenarien!Z$34+AB45*'Daten Projektion'!$I45*Szenarien!Z$35+AB45*'Daten Projektion'!$J45*Szenarien!Z$36+AB45*'Daten Projektion'!$K45*Szenarien!Z$37+AB45*'Daten Projektion'!$L45*Szenarien!Z$38+AB45*'Daten Projektion'!$M45*Szenarien!Z$39","v":0},{"$f":"AC45+AC45*$E45*Szenarien!AA$31+AC45*$F45*Szenarien!AA$32+AC45*'Daten Projektion'!$G45*Szenarien!AA$33+AC45*'Daten Projektion'!$H45*Szenarien!AA$34+AC45*'Daten Projektion'!$I45*Szenarien!AA$35+AC45*'Daten Projektion'!$J45*Szenarien!AA$36+AC45*'Daten Projektion'!$K45*Szenarien!AA$37+AC45*'Daten Projektion'!$L45*Szenarien!AA$38+AC45*'Daten Projektion'!$M45*Szenarien!AA$39","v":0},{"$f":"AD45+AD45*$E45*Szenarien!AB$31+AD45*$F45*Szenarien!AB$32+AD45*'Daten Projektion'!$G45*Szenarien!AB$33+AD45*'Daten Projektion'!$H45*Szenarien!AB$34+AD45*'Daten Projektion'!$I45*Szenarien!AB$35+AD45*'Daten Projektion'!$J45*Szenarien!AB$36+AD45*'Daten Projektion'!$K45*Szenarien!AB$37+AD45*'Daten Projektion'!$L45*Szenarien!AB$38+AD45*'Daten Projektion'!$M45*Szenarien!AB$39","v":0}]
[null,{"$f":"Vermögen!E44","v":"34."},{"$f":"IF(Vermögen!F44=0,\"\",Vermögen!F44)","v":""},{"$f":"Vermögen!I44","v":"Bitte auswählen"},{"$f":"Vermögen!J44","v":{"v":0,"d":"0.0%"}},{"$f":"Vermögen!K44","v":{"v":0,"d":"0.0%"}},{"$f":"Vermögen!L44","v":{"v":0,"d":"0.0%"}},{"$f":"Vermögen!M44","v":{"v":0,"d":"0.0%"}},{"$f":"Vermögen!N44","v":{"v":0,"d":"0.0%"}},{"v":0,"d":"0.0%"},{"v":0,"d":"0.0%"},{"v":0,"d":"0.0%"},{"v":0,"d":"0.0%"},{"$f":"Daten_Vermögen!C77","v":0},{"$f":"N46+N46*Vermögen!V44","v":0},{"$f":"O46+O46*Vermögen!$V44","v":0},{"$f":"P46+P46*Vermögen!$V44","v":0},{"$f":"Q46+Q46*Vermögen!$V44","v":0},{"$f":"R46+R46*Vermögen!$V44","v":0},null,{"$f":"N46+N46*$E46*Szenarien!P$31+N46*$F46*Szenarien!P$32+N46*'Daten Projektion'!$G46*Szenarien!P$33+N46*'Daten Projektion'!$H46*Szenarien!P$34+N46*'Daten Projektion'!$I46*Szenarien!P$35+N46*'Daten Projektion'!$J46*Szenarien!P$36+N46*'Daten Projektion'!$K46*Szenarien!P$37+N46*'Daten Projektion'!$L46*Szenarien!P$38+N46*'Daten Projektion'!$M46*Szenarien!P$39","v":0},{"$f":"U46+U46*$E46*Szenarien!Q$31+U46*$F46*Szenarien!Q$32+U46*'Daten Projektion'!$G46*Szenarien!Q$33+U46*'Daten Projektion'!$H46*Szenarien!Q$34+U46*'Daten Projektion'!$I46*Szenarien!Q$35+U46*'Daten Projektion'!$J46*Szenarien!Q$36+U46*'Daten Projektion'!$K46*Szenarien!Q$37+U46*'Daten Projektion'!$L46*Szenarien!Q$38+U46*'Daten Projektion'!$M46*Szenarien!Q$39","v":0},{"$f":"V46+V46*$E46*Szenarien!R$31+V46*$F46*Szenarien!R$32+V46*'Daten Projektion'!$G46*Szenarien!R$33+V46*'Daten Projektion'!$H46*Szenarien!R$34+V46*'Daten Projektion'!$I46*Szenarien!R$35+V46*'Daten Projektion'!$J46*Szenarien!R$36+V46*'Daten Projektion'!$K46*Szenarien!R$37+V46*'Daten Projektion'!$L46*Szenarien!R$38+V46*'Daten Projektion'!$M46*Szenarien!R$39","v":0},{"$f":"W46+W46*$E46*Szenarien!S$31+W46*$F46*Szenarien!S$32+W46*'Daten Projektion'!$G46*Szenarien!S$33+W46*'Daten Projektion'!$H46*Szenarien!S$34+W46*'Daten Projektion'!$I46*Szenarien!S$35+W46*'Daten Projektion'!$J46*Szenarien!S$36+W46*'Daten Projektion'!$K46*Szenarien!S$37+W46*'Daten Projektion'!$L46*Szenarien!S$38+W46*'Daten Projektion'!$M46*Szenarien!S$39","v":0},{"$f":"X46+X46*$E46*Szenarien!T$31+X46*$F46*Szenarien!T$32+X46*'Daten Projektion'!$G46*Szenarien!T$33+X46*'Daten Projektion'!$H46*Szenarien!T$34+X46*'Daten Projektion'!$I46*Szenarien!T$35+X46*'Daten Projektion'!$J46*Szenarien!T$36+X46*'Daten Projektion'!$K46*Szenarien!T$37+X46*'Daten Projektion'!$L46*Szenarien!T$38+X46*'Daten Projektion'!$M46*Szenarien!T$39","v":0},null,{"$f":"N46+N46*$E46*Szenarien!X$31+N46*$F46*Szenarien!X$32+N46*'Daten Projektion'!$G46*Szenarien!X$33+N46*'Daten Projektion'!$H46*Szenarien!X$34+N46*'Daten Projektion'!$I46*Szenarien!X$35+N46*'Daten Projektion'!$J46*Szenarien!X$36+N46*'Daten Projektion'!$K46*Szenarien!X$37+N46*'Daten Projektion'!$L46*Szenarien!X$38+N46*'Daten Projektion'!$M46*Szenarien!X$39","v":0},{"$f":"AA46+AA46*$E46*Szenarien!Y$31+AA46*$F46*Szenarien!Y$32+AA46*'Daten Projektion'!$G46*Szenarien!Y$33+AA46*'Daten Projektion'!$H46*Szenarien!Y$34+AA46*'Daten Projektion'!$I46*Szenarien!Y$35+AA46*'Daten Projektion'!$J46*Szenarien!Y$36+AA46*'Daten Projektion'!$K46*Szenarien!Y$37+AA46*'Daten Projektion'!$L46*Szenarien!Y$38+AA46*'Daten Projektion'!$M46*Szenarien!Y$39","v":0},{"$f":"AB46+AB46*$E46*Szenarien!Z$31+AB46*$F46*Szenarien!Z$32+AB46*'Daten Projektion'!$G46*Szenarien!Z$33+AB46*'Daten Projektion'!$H46*Szenarien!Z$34+AB46*'Daten Projektion'!$I46*Szenarien!Z$35+AB46*'Daten Projektion'!$J46*Szenarien!Z$36+AB46*'Daten Projektion'!$K46*Szenarien!Z$37+AB46*'Daten Projektion'!$L46*Szenarien!Z$38+AB46*'Daten Projektion'!$M46*Szenarien!Z$39","v":0},{"$f":"AC46+AC46*$E46*Szenarien!AA$31+AC46*$F46*Szenarien!AA$32+AC46*'Daten Projektion'!$G46*Szenarien!AA$33+AC46*'Daten Projektion'!$H46*Szenarien!AA$34+AC46*'Daten Projektion'!$I46*Szenarien!AA$35+AC46*'Daten Projektion'!$J46*Szenarien!AA$36+AC46*'Daten Projektion'!$K46*Szenarien!AA$37+AC46*'Daten Projektion'!$L46*Szenarien!AA$38+AC46*'Daten Projektion'!$M46*Szenarien!AA$39","v":0},{"$f":"AD46+AD46*$E46*Szenarien!AB$31+AD46*$F46*Szenarien!AB$32+AD46*'Daten Projektion'!$G46*Szenarien!AB$33+AD46*'Daten Projektion'!$H46*Szenarien!AB$34+AD46*'Daten Projektion'!$I46*Szenarien!AB$35+AD46*'Daten Projektion'!$J46*Szenarien!AB$36+AD46*'Daten Projektion'!$K46*Szenarien!AB$37+AD46*'Daten Projektion'!$L46*Szenarien!AB$38+AD46*'Daten Projektion'!$M46*Szenarien!AB$39","v":0}]
[null,{"$f":"Vermögen!E45","v":"35."},{"$f":"IF(Vermögen!F45=0,\"\",Vermögen!F45)","v":""},{"$f":"Vermögen!I45","v":"Bitte auswählen"},{"$f":"Vermögen!J45","v":{"v":0,"d":"0.0%"}},{"$f":"Vermögen!K45","v":{"v":0,"d":"0.0%"}},{"$f":"Vermögen!L45","v":{"v":0,"d":"0.0%"}},{"$f":"Vermögen!M45","v":{"v":0,"d":"0.0%"}},{"$f":"Vermögen!N45","v":{"v":0,"d":"0.0%"}},{"v":0,"d":"0.0%"},{"v":0,"d":"0.0%"},{"v":0,"d":"0.0%"},{"v":0,"d":"0.0%"},{"$f":"Daten_Vermögen!C78","v":0},{"$f":"N47+N47*Vermögen!V45","v":0},{"$f":"O47+O47*Vermögen!$V45","v":0},{"$f":"P47+P47*Vermögen!$V45","v":0},{"$f":"Q47+Q47*Vermögen!$V45","v":0},{"$f":"R47+R47*Vermögen!$V45","v":0},null,{"$f":"N47+N47*$E47*Szenarien!P$31+N47*$F47*Szenarien!P$32+N47*'Daten Projektion'!$G47*Szenarien!P$33+N47*'Daten Projektion'!$H47*Szenarien!P$34+N47*'Daten Projektion'!$I47*Szenarien!P$35+N47*'Daten Projektion'!$J47*Szenarien!P$36+N47*'Daten Projektion'!$K47*Szenarien!P$37+N47*'Daten Projektion'!$L47*Szenarien!P$38+N47*'Daten Projektion'!$M47*Szenarien!P$39","v":0},{"$f":"U47+U47*$E47*Szenarien!Q$31+U47*$F47*Szenarien!Q$32+U47*'Daten Projektion'!$G47*Szenarien!Q$33+U47*'Daten Projektion'!$H47*Szenarien!Q$34+U47*'Daten Projektion'!$I47*Szenarien!Q$35+U47*'Daten Projektion'!$J47*Szenarien!Q$36+U47*'Daten Projektion'!$K47*Szenarien!Q$37+U47*'Daten Projektion'!$L47*Szenarien!Q$38+U47*'Daten Projektion'!$M47*Szenarien!Q$39","v":0},{"$f":"V47+V47*$E47*Szenarien!R$31+V47*$F47*Szenarien!R$32+V47*'Daten Projektion'!$G47*Szenarien!R$33+V47*'Daten Projektion'!$H47*Szenarien!R$34+V47*'Daten Projektion'!$I47*Szenarien!R$35+V47*'Daten Projektion'!$J47*Szenarien!R$36+V47*'Daten Projektion'!$K47*Szenarien!R$37+V47*'Daten Projektion'!$L47*Szenarien!R$38+V47*'Daten Projektion'!$M47*Szenarien!R$39","v":0},{"$f":"W47+W47*$E47*Szenarien!S$31+W47*$F47*Szenarien!S$32+W47*'Daten Projektion'!$G47*Szenarien!S$33+W47*'Daten Projektion'!$H47*Szenarien!S$34+W47*'Daten Projektion'!$I47*Szenarien!S$35+W47*'Daten Projektion'!$J47*Szenarien!S$36+W47*'Daten Projektion'!$K47*Szenarien!S$37+W47*'Daten Projektion'!$L47*Szenarien!S$38+W47*'Daten Projektion'!$M47*Szenarien!S$39","v":0},{"$f":"X47+X47*$E47*Szenarien!T$31+X47*$F47*Szenarien!T$32+X47*'Daten Projektion'!$G47*Szenarien!T$33+X47*'Daten Projektion'!$H47*Szenarien!T$34+X47*'Daten Projektion'!$I47*Szenarien!T$35+X47*'Daten Projektion'!$J47*Szenarien!T$36+X47*'Daten Projektion'!$K47*Szenarien!T$37+X47*'Daten Projektion'!$L47*Szenarien!T$38+X47*'Daten Projektion'!$M47*Szenarien!T$39","v":0},null,{"$f":"N47+N47*$E47*Szenarien!X$31+N47*$F47*Szenarien!X$32+N47*'Daten Projektion'!$G47*Szenarien!X$33+N47*'Daten Projektion'!$H47*Szenarien!X$34+N47*'Daten Projektion'!$I47*Szenarien!X$35+N47*'Daten Projektion'!$J47*Szenarien!X$36+N47*'Daten Projektion'!$K47*Szenarien!X$37+N47*'Daten Projektion'!$L47*Szenarien!X$38+N47*'Daten Projektion'!$M47*Szenarien!X$39","v":0},{"$f":"AA47+AA47*$E47*Szenarien!Y$31+AA47*$F47*Szenarien!Y$32+AA47*'Daten Projektion'!$G47*Szenarien!Y$33+AA47*'Daten Projektion'!$H47*Szenarien!Y$34+AA47*'Daten Projektion'!$I47*Szenarien!Y$35+AA47*'Daten Projektion'!$J47*Szenarien!Y$36+AA47*'Daten Projektion'!$K47*Szenarien!Y$37+AA47*'Daten Projektion'!$L47*Szenarien!Y$38+AA47*'Daten Projektion'!$M47*Szenarien!Y$39","v":0},{"$f":"AB47+AB47*$E47*Szenarien!Z$31+AB47*$F47*Szenarien!Z$32+AB47*'Daten Projektion'!$G47*Szenarien!Z$33+AB47*'Daten Projektion'!$H47*Szenarien!Z$34+AB47*'Daten Projektion'!$I47*Szenarien!Z$35+AB47*'Daten Projektion'!$J47*Szenarien!Z$36+AB47*'Daten Projektion'!$K47*Szenarien!Z$37+AB47*'Daten Projektion'!$L47*Szenarien!Z$38+AB47*'Daten Projektion'!$M47*Szenarien!Z$39","v":0},{"$f":"AC47+AC47*$E47*Szenarien!AA$31+AC47*$F47*Szenarien!AA$32+AC47*'Daten Projektion'!$G47*Szenarien!AA$33+AC47*'Daten Projektion'!$H47*Szenarien!AA$34+AC47*'Daten Projektion'!$I47*Szenarien!AA$35+AC47*'Daten Projektion'!$J47*Szenarien!AA$36+AC47*'Daten Projektion'!$K47*Szenarien!AA$37+AC47*'Daten Projektion'!$L47*Szenarien!AA$38+AC47*'Daten Projektion'!$M47*Szenarien!AA$39","v":0},{"$f":"AD47+AD47*$E47*Szenarien!AB$31+AD47*$F47*Szenarien!AB$32+AD47*'Daten Projektion'!$G47*Szenarien!AB$33+AD47*'Daten Projektion'!$H47*Szenarien!AB$34+AD47*'Daten Projektion'!$I47*Szenarien!AB$35+AD47*'Daten Projektion'!$J47*Szenarien!AB$36+AD47*'Daten Projektion'!$K47*Szenarien!AB$37+AD47*'Daten Projektion'!$L47*Szenarien!AB$38+AD47*'Daten Projektion'!$M47*Szenarien!AB$39","v":0}]
[null,{"$f":"Vermögen!E46","v":"36."},{"$f":"IF(Vermögen!F46=0,\"\",Vermögen!F46)","v":""},{"$f":"Vermögen!I46","v":"Bitte auswählen"},{"$f":"Vermögen!J46","v":{"v":0,"d":"0.0%"}},{"$f":"Vermögen!K46","v":{"v":0,"d":"0.0%"}},{"$f":"Vermögen!L46","v":{"v":0,"d":"0.0%"}},{"$f":"Vermögen!M46","v":{"v":0,"d":"0.0%"}},{"$f":"Vermögen!N46","v":{"v":0,"d":"0.0%"}},{"v":0,"d":"0.0%"},{"v":0,"d":"0.0%"},{"v":0,"d":"0.0%"},{"v":0,"d":"0.0%"},{"$f":"Daten_Vermögen!C79","v":0},{"$f":"N48+N48*Vermögen!V46","v":0},{"$f":"O48+O48*Vermögen!$V46","v":0},{"$f":"P48+P48*Vermögen!$V46","v":0},{"$f":"Q48+Q48*Vermögen!$V46","v":0},{"$f":"R48+R48*Vermögen!$V46","v":0},null,{"$f":"N48+N48*$E48*Szenarien!P$31+N48*$F48*Szenarien!P$32+N48*'Daten Projektion'!$G48*Szenarien!P$33+N48*'Daten Projektion'!$H48*Szenarien!P$34+N48*'Daten Projektion'!$I48*Szenarien!P$35+N48*'Daten Projektion'!$J48*Szenarien!P$36+N48*'Daten Projektion'!$K48*Szenarien!P$37+N48*'Daten Projektion'!$L48*Szenarien!P$38+N48*'Daten Projektion'!$M48*Szenarien!P$39","v":0},{"$f":"U48+U48*$E48*Szenarien!Q$31+U48*$F48*Szenarien!Q$32+U48*'Daten Projektion'!$G48*Szenarien!Q$33+U48*'Daten Projektion'!$H48*Szenarien!Q$34+U48*'Daten Projektion'!$I48*Szenarien!Q$35+U48*'Daten Projektion'!$J48*Szenarien!Q$36+U48*'Daten Projektion'!$K48*Szenarien!Q$37+U48*'Daten Projektion'!$L48*Szenarien!Q$38+U48*'Daten Projektion'!$M48*Szenarien!Q$39","v":0},{"$f":"V48+V48*$E48*Szenarien!R$31+V48*$F48*Szenarien!R$32+V48*'Daten Projektion'!$G48*Szenarien!R$33+V48*'Daten Projektion'!$H48*Szenarien!R$34+V48*'Daten Projektion'!$I48*Szenarien!R$35+V48*'Daten Projektion'!$J48*Szenarien!R$36+V48*'Daten Projektion'!$K48*Szenarien!R$37+V48*'Daten Projektion'!$L48*Szenarien!R$38+V48*'Daten Projektion'!$M48*Szenarien!R$39","v":0},{"$f":"W48+W48*$E48*Szenarien!S$31+W48*$F48*Szenarien!S$32+W48*'Daten Projektion'!$G48*Szenarien!S$33+W48*'Daten Projektion'!$H48*Szenarien!S$34+W48*'Daten Projektion'!$I48*Szenarien!S$35+W48*'Daten Projektion'!$J48*Szenarien!S$36+W48*'Daten Projektion'!$K48*Szenarien!S$37+W48*'Daten Projektion'!$L48*Szenarien!S$38+W48*'Daten Projektion'!$M48*Szenarien!S$39","v":0},{"$f":"X48+X48*$E48*Szenarien!T$31+X48*$F48*Szenarien!T$32+X48*'Daten Projektion'!$G48*Szenarien!T$33+X48*'Daten Projektion'!$H48*Szenarien!T$34+X48*'Daten Projektion'!$I48*Szenarien!T$35+X48*'Daten Projektion'!$J48*Szenarien!T$36+X48*'Daten Projektion'!$K48*Szenarien!T$37+X48*'Daten Projektion'!$L48*Szenarien!T$38+X48*'Daten Projektion'!$M48*Szenarien!T$39","v":0},null,{"$f":"N48+N48*$E48*Szenarien!X$31+N48*$F48*Szenarien!X$32+N48*'Daten Projektion'!$G48*Szenarien!X$33+N48*'Daten Projektion'!$H48*Szenarien!X$34+N48*'Daten Projektion'!$I48*Szenarien!X$35+N48*'Daten Projektion'!$J48*Szenarien!X$36+N48*'Daten Projektion'!$K48*Szenarien!X$37+N48*'Daten Projektion'!$L48*Szenarien!X$38+N48*'Daten Projektion'!$M48*Szenarien!X$39","v":0},{"$f":"AA48+AA48*$E48*Szenarien!Y$31+AA48*$F48*Szenarien!Y$32+AA48*'Daten Projektion'!$G48*Szenarien!Y$33+AA48*'Daten Projektion'!$H48*Szenarien!Y$34+AA48*'Daten Projektion'!$I48*Szenarien!Y$35+AA48*'Daten Projektion'!$J48*Szenarien!Y$36+AA48*'Daten Projektion'!$K48*Szenarien!Y$37+AA48*'Daten Projektion'!$L48*Szenarien!Y$38+AA48*'Daten Projektion'!$M48*Szenarien!Y$39","v":0},{"$f":"AB48+AB48*$E48*Szenarien!Z$31+AB48*$F48*Szenarien!Z$32+AB48*'Daten Projektion'!$G48*Szenarien!Z$33+AB48*'Daten Projektion'!$H48*Szenarien!Z$34+AB48*'Daten Projektion'!$I48*Szenarien!Z$35+AB48*'Daten Projektion'!$J48*Szenarien!Z$36+AB48*'Daten Projektion'!$K48*Szenarien!Z$37+AB48*'Daten Projektion'!$L48*Szenarien!Z$38+AB48*'Daten Projektion'!$M48*Szenarien!Z$39","v":0},{"$f":"AC48+AC48*$E48*Szenarien!AA$31+AC48*$F48*Szenarien!AA$32+AC48*'Daten Projektion'!$G48*Szenarien!AA$33+AC48*'Daten Projektion'!$H48*Szenarien!AA$34+AC48*'Daten Projektion'!$I48*Szenarien!AA$35+AC48*'Daten Projektion'!$J48*Szenarien!AA$36+AC48*'Daten Projektion'!$K48*Szenarien!AA$37+AC48*'Daten Projektion'!$L48*Szenarien!AA$38+AC48*'Daten Projektion'!$M48*Szenarien!AA$39","v":0},{"$f":"AD48+AD48*$E48*Szenarien!AB$31+AD48*$F48*Szenarien!AB$32+AD48*'Daten Projektion'!$G48*Szenarien!AB$33+AD48*'Daten Projektion'!$H48*Szenarien!AB$34+AD48*'Daten Projektion'!$I48*Szenarien!AB$35+AD48*'Daten Projektion'!$J48*Szenarien!AB$36+AD48*'Daten Projektion'!$K48*Szenarien!AB$37+AD48*'Daten Projektion'!$L48*Szenarien!AB$38+AD48*'Daten Projektion'!$M48*Szenarien!AB$39","v":0}]
[null,{"$f":"Vermögen!E47","v":"37."},{"$f":"IF(Vermögen!F47=0,\"\",Vermögen!F47)","v":""},{"$f":"Vermögen!I47","v":"Bitte auswählen"},{"$f":"Vermögen!J47","v":{"v":0,"d":"0.0%"}},{"$f":"Vermögen!K47","v":{"v":0,"d":"0.0%"}},{"$f":"Vermögen!L47","v":{"v":0,"d":"0.0%"}},{"$f":"Vermögen!M47","v":{"v":0,"d":"0.0%"}},{"$f":"Vermögen!N47","v":{"v":0,"d":"0.0%"}},{"v":0,"d":"0.0%"},{"v":0,"d":"0.0%"},{"v":0,"d":"0.0%"},{"v":0,"d":"0.0%"},{"$f":"Daten_Vermögen!C80","v":0},{"$f":"N49+N49*Vermögen!V47","v":0},{"$f":"O49+O49*Vermögen!$V47","v":0},{"$f":"P49+P49*Vermögen!$V47","v":0},{"$f":"Q49+Q49*Vermögen!$V47","v":0},{"$f":"R49+R49*Vermögen!$V47","v":0},null,{"$f":"N49+N49*$E49*Szenarien!P$31+N49*$F49*Szenarien!P$32+N49*'Daten Projektion'!$G49*Szenarien!P$33+N49*'Daten Projektion'!$H49*Szenarien!P$34+N49*'Daten Projektion'!$I49*Szenarien!P$35+N49*'Daten Projektion'!$J49*Szenarien!P$36+N49*'Daten Projektion'!$K49*Szenarien!P$37+N49*'Daten Projektion'!$L49*Szenarien!P$38+N49*'Daten Projektion'!$M49*Szenarien!P$39","v":0},{"$f":"U49+U49*$E49*Szenarien!Q$31+U49*$F49*Szenarien!Q$32+U49*'Daten Projektion'!$G49*Szenarien!Q$33+U49*'Daten Projektion'!$H49*Szenarien!Q$34+U49*'Daten Projektion'!$I49*Szenarien!Q$35+U49*'Daten Projektion'!$J49*Szenarien!Q$36+U49*'Daten Projektion'!$K49*Szenarien!Q$37+U49*'Daten Projektion'!$L49*Szenarien!Q$38+U49*'Daten Projektion'!$M49*Szenarien!Q$39","v":0},{"$f":"V49+V49*$E49*Szenarien!R$31+V49*$F49*Szenarien!R$32+V49*'Daten Projektion'!$G49*Szenarien!R$33+V49*'Daten Projektion'!$H49*Szenarien!R$34+V49*'Daten Projektion'!$I49*Szenarien!R$35+V49*'Daten Projektion'!$J49*Szenarien!R$36+V49*'Daten Projektion'!$K49*Szenarien!R$37+V49*'Daten Projektion'!$L49*Szenarien!R$38+V49*'Daten Projektion'!$M49*Szenarien!R$39","v":0},{"$f":"W49+W49*$E49*Szenarien!S$31+W49*$F49*Szenarien!S$32+W49*'Daten Projektion'!$G49*Szenarien!S$33+W49*'Daten Projektion'!$H49*Szenarien!S$34+W49*'Daten Projektion'!$I49*Szenarien!S$35+W49*'Daten Projektion'!$J49*Szenarien!S$36+W49*'Daten Projektion'!$K49*Szenarien!S$37+W49*'Daten Projektion'!$L49*Szenarien!S$38+W49*'Daten Projektion'!$M49*Szenarien!S$39","v":0},{"$f":"X49+X49*$E49*Szenarien!T$31+X49*$F49*Szenarien!T$32+X49*'Daten Projektion'!$G49*Szenarien!T$33+X49*'Daten Projektion'!$H49*Szenarien!T$34+X49*'Daten Projektion'!$I49*Szenarien!T$35+X49*'Daten Projektion'!$J49*Szenarien!T$36+X49*'Daten Projektion'!$K49*Szenarien!T$37+X49*'Daten Projektion'!$L49*Szenarien!T$38+X49*'Daten Projektion'!$M49*Szenarien!T$39","v":0},null,{"$f":"N49+N49*$E49*Szenarien!X$31+N49*$F49*Szenarien!X$32+N49*'Daten Projektion'!$G49*Szenarien!X$33+N49*'Daten Projektion'!$H49*Szenarien!X$34+N49*'Daten Projektion'!$I49*Szenarien!X$35+N49*'Daten Projektion'!$J49*Szenarien!X$36+N49*'Daten Projektion'!$K49*Szenarien!X$37+N49*'Daten Projektion'!$L49*Szenarien!X$38+N49*'Daten Projektion'!$M49*Szenarien!X$39","v":0},{"$f":"AA49+AA49*$E49*Szenarien!Y$31+AA49*$F49*Szenarien!Y$32+AA49*'Daten Projektion'!$G49*Szenarien!Y$33+AA49*'Daten Projektion'!$H49*Szenarien!Y$34+AA49*'Daten Projektion'!$I49*Szenarien!Y$35+AA49*'Daten Projektion'!$J49*Szenarien!Y$36+AA49*'Daten Projektion'!$K49*Szenarien!Y$37+AA49*'Daten Projektion'!$L49*Szenarien!Y$38+AA49*'Daten Projektion'!$M49*Szenarien!Y$39","v":0},{"$f":"AB49+AB49*$E49*Szenarien!Z$31+AB49*$F49*Szenarien!Z$32+AB49*'Daten Projektion'!$G49*Szenarien!Z$33+AB49*'Daten Projektion'!$H49*Szenarien!Z$34+AB49*'Daten Projektion'!$I49*Szenarien!Z$35+AB49*'Daten Projektion'!$J49*Szenarien!Z$36+AB49*'Daten Projektion'!$K49*Szenarien!Z$37+AB49*'Daten Projektion'!$L49*Szenarien!Z$38+AB49*'Daten Projektion'!$M49*Szenarien!Z$39","v":0},{"$f":"AC49+AC49*$E49*Szenarien!AA$31+AC49*$F49*Szenarien!AA$32+AC49*'Daten Projektion'!$G49*Szenarien!AA$33+AC49*'Daten Projektion'!$H49*Szenarien!AA$34+AC49*'Daten Projektion'!$I49*Szenarien!AA$35+AC49*'Daten Projektion'!$J49*Szenarien!AA$36+AC49*'Daten Projektion'!$K49*Szenarien!AA$37+AC49*'Daten Projektion'!$L49*Szenarien!AA$38+AC49*'Daten Projektion'!$M49*Szenarien!AA$39","v":0},{"$f":"AD49+AD49*$E49*Szenarien!AB$31+AD49*$F49*Szenarien!AB$32+AD49*'Daten Projektion'!$G49*Szenarien!AB$33+AD49*'Daten Projektion'!$H49*Szenarien!AB$34+AD49*'Daten Projektion'!$I49*Szenarien!AB$35+AD49*'Daten Projektion'!$J49*Szenarien!AB$36+AD49*'Daten Projektion'!$K49*Szenarien!AB$37+AD49*'Daten Projektion'!$L49*Szenarien!AB$38+AD49*'Daten Projektion'!$M49*Szenarien!AB$39","v":0}]
[null,{"$f":"Vermögen!E48","v":"38."},{"$f":"IF(Vermögen!F48=0,\"\",Vermögen!F48)","v":""},{"$f":"Vermögen!I48","v":"Bitte auswählen"},{"$f":"Vermögen!J48","v":{"v":0,"d":"0.0%"}},{"$f":"Vermögen!K48","v":{"v":0,"d":"0.0%"}},{"$f":"Vermögen!L48","v":{"v":0,"d":"0.0%"}},{"$f":"Vermögen!M48","v":{"v":0,"d":"0.0%"}},{"$f":"Vermögen!N48","v":{"v":0,"d":"0.0%"}},{"v":0,"d":"0.0%"},{"v":0,"d":"0.0%"},{"v":0,"d":"0.0%"},{"v":0,"d":"0.0%"},{"$f":"Daten_Vermögen!C81","v":0},{"$f":"N50+N50*Vermögen!V48","v":0},{"$f":"O50+O50*Vermögen!$V48","v":0},{"$f":"P50+P50*Vermögen!$V48","v":0},{"$f":"Q50+Q50*Vermögen!$V48","v":0},{"$f":"R50+R50*Vermögen!$V48","v":0},null,{"$f":"N50+N50*$E50*Szenarien!P$31+N50*$F50*Szenarien!P$32+N50*'Daten Projektion'!$G50*Szenarien!P$33+N50*'Daten Projektion'!$H50*Szenarien!P$34+N50*'Daten Projektion'!$I50*Szenarien!P$35+N50*'Daten Projektion'!$J50*Szenarien!P$36+N50*'Daten Projektion'!$K50*Szenarien!P$37+N50*'Daten Projektion'!$L50*Szenarien!P$38+N50*'Daten Projektion'!$M50*Szenarien!P$39","v":0},{"$f":"U50+U50*$E50*Szenarien!Q$31+U50*$F50*Szenarien!Q$32+U50*'Daten Projektion'!$G50*Szenarien!Q$33+U50*'Daten Projektion'!$H50*Szenarien!Q$34+U50*'Daten Projektion'!$I50*Szenarien!Q$35+U50*'Daten Projektion'!$J50*Szenarien!Q$36+U50*'Daten Projektion'!$K50*Szenarien!Q$37+U50*'Daten Projektion'!$L50*Szenarien!Q$38+U50*'Daten Projektion'!$M50*Szenarien!Q$39","v":0},{"$f":"V50+V50*$E50*Szenarien!R$31+V50*$F50*Szenarien!R$32+V50*'Daten Projektion'!$G50*Szenarien!R$33+V50*'Daten Projektion'!$H50*Szenarien!R$34+V50*'Daten Projektion'!$I50*Szenarien!R$35+V50*'Daten Projektion'!$J50*Szenarien!R$36+V50*'Daten Projektion'!$K50*Szenarien!R$37+V50*'Daten Projektion'!$L50*Szenarien!R$38+V50*'Daten Projektion'!$M50*Szenarien!R$39","v":0},{"$f":"W50+W50*$E50*Szenarien!S$31+W50*$F50*Szenarien!S$32+W50*'Daten Projektion'!$G50*Szenarien!S$33+W50*'Daten Projektion'!$H50*Szenarien!S$34+W50*'Daten Projektion'!$I50*Szenarien!S$35+W50*'Daten Projektion'!$J50*Szenarien!S$36+W50*'Daten Projektion'!$K50*Szenarien!S$37+W50*'Daten Projektion'!$L50*Szenarien!S$38+W50*'Daten Projektion'!$M50*Szenarien!S$39","v":0},{"$f":"X50+X50*$E50*Szenarien!T$31+X50*$F50*Szenarien!T$32+X50*'Daten Projektion'!$G50*Szenarien!T$33+X50*'Daten Projektion'!$H50*Szenarien!T$34+X50*'Daten Projektion'!$I50*Szenarien!T$35+X50*'Daten Projektion'!$J50*Szenarien!T$36+X50*'Daten Projektion'!$K50*Szenarien!T$37+X50*'Daten Projektion'!$L50*Szenarien!T$38+X50*'Daten Projektion'!$M50*Szenarien!T$39","v":0},null,{"$f":"N50+N50*$E50*Szenarien!X$31+N50*$F50*Szenarien!X$32+N50*'Daten Projektion'!$G50*Szenarien!X$33+N50*'Daten Projektion'!$H50*Szenarien!X$34+N50*'Daten Projektion'!$I50*Szenarien!X$35+N50*'Daten Projektion'!$J50*Szenarien!X$36+N50*'Daten Projektion'!$K50*Szenarien!X$37+N50*'Daten Projektion'!$L50*Szenarien!X$38+N50*'Daten Projektion'!$M50*Szenarien!X$39","v":0},{"$f":"AA50+AA50*$E50*Szenarien!Y$31+AA50*$F50*Szenarien!Y$32+AA50*'Daten Projektion'!$G50*Szenarien!Y$33+AA50*'Daten Projektion'!$H50*Szenarien!Y$34+AA50*'Daten Projektion'!$I50*Szenarien!Y$35+AA50*'Daten Projektion'!$J50*Szenarien!Y$36+AA50*'Daten Projektion'!$K50*Szenarien!Y$37+AA50*'Daten Projektion'!$L50*Szenarien!Y$38+AA50*'Daten Projektion'!$M50*Szenarien!Y$39","v":0},{"$f":"AB50+AB50*$E50*Szenarien!Z$31+AB50*$F50*Szenarien!Z$32+AB50*'Daten Projektion'!$G50*Szenarien!Z$33+AB50*'Daten Projektion'!$H50*Szenarien!Z$34+AB50*'Daten Projektion'!$I50*Szenarien!Z$35+AB50*'Daten Projektion'!$J50*Szenarien!Z$36+AB50*'Daten Projektion'!$K50*Szenarien!Z$37+AB50*'Daten Projektion'!$L50*Szenarien!Z$38+AB50*'Daten Projektion'!$M50*Szenarien!Z$39","v":0},{"$f":"AC50+AC50*$E50*Szenarien!AA$31+AC50*$F50*Szenarien!AA$32+AC50*'Daten Projektion'!$G50*Szenarien!AA$33+AC50*'Daten Projektion'!$H50*Szenarien!AA$34+AC50*'Daten Projektion'!$I50*Szenarien!AA$35+AC50*'Daten Projektion'!$J50*Szenarien!AA$36+AC50*'Daten Projektion'!$K50*Szenarien!AA$37+AC50*'Daten Projektion'!$L50*Szenarien!AA$38+AC50*'Daten Projektion'!$M50*Szenarien!AA$39","v":0},{"$f":"AD50+AD50*$E50*Szenarien!AB$31+AD50*$F50*Szenarien!AB$32+AD50*'Daten Projektion'!$G50*Szenarien!AB$33+AD50*'Daten Projektion'!$H50*Szenarien!AB$34+AD50*'Daten Projektion'!$I50*Szenarien!AB$35+AD50*'Daten Projektion'!$J50*Szenarien!AB$36+AD50*'Daten Projektion'!$K50*Szenarien!AB$37+AD50*'Daten Projektion'!$L50*Szenarien!AB$38+AD50*'Daten Projektion'!$M50*Szenarien!AB$39","v":0}]
[null,{"$f":"Vermögen!E49","v":"39."},{"$f":"IF(Vermögen!F49=0,\"\",Vermögen!F49)","v":""},{"$f":"Vermögen!I49","v":"Bitte auswählen"},{"$f":"Vermögen!J49","v":{"v":0,"d":"0.0%"}},{"$f":"Vermögen!K49","v":{"v":0,"d":"0.0%"}},{"$f":"Vermögen!L49","v":{"v":0,"d":"0.0%"}},{"$f":"Vermögen!M49","v":{"v":0,"d":"0.0%"}},{"$f":"Vermögen!N49","v":{"v":0,"d":"0.0%"}},{"v":0,"d":"0.0%"},{"v":0,"d":"0.0%"},{"v":0,"d":"0.0%"},{"v":0,"d":"0.0%"},{"$f":"Daten_Vermögen!C82","v":0},{"$f":"N51+N51*Vermögen!V49","v":0},{"$f":"O51+O51*Vermögen!$V49","v":0},{"$f":"P51+P51*Vermögen!$V49","v":0},{"$f":"Q51+Q51*Vermögen!$V49","v":0},{"$f":"R51+R51*Vermögen!$V49","v":0},null,{"$f":"N51+N51*$E51*Szenarien!P$31+N51*$F51*Szenarien!P$32+N51*'Daten Projektion'!$G51*Szenarien!P$33+N51*'Daten Projektion'!$H51*Szenarien!P$34+N51*'Daten Projektion'!$I51*Szenarien!P$35+N51*'Daten Projektion'!$J51*Szenarien!P$36+N51*'Daten Projektion'!$K51*Szenarien!P$37+N51*'Daten Projektion'!$L51*Szenarien!P$38+N51*'Daten Projektion'!$M51*Szenarien!P$39","v":0},{"$f":"U51+U51*$E51*Szenarien!Q$31+U51*$F51*Szenarien!Q$32+U51*'Daten Projektion'!$G51*Szenarien!Q$33+U51*'Daten Projektion'!$H51*Szenarien!Q$34+U51*'Daten Projektion'!$I51*Szenarien!Q$35+U51*'Daten Projektion'!$J51*Szenarien!Q$36+U51*'Daten Projektion'!$K51*Szenarien!Q$37+U51*'Daten Projektion'!$L51*Szenarien!Q$38+U51*'Daten Projektion'!$M51*Szenarien!Q$39","v":0},{"$f":"V51+V51*$E51*Szenarien!R$31+V51*$F51*Szenarien!R$32+V51*'Daten Projektion'!$G51*Szenarien!R$33+V51*'Daten Projektion'!$H51*Szenarien!R$34+V51*'Daten Projektion'!$I51*Szenarien!R$35+V51*'Daten Projektion'!$J51*Szenarien!R$36+V51*'Daten Projektion'!$K51*Szenarien!R$37+V51*'Daten Projektion'!$L51*Szenarien!R$38+V51*'Daten Projektion'!$M51*Szenarien!R$39","v":0},{"$f":"W51+W51*$E51*Szenarien!S$31+W51*$F51*Szenarien!S$32+W51*'Daten Projektion'!$G51*Szenarien!S$33+W51*'Daten Projektion'!$H51*Szenarien!S$34+W51*'Daten Projektion'!$I51*Szenarien!S$35+W51*'Daten Projektion'!$J51*Szenarien!S$36+W51*'Daten Projektion'!$K51*Szenarien!S$37+W51*'Daten Projektion'!$L51*Szenarien!S$38+W51*'Daten Projektion'!$M51*Szenarien!S$39","v":0},{"$f":"X51+X51*$E51*Szenarien!T$31+X51*$F51*Szenarien!T$32+X51*'Daten Projektion'!$G51*Szenarien!T$33+X51*'Daten Projektion'!$H51*Szenarien!T$34+X51*'Daten Projektion'!$I51*Szenarien!T$35+X51*'Daten Projektion'!$J51*Szenarien!T$36+X51*'Daten Projektion'!$K51*Szenarien!T$37+X51*'Daten Projektion'!$L51*Szenarien!T$38+X51*'Daten Projektion'!$M51*Szenarien!T$39","v":0},null,{"$f":"N51+N51*$E51*Szenarien!X$31+N51*$F51*Szenarien!X$32+N51*'Daten Projektion'!$G51*Szenarien!X$33+N51*'Daten Projektion'!$H51*Szenarien!X$34+N51*'Daten Projektion'!$I51*Szenarien!X$35+N51*'Daten Projektion'!$J51*Szenarien!X$36+N51*'Daten Projektion'!$K51*Szenarien!X$37+N51*'Daten Projektion'!$L51*Szenarien!X$38+N51*'Daten Projektion'!$M51*Szenarien!X$39","v":0},{"$f":"AA51+AA51*$E51*Szenarien!Y$31+AA51*$F51*Szenarien!Y$32+AA51*'Daten Projektion'!$G51*Szenarien!Y$33+AA51*'Daten Projektion'!$H51*Szenarien!Y$34+AA51*'Daten Projektion'!$I51*Szenarien!Y$35+AA51*'Daten Projektion'!$J51*Szenarien!Y$36+AA51*'Daten Projektion'!$K51*Szenarien!Y$37+AA51*'Daten Projektion'!$L51*Szenarien!Y$38+AA51*'Daten Projektion'!$M51*Szenarien!Y$39","v":0},{"$f":"AB51+AB51*$E51*Szenarien!Z$31+AB51*$F51*Szenarien!Z$32+AB51*'Daten Projektion'!$G51*Szenarien!Z$33+AB51*'Daten Projektion'!$H51*Szenarien!Z$34+AB51*'Daten Projektion'!$I51*Szenarien!Z$35+AB51*'Daten Projektion'!$J51*Szenarien!Z$36+AB51*'Daten Projektion'!$K51*Szenarien!Z$37+AB51*'Daten Projektion'!$L51*Szenarien!Z$38+AB51*'Daten Projektion'!$M51*Szenarien!Z$39","v":0},{"$f":"AC51+AC51*$E51*Szenarien!AA$31+AC51*$F51*Szenarien!AA$32+AC51*'Daten Projektion'!$G51*Szenarien!AA$33+AC51*'Daten Projektion'!$H51*Szenarien!AA$34+AC51*'Daten Projektion'!$I51*Szenarien!AA$35+AC51*'Daten Projektion'!$J51*Szenarien!AA$36+AC51*'Daten Projektion'!$K51*Szenarien!AA$37+AC51*'Daten Projektion'!$L51*Szenarien!AA$38+AC51*'Daten Projektion'!$M51*Szenarien!AA$39","v":0},{"$f":"AD51+AD51*$E51*Szenarien!AB$31+AD51*$F51*Szenarien!AB$32+AD51*'Daten Projektion'!$G51*Szenarien!AB$33+AD51*'Daten Projektion'!$H51*Szenarien!AB$34+AD51*'Daten Projektion'!$I51*Szenarien!AB$35+AD51*'Daten Projektion'!$J51*Szenarien!AB$36+AD51*'Daten Projektion'!$K51*Szenarien!AB$37+AD51*'Daten Projektion'!$L51*Szenarien!AB$38+AD51*'Daten Projektion'!$M51*Szenarien!AB$39","v":0}]
[null,{"$f":"Vermögen!E50","v":"40."},{"$f":"IF(Vermögen!F50=0,\"\",Vermögen!F50)","v":""},{"$f":"Vermögen!I50","v":"Bitte auswählen"},{"$f":"Vermögen!J50","v":{"v":0,"d":"0.0%"}},{"$f":"Vermögen!K50","v":{"v":0,"d":"0.0%"}},{"$f":"Vermögen!L50","v":{"v":0,"d":"0.0%"}},{"$f":"Vermögen!M50","v":{"v":0,"d":"0.0%"}},{"$f":"Vermögen!N50","v":{"v":0,"d":"0.0%"}},{"v":0,"d":"0.0%"},{"v":0,"d":"0.0%"},{"v":0,"d":"0.0%"},{"v":0,"d":"0.0%"},{"$f":"Daten_Vermögen!C83","v":0},{"$f":"N52+N52*Vermögen!V50","v":0},{"$f":"O52+O52*Vermögen!$V50","v":0},{"$f":"P52+P52*Vermögen!$V50","v":0},{"$f":"Q52+Q52*Vermögen!$V50","v":0},{"$f":"R52+R52*Vermögen!$V50","v":0},null,{"$f":"N52+N52*$E52*Szenarien!P$31+N52*$F52*Szenarien!P$32+N52*'Daten Projektion'!$G52*Szenarien!P$33+N52*'Daten Projektion'!$H52*Szenarien!P$34+N52*'Daten Projektion'!$I52*Szenarien!P$35+N52*'Daten Projektion'!$J52*Szenarien!P$36+N52*'Daten Projektion'!$K52*Szenarien!P$37+N52*'Daten Projektion'!$L52*Szenarien!P$38+N52*'Daten Projektion'!$M52*Szenarien!P$39","v":0},{"$f":"U52+U52*$E52*Szenarien!Q$31+U52*$F52*Szenarien!Q$32+U52*'Daten Projektion'!$G52*Szenarien!Q$33+U52*'Daten Projektion'!$H52*Szenarien!Q$34+U52*'Daten Projektion'!$I52*Szenarien!Q$35+U52*'Daten Projektion'!$J52*Szenarien!Q$36+U52*'Daten Projektion'!$K52*Szenarien!Q$37+U52*'Daten Projektion'!$L52*Szenarien!Q$38+U52*'Daten Projektion'!$M52*Szenarien!Q$39","v":0},{"$f":"V52+V52*$E52*Szenarien!R$31+V52*$F52*Szenarien!R$32+V52*'Daten Projektion'!$G52*Szenarien!R$33+V52*'Daten Projektion'!$H52*Szenarien!R$34+V52*'Daten Projektion'!$I52*Szenarien!R$35+V52*'Daten Projektion'!$J52*Szenarien!R$36+V52*'Daten Projektion'!$K52*Szenarien!R$37+V52*'Daten Projektion'!$L52*Szenarien!R$38+V52*'Daten Projektion'!$M52*Szenarien!R$39","v":0},{"$f":"W52+W52*$E52*Szenarien!S$31+W52*$F52*Szenarien!S$32+W52*'Daten Projektion'!$G52*Szenarien!S$33+W52*'Daten Projektion'!$H52*Szenarien!S$34+W52*'Daten Projektion'!$I52*Szenarien!S$35+W52*'Daten Projektion'!$J52*Szenarien!S$36+W52*'Daten Projektion'!$K52*Szenarien!S$37+W52*'Daten Projektion'!$L52*Szenarien!S$38+W52*'Daten Projektion'!$M52*Szenarien!S$39","v":0},{"$f":"X52+X52*$E52*Szenarien!T$31+X52*$F52*Szenarien!T$32+X52*'Daten Projektion'!$G52*Szenarien!T$33+X52*'Daten Projektion'!$H52*Szenarien!T$34+X52*'Daten Projektion'!$I52*Szenarien!T$35+X52*'Daten Projektion'!$J52*Szenarien!T$36+X52*'Daten Projektion'!$K52*Szenarien!T$37+X52*'Daten Projektion'!$L52*Szenarien!T$38+X52*'Daten Projektion'!$M52*Szenarien!T$39","v":0},null,{"$f":"N52+N52*$E52*Szenarien!X$31+N52*$F52*Szenarien!X$32+N52*'Daten Projektion'!$G52*Szenarien!X$33+N52*'Daten Projektion'!$H52*Szenarien!X$34+N52*'Daten Projektion'!$I52*Szenarien!X$35+N52*'Daten Projektion'!$J52*Szenarien!X$36+N52*'Daten Projektion'!$K52*Szenarien!X$37+N52*'Daten Projektion'!$L52*Szenarien!X$38+N52*'Daten Projektion'!$M52*Szenarien!X$39","v":0},{"$f":"AA52+AA52*$E52*Szenarien!Y$31+AA52*$F52*Szenarien!Y$32+AA52*'Daten Projektion'!$G52*Szenarien!Y$33+AA52*'Daten Projektion'!$H52*Szenarien!Y$34+AA52*'Daten Projektion'!$I52*Szenarien!Y$35+AA52*'Daten Projektion'!$J52*Szenarien!Y$36+AA52*'Daten Projektion'!$K52*Szenarien!Y$37+AA52*'Daten Projektion'!$L52*Szenarien!Y$38+AA52*'Daten Projektion'!$M52*Szenarien!Y$39","v":0},{"$f":"AB52+AB52*$E52*Szenarien!Z$31+AB52*$F52*Szenarien!Z$32+AB52*'Daten Projektion'!$G52*Szenarien!Z$33+AB52*'Daten Projektion'!$H52*Szenarien!Z$34+AB52*'Daten Projektion'!$I52*Szenarien!Z$35+AB52*'Daten Projektion'!$J52*Szenarien!Z$36+AB52*'Daten Projektion'!$K52*Szenarien!Z$37+AB52*'Daten Projektion'!$L52*Szenarien!Z$38+AB52*'Daten Projektion'!$M52*Szenarien!Z$39","v":0},{"$f":"AC52+AC52*$E52*Szenarien!AA$31+AC52*$F52*Szenarien!AA$32+AC52*'Daten Projektion'!$G52*Szenarien!AA$33+AC52*'Daten Projektion'!$H52*Szenarien!AA$34+AC52*'Daten Projektion'!$I52*Szenarien!AA$35+AC52*'Daten Projektion'!$J52*Szenarien!AA$36+AC52*'Daten Projektion'!$K52*Szenarien!AA$37+AC52*'Daten Projektion'!$L52*Szenarien!AA$38+AC52*'Daten Projektion'!$M52*Szenarien!AA$39","v":0},{"$f":"AD52+AD52*$E52*Szenarien!AB$31+AD52*$F52*Szenarien!AB$32+AD52*'Daten Projektion'!$G52*Szenarien!AB$33+AD52*'Daten Projektion'!$H52*Szenarien!AB$34+AD52*'Daten Projektion'!$I52*Szenarien!AB$35+AD52*'Daten Projektion'!$J52*Szenarien!AB$36+AD52*'Daten Projektion'!$K52*Szenarien!AB$37+AD52*'Daten Projektion'!$L52*Szenarien!AB$38+AD52*'Daten Projektion'!$M52*Szenarien!AB$39","v":0}]
[null,{"$f":"Vermögen!E51","v":"41."},{"$f":"IF(Vermögen!F51=0,\"\",Vermögen!F51)","v":""},{"$f":"Vermögen!I51","v":"Bitte auswählen"},{"$f":"Vermögen!J51","v":{"v":0,"d":"0.0%"}},{"$f":"Vermögen!K51","v":{"v":0,"d":"0.0%"}},{"$f":"Vermögen!L51","v":{"v":0,"d":"0.0%"}},{"$f":"Vermögen!M51","v":{"v":0,"d":"0.0%"}},{"$f":"Vermögen!N51","v":{"v":0,"d":"0.0%"}},{"v":0,"d":"0.0%"},{"v":0,"d":"0.0%"},{"v":0,"d":"0.0%"},{"v":0,"d":"0.0%"},{"$f":"Daten_Vermögen!C84","v":0},{"$f":"N53+N53*Vermögen!V51","v":0},{"$f":"O53+O53*Vermögen!$V51","v":0},{"$f":"P53+P53*Vermögen!$V51","v":0},{"$f":"Q53+Q53*Vermögen!$V51","v":0},{"$f":"R53+R53*Vermögen!$V51","v":0},null,{"$f":"N53+N53*$E53*Szenarien!P$31+N53*$F53*Szenarien!P$32+N53*'Daten Projektion'!$G53*Szenarien!P$33+N53*'Daten Projektion'!$H53*Szenarien!P$34+N53*'Daten Projektion'!$I53*Szenarien!P$35+N53*'Daten Projektion'!$J53*Szenarien!P$36+N53*'Daten Projektion'!$K53*Szenarien!P$37+N53*'Daten Projektion'!$L53*Szenarien!P$38+N53*'Daten Projektion'!$M53*Szenarien!P$39","v":0},{"$f":"U53+U53*$E53*Szenarien!Q$31+U53*$F53*Szenarien!Q$32+U53*'Daten Projektion'!$G53*Szenarien!Q$33+U53*'Daten Projektion'!$H53*Szenarien!Q$34+U53*'Daten Projektion'!$I53*Szenarien!Q$35+U53*'Daten Projektion'!$J53*Szenarien!Q$36+U53*'Daten Projektion'!$K53*Szenarien!Q$37+U53*'Daten Projektion'!$L53*Szenarien!Q$38+U53*'Daten Projektion'!$M53*Szenarien!Q$39","v":0},{"$f":"V53+V53*$E53*Szenarien!R$31+V53*$F53*Szenarien!R$32+V53*'Daten Projektion'!$G53*Szenarien!R$33+V53*'Daten Projektion'!$H53*Szenarien!R$34+V53*'Daten Projektion'!$I53*Szenarien!R$35+V53*'Daten Projektion'!$J53*Szenarien!R$36+V53*'Daten Projektion'!$K53*Szenarien!R$37+V53*'Daten Projektion'!$L53*Szenarien!R$38+V53*'Daten Projektion'!$M53*Szenarien!R$39","v":0},{"$f":"W53+W53*$E53*Szenarien!S$31+W53*$F53*Szenarien!S$32+W53*'Daten Projektion'!$G53*Szenarien!S$33+W53*'Daten Projektion'!$H53*Szenarien!S$34+W53*'Daten Projektion'!$I53*Szenarien!S$35+W53*'Daten Projektion'!$J53*Szenarien!S$36+W53*'Daten Projektion'!$K53*Szenarien!S$37+W53*'Daten Projektion'!$L53*Szenarien!S$38+W53*'Daten Projektion'!$M53*Szenarien!S$39","v":0},{"$f":"X53+X53*$E53*Szenarien!T$31+X53*$F53*Szenarien!T$32+X53*'Daten Projektion'!$G53*Szenarien!T$33+X53*'Daten Projektion'!$H53*Szenarien!T$34+X53*'Daten Projektion'!$I53*Szenarien!T$35+X53*'Daten Projektion'!$J53*Szenarien!T$36+X53*'Daten Projektion'!$K53*Szenarien!T$37+X53*'Daten Projektion'!$L53*Szenarien!T$38+X53*'Daten Projektion'!$M53*Szenarien!T$39","v":0},null,{"$f":"N53+N53*$E53*Szenarien!X$31+N53*$F53*Szenarien!X$32+N53*'Daten Projektion'!$G53*Szenarien!X$33+N53*'Daten Projektion'!$H53*Szenarien!X$34+N53*'Daten Projektion'!$I53*Szenarien!X$35+N53*'Daten Projektion'!$J53*Szenarien!X$36+N53*'Daten Projektion'!$K53*Szenarien!X$37+N53*'Daten Projektion'!$L53*Szenarien!X$38+N53*'Daten Projektion'!$M53*Szenarien!X$39","v":0},{"$f":"AA53+AA53*$E53*Szenarien!Y$31+AA53*$F53*Szenarien!Y$32+AA53*'Daten Projektion'!$G53*Szenarien!Y$33+AA53*'Daten Projektion'!$H53*Szenarien!Y$34+AA53*'Daten Projektion'!$I53*Szenarien!Y$35+AA53*'Daten Projektion'!$J53*Szenarien!Y$36+AA53*'Daten Projektion'!$K53*Szenarien!Y$37+AA53*'Daten Projektion'!$L53*Szenarien!Y$38+AA53*'Daten Projektion'!$M53*Szenarien!Y$39","v":0},{"$f":"AB53+AB53*$E53*Szenarien!Z$31+AB53*$F53*Szenarien!Z$32+AB53*'Daten Projektion'!$G53*Szenarien!Z$33+AB53*'Daten Projektion'!$H53*Szenarien!Z$34+AB53*'Daten Projektion'!$I53*Szenarien!Z$35+AB53*'Daten Projektion'!$J53*Szenarien!Z$36+AB53*'Daten Projektion'!$K53*Szenarien!Z$37+AB53*'Daten Projektion'!$L53*Szenarien!Z$38+AB53*'Daten Projektion'!$M53*Szenarien!Z$39","v":0},{"$f":"AC53+AC53*$E53*Szenarien!AA$31+AC53*$F53*Szenarien!AA$32+AC53*'Daten Projektion'!$G53*Szenarien!AA$33+AC53*'Daten Projektion'!$H53*Szenarien!AA$34+AC53*'Daten Projektion'!$I53*Szenarien!AA$35+AC53*'Daten Projektion'!$J53*Szenarien!AA$36+AC53*'Daten Projektion'!$K53*Szenarien!AA$37+AC53*'Daten Projektion'!$L53*Szenarien!AA$38+AC53*'Daten Projektion'!$M53*Szenarien!AA$39","v":0},{"$f":"AD53+AD53*$E53*Szenarien!AB$31+AD53*$F53*Szenarien!AB$32+AD53*'Daten Projektion'!$G53*Szenarien!AB$33+AD53*'Daten Projektion'!$H53*Szenarien!AB$34+AD53*'Daten Projektion'!$I53*Szenarien!AB$35+AD53*'Daten Projektion'!$J53*Szenarien!AB$36+AD53*'Daten Projektion'!$K53*Szenarien!AB$37+AD53*'Daten Projektion'!$L53*Szenarien!AB$38+AD53*'Daten Projektion'!$M53*Szenarien!AB$39","v":0}]
[null,{"$f":"Vermögen!E52","v":"42."},{"$f":"IF(Vermögen!F52=0,\"\",Vermögen!F52)","v":""},{"$f":"Vermögen!I52","v":"Bitte auswählen"},{"$f":"Vermögen!J52","v":{"v":0,"d":"0.0%"}},{"$f":"Vermögen!K52","v":{"v":0,"d":"0.0%"}},{"$f":"Vermögen!L52","v":{"v":0,"d":"0.0%"}},{"$f":"Vermögen!M52","v":{"v":0,"d":"0.0%"}},{"$f":"Vermögen!N52","v":{"v":0,"d":"0.0%"}},{"v":0,"d":"0.0%"},{"v":0,"d":"0.0%"},{"v":0,"d":"0.0%"},{"v":0,"d":"0.0%"},{"$f":"Daten_Vermögen!C85","v":0},{"$f":"N54+N54*Vermögen!V52","v":0},{"$f":"O54+O54*Vermögen!$V52","v":0},{"$f":"P54+P54*Vermögen!$V52","v":0},{"$f":"Q54+Q54*Vermögen!$V52","v":0},{"$f":"R54+R54*Vermögen!$V52","v":0},null,{"$f":"N54+N54*$E54*Szenarien!P$31+N54*$F54*Szenarien!P$32+N54*'Daten Projektion'!$G54*Szenarien!P$33+N54*'Daten Projektion'!$H54*Szenarien!P$34+N54*'Daten Projektion'!$I54*Szenarien!P$35+N54*'Daten Projektion'!$J54*Szenarien!P$36+N54*'Daten Projektion'!$K54*Szenarien!P$37+N54*'Daten Projektion'!$L54*Szenarien!P$38+N54*'Daten Projektion'!$M54*Szenarien!P$39","v":0},{"$f":"U54+U54*$E54*Szenarien!Q$31+U54*$F54*Szenarien!Q$32+U54*'Daten Projektion'!$G54*Szenarien!Q$33+U54*'Daten Projektion'!$H54*Szenarien!Q$34+U54*'Daten Projektion'!$I54*Szenarien!Q$35+U54*'Daten Projektion'!$J54*Szenarien!Q$36+U54*'Daten Projektion'!$K54*Szenarien!Q$37+U54*'Daten Projektion'!$L54*Szenarien!Q$38+U54*'Daten Projektion'!$M54*Szenarien!Q$39","v":0},{"$f":"V54+V54*$E54*Szenarien!R$31+V54*$F54*Szenarien!R$32+V54*'Daten Projektion'!$G54*Szenarien!R$33+V54*'Daten Projektion'!$H54*Szenarien!R$34+V54*'Daten Projektion'!$I54*Szenarien!R$35+V54*'Daten Projektion'!$J54*Szenarien!R$36+V54*'Daten Projektion'!$K54*Szenarien!R$37+V54*'Daten Projektion'!$L54*Szenarien!R$38+V54*'Daten Projektion'!$M54*Szenarien!R$39","v":0},{"$f":"W54+W54*$E54*Szenarien!S$31+W54*$F54*Szenarien!S$32+W54*'Daten Projektion'!$G54*Szenarien!S$33+W54*'Daten Projektion'!$H54*Szenarien!S$34+W54*'Daten Projektion'!$I54*Szenarien!S$35+W54*'Daten Projektion'!$J54*Szenarien!S$36+W54*'Daten Projektion'!$K54*Szenarien!S$37+W54*'Daten Projektion'!$L54*Szenarien!S$38+W54*'Daten Projektion'!$M54*Szenarien!S$39","v":0},{"$f":"X54+X54*$E54*Szenarien!T$31+X54*$F54*Szenarien!T$32+X54*'Daten Projektion'!$G54*Szenarien!T$33+X54*'Daten Projektion'!$H54*Szenarien!T$34+X54*'Daten Projektion'!$I54*Szenarien!T$35+X54*'Daten Projektion'!$J54*Szenarien!T$36+X54*'Daten Projektion'!$K54*Szenarien!T$37+X54*'Daten Projektion'!$L54*Szenarien!T$38+X54*'Daten Projektion'!$M54*Szenarien!T$39","v":0},null,{"$f":"N54+N54*$E54*Szenarien!X$31+N54*$F54*Szenarien!X$32+N54*'Daten Projektion'!$G54*Szenarien!X$33+N54*'Daten Projektion'!$H54*Szenarien!X$34+N54*'Daten Projektion'!$I54*Szenarien!X$35+N54*'Daten Projektion'!$J54*Szenarien!X$36+N54*'Daten Projektion'!$K54*Szenarien!X$37+N54*'Daten Projektion'!$L54*Szenarien!X$38+N54*'Daten Projektion'!$M54*Szenarien!X$39","v":0},{"$f":"AA54+AA54*$E54*Szenarien!Y$31+AA54*$F54*Szenarien!Y$32+AA54*'Daten Projektion'!$G54*Szenarien!Y$33+AA54*'Daten Projektion'!$H54*Szenarien!Y$34+AA54*'Daten Projektion'!$I54*Szenarien!Y$35+AA54*'Daten Projektion'!$J54*Szenarien!Y$36+AA54*'Daten Projektion'!$K54*Szenarien!Y$37+AA54*'Daten Projektion'!$L54*Szenarien!Y$38+AA54*'Daten Projektion'!$M54*Szenarien!Y$39","v":0},{"$f":"AB54+AB54*$E54*Szenarien!Z$31+AB54*$F54*Szenarien!Z$32+AB54*'Daten Projektion'!$G54*Szenarien!Z$33+AB54*'Daten Projektion'!$H54*Szenarien!Z$34+AB54*'Daten Projektion'!$I54*Szenarien!Z$35+AB54*'Daten Projektion'!$J54*Szenarien!Z$36+AB54*'Daten Projektion'!$K54*Szenarien!Z$37+AB54*'Daten Projektion'!$L54*Szenarien!Z$38+AB54*'Daten Projektion'!$M54*Szenarien!Z$39","v":0},{"$f":"AC54+AC54*$E54*Szenarien!AA$31+AC54*$F54*Szenarien!AA$32+AC54*'Daten Projektion'!$G54*Szenarien!AA$33+AC54*'Daten Projektion'!$H54*Szenarien!AA$34+AC54*'Daten Projektion'!$I54*Szenarien!AA$35+AC54*'Daten Projektion'!$J54*Szenarien!AA$36+AC54*'Daten Projektion'!$K54*Szenarien!AA$37+AC54*'Daten Projektion'!$L54*Szenarien!AA$38+AC54*'Daten Projektion'!$M54*Szenarien!AA$39","v":0},{"$f":"AD54+AD54*$E54*Szenarien!AB$31+AD54*$F54*Szenarien!AB$32+AD54*'Daten Projektion'!$G54*Szenarien!AB$33+AD54*'Daten Projektion'!$H54*Szenarien!AB$34+AD54*'Daten Projektion'!$I54*Szenarien!AB$35+AD54*'Daten Projektion'!$J54*Szenarien!AB$36+AD54*'Daten Projektion'!$K54*Szenarien!AB$37+AD54*'Daten Projektion'!$L54*Szenarien!AB$38+AD54*'Daten Projektion'!$M54*Szenarien!AB$39","v":0}]
[null,{"$f":"Vermögen!E53","v":"43."},{"$f":"IF(Vermögen!F53=0,\"\",Vermögen!F53)","v":""},{"$f":"Vermögen!I53","v":"Bitte auswählen"},{"$f":"Vermögen!J53","v":{"v":0,"d":"0.0%"}},{"$f":"Vermögen!K53","v":{"v":0,"d":"0.0%"}},{"$f":"Vermögen!L53","v":{"v":0,"d":"0.0%"}},{"$f":"Vermögen!M53","v":{"v":0,"d":"0.0%"}},{"$f":"Vermögen!N53","v":{"v":0,"d":"0.0%"}},{"v":0,"d":"0.0%"},{"v":0,"d":"0.0%"},{"v":0,"d":"0.0%"},{"v":0,"d":"0.0%"},{"$f":"Daten_Vermögen!C86","v":0},{"$f":"N55+N55*Vermögen!V53","v":0},{"$f":"O55+O55*Vermögen!$V53","v":0},{"$f":"P55+P55*Vermögen!$V53","v":0},{"$f":"Q55+Q55*Vermögen!$V53","v":0},{"$f":"R55+R55*Vermögen!$V53","v":0},null,{"$f":"N55+N55*$E55*Szenarien!P$31+N55*$F55*Szenarien!P$32+N55*'Daten Projektion'!$G55*Szenarien!P$33+N55*'Daten Projektion'!$H55*Szenarien!P$34+N55*'Daten Projektion'!$I55*Szenarien!P$35+N55*'Daten Projektion'!$J55*Szenarien!P$36+N55*'Daten Projektion'!$K55*Szenarien!P$37+N55*'Daten Projektion'!$L55*Szenarien!P$38+N55*'Daten Projektion'!$M55*Szenarien!P$39","v":0},{"$f":"U55+U55*$E55*Szenarien!Q$31+U55*$F55*Szenarien!Q$32+U55*'Daten Projektion'!$G55*Szenarien!Q$33+U55*'Daten Projektion'!$H55*Szenarien!Q$34+U55*'Daten Projektion'!$I55*Szenarien!Q$35+U55*'Daten Projektion'!$J55*Szenarien!Q$36+U55*'Daten Projektion'!$K55*Szenarien!Q$37+U55*'Daten Projektion'!$L55*Szenarien!Q$38+U55*'Daten Projektion'!$M55*Szenarien!Q$39","v":0},{"$f":"V55+V55*$E55*Szenarien!R$31+V55*$F55*Szenarien!R$32+V55*'Daten Projektion'!$G55*Szenarien!R$33+V55*'Daten Projektion'!$H55*Szenarien!R$34+V55*'Daten Projektion'!$I55*Szenarien!R$35+V55*'Daten Projektion'!$J55*Szenarien!R$36+V55*'Daten Projektion'!$K55*Szenarien!R$37+V55*'Daten Projektion'!$L55*Szenarien!R$38+V55*'Daten Projektion'!$M55*Szenarien!R$39","v":0},{"$f":"W55+W55*$E55*Szenarien!S$31+W55*$F55*Szenarien!S$32+W55*'Daten Projektion'!$G55*Szenarien!S$33+W55*'Daten Projektion'!$H55*Szenarien!S$34+W55*'Daten Projektion'!$I55*Szenarien!S$35+W55*'Daten Projektion'!$J55*Szenarien!S$36+W55*'Daten Projektion'!$K55*Szenarien!S$37+W55*'Daten Projektion'!$L55*Szenarien!S$38+W55*'Daten Projektion'!$M55*Szenarien!S$39","v":0},{"$f":"X55+X55*$E55*Szenarien!T$31+X55*$F55*Szenarien!T$32+X55*'Daten Projektion'!$G55*Szenarien!T$33+X55*'Daten Projektion'!$H55*Szenarien!T$34+X55*'Daten Projektion'!$I55*Szenarien!T$35+X55*'Daten Projektion'!$J55*Szenarien!T$36+X55*'Daten Projektion'!$K55*Szenarien!T$37+X55*'Daten Projektion'!$L55*Szenarien!T$38+X55*'Daten Projektion'!$M55*Szenarien!T$39","v":0},null,{"$f":"N55+N55*$E55*Szenarien!X$31+N55*$F55*Szenarien!X$32+N55*'Daten Projektion'!$G55*Szenarien!X$33+N55*'Daten Projektion'!$H55*Szenarien!X$34+N55*'Daten Projektion'!$I55*Szenarien!X$35+N55*'Daten Projektion'!$J55*Szenarien!X$36+N55*'Daten Projektion'!$K55*Szenarien!X$37+N55*'Daten Projektion'!$L55*Szenarien!X$38+N55*'Daten Projektion'!$M55*Szenarien!X$39","v":0},{"$f":"AA55+AA55*$E55*Szenarien!Y$31+AA55*$F55*Szenarien!Y$32+AA55*'Daten Projektion'!$G55*Szenarien!Y$33+AA55*'Daten Projektion'!$H55*Szenarien!Y$34+AA55*'Daten Projektion'!$I55*Szenarien!Y$35+AA55*'Daten Projektion'!$J55*Szenarien!Y$36+AA55*'Daten Projektion'!$K55*Szenarien!Y$37+AA55*'Daten Projektion'!$L55*Szenarien!Y$38+AA55*'Daten Projektion'!$M55*Szenarien!Y$39","v":0},{"$f":"AB55+AB55*$E55*Szenarien!Z$31+AB55*$F55*Szenarien!Z$32+AB55*'Daten Projektion'!$G55*Szenarien!Z$33+AB55*'Daten Projektion'!$H55*Szenarien!Z$34+AB55*'Daten Projektion'!$I55*Szenarien!Z$35+AB55*'Daten Projektion'!$J55*Szenarien!Z$36+AB55*'Daten Projektion'!$K55*Szenarien!Z$37+AB55*'Daten Projektion'!$L55*Szenarien!Z$38+AB55*'Daten Projektion'!$M55*Szenarien!Z$39","v":0},{"$f":"AC55+AC55*$E55*Szenarien!AA$31+AC55*$F55*Szenarien!AA$32+AC55*'Daten Projektion'!$G55*Szenarien!AA$33+AC55*'Daten Projektion'!$H55*Szenarien!AA$34+AC55*'Daten Projektion'!$I55*Szenarien!AA$35+AC55*'Daten Projektion'!$J55*Szenarien!AA$36+AC55*'Daten Projektion'!$K55*Szenarien!AA$37+AC55*'Daten Projektion'!$L55*Szenarien!AA$38+AC55*'Daten Projektion'!$M55*Szenarien!AA$39","v":0},{"$f":"AD55+AD55*$E55*Szenarien!AB$31+AD55*$F55*Szenarien!AB$32+AD55*'Daten Projektion'!$G55*Szenarien!AB$33+AD55*'Daten Projektion'!$H55*Szenarien!AB$34+AD55*'Daten Projektion'!$I55*Szenarien!AB$35+AD55*'Daten Projektion'!$J55*Szenarien!AB$36+AD55*'Daten Projektion'!$K55*Szenarien!AB$37+AD55*'Daten Projektion'!$L55*Szenarien!AB$38+AD55*'Daten Projektion'!$M55*Szenarien!AB$39","v":0}]
[null,{"$f":"Vermögen!E54","v":"44."},{"$f":"IF(Vermögen!F54=0,\"\",Vermögen!F54)","v":""},{"$f":"Vermögen!I54","v":"Bitte auswählen"},{"$f":"Vermögen!J54","v":{"v":0,"d":"0.0%"}},{"$f":"Vermögen!K54","v":{"v":0,"d":"0.0%"}},{"$f":"Vermögen!L54","v":{"v":0,"d":"0.0%"}},{"$f":"Vermögen!M54","v":{"v":0,"d":"0.0%"}},{"$f":"Vermögen!N54","v":{"v":0,"d":"0.0%"}},{"v":0,"d":"0.0%"},{"v":0,"d":"0.0%"},{"v":0,"d":"0.0%"},{"v":0,"d":"0.0%"},{"$f":"Daten_Vermögen!C87","v":0},{"$f":"N56+N56*Vermögen!V54","v":0},{"$f":"O56+O56*Vermögen!$V54","v":0},{"$f":"P56+P56*Vermögen!$V54","v":0},{"$f":"Q56+Q56*Vermögen!$V54","v":0},{"$f":"R56+R56*Vermögen!$V54","v":0},null,{"$f":"N56+N56*$E56*Szenarien!P$31+N56*$F56*Szenarien!P$32+N56*'Daten Projektion'!$G56*Szenarien!P$33+N56*'Daten Projektion'!$H56*Szenarien!P$34+N56*'Daten Projektion'!$I56*Szenarien!P$35+N56*'Daten Projektion'!$J56*Szenarien!P$36+N56*'Daten Projektion'!$K56*Szenarien!P$37+N56*'Daten Projektion'!$L56*Szenarien!P$38+N56*'Daten Projektion'!$M56*Szenarien!P$39","v":0},{"$f":"U56+U56*$E56*Szenarien!Q$31+U56*$F56*Szenarien!Q$32+U56*'Daten Projektion'!$G56*Szenarien!Q$33+U56*'Daten Projektion'!$H56*Szenarien!Q$34+U56*'Daten Projektion'!$I56*Szenarien!Q$35+U56*'Daten Projektion'!$J56*Szenarien!Q$36+U56*'Daten Projektion'!$K56*Szenarien!Q$37+U56*'Daten Projektion'!$L56*Szenarien!Q$38+U56*'Daten Projektion'!$M56*Szenarien!Q$39","v":0},{"$f":"V56+V56*$E56*Szenarien!R$31+V56*$F56*Szenarien!R$32+V56*'Daten Projektion'!$G56*Szenarien!R$33+V56*'Daten Projektion'!$H56*Szenarien!R$34+V56*'Daten Projektion'!$I56*Szenarien!R$35+V56*'Daten Projektion'!$J56*Szenarien!R$36+V56*'Daten Projektion'!$K56*Szenarien!R$37+V56*'Daten Projektion'!$L56*Szenarien!R$38+V56*'Daten Projektion'!$M56*Szenarien!R$39","v":0},{"$f":"W56+W56*$E56*Szenarien!S$31+W56*$F56*Szenarien!S$32+W56*'Daten Projektion'!$G56*Szenarien!S$33+W56*'Daten Projektion'!$H56*Szenarien!S$34+W56*'Daten Projektion'!$I56*Szenarien!S$35+W56*'Daten Projektion'!$J56*Szenarien!S$36+W56*'Daten Projektion'!$K56*Szenarien!S$37+W56*'Daten Projektion'!$L56*Szenarien!S$38+W56*'Daten Projektion'!$M56*Szenarien!S$39","v":0},{"$f":"X56+X56*$E56*Szenarien!T$31+X56*$F56*Szenarien!T$32+X56*'Daten Projektion'!$G56*Szenarien!T$33+X56*'Daten Projektion'!$H56*Szenarien!T$34+X56*'Daten Projektion'!$I56*Szenarien!T$35+X56*'Daten Projektion'!$J56*Szenarien!T$36+X56*'Daten Projektion'!$K56*Szenarien!T$37+X56*'Daten Projektion'!$L56*Szenarien!T$38+X56*'Daten Projektion'!$M56*Szenarien!T$39","v":0},null,{"$f":"N56+N56*$E56*Szenarien!X$31+N56*$F56*Szenarien!X$32+N56*'Daten Projektion'!$G56*Szenarien!X$33+N56*'Daten Projektion'!$H56*Szenarien!X$34+N56*'Daten Projektion'!$I56*Szenarien!X$35+N56*'Daten Projektion'!$J56*Szenarien!X$36+N56*'Daten Projektion'!$K56*Szenarien!X$37+N56*'Daten Projektion'!$L56*Szenarien!X$38+N56*'Daten Projektion'!$M56*Szenarien!X$39","v":0},{"$f":"AA56+AA56*$E56*Szenarien!Y$31+AA56*$F56*Szenarien!Y$32+AA56*'Daten Projektion'!$G56*Szenarien!Y$33+AA56*'Daten Projektion'!$H56*Szenarien!Y$34+AA56*'Daten Projektion'!$I56*Szenarien!Y$35+AA56*'Daten Projektion'!$J56*Szenarien!Y$36+AA56*'Daten Projektion'!$K56*Szenarien!Y$37+AA56*'Daten Projektion'!$L56*Szenarien!Y$38+AA56*'Daten Projektion'!$M56*Szenarien!Y$39","v":0},{"$f":"AB56+AB56*$E56*Szenarien!Z$31+AB56*$F56*Szenarien!Z$32+AB56*'Daten Projektion'!$G56*Szenarien!Z$33+AB56*'Daten Projektion'!$H56*Szenarien!Z$34+AB56*'Daten Projektion'!$I56*Szenarien!Z$35+AB56*'Daten Projektion'!$J56*Szenarien!Z$36+AB56*'Daten Projektion'!$K56*Szenarien!Z$37+AB56*'Daten Projektion'!$L56*Szenarien!Z$38+AB56*'Daten Projektion'!$M56*Szenarien!Z$39","v":0},{"$f":"AC56+AC56*$E56*Szenarien!AA$31+AC56*$F56*Szenarien!AA$32+AC56*'Daten Projektion'!$G56*Szenarien!AA$33+AC56*'Daten Projektion'!$H56*Szenarien!AA$34+AC56*'Daten Projektion'!$I56*Szenarien!AA$35+AC56*'Daten Projektion'!$J56*Szenarien!AA$36+AC56*'Daten Projektion'!$K56*Szenarien!AA$37+AC56*'Daten Projektion'!$L56*Szenarien!AA$38+AC56*'Daten Projektion'!$M56*Szenarien!AA$39","v":0},{"$f":"AD56+AD56*$E56*Szenarien!AB$31+AD56*$F56*Szenarien!AB$32+AD56*'Daten Projektion'!$G56*Szenarien!AB$33+AD56*'Daten Projektion'!$H56*Szenarien!AB$34+AD56*'Daten Projektion'!$I56*Szenarien!AB$35+AD56*'Daten Projektion'!$J56*Szenarien!AB$36+AD56*'Daten Projektion'!$K56*Szenarien!AB$37+AD56*'Daten Projektion'!$L56*Szenarien!AB$38+AD56*'Daten Projektion'!$M56*Szenarien!AB$39","v":0}]
[null,{"$f":"Vermögen!E55","v":"45."},{"$f":"IF(Vermögen!F55=0,\"\",Vermögen!F55)","v":""},{"$f":"Vermögen!I55","v":"Bitte auswählen"},{"$f":"Vermögen!J55","v":{"v":0,"d":"0.0%"}},{"$f":"Vermögen!K55","v":{"v":0,"d":"0.0%"}},{"$f":"Vermögen!L55","v":{"v":0,"d":"0.0%"}},{"$f":"Vermögen!M55","v":{"v":0,"d":"0.0%"}},{"$f":"Vermögen!N55","v":{"v":0,"d":"0.0%"}},{"v":0,"d":"0.0%"},{"v":0,"d":"0.0%"},{"v":0,"d":"0.0%"},{"v":0,"d":"0.0%"},{"$f":"Daten_Vermögen!C88","v":0},{"$f":"N57+N57*Vermögen!V55","v":0},{"$f":"O57+O57*Vermögen!$V55","v":0},{"$f":"P57+P57*Vermögen!$V55","v":0},{"$f":"Q57+Q57*Vermögen!$V55","v":0},{"$f":"R57+R57*Vermögen!$V55","v":0},null,{"$f":"N57+N57*$E57*Szenarien!P$31+N57*$F57*Szenarien!P$32+N57*'Daten Projektion'!$G57*Szenarien!P$33+N57*'Daten Projektion'!$H57*Szenarien!P$34+N57*'Daten Projektion'!$I57*Szenarien!P$35+N57*'Daten Projektion'!$J57*Szenarien!P$36+N57*'Daten Projektion'!$K57*Szenarien!P$37+N57*'Daten Projektion'!$L57*Szenarien!P$38+N57*'Daten Projektion'!$M57*Szenarien!P$39","v":0},{"$f":"U57+U57*$E57*Szenarien!Q$31+U57*$F57*Szenarien!Q$32+U57*'Daten Projektion'!$G57*Szenarien!Q$33+U57*'Daten Projektion'!$H57*Szenarien!Q$34+U57*'Daten Projektion'!$I57*Szenarien!Q$35+U57*'Daten Projektion'!$J57*Szenarien!Q$36+U57*'Daten Projektion'!$K57*Szenarien!Q$37+U57*'Daten Projektion'!$L57*Szenarien!Q$38+U57*'Daten Projektion'!$M57*Szenarien!Q$39","v":0},{"$f":"V57+V57*$E57*Szenarien!R$31+V57*$F57*Szenarien!R$32+V57*'Daten Projektion'!$G57*Szenarien!R$33+V57*'Daten Projektion'!$H57*Szenarien!R$34+V57*'Daten Projektion'!$I57*Szenarien!R$35+V57*'Daten Projektion'!$J57*Szenarien!R$36+V57*'Daten Projektion'!$K57*Szenarien!R$37+V57*'Daten Projektion'!$L57*Szenarien!R$38+V57*'Daten Projektion'!$M57*Szenarien!R$39","v":0},{"$f":"W57+W57*$E57*Szenarien!S$31+W57*$F57*Szenarien!S$32+W57*'Daten Projektion'!$G57*Szenarien!S$33+W57*'Daten Projektion'!$H57*Szenarien!S$34+W57*'Daten Projektion'!$I57*Szenarien!S$35+W57*'Daten Projektion'!$J57*Szenarien!S$36+W57*'Daten Projektion'!$K57*Szenarien!S$37+W57*'Daten Projektion'!$L57*Szenarien!S$38+W57*'Daten Projektion'!$M57*Szenarien!S$39","v":0},{"$f":"X57+X57*$E57*Szenarien!T$31+X57*$F57*Szenarien!T$32+X57*'Daten Projektion'!$G57*Szenarien!T$33+X57*'Daten Projektion'!$H57*Szenarien!T$34+X57*'Daten Projektion'!$I57*Szenarien!T$35+X57*'Daten Projektion'!$J57*Szenarien!T$36+X57*'Daten Projektion'!$K57*Szenarien!T$37+X57*'Daten Projektion'!$L57*Szenarien!T$38+X57*'Daten Projektion'!$M57*Szenarien!T$39","v":0},null,{"$f":"N57+N57*$E57*Szenarien!X$31+N57*$F57*Szenarien!X$32+N57*'Daten Projektion'!$G57*Szenarien!X$33+N57*'Daten Projektion'!$H57*Szenarien!X$34+N57*'Daten Projektion'!$I57*Szenarien!X$35+N57*'Daten Projektion'!$J57*Szenarien!X$36+N57*'Daten Projektion'!$K57*Szenarien!X$37+N57*'Daten Projektion'!$L57*Szenarien!X$38+N57*'Daten Projektion'!$M57*Szenarien!X$39","v":0},{"$f":"AA57+AA57*$E57*Szenarien!Y$31+AA57*$F57*Szenarien!Y$32+AA57*'Daten Projektion'!$G57*Szenarien!Y$33+AA57*'Daten Projektion'!$H57*Szenarien!Y$34+AA57*'Daten Projektion'!$I57*Szenarien!Y$35+AA57*'Daten Projektion'!$J57*Szenarien!Y$36+AA57*'Daten Projektion'!$K57*Szenarien!Y$37+AA57*'Daten Projektion'!$L57*Szenarien!Y$38+AA57*'Daten Projektion'!$M57*Szenarien!Y$39","v":0},{"$f":"AB57+AB57*$E57*Szenarien!Z$31+AB57*$F57*Szenarien!Z$32+AB57*'Daten Projektion'!$G57*Szenarien!Z$33+AB57*'Daten Projektion'!$H57*Szenarien!Z$34+AB57*'Daten Projektion'!$I57*Szenarien!Z$35+AB57*'Daten Projektion'!$J57*Szenarien!Z$36+AB57*'Daten Projektion'!$K57*Szenarien!Z$37+AB57*'Daten Projektion'!$L57*Szenarien!Z$38+AB57*'Daten Projektion'!$M57*Szenarien!Z$39","v":0},{"$f":"AC57+AC57*$E57*Szenarien!AA$31+AC57*$F57*Szenarien!AA$32+AC57*'Daten Projektion'!$G57*Szenarien!AA$33+AC57*'Daten Projektion'!$H57*Szenarien!AA$34+AC57*'Daten Projektion'!$I57*Szenarien!AA$35+AC57*'Daten Projektion'!$J57*Szenarien!AA$36+AC57*'Daten Projektion'!$K57*Szenarien!AA$37+AC57*'Daten Projektion'!$L57*Szenarien!AA$38+AC57*'Daten Projektion'!$M57*Szenarien!AA$39","v":0},{"$f":"AD57+AD57*$E57*Szenarien!AB$31+AD57*$F57*Szenarien!AB$32+AD57*'Daten Projektion'!$G57*Szenarien!AB$33+AD57*'Daten Projektion'!$H57*Szenarien!AB$34+AD57*'Daten Projektion'!$I57*Szenarien!AB$35+AD57*'Daten Projektion'!$J57*Szenarien!AB$36+AD57*'Daten Projektion'!$K57*Szenarien!AB$37+AD57*'Daten Projektion'!$L57*Szenarien!AB$38+AD57*'Daten Projektion'!$M57*Szenarien!AB$39","v":0}]
[null,{"$f":"Vermögen!E56","v":"46."},{"$f":"IF(Vermögen!F56=0,\"\",Vermögen!F56)","v":""},{"$f":"Vermögen!I56","v":"Bitte auswählen"},{"$f":"Vermögen!J56","v":{"v":0,"d":"0.0%"}},{"$f":"Vermögen!K56","v":{"v":0,"d":"0.0%"}},{"$f":"Vermögen!L56","v":{"v":0,"d":"0.0%"}},{"$f":"Vermögen!M56","v":{"v":0,"d":"0.0%"}},{"$f":"Vermögen!N56","v":{"v":0,"d":"0.0%"}},{"v":0,"d":"0.0%"},{"v":0,"d":"0.0%"},{"v":0,"d":"0.0%"},{"v":0,"d":"0.0%"},{"$f":"Daten_Vermögen!C89","v":0},{"$f":"N58+N58*Vermögen!V56","v":0},{"$f":"O58+O58*Vermögen!$V56","v":0},{"$f":"P58+P58*Vermögen!$V56","v":0},{"$f":"Q58+Q58*Vermögen!$V56","v":0},{"$f":"R58+R58*Vermögen!$V56","v":0},null,{"$f":"N58+N58*$E58*Szenarien!P$31+N58*$F58*Szenarien!P$32+N58*'Daten Projektion'!$G58*Szenarien!P$33+N58*'Daten Projektion'!$H58*Szenarien!P$34+N58*'Daten Projektion'!$I58*Szenarien!P$35+N58*'Daten Projektion'!$J58*Szenarien!P$36+N58*'Daten Projektion'!$K58*Szenarien!P$37+N58*'Daten Projektion'!$L58*Szenarien!P$38+N58*'Daten Projektion'!$M58*Szenarien!P$39","v":0},{"$f":"U58+U58*$E58*Szenarien!Q$31+U58*$F58*Szenarien!Q$32+U58*'Daten Projektion'!$G58*Szenarien!Q$33+U58*'Daten Projektion'!$H58*Szenarien!Q$34+U58*'Daten Projektion'!$I58*Szenarien!Q$35+U58*'Daten Projektion'!$J58*Szenarien!Q$36+U58*'Daten Projektion'!$K58*Szenarien!Q$37+U58*'Daten Projektion'!$L58*Szenarien!Q$38+U58*'Daten Projektion'!$M58*Szenarien!Q$39","v":0},{"$f":"V58+V58*$E58*Szenarien!R$31+V58*$F58*Szenarien!R$32+V58*'Daten Projektion'!$G58*Szenarien!R$33+V58*'Daten Projektion'!$H58*Szenarien!R$34+V58*'Daten Projektion'!$I58*Szenarien!R$35+V58*'Daten Projektion'!$J58*Szenarien!R$36+V58*'Daten Projektion'!$K58*Szenarien!R$37+V58*'Daten Projektion'!$L58*Szenarien!R$38+V58*'Daten Projektion'!$M58*Szenarien!R$39","v":0},{"$f":"W58+W58*$E58*Szenarien!S$31+W58*$F58*Szenarien!S$32+W58*'Daten Projektion'!$G58*Szenarien!S$33+W58*'Daten Projektion'!$H58*Szenarien!S$34+W58*'Daten Projektion'!$I58*Szenarien!S$35+W58*'Daten Projektion'!$J58*Szenarien!S$36+W58*'Daten Projektion'!$K58*Szenarien!S$37+W58*'Daten Projektion'!$L58*Szenarien!S$38+W58*'Daten Projektion'!$M58*Szenarien!S$39","v":0},{"$f":"X58+X58*$E58*Szenarien!T$31+X58*$F58*Szenarien!T$32+X58*'Daten Projektion'!$G58*Szenarien!T$33+X58*'Daten Projektion'!$H58*Szenarien!T$34+X58*'Daten Projektion'!$I58*Szenarien!T$35+X58*'Daten Projektion'!$J58*Szenarien!T$36+X58*'Daten Projektion'!$K58*Szenarien!T$37+X58*'Daten Projektion'!$L58*Szenarien!T$38+X58*'Daten Projektion'!$M58*Szenarien!T$39","v":0},null,{"$f":"N58+N58*$E58*Szenarien!X$31+N58*$F58*Szenarien!X$32+N58*'Daten Projektion'!$G58*Szenarien!X$33+N58*'Daten Projektion'!$H58*Szenarien!X$34+N58*'Daten Projektion'!$I58*Szenarien!X$35+N58*'Daten Projektion'!$J58*Szenarien!X$36+N58*'Daten Projektion'!$K58*Szenarien!X$37+N58*'Daten Projektion'!$L58*Szenarien!X$38+N58*'Daten Projektion'!$M58*Szenarien!X$39","v":0},{"$f":"AA58+AA58*$E58*Szenarien!Y$31+AA58*$F58*Szenarien!Y$32+AA58*'Daten Projektion'!$G58*Szenarien!Y$33+AA58*'Daten Projektion'!$H58*Szenarien!Y$34+AA58*'Daten Projektion'!$I58*Szenarien!Y$35+AA58*'Daten Projektion'!$J58*Szenarien!Y$36+AA58*'Daten Projektion'!$K58*Szenarien!Y$37+AA58*'Daten Projektion'!$L58*Szenarien!Y$38+AA58*'Daten Projektion'!$M58*Szenarien!Y$39","v":0},{"$f":"AB58+AB58*$E58*Szenarien!Z$31+AB58*$F58*Szenarien!Z$32+AB58*'Daten Projektion'!$G58*Szenarien!Z$33+AB58*'Daten Projektion'!$H58*Szenarien!Z$34+AB58*'Daten Projektion'!$I58*Szenarien!Z$35+AB58*'Daten Projektion'!$J58*Szenarien!Z$36+AB58*'Daten Projektion'!$K58*Szenarien!Z$37+AB58*'Daten Projektion'!$L58*Szenarien!Z$38+AB58*'Daten Projektion'!$M58*Szenarien!Z$39","v":0},{"$f":"AC58+AC58*$E58*Szenarien!AA$31+AC58*$F58*Szenarien!AA$32+AC58*'Daten Projektion'!$G58*Szenarien!AA$33+AC58*'Daten Projektion'!$H58*Szenarien!AA$34+AC58*'Daten Projektion'!$I58*Szenarien!AA$35+AC58*'Daten Projektion'!$J58*Szenarien!AA$36+AC58*'Daten Projektion'!$K58*Szenarien!AA$37+AC58*'Daten Projektion'!$L58*Szenarien!AA$38+AC58*'Daten Projektion'!$M58*Szenarien!AA$39","v":0},{"$f":"AD58+AD58*$E58*Szenarien!AB$31+AD58*$F58*Szenarien!AB$32+AD58*'Daten Projektion'!$G58*Szenarien!AB$33+AD58*'Daten Projektion'!$H58*Szenarien!AB$34+AD58*'Daten Projektion'!$I58*Szenarien!AB$35+AD58*'Daten Projektion'!$J58*Szenarien!AB$36+AD58*'Daten Projektion'!$K58*Szenarien!AB$37+AD58*'Daten Projektion'!$L58*Szenarien!AB$38+AD58*'Daten Projektion'!$M58*Szenarien!AB$39","v":0}]
[null,{"$f":"Vermögen!E57","v":"47."},{"$f":"IF(Vermögen!F57=0,\"\",Vermögen!F57)","v":""},{"$f":"Vermögen!I57","v":"Bitte auswählen"},{"$f":"Vermögen!J57","v":{"v":0,"d":"0.0%"}},{"$f":"Vermögen!K57","v":{"v":0,"d":"0.0%"}},{"$f":"Vermögen!L57","v":{"v":0,"d":"0.0%"}},{"$f":"Vermögen!M57","v":{"v":0,"d":"0.0%"}},{"$f":"Vermögen!N57","v":{"v":0,"d":"0.0%"}},{"v":0,"d":"0.0%"},{"v":0,"d":"0.0%"},{"v":0,"d":"0.0%"},{"v":0,"d":"0.0%"},{"$f":"Daten_Vermögen!C90","v":0},{"$f":"N59+N59*Vermögen!V57","v":0},{"$f":"O59+O59*Vermögen!$V57","v":0},{"$f":"P59+P59*Vermögen!$V57","v":0},{"$f":"Q59+Q59*Vermögen!$V57","v":0},{"$f":"R59+R59*Vermögen!$V57","v":0},null,{"$f":"N59+N59*$E59*Szenarien!P$31+N59*$F59*Szenarien!P$32+N59*'Daten Projektion'!$G59*Szenarien!P$33+N59*'Daten Projektion'!$H59*Szenarien!P$34+N59*'Daten Projektion'!$I59*Szenarien!P$35+N59*'Daten Projektion'!$J59*Szenarien!P$36+N59*'Daten Projektion'!$K59*Szenarien!P$37+N59*'Daten Projektion'!$L59*Szenarien!P$38+N59*'Daten Projektion'!$M59*Szenarien!P$39","v":0},{"$f":"U59+U59*$E59*Szenarien!Q$31+U59*$F59*Szenarien!Q$32+U59*'Daten Projektion'!$G59*Szenarien!Q$33+U59*'Daten Projektion'!$H59*Szenarien!Q$34+U59*'Daten Projektion'!$I59*Szenarien!Q$35+U59*'Daten Projektion'!$J59*Szenarien!Q$36+U59*'Daten Projektion'!$K59*Szenarien!Q$37+U59*'Daten Projektion'!$L59*Szenarien!Q$38+U59*'Daten Projektion'!$M59*Szenarien!Q$39","v":0},{"$f":"V59+V59*$E59*Szenarien!R$31+V59*$F59*Szenarien!R$32+V59*'Daten Projektion'!$G59*Szenarien!R$33+V59*'Daten Projektion'!$H59*Szenarien!R$34+V59*'Daten Projektion'!$I59*Szenarien!R$35+V59*'Daten Projektion'!$J59*Szenarien!R$36+V59*'Daten Projektion'!$K59*Szenarien!R$37+V59*'Daten Projektion'!$L59*Szenarien!R$38+V59*'Daten Projektion'!$M59*Szenarien!R$39","v":0},{"$f":"W59+W59*$E59*Szenarien!S$31+W59*$F59*Szenarien!S$32+W59*'Daten Projektion'!$G59*Szenarien!S$33+W59*'Daten Projektion'!$H59*Szenarien!S$34+W59*'Daten Projektion'!$I59*Szenarien!S$35+W59*'Daten Projektion'!$J59*Szenarien!S$36+W59*'Daten Projektion'!$K59*Szenarien!S$37+W59*'Daten Projektion'!$L59*Szenarien!S$38+W59*'Daten Projektion'!$M59*Szenarien!S$39","v":0},{"$f":"X59+X59*$E59*Szenarien!T$31+X59*$F59*Szenarien!T$32+X59*'Daten Projektion'!$G59*Szenarien!T$33+X59*'Daten Projektion'!$H59*Szenarien!T$34+X59*'Daten Projektion'!$I59*Szenarien!T$35+X59*'Daten Projektion'!$J59*Szenarien!T$36+X59*'Daten Projektion'!$K59*Szenarien!T$37+X59*'Daten Projektion'!$L59*Szenarien!T$38+X59*'Daten Projektion'!$M59*Szenarien!T$39","v":0},null,{"$f":"N59+N59*$E59*Szenarien!X$31+N59*$F59*Szenarien!X$32+N59*'Daten Projektion'!$G59*Szenarien!X$33+N59*'Daten Projektion'!$H59*Szenarien!X$34+N59*'Daten Projektion'!$I59*Szenarien!X$35+N59*'Daten Projektion'!$J59*Szenarien!X$36+N59*'Daten Projektion'!$K59*Szenarien!X$37+N59*'Daten Projektion'!$L59*Szenarien!X$38+N59*'Daten Projektion'!$M59*Szenarien!X$39","v":0},{"$f":"AA59+AA59*$E59*Szenarien!Y$31+AA59*$F59*Szenarien!Y$32+AA59*'Daten Projektion'!$G59*Szenarien!Y$33+AA59*'Daten Projektion'!$H59*Szenarien!Y$34+AA59*'Daten Projektion'!$I59*Szenarien!Y$35+AA59*'Daten Projektion'!$J59*Szenarien!Y$36+AA59*'Daten Projektion'!$K59*Szenarien!Y$37+AA59*'Daten Projektion'!$L59*Szenarien!Y$38+AA59*'Daten Projektion'!$M59*Szenarien!Y$39","v":0},{"$f":"AB59+AB59*$E59*Szenarien!Z$31+AB59*$F59*Szenarien!Z$32+AB59*'Daten Projektion'!$G59*Szenarien!Z$33+AB59*'Daten Projektion'!$H59*Szenarien!Z$34+AB59*'Daten Projektion'!$I59*Szenarien!Z$35+AB59*'Daten Projektion'!$J59*Szenarien!Z$36+AB59*'Daten Projektion'!$K59*Szenarien!Z$37+AB59*'Daten Projektion'!$L59*Szenarien!Z$38+AB59*'Daten Projektion'!$M59*Szenarien!Z$39","v":0},{"$f":"AC59+AC59*$E59*Szenarien!AA$31+AC59*$F59*Szenarien!AA$32+AC59*'Daten Projektion'!$G59*Szenarien!AA$33+AC59*'Daten Projektion'!$H59*Szenarien!AA$34+AC59*'Daten Projektion'!$I59*Szenarien!AA$35+AC59*'Daten Projektion'!$J59*Szenarien!AA$36+AC59*'Daten Projektion'!$K59*Szenarien!AA$37+AC59*'Daten Projektion'!$L59*Szenarien!AA$38+AC59*'Daten Projektion'!$M59*Szenarien!AA$39","v":0},{"$f":"AD59+AD59*$E59*Szenarien!AB$31+AD59*$F59*Szenarien!AB$32+AD59*'Daten Projektion'!$G59*Szenarien!AB$33+AD59*'Daten Projektion'!$H59*Szenarien!AB$34+AD59*'Daten Projektion'!$I59*Szenarien!AB$35+AD59*'Daten Projektion'!$J59*Szenarien!AB$36+AD59*'Daten Projektion'!$K59*Szenarien!AB$37+AD59*'Daten Projektion'!$L59*Szenarien!AB$38+AD59*'Daten Projektion'!$M59*Szenarien!AB$39","v":0}]
[null,{"$f":"Vermögen!E58","v":"48."},{"$f":"IF(Vermögen!F58=0,\"\",Vermögen!F58)","v":""},{"$f":"Vermögen!I58","v":"Bitte auswählen"},{"$f":"Vermögen!J58","v":{"v":0,"d":"0.0%"}},{"$f":"Vermögen!K58","v":{"v":0,"d":"0.0%"}},{"$f":"Vermögen!L58","v":{"v":0,"d":"0.0%"}},{"$f":"Vermögen!M58","v":{"v":0,"d":"0.0%"}},{"$f":"Vermögen!N58","v":{"v":0,"d":"0.0%"}},{"v":0,"d":"0.0%"},{"v":0,"d":"0.0%"},{"v":0,"d":"0.0%"},{"v":0,"d":"0.0%"},{"$f":"Daten_Vermögen!C91","v":0},{"$f":"N60+N60*Vermögen!V58","v":0},{"$f":"O60+O60*Vermögen!$V58","v":0},{"$f":"P60+P60*Vermögen!$V58","v":0},{"$f":"Q60+Q60*Vermögen!$V58","v":0},{"$f":"R60+R60*Vermögen!$V58","v":0},null,{"$f":"N60+N60*$E60*Szenarien!P$31+N60*$F60*Szenarien!P$32+N60*'Daten Projektion'!$G60*Szenarien!P$33+N60*'Daten Projektion'!$H60*Szenarien!P$34+N60*'Daten Projektion'!$I60*Szenarien!P$35+N60*'Daten Projektion'!$J60*Szenarien!P$36+N60*'Daten Projektion'!$K60*Szenarien!P$37+N60*'Daten Projektion'!$L60*Szenarien!P$38+N60*'Daten Projektion'!$M60*Szenarien!P$39","v":0},{"$f":"U60+U60*$E60*Szenarien!Q$31+U60*$F60*Szenarien!Q$32+U60*'Daten Projektion'!$G60*Szenarien!Q$33+U60*'Daten Projektion'!$H60*Szenarien!Q$34+U60*'Daten Projektion'!$I60*Szenarien!Q$35+U60*'Daten Projektion'!$J60*Szenarien!Q$36+U60*'Daten Projektion'!$K60*Szenarien!Q$37+U60*'Daten Projektion'!$L60*Szenarien!Q$38+U60*'Daten Projektion'!$M60*Szenarien!Q$39","v":0},{"$f":"V60+V60*$E60*Szenarien!R$31+V60*$F60*Szenarien!R$32+V60*'Daten Projektion'!$G60*Szenarien!R$33+V60*'Daten Projektion'!$H60*Szenarien!R$34+V60*'Daten Projektion'!$I60*Szenarien!R$35+V60*'Daten Projektion'!$J60*Szenarien!R$36+V60*'Daten Projektion'!$K60*Szenarien!R$37+V60*'Daten Projektion'!$L60*Szenarien!R$38+V60*'Daten Projektion'!$M60*Szenarien!R$39","v":0},{"$f":"W60+W60*$E60*Szenarien!S$31+W60*$F60*Szenarien!S$32+W60*'Daten Projektion'!$G60*Szenarien!S$33+W60*'Daten Projektion'!$H60*Szenarien!S$34+W60*'Daten Projektion'!$I60*Szenarien!S$35+W60*'Daten Projektion'!$J60*Szenarien!S$36+W60*'Daten Projektion'!$K60*Szenarien!S$37+W60*'Daten Projektion'!$L60*Szenarien!S$38+W60*'Daten Projektion'!$M60*Szenarien!S$39","v":0},{"$f":"X60+X60*$E60*Szenarien!T$31+X60*$F60*Szenarien!T$32+X60*'Daten Projektion'!$G60*Szenarien!T$33+X60*'Daten Projektion'!$H60*Szenarien!T$34+X60*'Daten Projektion'!$I60*Szenarien!T$35+X60*'Daten Projektion'!$J60*Szenarien!T$36+X60*'Daten Projektion'!$K60*Szenarien!T$37+X60*'Daten Projektion'!$L60*Szenarien!T$38+X60*'Daten Projektion'!$M60*Szenarien!T$39","v":0},null,{"$f":"N60+N60*$E60*Szenarien!X$31+N60*$F60*Szenarien!X$32+N60*'Daten Projektion'!$G60*Szenarien!X$33+N60*'Daten Projektion'!$H60*Szenarien!X$34+N60*'Daten Projektion'!$I60*Szenarien!X$35+N60*'Daten Projektion'!$J60*Szenarien!X$36+N60*'Daten Projektion'!$K60*Szenarien!X$37+N60*'Daten Projektion'!$L60*Szenarien!X$38+N60*'Daten Projektion'!$M60*Szenarien!X$39","v":0},{"$f":"AA60+AA60*$E60*Szenarien!Y$31+AA60*$F60*Szenarien!Y$32+AA60*'Daten Projektion'!$G60*Szenarien!Y$33+AA60*'Daten Projektion'!$H60*Szenarien!Y$34+AA60*'Daten Projektion'!$I60*Szenarien!Y$35+AA60*'Daten Projektion'!$J60*Szenarien!Y$36+AA60*'Daten Projektion'!$K60*Szenarien!Y$37+AA60*'Daten Projektion'!$L60*Szenarien!Y$38+AA60*'Daten Projektion'!$M60*Szenarien!Y$39","v":0},{"$f":"AB60+AB60*$E60*Szenarien!Z$31+AB60*$F60*Szenarien!Z$32+AB60*'Daten Projektion'!$G60*Szenarien!Z$33+AB60*'Daten Projektion'!$H60*Szenarien!Z$34+AB60*'Daten Projektion'!$I60*Szenarien!Z$35+AB60*'Daten Projektion'!$J60*Szenarien!Z$36+AB60*'Daten Projektion'!$K60*Szenarien!Z$37+AB60*'Daten Projektion'!$L60*Szenarien!Z$38+AB60*'Daten Projektion'!$M60*Szenarien!Z$39","v":0},{"$f":"AC60+AC60*$E60*Szenarien!AA$31+AC60*$F60*Szenarien!AA$32+AC60*'Daten Projektion'!$G60*Szenarien!AA$33+AC60*'Daten Projektion'!$H60*Szenarien!AA$34+AC60*'Daten Projektion'!$I60*Szenarien!AA$35+AC60*'Daten Projektion'!$J60*Szenarien!AA$36+AC60*'Daten Projektion'!$K60*Szenarien!AA$37+AC60*'Daten Projektion'!$L60*Szenarien!AA$38+AC60*'Daten Projektion'!$M60*Szenarien!AA$39","v":0},{"$f":"AD60+AD60*$E60*Szenarien!AB$31+AD60*$F60*Szenarien!AB$32+AD60*'Daten Projektion'!$G60*Szenarien!AB$33+AD60*'Daten Projektion'!$H60*Szenarien!AB$34+AD60*'Daten Projektion'!$I60*Szenarien!AB$35+AD60*'Daten Projektion'!$J60*Szenarien!AB$36+AD60*'Daten Projektion'!$K60*Szenarien!AB$37+AD60*'Daten Projektion'!$L60*Szenarien!AB$38+AD60*'Daten Projektion'!$M60*Szenarien!AB$39","v":0}]
[null,{"$f":"Vermögen!E59","v":"49."},{"$f":"IF(Vermögen!F59=0,\"\",Vermögen!F59)","v":""},{"$f":"Vermögen!I59","v":"Bitte auswählen"},{"$f":"Vermögen!J59","v":{"v":0,"d":"0.0%"}},{"$f":"Vermögen!K59","v":{"v":0,"d":"0.0%"}},{"$f":"Vermögen!L59","v":{"v":0,"d":"0.0%"}},{"$f":"Vermögen!M59","v":{"v":0,"d":"0.0%"}},{"$f":"Vermögen!N59","v":{"v":0,"d":"0.0%"}},{"v":0,"d":"0.0%"},{"v":0,"d":"0.0%"},{"v":0,"d":"0.0%"},{"v":0,"d":"0.0%"},{"$f":"Daten_Vermögen!C92","v":0},{"$f":"N61+N61*Vermögen!V59","v":0},{"$f":"O61+O61*Vermögen!$V59","v":0},{"$f":"P61+P61*Vermögen!$V59","v":0},{"$f":"Q61+Q61*Vermögen!$V59","v":0},{"$f":"R61+R61*Vermögen!$V59","v":0},null,{"$f":"N61+N61*$E61*Szenarien!P$31+N61*$F61*Szenarien!P$32+N61*'Daten Projektion'!$G61*Szenarien!P$33+N61*'Daten Projektion'!$H61*Szenarien!P$34+N61*'Daten Projektion'!$I61*Szenarien!P$35+N61*'Daten Projektion'!$J61*Szenarien!P$36+N61*'Daten Projektion'!$K61*Szenarien!P$37+N61*'Daten Projektion'!$L61*Szenarien!P$38+N61*'Daten Projektion'!$M61*Szenarien!P$39","v":0},{"$f":"U61+U61*$E61*Szenarien!Q$31+U61*$F61*Szenarien!Q$32+U61*'Daten Projektion'!$G61*Szenarien!Q$33+U61*'Daten Projektion'!$H61*Szenarien!Q$34+U61*'Daten Projektion'!$I61*Szenarien!Q$35+U61*'Daten Projektion'!$J61*Szenarien!Q$36+U61*'Daten Projektion'!$K61*Szenarien!Q$37+U61*'Daten Projektion'!$L61*Szenarien!Q$38+U61*'Daten Projektion'!$M61*Szenarien!Q$39","v":0},{"$f":"V61+V61*$E61*Szenarien!R$31+V61*$F61*Szenarien!R$32+V61*'Daten Projektion'!$G61*Szenarien!R$33+V61*'Daten Projektion'!$H61*Szenarien!R$34+V61*'Daten Projektion'!$I61*Szenarien!R$35+V61*'Daten Projektion'!$J61*Szenarien!R$36+V61*'Daten Projektion'!$K61*Szenarien!R$37+V61*'Daten Projektion'!$L61*Szenarien!R$38+V61*'Daten Projektion'!$M61*Szenarien!R$39","v":0},{"$f":"W61+W61*$E61*Szenarien!S$31+W61*$F61*Szenarien!S$32+W61*'Daten Projektion'!$G61*Szenarien!S$33+W61*'Daten Projektion'!$H61*Szenarien!S$34+W61*'Daten Projektion'!$I61*Szenarien!S$35+W61*'Daten Projektion'!$J61*Szenarien!S$36+W61*'Daten Projektion'!$K61*Szenarien!S$37+W61*'Daten Projektion'!$L61*Szenarien!S$38+W61*'Daten Projektion'!$M61*Szenarien!S$39","v":0},{"$f":"X61+X61*$E61*Szenarien!T$31+X61*$F61*Szenarien!T$32+X61*'Daten Projektion'!$G61*Szenarien!T$33+X61*'Daten Projektion'!$H61*Szenarien!T$34+X61*'Daten Projektion'!$I61*Szenarien!T$35+X61*'Daten Projektion'!$J61*Szenarien!T$36+X61*'Daten Projektion'!$K61*Szenarien!T$37+X61*'Daten Projektion'!$L61*Szenarien!T$38+X61*'Daten Projektion'!$M61*Szenarien!T$39","v":0},null,{"$f":"N61+N61*$E61*Szenarien!X$31+N61*$F61*Szenarien!X$32+N61*'Daten Projektion'!$G61*Szenarien!X$33+N61*'Daten Projektion'!$H61*Szenarien!X$34+N61*'Daten Projektion'!$I61*Szenarien!X$35+N61*'Daten Projektion'!$J61*Szenarien!X$36+N61*'Daten Projektion'!$K61*Szenarien!X$37+N61*'Daten Projektion'!$L61*Szenarien!X$38+N61*'Daten Projektion'!$M61*Szenarien!X$39","v":0},{"$f":"AA61+AA61*$E61*Szenarien!Y$31+AA61*$F61*Szenarien!Y$32+AA61*'Daten Projektion'!$G61*Szenarien!Y$33+AA61*'Daten Projektion'!$H61*Szenarien!Y$34+AA61*'Daten Projektion'!$I61*Szenarien!Y$35+AA61*'Daten Projektion'!$J61*Szenarien!Y$36+AA61*'Daten Projektion'!$K61*Szenarien!Y$37+AA61*'Daten Projektion'!$L61*Szenarien!Y$38+AA61*'Daten Projektion'!$M61*Szenarien!Y$39","v":0},{"$f":"AB61+AB61*$E61*Szenarien!Z$31+AB61*$F61*Szenarien!Z$32+AB61*'Daten Projektion'!$G61*Szenarien!Z$33+AB61*'Daten Projektion'!$H61*Szenarien!Z$34+AB61*'Daten Projektion'!$I61*Szenarien!Z$35+AB61*'Daten Projektion'!$J61*Szenarien!Z$36+AB61*'Daten Projektion'!$K61*Szenarien!Z$37+AB61*'Daten Projektion'!$L61*Szenarien!Z$38+AB61*'Daten Projektion'!$M61*Szenarien!Z$39","v":0},{"$f":"AC61+AC61*$E61*Szenarien!AA$31+AC61*$F61*Szenarien!AA$32+AC61*'Daten Projektion'!$G61*Szenarien!AA$33+AC61*'Daten Projektion'!$H61*Szenarien!AA$34+AC61*'Daten Projektion'!$I61*Szenarien!AA$35+AC61*'Daten Projektion'!$J61*Szenarien!AA$36+AC61*'Daten Projektion'!$K61*Szenarien!AA$37+AC61*'Daten Projektion'!$L61*Szenarien!AA$38+AC61*'Daten Projektion'!$M61*Szenarien!AA$39","v":0},{"$f":"AD61+AD61*$E61*Szenarien!AB$31+AD61*$F61*Szenarien!AB$32+AD61*'Daten Projektion'!$G61*Szenarien!AB$33+AD61*'Daten Projektion'!$H61*Szenarien!AB$34+AD61*'Daten Projektion'!$I61*Szenarien!AB$35+AD61*'Daten Projektion'!$J61*Szenarien!AB$36+AD61*'Daten Projektion'!$K61*Szenarien!AB$37+AD61*'Daten Projektion'!$L61*Szenarien!AB$38+AD61*'Daten Projektion'!$M61*Szenarien!AB$39","v":0}]
[null,{"$f":"Vermögen!E60","v":"50."},{"$f":"IF(Vermögen!F60=0,\"\",Vermögen!F60)","v":""},{"$f":"Vermögen!I60","v":"Bitte auswählen"},{"$f":"Vermögen!J60","v":{"v":0,"d":"0.0%"}},{"$f":"Vermögen!K60","v":{"v":0,"d":"0.0%"}},{"$f":"Vermögen!L60","v":{"v":0,"d":"0.0%"}},{"$f":"Vermögen!M60","v":{"v":0,"d":"0.0%"}},{"$f":"Vermögen!N60","v":{"v":0,"d":"0.0%"}},{"v":0,"d":"0.0%"},{"v":0,"d":"0.0%"},{"v":0,"d":"0.0%"},{"v":0,"d":"0.0%"},{"$f":"Daten_Vermögen!C93","v":0},{"$f":"N62+N62*Vermögen!V60","v":0},{"$f":"O62+O62*Vermögen!$V60","v":0},{"$f":"P62+P62*Vermögen!$V60","v":0},{"$f":"Q62+Q62*Vermögen!$V60","v":0},{"$f":"R62+R62*Vermögen!$V60","v":0},null,{"$f":"N62+N62*$E62*Szenarien!P$31+N62*$F62*Szenarien!P$32+N62*'Daten Projektion'!$G62*Szenarien!P$33+N62*'Daten Projektion'!$H62*Szenarien!P$34+N62*'Daten Projektion'!$I62*Szenarien!P$35+N62*'Daten Projektion'!$J62*Szenarien!P$36+N62*'Daten Projektion'!$K62*Szenarien!P$37+N62*'Daten Projektion'!$L62*Szenarien!P$38+N62*'Daten Projektion'!$M62*Szenarien!P$39","v":0},{"$f":"U62+U62*$E62*Szenarien!Q$31+U62*$F62*Szenarien!Q$32+U62*'Daten Projektion'!$G62*Szenarien!Q$33+U62*'Daten Projektion'!$H62*Szenarien!Q$34+U62*'Daten Projektion'!$I62*Szenarien!Q$35+U62*'Daten Projektion'!$J62*Szenarien!Q$36+U62*'Daten Projektion'!$K62*Szenarien!Q$37+U62*'Daten Projektion'!$L62*Szenarien!Q$38+U62*'Daten Projektion'!$M62*Szenarien!Q$39","v":0},{"$f":"V62+V62*$E62*Szenarien!R$31+V62*$F62*Szenarien!R$32+V62*'Daten Projektion'!$G62*Szenarien!R$33+V62*'Daten Projektion'!$H62*Szenarien!R$34+V62*'Daten Projektion'!$I62*Szenarien!R$35+V62*'Daten Projektion'!$J62*Szenarien!R$36+V62*'Daten Projektion'!$K62*Szenarien!R$37+V62*'Daten Projektion'!$L62*Szenarien!R$38+V62*'Daten Projektion'!$M62*Szenarien!R$39","v":0},{"$f":"W62+W62*$E62*Szenarien!S$31+W62*$F62*Szenarien!S$32+W62*'Daten Projektion'!$G62*Szenarien!S$33+W62*'Daten Projektion'!$H62*Szenarien!S$34+W62*'Daten Projektion'!$I62*Szenarien!S$35+W62*'Daten Projektion'!$J62*Szenarien!S$36+W62*'Daten Projektion'!$K62*Szenarien!S$37+W62*'Daten Projektion'!$L62*Szenarien!S$38+W62*'Daten Projektion'!$M62*Szenarien!S$39","v":0},{"$f":"X62+X62*$E62*Szenarien!T$31+X62*$F62*Szenarien!T$32+X62*'Daten Projektion'!$G62*Szenarien!T$33+X62*'Daten Projektion'!$H62*Szenarien!T$34+X62*'Daten Projektion'!$I62*Szenarien!T$35+X62*'Daten Projektion'!$J62*Szenarien!T$36+X62*'Daten Projektion'!$K62*Szenarien!T$37+X62*'Daten Projektion'!$L62*Szenarien!T$38+X62*'Daten Projektion'!$M62*Szenarien!T$39","v":0},null,{"$f":"N62+N62*$E62*Szenarien!X$31+N62*$F62*Szenarien!X$32+N62*'Daten Projektion'!$G62*Szenarien!X$33+N62*'Daten Projektion'!$H62*Szenarien!X$34+N62*'Daten Projektion'!$I62*Szenarien!X$35+N62*'Daten Projektion'!$J62*Szenarien!X$36+N62*'Daten Projektion'!$K62*Szenarien!X$37+N62*'Daten Projektion'!$L62*Szenarien!X$38+N62*'Daten Projektion'!$M62*Szenarien!X$39","v":0},{"$f":"AA62+AA62*$E62*Szenarien!Y$31+AA62*$F62*Szenarien!Y$32+AA62*'Daten Projektion'!$G62*Szenarien!Y$33+AA62*'Daten Projektion'!$H62*Szenarien!Y$34+AA62*'Daten Projektion'!$I62*Szenarien!Y$35+AA62*'Daten Projektion'!$J62*Szenarien!Y$36+AA62*'Daten Projektion'!$K62*Szenarien!Y$37+AA62*'Daten Projektion'!$L62*Szenarien!Y$38+AA62*'Daten Projektion'!$M62*Szenarien!Y$39","v":0},{"$f":"AB62+AB62*$E62*Szenarien!Z$31+AB62*$F62*Szenarien!Z$32+AB62*'Daten Projektion'!$G62*Szenarien!Z$33+AB62*'Daten Projektion'!$H62*Szenarien!Z$34+AB62*'Daten Projektion'!$I62*Szenarien!Z$35+AB62*'Daten Projektion'!$J62*Szenarien!Z$36+AB62*'Daten Projektion'!$K62*Szenarien!Z$37+AB62*'Daten Projektion'!$L62*Szenarien!Z$38+AB62*'Daten Projektion'!$M62*Szenarien!Z$39","v":0},{"$f":"AC62+AC62*$E62*Szenarien!AA$31+AC62*$F62*Szenarien!AA$32+AC62*'Daten Projektion'!$G62*Szenarien!AA$33+AC62*'Daten Projektion'!$H62*Szenarien!AA$34+AC62*'Daten Projektion'!$I62*Szenarien!AA$35+AC62*'Daten Projektion'!$J62*Szenarien!AA$36+AC62*'Daten Projektion'!$K62*Szenarien!AA$37+AC62*'Daten Projektion'!$L62*Szenarien!AA$38+AC62*'Daten Projektion'!$M62*Szenarien!AA$39","v":0},{"$f":"AD62+AD62*$E62*Szenarien!AB$31+AD62*$F62*Szenarien!AB$32+AD62*'Daten Projektion'!$G62*Szenarien!AB$33+AD62*'Daten Projektion'!$H62*Szenarien!AB$34+AD62*'Daten Projektion'!$I62*Szenarien!AB$35+AD62*'Daten Projektion'!$J62*Szenarien!AB$36+AD62*'Daten Projektion'!$K62*Szenarien!AB$37+AD62*'Daten Projektion'!$L62*Szenarien!AB$38+AD62*'Daten Projektion'!$M62*Szenarien!AB$39","v":0}]
[null,null,"Zustiftungen",{"$f":"Wirtschaftsplan!L21","v":"Liquidität"},{"$f":"IF($D$63=E12,1,0)","v":{"v":0,"d":"0.0%"}},{"$f":"IF($D$63=F12,1,0)","v":{"v":0,"d":"0.0%"}},{"v":0,"d":"0.0%"},{"v":0,"d":"0.0%"},{"v":1,"d":"100.0%"},{"v":0,"d":"0.0%"},{"v":0,"d":"0.0%"},{"v":0,"d":"0.0%"},{"v":0,"d":"0.0%"},{"$f":"Wirtschaftsplan!G21","v":0},{"$f":"N63+Wirtschaftsplan!H21","v":0},{"$f":"O63+Wirtschaftsplan!M21","v":0},{"$f":"P63+Wirtschaftsplan!N21","v":0},{"$f":"Q63+Wirtschaftsplan!O21","v":0},{"$f":"R63+Wirtschaftsplan!P21","v":0},null,{"$f":"O63","v":0},{"$f":"P63","v":0},0,0,0,null,{"$f":"O63","v":0},{"$f":"P63","v":0},0,0,0]
[null,null,"Summe",{"$nulls":10},{"$f":"SUM(N13:N63)","v":0},0,0,0,0,0,null,{"$f":"SUM(U13:U63)","v":0},0,0,{"$f":"SUM(X13:X63)","v":0},0,null,0,0,0,0,0]
[{"$nulls":4},{"$f":"E12","v":"Aktien"},{"$f":"F12","v":"Anleihen"},"Alternative Inv.","Rohstoffe","Liquidität","Immobilien","Beteiligungen","Sonst. Verm.","Verbindlichkeiten",{"$f":"N12","v":2023},{"$f":"O12","v":2024},2025,2026,2027,2028]
[null,null,"Vermögen nach Anlageklassen",{"$f":"Daten_Vermögen!B7","v":"Aktien"},{"$nulls":8},{"$f":"D66","v":"Aktien"},{"$f":"SUM($N$13:$N$62*E$13:E$62)","v":0},{"$f":"SUM(O$13:O$63*$E$13:$E$63)","v":0},{"$f":"SUM(P$13:P$63*$E$13:$E$63)","v":0},{"$f":"SUM(Q$13:Q$63*$E$13:$E$63)","v":0},{"$f":"SUM(R$13:R$63*$E$13:$E$63)","v":0},{"$f":"SUM(S$13:S$63*$E$13:$E$63)","v":0},null,{"$f":"SUM(U$13:U$63*$E$13:$E$63)","v":0},{"$f":"SUM(V$13:V$63*$E$13:$E$63)","v":0},{"$f":"SUM(W$13:W$63*$E$13:$E$63)","v":0},{"$f":"SUM(X$13:X$63*$E$13:$E$63)","v":0},{"$f":"SUM(Y$13:Y$63*$E$13:$E$63)","v":0},null,{"$f":"SUM(AA$13:AA$63*$E$13:$E$63)","v":0},{"$f":"SUM(AB$13:AB$63*$E$13:$E$63)","v":0},{"$f":"SUM(AC$13:AC$63*$E$13:$E$63)","v":0},{"$f":"SUM(AD$13:AD$63*$E$13:$E$63)","v":0},{"$f":"SUM(AE$13:AE$63*$E$13:$E$63)","v":0}]
[{"$nulls":3},{"$f":"Daten_Vermögen!B8","v":"Anleihen"},{"$nulls":8},{"$f":"D67","v":"Anleihen"},{"$f":"SUM($N$13:$N$62*F$13:F$62)","v":0},{"$f":"SUM(O$13:O$63*$F$13:$F$63)","v":0},{"$f":"SUM(P$13:P$63*$F$13:$F$63)","v":0},{"$f":"SUM(Q$13:Q$63*$F$13:$F$63)","v":0},{"$f":"SUM(R$13:R$63*$F$13:$F$63)","v":0},{"$f":"SUM(S$13:S$63*$F$13:$F$63)","v":0},null,{"$f":"SUM(U$13:U$63*$F$13:$F$63)","v":0},{"$f":"SUM(V$13:V$63*$F$13:$F$63)","v":0},{"$f":"SUM(W$13:W$63*$F$13:$F$63)","v":0},{"$f":"SUM(X$13:X$63*$F$13:$F$63)","v":0},{"$f":"SUM(Y$13:Y$63*$F$13:$F$63)","v":0},null,{"$f":"SUM(AA$13:AA$63*$F$13:$F$63)","v":0},{"$f":"SUM(AB$13:AB$63*$F$13:$F$63)","v":0},{"$f":"SUM(AC$13:AC$63*$F$13:$F$63)","v":0},{"$f":"SUM(AD$13:AD$63*$F$13:$F$63)","v":0},{"$f":"SUM(AE$13:AE$63*$F$13:$F$63)","v":0}]
[{"$nulls":3},{"$f":"Daten_Vermögen!B9","v":"Alternative Inv."},{"$nulls":8},"Alternative Inv.",{"$f":"SUM($N$13:$N$62*G$13:G$62)","v":0},{"$f":"SUM(O$13:O$63*$G$13:$G$63)","v":0},{"$f":"SUM(P$13:P$63*$G$13:$G$63)","v":0},{"$f":"SUM(Q$13:Q$63*$G$13:$G$63)","v":0},{"$f":"SUM(R$13:R$63*$G$13:$G$63)","v":0},{"$f":"SUM(S$13:S$63*$G$13:$G$63)","v":0},null,{"$f":"SUM(U$13:U$63*$G$13:$G$63)","v":0},{"$f":"SUM(V$13:V$63*$G$13:$G$63)","v":0},{"$f":"SUM(W$13:W$63*$G$13:$G$63)","v":0},{"$f":"SUM(X$13:X$63*$G$13:$G$63)","v":0},{"$f":"SUM(Y$13:Y$63*$G$13:$G$63)","v":0},null,{"$f":"SUM(AA$13:AA$63*$G$13:$G$63)","v":0},{"$f":"SUM(AB$13:AB$63*$G$13:$G$63)","v":0},{"$f":"SUM(AC$13:AC$63*$G$13:$G$63)","v":0},{"$f":"SUM(AD$13:AD$63*$G$13:$G$63)","v":0},{"$f":"SUM(AE$13:AE$63*$G$13:$G$63)","v":0}]
[{"$nulls":3},{"$f":"Daten_Vermögen!B10","v":"Rohstoffe"},{"$nulls":8},"Rohstoffe",{"$f":"SUM($N$13:$N$62*H$13:H$62)","v":0},{"$f":"SUM(O$13:O$63*$H$13:$H$63)","v":0},{"$f":"SUM(P$13:P$63*$H$13:$H$63)","v":0},{"$f":"SUM(Q$13:Q$63*$H$13:$H$63)","v":0},{"$f":"SUM(R$13:R$63*$H$13:$H$63)","v":0},{"$f":"SUM(S$13:S$63*$H$13:$H$63)","v":0},null,{"$f":"SUM(U$13:U$63*$H$13:$H$63)","v":0},{"$f":"SUM(V$13:V$63*$H$13:$H$63)","v":0},{"$f":"SUM(W$13:W$63*$H$13:$H$63)","v":0},{"$f":"SUM(X$13:X$63*$H$13:$H$63)","v":0},{"$f":"SUM(Y$13:Y$63*$H$13:$H$63)","v":0},null,{"$f":"SUM(AA$13:AA$63*$H$13:$H$63)","v":0},{"$f":"SUM(AB$13:AB$63*$H$13:$H$63)","v":0},{"$f":"SUM(AC$13:AC$63*$H$13:$H$63)","v":0},{"$f":"SUM(AD$13:AD$63*$H$13:$H$63)","v":0},{"$f":"SUM(AE$13:AE$63*$H$13:$H$63)","v":0}]
[{"$nulls":3},{"$f":"Daten_Vermögen!B11","v":"Liquidität"},{"$nulls":8},"Liquidität",{"$f":"SUM($N$13:$N$62*I$13:I$62)","v":0},{"$f":"SUM(O$13:O$63*$I$13:$I$63)","v":0},{"$f":"SUM(P$13:P$63*$I$13:$I$63)","v":0},{"$f":"SUM(Q$13:Q$63*$I$13:$I$63)","v":0},{"$f":"SUM(R$13:R$63*$I$13:$I$63)","v":0},{"$f":"SUM(S$13:S$63*$I$13:$I$63)","v":0},null,{"$f":"SUM(U$13:U$63*$I$13:$I$63)","v":0},{"$f":"SUM(V$13:V$63*$I$13:$I$63)","v":0},{"$f":"SUM(W$13:W$63*$I$13:$I$63)","v":0},{"$f":"SUM(X$13:X$63*$I$13:$I$63)","v":0},{"$f":"SUM(Y$13:Y$63*$I$13:$I$63)","v":0},null,{"$f":"SUM(AA$13:AA$63*$I$13:$I$63)","v":0},{"$f":"SUM(AB$13:AB$63*$I$13:$I$63)","v":0},{"$f":"SUM(AC$13:AC$63*$I$13:$I$63)","v":0},{"$f":"SUM(AD$13:AD$63*$I$13:$I$63)","v":0},{"$f":"SUM(AE$13:AE$63*$I$13:$I$63)","v":0}]
[{"$nulls":3},{"$f":"Daten_Vermögen!B13","v":"Immobilien"},{"$nulls":8},"Immobilien",{"$f":"SUM($N$13:$N$62*J$13:J$62)","v":0},{"$f":"SUM(O$13:O$63*$J$13:$J$63)","v":0},{"$f":"SUM(P$13:P$63*$J$13:$J$63)","v":0},{"$f":"SUM(Q$13:Q$63*$J$13:$J$63)","v":0},{"$f":"SUM(R$13:R$63*$J$13:$J$63)","v":0},{"$f":"SUM(S$13:S$63*$J$13:$J$63)","v":0},null,{"$f":"SUM(U$13:U$63*$J$13:$J$63)","v":0},{"$f":"SUM(V$13:V$63*$J$13:$J$63)","v":0},{"$f":"SUM(W$13:W$63*$J$13:$J$63)","v":0},{"$f":"SUM(X$13:X$63*$J$13:$J$63)","v":0},{"$f":"SUM(Y$13:Y$63*$J$13:$J$63)","v":0},null,{"$f":"SUM(AA$13:AA$63*$J$13:$J$63)","v":0},{"$f":"SUM(AB$13:AB$63*$J$13:$J$63)","v":0},{"$f":"SUM(AC$13:AC$63*$J$13:$J$63)","v":0},{"$f":"SUM(AD$13:AD$63*$J$13:$J$63)","v":0},{"$f":"SUM(AE$13:AE$63*$J$13:$J$63)","v":0}]
[{"$nulls":3},{"$f":"Daten_Vermögen!B14","v":"Beteiligungen"},{"$nulls":8},"Beteiligungen",{"$f":"SUM($N$13:$N$62*K$13:K$62)","v":0},{"$f":"SUM(O$13:O$63*$K$13:$K$63)","v":0},{"$f":"SUM(P$13:P$63*$K$13:$K$63)","v":0},{"$f":"SUM(Q$13:Q$63*$K$13:$K$63)","v":0},{"$f":"SUM(R$13:R$63*$K$13:$K$63)","v":0},{"$f":"SUM(S$13:S$63*$K$13:$K$63)","v":0},null,{"$f":"SUM(U$13:U$63*$K$13:$K$63)","v":0},{"$f":"SUM(V$13:V$63*$K$13:$K$63)","v":0},{"$f":"SUM(W$13:W$63*$K$13:$K$63)","v":0},{"$f":"SUM(X$13:X$63*$K$13:$K$63)","v":0},{"$f":"SUM(Y$13:Y$63*$K$13:$K$63)","v":0},null,{"$f":"SUM(AA$13:AA$63*$K$13:$K$63)","v":0},{"$f":"SUM(AB$13:AB$63*$K$13:$K$63)","v":0},{"$f":"SUM(AC$13:AC$63*$K$13:$K$63)","v":0},{"$f":"SUM(AD$13:AD$63*$K$13:$K$63)","v":0},{"$f":"SUM(AE$13:AE$63*$K$13:$K$63)","v":0}]
[{"$nulls":3},{"$f":"Daten_Vermögen!B15","v":"Sonst. Verm."},{"$nulls":8},"Sonst. Verm.",{"$f":"SUM($N$13:$N$62*L$13:L$62)","v":0},{"$f":"SUM(O$13:O$63*$L$13:$L$63)","v":0},{"$f":"SUM(P$13:P$63*$L$13:$L$63)","v":0},{"$f":"SUM(Q$13:Q$63*$L$13:$L$63)","v":0},{"$f":"SUM(R$13:R$63*$L$13:$L$63)","v":0},{"$f":"SUM(S$13:S$63*$L$13:$L$63)","v":0},null,{"$f":"SUM(U$13:U$63*$L$13:$L$63)","v":0},{"$f":"SUM(V$13:V$63*$L$13:$L$63)","v":0},{"$f":"SUM(W$13:W$63*$L$13:$L$63)","v":0},{"$f":"SUM(X$13:X$63*$L$13:$L$63)","v":0},{"$f":"SUM(Y$13:Y$63*$L$13:$L$63)","v":0},null,{"$f":"SUM(AA$13:AA$63*$L$13:$L$63)","v":0},{"$f":"SUM(AB$13:AB$63*$L$13:$L$63)","v":0},{"$f":"SUM(AC$13:AC$63*$L$13:$L$63)","v":0},{"$f":"SUM(AD$13:AD$63*$L$13:$L$63)","v":0},{"$f":"SUM(AE$13:AE$63*$L$13:$L$63)","v":0}]
[{"$nulls":3},{"$f":"Daten_Vermögen!B16","v":"Verbindlichkeiten"},{"$nulls":8},"Verbindlichkeiten",{"$f":"SUM($N$13:$N$62*M$13:M$62)","v":0},{"$f":"SUM(O$13:O$63*$M$13:$M$63)","v":0},{"$f":"SUM(P$13:P$63*$M$13:$M$63)","v":0},{"$f":"SUM(Q$13:Q$63*$M$13:$M$63)","v":0},{"$f":"SUM(R$13:R$63*$M$13:$M$63)","v":0},{"$f":"SUM(S$13:S$63*$M$13:$M$63)","v":0},null,{"$f":"SUM(U$13:U$63*$M$13:$M$63)","v":0},{"$f":"SUM(V$13:V$63*$M$13:$M$63)","v":0},{"$f":"SUM(W$13:W$63*$M$13:$M$63)","v":0},{"$f":"SUM(X$13:X$63*$M$13:$M$63)","v":0},{"$f":"SUM(Y$13:Y$63*$M$13:$M$63)","v":0},null,{"$f":"SUM(AA$13:AA$63*$M$13:$M$63)","v":0},{"$f":"SUM(AB$13:AB$63*$M$13:$M$63)","v":0},{"$f":"SUM(AC$13:AC$63*$M$13:$M$63)","v":0},{"$f":"SUM(AD$13:AD$63*$M$13:$M$63)","v":0},{"$f":"SUM(AE$13:AE$63*$M$13:$M$63)","v":0}]
[{"$nulls":3},"Summe",{"$nulls":9},{"$f":"SUM(N66:N74)","v":0},0,0,0,0,0,null,{"$f":"SUM(U66:U74)","v":0},{"$f":"SUM(V66:V74)","v":0},{"$f":"SUM(W66:W74)","v":0},{"$f":"SUM(X66:X74)","v":0},{"$f":"SUM(Y66:Y74)","v":0},null,{"$f":"SUM(AA66:AA74)","v":0},{"$f":"SUM(AB66:AB74)","v":0},{"$f":"SUM(AC66:AC74)","v":0},{"$f":"SUM(AD66:AD74)","v":0},{"$f":"SUM(AE66:AE74)","v":0}]
[]
[null,null,"Investitionsgrad",{"$nulls":11},{"$f":"O12","v":2024},{"$f":"P12","v":2025},2026,2027,2028]
[{"$nulls":14},{"$f":"(O75-O70)/O75","v":{"$error":"#DIV/0!"}},{"$f":"(P75-P70)/P75","v":{"$error":"#DIV/0!"}},{"$error":"#DIV/0!"},{"$error":"#DIV/0!"},{"$error":"#DIV/0!"}]
[]
[]
[null,null,"Erträge",{"$nulls":11},"Projektion Erträge"]
[]
[null,{"$f":"B12","v":"Nr."},"Vermögensgegenstand","Anlageklasse","Aktien",{"$f":"F12","v":"Anleihen"},"Alternative Inv.","Rohstoffe","Liquidität","Immobilien","Beteiligungen","Sonst. Verm.","Verbindlichkeiten","Fälligkeit",{"$f":"O12","v":2024},{"$f":"P12","v":2025},{"$f":"Q12","v":2026},{"$f":"R12","v":2027},{"$f":"S12","v":2028}]
[null,"1.","","Bitte auswählen",{"v":0,"d":"0.0%"},{"$f":"F13","v":{"v":0,"d":"0.0%"}},{"v":0,"d":"0.0%"},{"v":0,"d":"0.0%"},{"v":0,"d":"0.0%"},{"v":0,"d":"0.0%"},{"v":0,"d":"0.0%"},{"v":0,"d":"0.0%"},{"v":0,"d":"0.0%"},{"$f":"IF(YEAR(Vermögen!AB11)=1900,2100,YEAR(Vermögen!AB11))","v":2100},{"$f":"IF(O$83<=$N84,Vermögen!$Z11,0)","v":0},{"$f":"IF(P$83<=$N84,Vermögen!$Z11,0)","v":0},{"$f":"IF(Q$83<=$N84,Vermögen!$Z11,0)","v":0},{"$f":"IF(R$83<=$N84,Vermögen!$Z11,0)","v":0},{"$f":"IF(S$83<=$N84,Vermögen!$Z11,0)","v":0}]
[null,"2.","","Bitte auswählen",{"v":0,"d":"0.0%"},{"$f":"F14","v":{"v":0,"d":"0.0%"}},{"v":0,"d":"0.0%"},{"v":0,"d":"0.0%"},{"v":0,"d":"0.0%"},{"v":0,"d":"0.0%"},{"v":0,"d":"0.0%"},{"v":0,"d":"0.0%"},{"v":0,"d":"0.0%"},{"$f":"IF(YEAR(Vermögen!AB12)=1900,2100,YEAR(Vermögen!AB12))","v":2100},{"$f":"IF(O$83<=$N85,Vermögen!$Z12,0)","v":0},{"$f":"IF(P$83<=$N85,Vermögen!$Z12,0)","v":0},{"$f":"IF(Q$83<=$N85,Vermögen!$Z12,0)","v":0},{"$f":"IF(R$83<=$N85,Vermögen!$Z12,0)","v":0},{"$f":"IF(S$83<=$N85,Vermögen!$Z12,0)","v":0}]
[null,"3.","","Bitte auswählen",{"v":0,"d":"0.0%"},{"v":0,"d":"0.0%"},{"v":0,"d":"0.0%"},{"v":0,"d":"0.0%"},{"v":0,"d":"0.0%"},{"v":0,"d":"0.0%"},{"v":0,"d":"0.0%"},{"v":0,"d":"0.0%"},{"v":0,"d":"0.0%"},{"$f":"IF(YEAR(Vermögen!AB13)=1900,2100,YEAR(Vermögen!AB13))","v":2100},{"$f":"IF(O$83<=$N86,Vermögen!$Z13,0)","v":0},{"$f":"IF(P$83<=$N86,Vermögen!$Z13,0)","v":0},{"$f":"IF(Q$83<=$N86,Vermögen!$Z13,0)","v":0},{"$f":"IF(R$83<=$N86,Vermögen!$Z13,0)","v":0},{"$f":"IF(S$83<=$N86,Vermögen!$Z13,0)","v":0}]
[null,"4.","","Bitte auswählen",{"v":0,"d":"0.0%"},{"v":0,"d":"0.0%"},{"v":0,"d":"0.0%"},{"v":0,"d":"0.0%"},{"v":0,"d":"0.0%"},{"v":0,"d":"0.0%"},{"v":0,"d":"0.0%"},{"v":0,"d":"0.0%"},{"v":0,"d":"0.0%"},{"$f":"IF(YEAR(Vermögen!AB14)=1900,2100,YEAR(Vermögen!AB14))","v":2100},{"$f":"IF(O$83<=$N87,Vermögen!$Z14,0)","v":0},{"$f":"IF(P$83<=$N87,Vermögen!$Z14,0)","v":0},{"$f":"IF(Q$83<=$N87,Vermögen!$Z14,0)","v":0},{"$f":"IF(R$83<=$N87,Vermögen!$Z14,0)","v":0},{"$f":"IF(S$83<=$N87,Vermögen!$Z14,0)","v":0}]
[null,"5.","","Bitte auswählen",{"v":0,"d":"0.0%"},{"v":0,"d":"0.0%"},{"v":0,"d":"0.0%"},{"v":0,"d":"0.0%"},{"v":0,"d":"0.0%"},{"v":0,"d":"0.0%"},{"v":0,"d":"0.0%"},{"v":0,"d":"0.0%"},{"v":0,"d":"0.0%"},{"$f":"IF(YEAR(Vermögen!AB15)=1900,2100,YEAR(Vermögen!AB15))","v":2100},{"$f":"IF(O$83<=$N88,Vermögen!$Z15,0)","v":0},{"$f":"IF(P$83<=$N88,Vermögen!$Z15,0)","v":0},{"$f":"IF(Q$83<=$N88,Vermögen!$Z15,0)","v":0},{"$f":"IF(R$83<=$N88,Vermögen!$Z15,0)","v":0},{"$f":"IF(S$83<=$N88,Vermögen!$Z15,0)","v":0}]
[null,"6.","","Bitte auswählen",{"v":0,"d":"0.0%"},{"v":0,"d":"0.0%"},{"v":0,"d":"0.0%"},{"v":0,"d":"0.0%"},{"v":0,"d":"0.0%"},{"v":0,"d":"0.0%"},{"v":0,"d":"0.0%"},{"v":0,"d":"0.0%"},{"v":0,"d":"0.0%"},{"$f":"IF(YEAR(Vermögen!AB16)=1900,2100,YEAR(Vermögen!AB16))","v":2100},{"$f":"IF(O$83<=$N89,Vermögen!$Z16,0)","v":0},{"$f":"IF(P$83<=$N89,Vermögen!$Z16,0)","v":0},{"$f":"IF(Q$83<=$N89,Vermögen!$Z16,0)","v":0},{"$f":"IF(R$83<=$N89,Vermögen!$Z16,0)","v":0},{"$f":"IF(S$83<=$N89,Vermögen!$Z16,0)","v":0}]
[null,"7.","","Bitte auswählen",{"v":0,"d":"0.0%"},{"v":0,"d":"0.0%"},{"v":0,"d":"0.0%"},{"v":0,"d":"0.0%"},{"v":0,"d":"0.0%"},{"v":0,"d":"0.0%"},{"v":0,"d":"0.0%"},{"v":0,"d":"0.0%"},{"v":0,"d":"0.0%"},{"$f":"IF(YEAR(Vermögen!AB17)=1900,2100,YEAR(Vermögen!AB17))","v":2100},{"$f":"IF(O$83<=$N90,Vermögen!$Z17,0)","v":0},{"$f":"IF(P$83<=$N90,Vermögen!$Z17,0)","v":0},{"$f":"IF(Q$83<=$N90,Vermögen!$Z17,0)","v":0},{"$f":"IF(R$83<=$N90,Vermögen!$Z17,0)","v":0},{"$f":"IF(S$83<=$N90,Vermögen!$Z17,0)","v":0}]
[null,"8.","","Bitte auswählen",{"v":0,"d":"0.0%"},{"v":0,"d":"0.0%"},{"v":0,"d":"0.0%"},{"v":0,"d":"0.0%"},{"v":0,"d":"0.0%"},{"v":0,"d":"0.0%"},{"v":0,"d":"0.0%"},{"v":0,"d":"0.0%"},{"v":0,"d":"0.0%"},{"$f":"IF(YEAR(Vermögen!AB18)=1900,2100,YEAR(Vermögen!AB18))","v":2100},{"$f":"IF(O$83<=$N91,Vermögen!$Z18,0)","v":0},{"$f":"IF(P$83<=$N91,Vermögen!$Z18,0)","v":0},{"$f":"IF(Q$83<=$N91,Vermögen!$Z18,0)","v":0},{"$f":"IF(R$83<=$N91,Vermögen!$Z18,0)","v":0},{"$f":"IF(S$83<=$N91,Vermögen!$Z18,0)","v":0}]
[null,"9.","","Bitte auswählen",{"v":0,"d":"0.0%"},{"v":0,"d":"0.0%"},{"v":0,"d":"0.0%"},{"v":0,"d":"0.0%"},{"v":0,"d":"0.0%"},{"v":0,"d":"0.0%"},{"v":0,"d":"0.0%"},{"v":0,"d":"0.0%"},{"v":0,"d":"0.0%"},{"$f":"IF(YEAR(Vermögen!AB19)=1900,2100,YEAR(Vermögen!AB19))","v":2100},{"$f":"IF(O$83<=$N92,Vermögen!$Z19,0)","v":0},{"$f":"IF(P$83<=$N92,Vermögen!$Z19,0)","v":0},{"$f":"IF(Q$83<=$N92,Vermögen!$Z19,0)","v":0},{"$f":"IF(R$83<=$N92,Vermögen!$Z19,0)","v":0},{"$f":"IF(S$83<=$N92,Vermögen!$Z19,0)","v":0}]
[null,"10.","","Bitte auswählen",{"v":0,"d":"0.0%"},{"v":0,"d":"0.0%"},{"v":0,"d":"0.0%"},{"v":0,"d":"0.0%"},{"v":0,"d":"0.0%"},{"v":0,"d":"0.0%"},{"v":0,"d":"0.0%"},{"v":0,"d":"0.0%"},{"v":0,"d":"0.0%"},{"$f":"IF(YEAR(Vermögen!AB20)=1900,2100,YEAR(Vermögen!AB20))","v":2100},{"$f":"IF(O$83<=$N93,Vermögen!$Z20,0)","v":0},{"$f":"IF(P$83<=$N93,Vermögen!$Z20,0)","v":0},{"$f":"IF(Q$83<=$N93,Vermögen!$Z20,0)","v":0},{"$f":"IF(R$83<=$N93,Vermögen!$Z20,0)","v":0},{"$f":"IF(S$83<=$N93,Vermögen!$Z20,0)","v":0}]
[null,"11.","","Bitte auswählen",{"v":0,"d":"0.0%"},{"v":0,"d":"0.0%"},{"v":0,"d":"0.0%"},{"v":0,"d":"0.0%"},{"v":0,"d":"0.0%"},{"v":0,"d":"0.0%"},{"v":0,"d":"0.0%"},{"v":0,"d":"0.0%"},{"v":0,"d":"0.0%"},{"$f":"IF(YEAR(Vermögen!AB21)=1900,2100,YEAR(Vermögen!AB21))","v":2100},{"$f":"IF(O$83<=$N94,Vermögen!$Z21,0)","v":0},{"$f":"IF(P$83<=$N94,Vermögen!$Z21,0)","v":0},{"$f":"IF(Q$83<=$N94,Vermögen!$Z21,0)","v":0},{"$f":"IF(R$83<=$N94,Vermögen!$Z21,0)","v":0},{"$f":"IF(S$83<=$N94,Vermögen!$Z21,0)","v":0}]
[null,"12.","","Bitte auswählen",{"v":0,"d":"0.0%"},{"$f":"F24","v":{"v":0,"d":"0.0%"}},{"v":0,"d":"0.0%"},{"v":0,"d":"0.0%"},{"v":0,"d":"0.0%"},{"v":0,"d":"0.0%"},{"v":0,"d":"0.0%"},{"v":0,"d":"0.0%"},{"v":0,"d":"0.0%"},{"$f":"IF(YEAR(Vermögen!AB60)=1900,2100,YEAR(Vermögen!AB60))","v":2100},{"$f":"IF(O$83<=$N95,Vermögen!$Z22,0)","v":0},{"$f":"IF(P$83<=$N95,Vermögen!$Z22,0)","v":0},{"$f":"IF(Q$83<=$N95,Vermögen!$Z22,0)","v":0},{"$f":"IF(R$83<=$N95,Vermögen!$Z22,0)","v":0},{"$f":"IF(S$83<=$N95,Vermögen!$Z22,0)","v":0}]
[null,"13.","","Bitte auswählen",{"v":0,"d":"0.0%"},{"v":0,"d":"0.0%"},{"v":0,"d":"0.0%"},{"v":0,"d":"0.0%"},{"v":0,"d":"0.0%"},{"v":0,"d":"0.0%"},{"v":0,"d":"0.0%"},{"v":0,"d":"0.0%"},{"v":0,"d":"0.0%"},{"$f":"IF(YEAR(Vermögen!AB61)=1900,2100,YEAR(Vermögen!AB61))","v":2100},{"$f":"IF(O$83<=$N96,Vermögen!$Z23,0)","v":0},{"$f":"IF(P$83<=$N96,Vermögen!$Z23,0)","v":0},{"$f":"IF(Q$83<=$N96,Vermögen!$Z23,0)","v":0},{"$f":"IF(R$83<=$N96,Vermögen!$Z23,0)","v":0},{"$f":"IF(S$83<=$N96,Vermögen!$Z23,0)","v":0}]
[null,"14.","","Bitte auswählen",{"v":0,"d":"0.0%"},{"v":0,"d":"0.0%"},{"v":0,"d":"0.0%"},{"v":0,"d":"0.0%"},{"v":0,"d":"0.0%"},{"v":0,"d":"0.0%"},{"v":0,"d":"0.0%"},{"v":0,"d":"0.0%"},{"v":0,"d":"0.0%"},{"$f":"IF(YEAR(Vermögen!AB62)=1900,2100,YEAR(Vermögen!AB62))","v":2100},{"$f":"IF(O$83<=$N97,Vermögen!$Z24,0)","v":0},{"$f":"IF(P$83<=$N97,Vermögen!$Z24,0)","v":0},{"$f":"IF(Q$83<=$N97,Vermögen!$Z24,0)","v":0},{"$f":"IF(R$83<=$N97,Vermögen!$Z24,0)","v":0},{"$f":"IF(S$83<=$N97,Vermögen!$Z24,0)","v":0}]
[null,"15.","","Bitte auswählen",{"v":0,"d":"0.0%"},{"v":0,"d":"0.0%"},{"v":0,"d":"0.0%"},{"v":0,"d":"0.0%"},{"v":0,"d":"0.0%"},{"v":0,"d":"0.0%"},{"v":0,"d":"0.0%"},{"v":0,"d":"0.0%"},{"v":0,"d":"0.0%"},{"$f":"IF(YEAR(Vermögen!AB63)=1900,2100,YEAR(Vermögen!AB63))","v":2100},{"$f":"IF(O$83<=$N98,Vermögen!$Z25,0)","v":0},{"$f":"IF(P$83<=$N98,Vermögen!$Z25,0)","v":0},{"$f":"IF(Q$83<=$N98,Vermögen!$Z25,0)","v":0},{"$f":"IF(R$83<=$N98,Vermögen!$Z25,0)","v":0},{"$f":"IF(S$83<=$N98,Vermögen!$Z25,0)","v":0}]
[null,"16.","","Bitte auswählen",{"v":0,"d":"0.0%"},{"v":0,"d":"0.0%"},{"v":0,"d":"0.0%"},{"v":0,"d":"0.0%"},{"v":0,"d":"0.0%"},{"v":0,"d":"0.0%"},{"v":0,"d":"0.0%"},{"v":0,"d":"0.0%"},{"v":0,"d":"0.0%"},{"$f":"IF(YEAR(Vermögen!AB64)=1900,2100,YEAR(Vermögen!AB64))","v":2100},{"$f":"IF(O$83<=$N99,Vermögen!$Z26,0)","v":0},{"$f":"IF(P$83<=$N99,Vermögen!$Z26,0)","v":0},{"$f":"IF(Q$83<=$N99,Vermögen!$Z26,0)","v":0},{"$f":"IF(R$83<=$N99,Vermögen!$Z26,0)","v":0},{"$f":"IF(S$83<=$N99,Vermögen!$Z26,0)","v":0}]
[null,"17.","","Bitte auswählen",{"v":0,"d":"0.0%"},{"v":0,"d":"0.0%"},{"v":0,"d":"0.0%"},{"v":0,"d":"0.0%"},{"v":0,"d":"0.0%"},{"v":0,"d":"0.0%"},{"v":0,"d":"0.0%"},{"v":0,"d":"0.0%"},{"v":0,"d":"0.0%"},{"$f":"IF(YEAR(Vermögen!AB65)=1900,2100,YEAR(Vermögen!AB65))","v":2100},{"$f":"IF(O$83<=$N100,Vermögen!$Z27,0)","v":0},{"$f":"IF(P$83<=$N100,Vermögen!$Z27,0)","v":0},{"$f":"IF(Q$83<=$N100,Vermögen!$Z27,0)","v":0},{"$f":"IF(R$83<=$N100,Vermögen!$Z27,0)","v":0},{"$f":"IF(S$83<=$N100,Vermögen!$Z27,0)","v":0}]
[null,"18.","","Bitte auswählen",{"v":0,"d":"0.0%"},{"v":0,"d":"0.0%"},{"v":0,"d":"0.0%"},{"v":0,"d":"0.0%"},{"v":0,"d":"0.0%"},{"v":0,"d":"0.0%"},{"v":0,"d":"0.0%"},{"v":0,"d":"0.0%"},{"v":0,"d":"0.0%"},{"$f":"IF(YEAR(Vermögen!AB66)=1900,2100,YEAR(Vermögen!AB66))","v":2100},{"$f":"IF(O$83<=$N101,Vermögen!$Z28,0)","v":0},{"$f":"IF(P$83<=$N101,Vermögen!$Z28,0)","v":0},{"$f":"IF(Q$83<=$N101,Vermögen!$Z28,0)","v":0},{"$f":"IF(R$83<=$N101,Vermögen!$Z28,0)","v":0},{"$f":"IF(S$83<=$N101,Vermögen!$Z28,0)","v":0}]
[null,"19.","","Bitte auswählen",{"v":0,"d":"0.0%"},{"v":0,"d":"0.0%"},{"v":0,"d":"0.0%"},{"v":0,"d":"0.0%"},{"v":0,"d":"0.0%"},{"v":0,"d":"0.0%"},{"v":0,"d":"0.0%"},{"v":0,"d":"0.0%"},{"v":0,"d":"0.0%"},{"$f":"IF(YEAR(Vermögen!AB67)=1900,2100,YEAR(Vermögen!AB67))","v":2100},{"$f":"IF(O$83<=$N102,Vermögen!$Z29,0)","v":0},{"$f":"IF(P$83<=$N102,Vermögen!$Z29,0)","v":0},{"$f":"IF(Q$83<=$N102,Vermögen!$Z29,0)","v":0},{"$f":"IF(R$83<=$N102,Vermögen!$Z29,0)","v":0},{"$f":"IF(S$83<=$N102,Vermögen!$Z29,0)","v":0}]
[null,{"$f":"B32","v":"20."},"","Bitte auswählen",{"v":0,"d":"0.0%"},{"v":0,"d":"0.0%"},{"v":0,"d":"0.0%"},{"v":0,"d":"0.0%"},{"v":0,"d":"0.0%"},{"v":0,"d":"0.0%"},{"v":0,"d":"0.0%"},{"v":0,"d":"0.0%"},{"v":0,"d":"0.0%"},{"$f":"IF(YEAR(Vermögen!AB68)=1900,2100,YEAR(Vermögen!AB68))","v":2100},{"$f":"IF(O$83<=$N103,Vermögen!$Z30,0)","v":0},{"$f":"IF(P$83<=$N103,Vermögen!$Z30,0)","v":0},{"$f":"IF(Q$83<=$N103,Vermögen!$Z30,0)","v":0},{"$f":"IF(R$83<=$N103,Vermögen!$Z30,0)","v":0},{"$f":"IF(S$83<=$N103,Vermögen!$Z30,0)","v":0}]
[null,"21.","","Bitte auswählen",{"v":0,"d":"0.0%"},{"v":0,"d":"0.0%"},{"v":0,"d":"0.0%"},{"v":0,"d":"0.0%"},{"v":0,"d":"0.0%"},{"v":0,"d":"0.0%"},{"v":0,"d":"0.0%"},{"v":0,"d":"0.0%"},{"v":0,"d":"0.0%"},{"$f":"IF(YEAR(Vermögen!AB69)=1900,2100,YEAR(Vermögen!AB69))","v":2100},{"$f":"IF(O$83<=$N104,Vermögen!$Z31,0)","v":0},{"$f":"IF(P$83<=$N104,Vermögen!$Z31,0)","v":0},{"$f":"IF(Q$83<=$N104,Vermögen!$Z31,0)","v":0},{"$f":"IF(R$83<=$N104,Vermögen!$Z31,0)","v":0},{"$f":"IF(S$83<=$N104,Vermögen!$Z31,0)","v":0}]
[null,"22.","","Bitte auswählen",{"v":0,"d":"0.0%"},{"$f":"F34","v":{"v":0,"d":"0.0%"}},{"v":0,"d":"0.0%"},{"v":0,"d":"0.0%"},{"v":0,"d":"0.0%"},{"v":0,"d":"0.0%"},{"v":0,"d":"0.0%"},{"v":0,"d":"0.0%"},{"v":0,"d":"0.0%"},{"$f":"IF(YEAR(Vermögen!AB70)=1900,2100,YEAR(Vermögen!AB70))","v":2100},{"$f":"IF(O$83<=$N105,Vermögen!$Z32,0)","v":0},{"$f":"IF(P$83<=$N105,Vermögen!$Z32,0)","v":0},{"$f":"IF(Q$83<=$N105,Vermögen!$Z32,0)","v":0},{"$f":"IF(R$83<=$N105,Vermögen!$Z32,0)","v":0},{"$f":"IF(S$83<=$N105,Vermögen!$Z32,0)","v":0}]
[null,"23.","","Bitte auswählen",{"v":0,"d":"0.0%"},{"v":0,"d":"0.0%"},{"v":0,"d":"0.0%"},{"v":0,"d":"0.0%"},{"v":0,"d":"0.0%"},{"v":0,"d":"0.0%"},{"v":0,"d":"0.0%"},{"v":0,"d":"0.0%"},{"v":0,"d":"0.0%"},{"$f":"IF(YEAR(Vermögen!AB71)=1900,2100,YEAR(Vermögen!AB71))","v":2100},{"$f":"IF(O$83<=$N106,Vermögen!$Z33,0)","v":0},{"$f":"IF(P$83<=$N106,Vermögen!$Z33,0)","v":0},{"$f":"IF(Q$83<=$N106,Vermögen!$Z33,0)","v":0},{"$f":"IF(R$83<=$N106,Vermögen!$Z33,0)","v":0},{"$f":"IF(S$83<=$N106,Vermögen!$Z33,0)","v":0}]
[null,"24.","","Bitte auswählen",{"v":0,"d":"0.0%"},{"v":0,"d":"0.0%"},{"v":0,"d":"0.0%"},{"v":0,"d":"0.0%"},{"v":0,"d":"0.0%"},{"v":0,"d":"0.0%"},{"v":0,"d":"0.0%"},{"v":0,"d":"0.0%"},{"v":0,"d":"0.0%"},{"$f":"IF(YEAR(Vermögen!AB72)=1900,2100,YEAR(Vermögen!AB72))","v":2100},{"$f":"IF(O$83<=$N107,Vermögen!$Z34,0)","v":0},{"$f":"IF(P$83<=$N107,Vermögen!$Z34,0)","v":0},{"$f":"IF(Q$83<=$N107,Vermögen!$Z34,0)","v":0},{"$f":"IF(R$83<=$N107,Vermögen!$Z34,0)","v":0},{"$f":"IF(S$83<=$N107,Vermögen!$Z34,0)","v":0}]
[null,"25.","","Bitte auswählen",{"v":0,"d":"0.0%"},{"v":0,"d":"0.0%"},{"v":0,"d":"0.0%"},{"v":0,"d":"0.0%"},{"v":0,"d":"0.0%"},{"v":0,"d":"0.0%"},{"v":0,"d":"0.0%"},{"v":0,"d":"0.0%"},{"v":0,"d":"0.0%"},{"$f":"IF(YEAR(Vermögen!AB73)=1900,2100,YEAR(Vermögen!AB73))","v":2100},{"$f":"IF(O$83<=$N108,Vermögen!$Z35,0)","v":0},{"$f":"IF(P$83<=$N108,Vermögen!$Z35,0)","v":0},{"$f":"IF(Q$83<=$N108,Vermögen!$Z35,0)","v":0},{"$f":"IF(R$83<=$N108,Vermögen!$Z35,0)","v":0},{"$f":"IF(S$83<=$N108,Vermögen!$Z35,0)","v":0}]
[null,"26.","","Bitte auswählen",{"v":0,"d":"0.0%"},{"v":0,"d":"0.0%"},{"v":0,"d":"0.0%"},{"v":0,"d":"0.0%"},{"v":0,"d":"0.0%"},{"v":0,"d":"0.0%"},{"v":0,"d":"0.0%"},{"v":0,"d":"0.0%"},{"v":0,"d":"0.0%"},{"$f":"IF(YEAR(Vermögen!AB74)=1900,2100,YEAR(Vermögen!AB74))","v":2100},{"$f":"IF(O$83<=$N109,Vermögen!$Z36,0)","v":0},{"$f":"IF(P$83<=$N109,Vermögen!$Z36,0)","v":0},{"$f":"IF(Q$83<=$N109,Vermögen!$Z36,0)","v":0},{"$f":"IF(R$83<=$N109,Vermögen!$Z36,0)","v":0},{"$f":"IF(S$83<=$N109,Vermögen!$Z36,0)","v":0}]
[null,"27.","","Bitte auswählen",{"v":0,"d":"0.0%"},{"v":0,"d":"0.0%"},{"v":0,"d":"0.0%"},{"v":0,"d":"0.0%"},{"v":0,"d":"0.0%"},{"v":0,"d":"0.0%"},{"v":0,"d":"0.0%"},{"v":0,"d":"0.0%"},{"v":0,"d":"0.0%"},{"$f":"IF(YEAR(Vermögen!AB75)=1900,2100,YEAR(Vermögen!AB75))","v":2100},{"$f":"IF(O$83<=$N110,Vermögen!$Z37,0)","v":0},{"$f":"IF(P$83<=$N110,Vermögen!$Z37,0)","v":0},{"$f":"IF(Q$83<=$N110,Vermögen!$Z37,0)","v":0},{"$f":"IF(R$83<=$N110,Vermögen!$Z37,0)","v":0},{"$f":"IF(S$83<=$N110,Vermögen!$Z37,0)","v":0}]
[null,"28.","","Bitte auswählen",{"v":0,"d":"0.0%"},{"v":0,"d":"0.0%"},{"v":0,"d":"0.0%"},{"v":0,"d":"0.0%"},{"v":0,"d":"0.0%"},{"v":0,"d":"0.0%"},{"v":0,"d":"0.0%"},{"v":0,"d":"0.0%"},{"v":0,"d":"0.0%"},{"$f":"IF(YEAR(Vermögen!AB76)=1900,2100,YEAR(Vermögen!AB76))","v":2100},{"$f":"IF(O$83<=$N111,Vermögen!$Z38,0)","v":0},{"$f":"IF(P$83<=$N111,Vermögen!$Z38,0)","v":0},{"$f":"IF(Q$83<=$N111,Vermögen!$Z38,0)","v":0},{"$f":"IF(R$83<=$N111,Vermögen!$Z38,0)","v":0},{"$f":"IF(S$83<=$N111,Vermögen!$Z38,0)","v":0}]
[null,"29.","","Bitte auswählen",{"v":0,"d":"0.0%"},{"v":0,"d":"0.0%"},{"v":0,"d":"0.0%"},{"v":0,"d":"0.0%"},{"v":0,"d":"0.0%"},{"v":0,"d":"0.0%"},{"v":0,"d":"0.0%"},{"v":0,"d":"0.0%"},{"v":0,"d":"0.0%"},{"$f":"IF(YEAR(Vermögen!AB77)=1900,2100,YEAR(Vermögen!AB77))","v":2100},{"$f":"IF(O$83<=$N112,Vermögen!$Z39,0)","v":0},{"$f":"IF(P$83<=$N112,Vermögen!$Z39,0)","v":0},{"$f":"IF(Q$83<=$N112,Vermögen!$Z39,0)","v":0},{"$f":"IF(R$83<=$N112,Vermögen!$Z39,0)","v":0},{"$f":"IF(S$83<=$N112,Vermögen!$Z39,0)","v":0}]
[null,"30.","","Bitte auswählen",{"v":0,"d":"0.0%"},{"v":0,"d":"0.0%"},{"v":0,"d":"0.0%"},{"v":0,"d":"0.0%"},{"v":0,"d":"0.0%"},{"v":0,"d":"0.0%"},{"v":0,"d":"0.0%"},{"v":0,"d":"0.0%"},{"v":0,"d":"0.0%"},{"$f":"IF(YEAR(Vermögen!AB78)=1900,2100,YEAR(Vermögen!AB78))","v":2100},{"$f":"IF(O$83<=$N113,Vermögen!$Z40,0)","v":0},{"$f":"IF(P$83<=$N113,Vermögen!$Z40,0)","v":0},{"$f":"IF(Q$83<=$N113,Vermögen!$Z40,0)","v":0},{"$f":"IF(R$83<=$N113,Vermögen!$Z40,0)","v":0},{"$f":"IF(S$83<=$N113,Vermögen!$Z40,0)","v":0}]
[null,"31.","","Bitte auswählen",{"v":0,"d":"0.0%"},{"v":0,"d":"0.0%"},{"v":0,"d":"0.0%"},{"v":0,"d":"0.0%"},{"v":0,"d":"0.0%"},{"v":0,"d":"0.0%"},{"v":0,"d":"0.0%"},{"v":0,"d":"0.0%"},{"v":0,"d":"0.0%"},{"$f":"IF(YEAR(Vermögen!AB79)=1900,2100,YEAR(Vermögen!AB79))","v":2100},{"$f":"IF(O$83<=$N114,Vermögen!$Z41,0)","v":0},{"$f":"IF(P$83<=$N114,Vermögen!$Z41,0)","v":0},{"$f":"IF(Q$83<=$N114,Vermögen!$Z41,0)","v":0},{"$f":"IF(R$83<=$N114,Vermögen!$Z41,0)","v":0},{"$f":"IF(S$83<=$N114,Vermögen!$Z41,0)","v":0}]
[null,"32.","","Bitte auswählen",{"v":0,"d":"0.0%"},{"$f":"F44","v":{"v":0,"d":"0.0%"}},{"v":0,"d":"0.0%"},{"v":0,"d":"0.0%"},{"v":0,"d":"0.0%"},{"v":0,"d":"0.0%"},{"v":0,"d":"0.0%"},{"v":0,"d":"0.0%"},{"v":0,"d":"0.0%"},{"$f":"IF(YEAR(Vermögen!AB80)=1900,2100,YEAR(Vermögen!AB80))","v":2100},{"$f":"IF(O$83<=$N115,Vermögen!$Z42,0)","v":0},{"$f":"IF(P$83<=$N115,Vermögen!$Z42,0)","v":0},{"$f":"IF(Q$83<=$N115,Vermögen!$Z42,0)","v":0},{"$f":"IF(R$83<=$N115,Vermögen!$Z42,0)","v":0},{"$f":"IF(S$83<=$N115,Vermögen!$Z42,0)","v":0}]
[null,"33.","","Bitte auswählen",{"v":0,"d":"0.0%"},{"v":0,"d":"0.0%"},{"v":0,"d":"0.0%"},{"v":0,"d":"0.0%"},{"v":0,"d":"0.0%"},{"v":0,"d":"0.0%"},{"v":0,"d":"0.0%"},{"v":0,"d":"0.0%"},{"v":0,"d":"0.0%"},{"$f":"IF(YEAR(Vermögen!AB81)=1900,2100,YEAR(Vermögen!AB81))","v":2100},{"$f":"IF(O$83<=$N116,Vermögen!$Z43,0)","v":0},{"$f":"IF(P$83<=$N116,Vermögen!$Z43,0)","v":0},{"$f":"IF(Q$83<=$N116,Vermögen!$Z43,0)","v":0},{"$f":"IF(R$83<=$N116,Vermögen!$Z43,0)","v":0},{"$f":"IF(S$83<=$N116,Vermögen!$Z43,0)","v":0}]
[null,"34.","","Bitte auswählen",{"v":0,"d":"0.0%"},{"v":0,"d":"0.0%"},{"v":0,"d":"0.0%"},{"v":0,"d":"0.0%"},{"v":0,"d":"0.0%"},{"v":0,"d":"0.0%"},{"v":0,"d":"0.0%"},{"v":0,"d":"0.0%"},{"v":0,"d":"0.0%"},{"$f":"IF(YEAR(Vermögen!AB82)=1900,2100,YEAR(Vermögen!AB82))","v":2100},{"$f":"IF(O$83<=$N117,Vermögen!$Z44,0)","v":0},{"$f":"IF(P$83<=$N117,Vermögen!$Z44,0)","v":0},{"$f":"IF(Q$83<=$N117,Vermögen!$Z44,0)","v":0},{"$f":"IF(R$83<=$N117,Vermögen!$Z44,0)","v":0},{"$f":"IF(S$83<=$N117,Vermögen!$Z44,0)","v":0}]
[null,"35.","","Bitte auswählen",{"v":0,"d":"0.0%"},{"v":0,"d":"0.0%"},{"v":0,"d":"0.0%"},{"v":0,"d":"0.0%"},{"v":0,"d":"0.0%"},{"v":0,"d":"0.0%"},{"v":0,"d":"0.0%"},{"v":0,"d":"0.0%"},{"v":0,"d":"0.0%"},{"$f":"IF(YEAR(Vermögen!AB83)=1900,2100,YEAR(Vermögen!AB83))","v":2100},{"$f":"IF(O$83<=$N118,Vermögen!$Z45,0)","v":0},{"$f":"IF(P$83<=$N118,Vermögen!$Z45,0)","v":0},{"$f":"IF(Q$83<=$N118,Vermögen!$Z45,0)","v":0},{"$f":"IF(R$83<=$N118,Vermögen!$Z45,0)","v":0},{"$f":"IF(S$83<=$N118,Vermögen!$Z45,0)","v":0}]
[null,"36.","","Bitte auswählen",{"v":0,"d":"0.0%"},{"v":0,"d":"0.0%"},{"v":0,"d":"0.0%"},{"v":0,"d":"0.0%"},{"v":0,"d":"0.0%"},{"v":0,"d":"0.0%"},{"v":0,"d":"0.0%"},{"v":0,"d":"0.0%"},{"v":0,"d":"0.0%"},{"$f":"IF(YEAR(Vermögen!AB84)=1900,2100,YEAR(Vermögen!AB84))","v":2100},{"$f":"IF(O$83<=$N119,Vermögen!$Z46,0)","v":0},{"$f":"IF(P$83<=$N119,Vermögen!$Z46,0)","v":0},{"$f":"IF(Q$83<=$N119,Vermögen!$Z46,0)","v":0},{"$f":"IF(R$83<=$N119,Vermögen!$Z46,0)","v":0},{"$f":"IF(S$83<=$N119,Vermögen!$Z46,0)","v":0}]
[null,"37.","","Bitte auswählen",{"v":0,"d":"0.0%"},{"v":0,"d":"0.0%"},{"v":0,"d":"0.0%"},{"v":0,"d":"0.0%"},{"v":0,"d":"0.0%"},{"v":0,"d":"0.0%"},{"v":0,"d":"0.0%"},{"v":0,"d":"0.0%"},{"v":0,"d":"0.0%"},{"$f":"IF(YEAR(Vermögen!AB85)=1900,2100,YEAR(Vermögen!AB85))","v":2100},{"$f":"IF(O$83<=$N120,Vermögen!$Z47,0)","v":0},{"$f":"IF(P$83<=$N120,Vermögen!$Z47,0)","v":0},{"$f":"IF(Q$83<=$N120,Vermögen!$Z47,0)","v":0},{"$f":"IF(R$83<=$N120,Vermögen!$Z47,0)","v":0},{"$f":"IF(S$83<=$N120,Vermögen!$Z47,0)","v":0}]
[null,"38.","","Bitte auswählen",{"v":0,"d":"0.0%"},{"v":0,"d":"0.0%"},{"v":0,"d":"0.0%"},{"v":0,"d":"0.0%"},{"v":0,"d":"0.0%"},{"v":0,"d":"0.0%"},{"v":0,"d":"0.0%"},{"v":0,"d":"0.0%"},{"v":0,"d":"0.0%"},{"$f":"IF(YEAR(Vermögen!AB86)=1900,2100,YEAR(Vermögen!AB86))","v":2100},{"$f":"IF(O$83<=$N121,Vermögen!$Z48,0)","v":0},{"$f":"IF(P$83<=$N121,Vermögen!$Z48,0)","v":0},{"$f":"IF(Q$83<=$N121,Vermögen!$Z48,0)","v":0},{"$f":"IF(R$83<=$N121,Vermögen!$Z48,0)","v":0},{"$f":"IF(S$83<=$N121,Vermögen!$Z48,0)","v":0}]
[null,"39.","","Bitte auswählen",{"v":0,"d":"0.0%"},{"v":0,"d":"0.0%"},{"v":0,"d":"0.0%"},{"v":0,"d":"0.0%"},{"v":0,"d":"0.0%"},{"v":0,"d":"0.0%"},{"v":0,"d":"0.0%"},{"v":0,"d":"0.0%"},{"v":0,"d":"0.0%"},{"$f":"IF(YEAR(Vermögen!AB87)=1900,2100,YEAR(Vermögen!AB87))","v":2100},{"$f":"IF(O$83<=$N122,Vermögen!$Z49,0)","v":0},{"$f":"IF(P$83<=$N122,Vermögen!$Z49,0)","v":0},{"$f":"IF(Q$83<=$N122,Vermögen!$Z49,0)","v":0},{"$f":"IF(R$83<=$N122,Vermögen!$Z49,0)","v":0},{"$f":"IF(S$83<=$N122,Vermögen!$Z49,0)","v":0}]
[null,{"$f":"B52","v":"40."},"","Bitte auswählen",{"v":0,"d":"0.0%"},{"v":0,"d":"0.0%"},{"v":0,"d":"0.0%"},{"v":0,"d":"0.0%"},{"v":0,"d":"0.0%"},{"v":0,"d":"0.0%"},{"v":0,"d":"0.0%"},{"v":0,"d":"0.0%"},{"v":0,"d":"0.0%"},{"$f":"IF(YEAR(Vermögen!AB88)=1900,2100,YEAR(Vermögen!AB88))","v":2100},{"$f":"IF(O$83<=$N123,Vermögen!$Z50,0)","v":0},{"$f":"IF(P$83<=$N123,Vermögen!$Z50,0)","v":0},{"$f":"IF(Q$83<=$N123,Vermögen!$Z50,0)","v":0},{"$f":"IF(R$83<=$N123,Vermögen!$Z50,0)","v":0},{"$f":"IF(S$83<=$N123,Vermögen!$Z50,0)","v":0}]
[null,"41.","","Bitte auswählen",{"v":0,"d":"0.0%"},{"v":0,"d":"0.0%"},{"v":0,"d":"0.0%"},{"v":0,"d":"0.0%"},{"v":0,"d":"0.0%"},{"v":0,"d":"0.0%"},{"v":0,"d":"0.0%"},{"v":0,"d":"0.0%"},{"v":0,"d":"0.0%"},{"$f":"IF(YEAR(Vermögen!AB89)=1900,2100,YEAR(Vermögen!AB89))","v":2100},{"$f":"IF(O$83<=$N124,Vermögen!$Z51,0)","v":0},{"$f":"IF(P$83<=$N124,Vermögen!$Z51,0)","v":0},{"$f":"IF(Q$83<=$N124,Vermögen!$Z51,0)","v":0},{"$f":"IF(R$83<=$N124,Vermögen!$Z51,0)","v":0},{"$f":"IF(S$83<=$N124,Vermögen!$Z51,0)","v":0}]
[null,"42.","","Bitte auswählen",{"v":0,"d":"0.0%"},{"$f":"F54","v":{"v":0,"d":"0.0%"}},{"v":0,"d":"0.0%"},{"v":0,"d":"0.0%"},{"v":0,"d":"0.0%"},{"v":0,"d":"0.0%"},{"v":0,"d":"0.0%"},{"v":0,"d":"0.0%"},{"v":0,"d":"0.0%"},{"$f":"IF(YEAR(Vermögen!AB90)=1900,2100,YEAR(Vermögen!AB90))","v":2100},{"$f":"IF(O$83<=$N125,Vermögen!$Z52,0)","v":0},{"$f":"IF(P$83<=$N125,Vermögen!$Z52,0)","v":0},{"$f":"IF(Q$83<=$N125,Vermögen!$Z52,0)","v":0},{"$f":"IF(R$83<=$N125,Vermögen!$Z52,0)","v":0},{"$f":"IF(S$83<=$N125,Vermögen!$Z52,0)","v":0}]
[null,"43.","","Bitte auswählen",{"v":0,"d":"0.0%"},{"v":0,"d":"0.0%"},{"v":0,"d":"0.0%"},{"v":0,"d":"0.0%"},{"v":0,"d":"0.0%"},{"v":0,"d":"0.0%"},{"v":0,"d":"0.0%"},{"v":0,"d":"0.0%"},{"v":0,"d":"0.0%"},{"$f":"IF(YEAR(Vermögen!AB91)=1900,2100,YEAR(Vermögen!AB91))","v":2100},{"$f":"IF(O$83<=$N126,Vermögen!$Z53,0)","v":0},{"$f":"IF(P$83<=$N126,Vermögen!$Z53,0)","v":0},{"$f":"IF(Q$83<=$N126,Vermögen!$Z53,0)","v":0},{"$f":"IF(R$83<=$N126,Vermögen!$Z53,0)","v":0},{"$f":"IF(S$83<=$N126,Vermögen!$Z53,0)","v":0}]
[null,"44.","","Bitte auswählen",{"v":0,"d":"0.0%"},{"v":0,"d":"0.0%"},{"v":0,"d":"0.0%"},{"v":0,"d":"0.0%"},{"v":0,"d":"0.0%"},{"v":0,"d":"0.0%"},{"v":0,"d":"0.0%"},{"v":0,"d":"0.0%"},{"v":0,"d":"0.0%"},{"$f":"IF(YEAR(Vermögen!AB92)=1900,2100,YEAR(Vermögen!AB92))","v":2100},{"$f":"IF(O$83<=$N127,Vermögen!$Z54,0)","v":0},{"$f":"IF(P$83<=$N127,Vermögen!$Z54,0)","v":0},{"$f":"IF(Q$83<=$N127,Vermögen!$Z54,0)","v":0},{"$f":"IF(R$83<=$N127,Vermögen!$Z54,0)","v":0},{"$f":"IF(S$83<=$N127,Vermögen!$Z54,0)","v":0}]
[null,"45.","","Bitte auswählen",{"v":0,"d":"0.0%"},{"v":0,"d":"0.0%"},{"v":0,"d":"0.0%"},{"v":0,"d":"0.0%"},{"v":0,"d":"0.0%"},{"v":0,"d":"0.0%"},{"v":0,"d":"0.0%"},{"v":0,"d":"0.0%"},{"v":0,"d":"0.0%"},{"$f":"IF(YEAR(Vermögen!AB93)=1900,2100,YEAR(Vermögen!AB93))","v":2100},{"$f":"IF(O$83<=$N128,Vermögen!$Z55,0)","v":0},{"$f":"IF(P$83<=$N128,Vermögen!$Z55,0)","v":0},{"$f":"IF(Q$83<=$N128,Vermögen!$Z55,0)","v":0},{"$f":"IF(R$83<=$N128,Vermögen!$Z55,0)","v":0},{"$f":"IF(S$83<=$N128,Vermögen!$Z55,0)","v":0}]
[null,"46.","","Bitte auswählen",{"v":0,"d":"0.0%"},{"v":0,"d":"0.0%"},{"v":0,"d":"0.0%"},{"v":0,"d":"0.0%"},{"v":0,"d":"0.0%"},{"v":0,"d":"0.0%"},{"v":0,"d":"0.0%"},{"v":0,"d":"0.0%"},{"v":0,"d":"0.0%"},{"$f":"IF(YEAR(Vermögen!AB94)=1900,2100,YEAR(Vermögen!AB94))","v":2100},{"$f":"IF(O$83<=$N129,Vermögen!$Z56,0)","v":0},{"$f":"IF(P$83<=$N129,Vermögen!$Z56,0)","v":0},{"$f":"IF(Q$83<=$N129,Vermögen!$Z56,0)","v":0},{"$f":"IF(R$83<=$N129,Vermögen!$Z56,0)","v":0},{"$f":"IF(S$83<=$N129,Vermögen!$Z56,0)","v":0}]
[null,"47.","","Bitte auswählen",{"v":0,"d":"0.0%"},{"v":0,"d":"0.0%"},{"v":0,"d":"0.0%"},{"v":0,"d":"0.0%"},{"v":0,"d":"0.0%"},{"v":0,"d":"0.0%"},{"v":0,"d":"0.0%"},{"v":0,"d":"0.0%"},{"v":0,"d":"0.0%"},{"$f":"IF(YEAR(Vermögen!AB95)=1900,2100,YEAR(Vermögen!AB95))","v":2100},{"$f":"IF(O$83<=$N130,Vermögen!$Z57,0)","v":0},{"$f":"IF(P$83<=$N130,Vermögen!$Z57,0)","v":0},{"$f":"IF(Q$83<=$N130,Vermögen!$Z57,0)","v":0},{"$f":"IF(R$83<=$N130,Vermögen!$Z57,0)","v":0},{"$f":"IF(S$83<=$N130,Vermögen!$Z57,0)","v":0}]
[null,"48.","","Bitte auswählen",{"v":0,"d":"0.0%"},{"v":0,"d":"0.0%"},{"v":0,"d":"0.0%"},{"v":0,"d":"0.0%"},{"v":0,"d":"0.0%"},{"v":0,"d":"0.0%"},{"v":0,"d":"0.0%"},{"v":0,"d":"0.0%"},{"v":0,"d":"0.0%"},{"$f":"IF(YEAR(Vermögen!AB96)=1900,2100,YEAR(Vermögen!AB96))","v":2100},{"$f":"IF(O$83<=$N131,Vermögen!$Z58,0)","v":0},{"$f":"IF(P$83<=$N131,Vermögen!$Z58,0)","v":0},{"$f":"IF(Q$83<=$N131,Vermögen!$Z58,0)","v":0},{"$f":"IF(R$83<=$N131,Vermögen!$Z58,0)","v":0},{"$f":"IF(S$83<=$N131,Vermögen!$Z58,0)","v":0}]
[null,"49.","","Bitte auswählen",{"v":0,"d":"0.0%"},{"v":0,"d":"0.0%"},{"v":0,"d":"0.0%"},{"v":0,"d":"0.0%"},{"v":0,"d":"0.0%"},{"v":0,"d":"0.0%"},{"v":0,"d":"0.0%"},{"v":0,"d":"0.0%"},{"v":0,"d":"0.0%"},{"$f":"IF(YEAR(Vermögen!AB97)=1900,2100,YEAR(Vermögen!AB97))","v":2100},{"$f":"IF(O$83<=$N132,Vermögen!$Z59,0)","v":0},{"$f":"IF(P$83<=$N132,Vermögen!$Z59,0)","v":0},{"$f":"IF(Q$83<=$N132,Vermögen!$Z59,0)","v":0},{"$f":"IF(R$83<=$N132,Vermögen!$Z59,0)","v":0},{"$f":"IF(S$83<=$N132,Vermögen!$Z59,0)","v":0}]
[null,"50.","","Bitte auswählen",{"v":0,"d":"0.0%"},{"v":0,"d":"0.0%"},{"v":0,"d":"0.0%"},{"v":0,"d":"0.0%"},{"v":0,"d":"0.0%"},{"v":0,"d":"0.0%"},{"v":0,"d":"0.0%"},{"v":0,"d":"0.0%"},{"v":0,"d":"0.0%"},{"$f":"IF(YEAR(Vermögen!AB98)=1900,2100,YEAR(Vermögen!AB98))","v":2100},{"$f":"IF(O$83<=$N133,Vermögen!$Z60,0)","v":0},{"$f":"IF(P$83<=$N133,Vermögen!$Z60,0)","v":0},{"$f":"IF(Q$83<=$N133,Vermögen!$Z60,0)","v":0},{"$f":"IF(R$83<=$N133,Vermögen!$Z60,0)","v":0},{"$f":"IF(S$83<=$N133,Vermögen!$Z60,0)","v":0}]
[null,null,{"$f":"C64","v":"Summe"},{"$nulls":11},{"$f":"SUM(O84:O133)","v":0},{"$f":"SUM(P84:P133)","v":0},0,0,0]
[]
[null,null,"Erträge nach Anlageklassen",{"$f":"D66","v":"Aktien"},{"$nulls":10},{"$f":"SUM(O$84:O$133*$E$84:$E$133)","v":0},{"$f":"SUM(P$84:P$133*$E$84:$E$133)","v":0},{"$f":"SUM(Q$84:Q$133*$E$84:$E$133)","v":0},{"$f":"SUM(R$84:R$133*$E$84:$E$133)","v":0},{"$f":"SUM(S$84:S$133*$E$84:$E$133)","v":0}]
[{"$nulls":3},"Anleihen",{"$nulls":10},{"$f":"SUM(O$84:O$133*$F$84:$F$133)","v":0},{"$f":"SUM(P$84:P$133*$F$84:$F$133)","v":0},{"$f":"SUM(Q$84:Q$133*$F$84:$F$133)","v":0},{"$f":"SUM(R$84:R$133*$F$84:$F$133)","v":0},{"$f":"SUM(S$84:S$133*$F$84:$F$133)","v":0}]
[{"$nulls":3},"Alternative Inv.",{"$nulls":10},{"$f":"SUM(O$84:O$133*$G$84:$G$133)","v":0},{"$f":"SUM(P$84:P$133*$G$84:$G$133)","v":0},{"$f":"SUM(Q$84:Q$133*$G$84:$G$133)","v":0},{"$f":"SUM(R$84:R$133*$G$84:$G$133)","v":0},{"$f":"SUM(S$84:S$133*$G$84:$G$133)","v":0}]
[{"$nulls":3},"Rohstoffe",{"$nulls":10},{"$f":"SUM(O$84:O$133*$H$84:$H$133)","v":0},{"$f":"SUM(P$84:P$133*$H$84:$H$133)","v":0},{"$f":"SUM(Q$84:Q$133*$H$84:$H$133)","v":0},{"$f":"SUM(R$84:R$133*$H$84:$H$133)","v":0},{"$f":"SUM(S$84:S$133*$H$84:$H$133)","v":0}]
[{"$nulls":3},"Liquidität",{"$nulls":10},{"$f":"SUM(O$84:O$133*$I$84:$I$133)","v":0},{"$f":"SUM(P$84:P$133*$I$84:$I$133)","v":0},{"$f":"SUM(Q$84:Q$133*$I$84:$I$133)","v":0},{"$f":"SUM(R$84:R$133*$I$84:$I$133)","v":0},{"$f":"SUM(S$84:S$133*$I$84:$I$133)","v":0}]
[{"$nulls":3},"Immobilien",{"$nulls":10},{"$f":"SUM(O$84:O$133*$J$84:$J$133)","v":0},{"$f":"SUM(P$84:P$133*$J$84:$J$133)","v":0},{"$f":"SUM(Q$84:Q$133*$J$84:$J$133)","v":0},{"$f":"SUM(R$84:R$133*$J$84:$J$133)","v":0},{"$f":"SUM(S$84:S$133*$J$84:$J$133)","v":0}]
[{"$nulls":3},"Beteiligungen",{"$nulls":10},{"$f":"SUM(O$84:O$133*$K$84:$K$133)","v":0},{"$f":"SUM(P$84:P$133*$K$84:$K$133)","v":0},{"$f":"SUM(Q$84:Q$133*$K$84:$K$133)","v":0},{"$f":"SUM(R$84:R$133*$K$84:$K$133)","v":0},{"$f":"SUM(S$84:S$133*$K$84:$K$133)","v":0}]
[{"$nulls":3},"Sonst. Verm.",{"$nulls":10},{"$f":"SUM(O$84:O$133*$L$84:$L$133)","v":0},{"$f":"SUM(P$84:P$133*$L$84:$L$133)","v":0},{"$f":"SUM(Q$84:Q$133*$L$84:$L$133)","v":0},{"$f":"SUM(R$84:R$133*$L$84:$L$133)","v":0},{"$f":"SUM(S$84:S$133*$L$84:$L$133)","v":0}]
[{"$nulls":3},"Verbindlichkeiten",{"$nulls":10},{"$f":"SUM(O$84:O$133*$M$84:$M$133)","v":0},{"$f":"SUM(P$84:P$133*$M$84:$M$133)","v":0},{"$f":"SUM(Q$84:Q$133*$M$84:$M$133)","v":0},{"$f":"SUM(R$84:R$133*$M$84:$M$133)","v":0},{"$f":"SUM(S$84:S$133*$M$84:$M$133)","v":0}]
[{"$nulls":3},"Summe",{"$nulls":10},{"$f":"SUM(O136:O144)","v":0},{"$f":"SUM(P136:P144)","v":0},{"$f":"SUM(Q136:Q144)","v":0},{"$f":"SUM(R136:R144)","v":0},{"$f":"SUM(S136:S144)","v":0}]
[null,null,"Sonstige Erträge aus Wirtschaftsplan","Ohne Zuwendungen in Rücklagen und Zustiftungen",{"$nulls":10},{"$f":"Wirtschaftsplan!H22-Wirtschaftsplan!H15-Wirtschaftsplan!H19-Wirtschaftsplan!H21","v":0},{"$f":"Wirtschaftsplan!M22-Wirtschaftsplan!M15-Wirtschaftsplan!M19-Wirtschaftsplan!M21","v":0},{"$f":"Wirtschaftsplan!N22-Wirtschaftsplan!N15-Wirtschaftsplan!N19-Wirtschaftsplan!N21","v":0},{"$f":"Wirtschaftsplan!O22-Wirtschaftsplan!O15-Wirtschaftsplan!O19-Wirtschaftsplan!O21","v":0},{"$f":"Wirtschaftsplan!P22-Wirtschaftsplan!P15-Wirtschaftsplan!P19-Wirtschaftsplan!P21","v":0}]
[]
[null,null,"Kosten Vermögensverwaltung (explizit) ",{"$nulls":11},"Projektion Kosten"]
[{"$nulls":14},2,3,4,5,6]
[null,{"$f":"B83","v":"Nr."},"Vermögensgegenstand","Tatsächliche Kosten",{"$f":"E83","v":"Aktien"},"Anleihen","Alternative Inv.","Rohstoffe","Liquidität","Immobilien","Beteiligungen","Sonst. Verm.","Verbindlichkeiten","Liquiwirks.K.",{"$f":"O83","v":2024},{"$f":"P83","v":2025},{"$f":"Q83","v":2026},{"$f":"R83","v":2027},{"$f":"S83","v":2028}]
[null,"1.","",{"$f":"Vermögen!S11*Vermögen!AE11","v":0},{"$f":"E84","v":{"v":0,"d":"0.0%"}},{"v":0,"d":"0.0%"},{"v":0,"d":"0.0%"},{"v":0,"d":"0.0%"},{"v":0,"d":"0.0%"},{"v":0,"d":"0.0%"},{"v":0,"d":"0.0%"},{"v":0,"d":"0.0%"},{"v":0,"d":"0.0%"},{"$f":"IF(Vermögen!AF11=\"ja\",Vermögen!S11*Vermögen!AE11,0)","v":0},{"$f":"IF(Vermögen!$AF11=\"ja\",'Daten Projektion'!O13*Vermögen!$AE11,0)","v":0},{"$f":"IF(Vermögen!$AF11=\"ja\",'Daten Projektion'!P13*Vermögen!$AE11,0)","v":0},{"$f":"IF(Vermögen!$AF11=\"ja\",'Daten Projektion'!Q13*Vermögen!$AE11,0)","v":0},{"$f":"IF(Vermögen!$AF11=\"ja\",'Daten Projektion'!R13*Vermögen!$AE11,0)","v":0},{"$f":"IF(Vermögen!$AF11=\"ja\",'Daten Projektion'!S13*Vermögen!$AE11,0)","v":0}]
[null,"2.","",{"$f":"Vermögen!S12*Vermögen!AE12","v":0},{"$f":"E85","v":{"v":0,"d":"0.0%"}},{"v":0,"d":"0.0%"},{"v":0,"d":"0.0%"},{"v":0,"d":"0.0%"},{"v":0,"d":"0.0%"},{"v":0,"d":"0.0%"},{"v":0,"d":"0.0%"},{"v":0,"d":"0.0%"},{"v":0,"d":"0.0%"},{"$f":"IF(Vermögen!AF12=\"ja\",Vermögen!S12*Vermögen!AE12,0)","v":0},{"$f":"IF(Vermögen!$AF12=\"ja\",'Daten Projektion'!O14*Vermögen!$AE12,0)","v":0},{"$f":"IF(Vermögen!$AF12=\"ja\",'Daten Projektion'!P14*Vermögen!$AE12,0)","v":0},{"$f":"IF(Vermögen!$AF12=\"ja\",'Daten Projektion'!Q14*Vermögen!$AE12,0)","v":0},{"$f":"IF(Vermögen!$AF12=\"ja\",'Daten Projektion'!R14*Vermögen!$AE12,0)","v":0},{"$f":"IF(Vermögen!$AF12=\"ja\",'Daten Projektion'!S14*Vermögen!$AE12,0)","v":0}]
[null,"3.","",{"$f":"Vermögen!S13*Vermögen!AE13","v":0},{"$f":"E86","v":{"v":0,"d":"0.0%"}},{"v":0,"d":"0.0%"},{"v":0,"d":"0.0%"},{"v":0,"d":"0.0%"},{"v":0,"d":"0.0%"},{"v":0,"d":"0.0%"},{"v":0,"d":"0.0%"},{"v":0,"d":"0.0%"},{"v":0,"d":"0.0%"},{"$f":"IF(Vermögen!AF13=\"ja\",Vermögen!S13*Vermögen!AE13,0)","v":0},{"$f":"IF(Vermögen!$AF13=\"ja\",'Daten Projektion'!O15*Vermögen!$AE13,0)","v":0},{"$f":"IF(Vermögen!$AF13=\"ja\",'Daten Projektion'!P15*Vermögen!$AE13,0)","v":0},{"$f":"IF(Vermögen!$AF13=\"ja\",'Daten Projektion'!Q15*Vermögen!$AE13,0)","v":0},{"$f":"IF(Vermögen!$AF13=\"ja\",'Daten Projektion'!R15*Vermögen!$AE13,0)","v":0},{"$f":"IF(Vermögen!$AF13=\"ja\",'Daten Projektion'!S15*Vermögen!$AE13,0)","v":0}]
[null,"4.","",{"$f":"Vermögen!S14*Vermögen!AE14","v":0},{"$f":"E87","v":{"v":0,"d":"0.0%"}},{"v":0,"d":"0.0%"},{"v":0,"d":"0.0%"},{"v":0,"d":"0.0%"},{"v":0,"d":"0.0%"},{"v":0,"d":"0.0%"},{"v":0,"d":"0.0%"},{"v":0,"d":"0.0%"},{"v":0,"d":"0.0%"},{"$f":"IF(Vermögen!AF14=\"ja\",Vermögen!S14*Vermögen!AE14,0)","v":0},{"$f":"IF(Vermögen!$AF14=\"ja\",'Daten Projektion'!O16*Vermögen!$AE14,0)","v":0},{"$f":"IF(Vermögen!$AF14=\"ja\",'Daten Projektion'!P16*Vermögen!$AE14,0)","v":0},{"$f":"IF(Vermögen!$AF14=\"ja\",'Daten Projektion'!Q16*Vermögen!$AE14,0)","v":0},{"$f":"IF(Vermögen!$AF14=\"ja\",'Daten Projektion'!R16*Vermögen!$AE14,0)","v":0},{"$f":"IF(Vermögen!$AF14=\"ja\",'Daten Projektion'!S16*Vermögen!$AE14,0)","v":0}]
[null,"5.","",{"$f":"Vermögen!S15*Vermögen!AE15","v":0},{"$f":"E88","v":{"v":0,"d":"0.0%"}},{"v":0,"d":"0.0%"},{"v":0,"d":"0.0%"},{"v":0,"d":"0.0%"},{"v":0,"d":"0.0%"},{"v":0,"d":"0.0%"},{"v":0,"d":"0.0%"},{"v":0,"d":"0.0%"},{"v":0,"d":"0.0%"},{"$f":"IF(Vermögen!AF15=\"ja\",Vermögen!S15*Vermögen!AE15,0)","v":0},{"$f":"IF(Vermögen!$AF15=\"ja\",'Daten Projektion'!O17*Vermögen!$AE15,0)","v":0},{"$f":"IF(Vermögen!$AF15=\"ja\",'Daten Projektion'!P17*Vermögen!$AE15,0)","v":0},{"$f":"IF(Vermögen!$AF15=\"ja\",'Daten Projektion'!Q17*Vermögen!$AE15,0)","v":0},{"$f":"IF(Vermögen!$AF15=\"ja\",'Daten Projektion'!R17*Vermögen!$AE15,0)","v":0},{"$f":"IF(Vermögen!$AF15=\"ja\",'Daten Projektion'!S17*Vermögen!$AE15,0)","v":0}]
[null,"6.","",{"$f":"Vermögen!S16*Vermögen!AE16","v":0},{"$f":"E89","v":{"v":0,"d":"0.0%"}},{"v":0,"d":"0.0%"},{"v":0,"d":"0.0%"},{"v":0,"d":"0.0%"},{"v":0,"d":"0.0%"},{"v":0,"d":"0.0%"},{"v":0,"d":"0.0%"},{"v":0,"d":"0.0%"},{"v":0,"d":"0.0%"},{"$f":"IF(Vermögen!AF16=\"ja\",Vermögen!S16*Vermögen!AE16,0)","v":0},{"$f":"IF(Vermögen!$AF16=\"ja\",'Daten Projektion'!O18*Vermögen!$AE16,0)","v":0},{"$f":"IF(Vermögen!$AF16=\"ja\",'Daten Projektion'!P18*Vermögen!$AE16,0)","v":0},{"$f":"IF(Vermögen!$AF16=\"ja\",'Daten Projektion'!Q18*Vermögen!$AE16,0)","v":0},{"$f":"IF(Vermögen!$AF16=\"ja\",'Daten Projektion'!R18*Vermögen!$AE16,0)","v":0},{"$f":"IF(Vermögen!$AF16=\"ja\",'Daten Projektion'!S18*Vermögen!$AE16,0)","v":0}]
[null,"7.","",{"$f":"Vermögen!S17*Vermögen!AE17","v":0},{"$f":"E90","v":{"v":0,"d":"0.0%"}},{"v":0,"d":"0.0%"},{"v":0,"d":"0.0%"},{"v":0,"d":"0.0%"},{"v":0,"d":"0.0%"},{"v":0,"d":"0.0%"},{"v":0,"d":"0.0%"},{"v":0,"d":"0.0%"},{"v":0,"d":"0.0%"},{"$f":"IF(Vermögen!AF17=\"ja\",Vermögen!S17*Vermögen!AE17,0)","v":0},{"$f":"IF(Vermögen!$AF17=\"ja\",'Daten Projektion'!O19*Vermögen!$AE17,0)","v":0},{"$f":"IF(Vermögen!$AF17=\"ja\",'Daten Projektion'!P19*Vermögen!$AE17,0)","v":0},{"$f":"IF(Vermögen!$AF17=\"ja\",'Daten Projektion'!Q19*Vermögen!$AE17,0)","v":0},{"$f":"IF(Vermögen!$AF17=\"ja\",'Daten Projektion'!R19*Vermögen!$AE17,0)","v":0},{"$f":"IF(Vermögen!$AF17=\"ja\",'Daten Projektion'!S19*Vermögen!$AE17,0)","v":0}]
[null,"8.","",{"$f":"Vermögen!S18*Vermögen!AE18","v":0},{"$f":"E91","v":{"v":0,"d":"0.0%"}},{"v":0,"d":"0.0%"},{"v":0,"d":"0.0%"},{"v":0,"d":"0.0%"},{"v":0,"d":"0.0%"},{"v":0,"d":"0.0%"},{"v":0,"d":"0.0%"},{"v":0,"d":"0.0%"},{"v":0,"d":"0.0%"},{"$f":"IF(Vermögen!AF18=\"ja\",Vermögen!S18*Vermögen!AE18,0)","v":0},{"$f":"IF(Vermögen!$AF18=\"ja\",'Daten Projektion'!O20*Vermögen!$AE18,0)","v":0},{"$f":"IF(Vermögen!$AF18=\"ja\",'Daten Projektion'!P20*Vermögen!$AE18,0)","v":0},{"$f":"IF(Vermögen!$AF18=\"ja\",'Daten Projektion'!Q20*Vermögen!$AE18,0)","v":0},{"$f":"IF(Vermögen!$AF18=\"ja\",'Daten Projektion'!R20*Vermögen!$AE18,0)","v":0},{"$f":"IF(Vermögen!$AF18=\"ja\",'Daten Projektion'!S20*Vermögen!$AE18,0)","v":0}]
[null,"9.","",{"$f":"Vermögen!S19*Vermögen!AE19","v":0},{"$f":"E92","v":{"v":0,"d":"0.0%"}},{"v":0,"d":"0.0%"},{"v":0,"d":"0.0%"},{"v":0,"d":"0.0%"},{"v":0,"d":"0.0%"},{"v":0,"d":"0.0%"},{"v":0,"d":"0.0%"},{"v":0,"d":"0.0%"},{"v":0,"d":"0.0%"},{"$f":"IF(Vermögen!AF19=\"ja\",Vermögen!S19*Vermögen!AE19,0)","v":0},{"$f":"IF(Vermögen!$AF19=\"ja\",'Daten Projektion'!O21*Vermögen!$AE19,0)","v":0},{"$f":"IF(Vermögen!$AF19=\"ja\",'Daten Projektion'!P21*Vermögen!$AE19,0)","v":0},{"$f":"IF(Vermögen!$AF19=\"ja\",'Daten Projektion'!Q21*Vermögen!$AE19,0)","v":0},{"$f":"IF(Vermögen!$AF19=\"ja\",'Daten Projektion'!R21*Vermögen!$AE19,0)","v":0},{"$f":"IF(Vermögen!$AF19=\"ja\",'Daten Projektion'!S21*Vermögen!$AE19,0)","v":0}]
[null,"10.","",{"$f":"Vermögen!S20*Vermögen!AE20","v":0},{"$f":"E93","v":{"v":0,"d":"0.0%"}},{"v":0,"d":"0.0%"},{"v":0,"d":"0.0%"},{"v":0,"d":"0.0%"},{"v":0,"d":"0.0%"},{"v":0,"d":"0.0%"},{"v":0,"d":"0.0%"},{"v":0,"d":"0.0%"},{"v":0,"d":"0.0%"},{"$f":"IF(Vermögen!AF20=\"ja\",Vermögen!S20*Vermögen!AE20,0)","v":0},{"$f":"IF(Vermögen!$AF20=\"ja\",'Daten Projektion'!O22*Vermögen!$AE20,0)","v":0},{"$f":"IF(Vermögen!$AF20=\"ja\",'Daten Projektion'!P22*Vermögen!$AE20,0)","v":0},{"$f":"IF(Vermögen!$AF20=\"ja\",'Daten Projektion'!Q22*Vermögen!$AE20,0)","v":0},{"$f":"IF(Vermögen!$AF20=\"ja\",'Daten Projektion'!R22*Vermögen!$AE20,0)","v":0},{"$f":"IF(Vermögen!$AF20=\"ja\",'Daten Projektion'!S22*Vermögen!$AE20,0)","v":0}]
[null,"11.","",{"$f":"Vermögen!S21*Vermögen!AE21","v":0},{"$f":"E94","v":{"v":0,"d":"0.0%"}},{"v":0,"d":"0.0%"},{"v":0,"d":"0.0%"},{"v":0,"d":"0.0%"},{"v":0,"d":"0.0%"},{"v":0,"d":"0.0%"},{"v":0,"d":"0.0%"},{"v":0,"d":"0.0%"},{"v":0,"d":"0.0%"},{"$f":"IF(Vermögen!AF21=\"ja\",Vermögen!S21*Vermögen!AE21,0)","v":0},{"$f":"IF(Vermögen!$AF21=\"ja\",'Daten Projektion'!O23*Vermögen!$AE21,0)","v":0},{"$f":"IF(Vermögen!$AF21=\"ja\",'Daten Projektion'!P23*Vermögen!$AE21,0)","v":0},{"$f":"IF(Vermögen!$AF21=\"ja\",'Daten Projektion'!Q23*Vermögen!$AE21,0)","v":0},{"$f":"IF(Vermögen!$AF21=\"ja\",'Daten Projektion'!R23*Vermögen!$AE21,0)","v":0},{"$f":"IF(Vermögen!$AF21=\"ja\",'Daten Projektion'!S23*Vermögen!$AE21,0)","v":0}]
[null,"12.","",{"$f":"Vermögen!S22*Vermögen!AE22","v":0},{"$f":"E95","v":{"v":0,"d":"0.0%"}},{"v":0,"d":"0.0%"},{"v":0,"d":"0.0%"},{"v":0,"d":"0.0%"},{"v":0,"d":"0.0%"},{"v":0,"d":"0.0%"},{"v":0,"d":"0.0%"},{"v":0,"d":"0.0%"},{"v":0,"d":"0.0%"},{"$f":"IF(Vermögen!AF22=\"ja\",Vermögen!S22*Vermögen!AE22,0)","v":0},{"$f":"IF(Vermögen!$AF22=\"ja\",'Daten Projektion'!O24*Vermögen!$AE22,0)","v":0},{"$f":"IF(Vermögen!$AF22=\"ja\",'Daten Projektion'!P24*Vermögen!$AE22,0)","v":0},{"$f":"IF(Vermögen!$AF22=\"ja\",'Daten Projektion'!Q24*Vermögen!$AE22,0)","v":0},{"$f":"IF(Vermögen!$AF22=\"ja\",'Daten Projektion'!R24*Vermögen!$AE22,0)","v":0},{"$f":"IF(Vermögen!$AF22=\"ja\",'Daten Projektion'!S24*Vermögen!$AE22,0)","v":0}]
[null,"13.","",{"$f":"Vermögen!S23*Vermögen!AE23","v":0},{"$f":"E96","v":{"v":0,"d":"0.0%"}},{"v":0,"d":"0.0%"},{"v":0,"d":"0.0%"},{"v":0,"d":"0.0%"},{"v":0,"d":"0.0%"},{"v":0,"d":"0.0%"},{"v":0,"d":"0.0%"},{"v":0,"d":"0.0%"},{"v":0,"d":"0.0%"},{"$f":"IF(Vermögen!AF23=\"ja\",Vermögen!S23*Vermögen!AE23,0)","v":0},{"$f":"IF(Vermögen!$AF23=\"ja\",'Daten Projektion'!O25*Vermögen!$AE23,0)","v":0},{"$f":"IF(Vermögen!$AF23=\"ja\",'Daten Projektion'!P25*Vermögen!$AE23,0)","v":0},{"$f":"IF(Vermögen!$AF23=\"ja\",'Daten Projektion'!Q25*Vermögen!$AE23,0)","v":0},{"$f":"IF(Vermögen!$AF23=\"ja\",'Daten Projektion'!R25*Vermögen!$AE23,0)","v":0},{"$f":"IF(Vermögen!$AF23=\"ja\",'Daten Projektion'!S25*Vermögen!$AE23,0)","v":0}]
[null,"14.","",{"$f":"Vermögen!S24*Vermögen!AE24","v":0},{"$f":"E97","v":{"v":0,"d":"0.0%"}},{"v":0,"d":"0.0%"},{"v":0,"d":"0.0%"},{"v":0,"d":"0.0%"},{"v":0,"d":"0.0%"},{"v":0,"d":"0.0%"},{"v":0,"d":"0.0%"},{"v":0,"d":"0.0%"},{"v":0,"d":"0.0%"},{"$f":"IF(Vermögen!AF24=\"ja\",Vermögen!S24*Vermögen!AE24,0)","v":0},{"$f":"IF(Vermögen!$AF24=\"ja\",'Daten Projektion'!O26*Vermögen!$AE24,0)","v":0},{"$f":"IF(Vermögen!$AF24=\"ja\",'Daten Projektion'!P26*Vermögen!$AE24,0)","v":0},{"$f":"IF(Vermögen!$AF24=\"ja\",'Daten Projektion'!Q26*Vermögen!$AE24,0)","v":0},{"$f":"IF(Vermögen!$AF24=\"ja\",'Daten Projektion'!R26*Vermögen!$AE24,0)","v":0},{"$f":"IF(Vermögen!$AF24=\"ja\",'Daten Projektion'!S26*Vermögen!$AE24,0)","v":0}]
[null,"15.","",{"$f":"Vermögen!S25*Vermögen!AE25","v":0},{"$f":"E98","v":{"v":0,"d":"0.0%"}},{"v":0,"d":"0.0%"},{"v":0,"d":"0.0%"},{"v":0,"d":"0.0%"},{"v":0,"d":"0.0%"},{"v":0,"d":"0.0%"},{"v":0,"d":"0.0%"},{"v":0,"d":"0.0%"},{"v":0,"d":"0.0%"},{"$f":"IF(Vermögen!AF25=\"ja\",Vermögen!S25*Vermögen!AE25,0)","v":0},{"$f":"IF(Vermögen!$AF25=\"ja\",'Daten Projektion'!O27*Vermögen!$AE25,0)","v":0},{"$f":"IF(Vermögen!$AF25=\"ja\",'Daten Projektion'!P27*Vermögen!$AE25,0)","v":0},{"$f":"IF(Vermögen!$AF25=\"ja\",'Daten Projektion'!Q27*Vermögen!$AE25,0)","v":0},{"$f":"IF(Vermögen!$AF25=\"ja\",'Daten Projektion'!R27*Vermögen!$AE25,0)","v":0},{"$f":"IF(Vermögen!$AF25=\"ja\",'Daten Projektion'!S27*Vermögen!$AE25,0)","v":0}]
[null,"16.","",{"$f":"Vermögen!S26*Vermögen!AE26","v":0},{"$f":"E99","v":{"v":0,"d":"0.0%"}},{"v":0,"d":"0.0%"},{"v":0,"d":"0.0%"},{"v":0,"d":"0.0%"},{"v":0,"d":"0.0%"},{"v":0,"d":"0.0%"},{"v":0,"d":"0.0%"},{"v":0,"d":"0.0%"},{"v":0,"d":"0.0%"},{"$f":"IF(Vermögen!AF26=\"ja\",Vermögen!S26*Vermögen!AE26,0)","v":0},{"$f":"IF(Vermögen!$AF26=\"ja\",'Daten Projektion'!O28*Vermögen!$AE26,0)","v":0},{"$f":"IF(Vermögen!$AF26=\"ja\",'Daten Projektion'!P28*Vermögen!$AE26,0)","v":0},{"$f":"IF(Vermögen!$AF26=\"ja\",'Daten Projektion'!Q28*Vermögen!$AE26,0)","v":0},{"$f":"IF(Vermögen!$AF26=\"ja\",'Daten Projektion'!R28*Vermögen!$AE26,0)","v":0},{"$f":"IF(Vermögen!$AF26=\"ja\",'Daten Projektion'!S28*Vermögen!$AE26,0)","v":0}]
[null,"17.","",{"$f":"Vermögen!S27*Vermögen!AE27","v":0},{"$f":"E100","v":{"v":0,"d":"0.0%"}},{"v":0,"d":"0.0%"},{"v":0,"d":"0.0%"},{"v":0,"d":"0.0%"},{"v":0,"d":"0.0%"},{"v":0,"d":"0.0%"},{"v":0,"d":"0.0%"},{"v":0,"d":"0.0%"},{"v":0,"d":"0.0%"},{"$f":"IF(Vermögen!AF27=\"ja\",Vermögen!S27*Vermögen!AE27,0)","v":0},{"$f":"IF(Vermögen!$AF27=\"ja\",'Daten Projektion'!O29*Vermögen!$AE27,0)","v":0},{"$f":"IF(Vermögen!$AF27=\"ja\",'Daten Projektion'!P29*Vermögen!$AE27,0)","v":0},{"$f":"IF(Vermögen!$AF27=\"ja\",'Daten Projektion'!Q29*Vermögen!$AE27,0)","v":0},{"$f":"IF(Vermögen!$AF27=\"ja\",'Daten Projektion'!R29*Vermögen!$AE27,0)","v":0},{"$f":"IF(Vermögen!$AF27=\"ja\",'Daten Projektion'!S29*Vermögen!$AE27,0)","v":0}]
[null,"18.","",{"$f":"Vermögen!S28*Vermögen!AE28","v":0},{"$f":"E101","v":{"v":0,"d":"0.0%"}},{"v":0,"d":"0.0%"},{"v":0,"d":"0.0%"},{"v":0,"d":"0.0%"},{"v":0,"d":"0.0%"},{"v":0,"d":"0.0%"},{"v":0,"d":"0.0%"},{"v":0,"d":"0.0%"},{"v":0,"d":"0.0%"},{"$f":"IF(Vermögen!AF28=\"ja\",Vermögen!S28*Vermögen!AE28,0)","v":0},{"$f":"IF(Vermögen!$AF28=\"ja\",'Daten Projektion'!O30*Vermögen!$AE28,0)","v":0},{"$f":"IF(Vermögen!$AF28=\"ja\",'Daten Projektion'!P30*Vermögen!$AE28,0)","v":0},{"$f":"IF(Vermögen!$AF28=\"ja\",'Daten Projektion'!Q30*Vermögen!$AE28,0)","v":0},{"$f":"IF(Vermögen!$AF28=\"ja\",'Daten Projektion'!R30*Vermögen!$AE28,0)","v":0},{"$f":"IF(Vermögen!$AF28=\"ja\",'Daten Projektion'!S30*Vermögen!$AE28,0)","v":0}]
[null,"19.","",{"$f":"Vermögen!S29*Vermögen!AE29","v":0},{"$f":"E102","v":{"v":0,"d":"0.0%"}},{"v":0,"d":"0.0%"},{"v":0,"d":"0.0%"},{"v":0,"d":"0.0%"},{"v":0,"d":"0.0%"},{"v":0,"d":"0.0%"},{"v":0,"d":"0.0%"},{"v":0,"d":"0.0%"},{"v":0,"d":"0.0%"},{"$f":"IF(Vermögen!AF29=\"ja\",Vermögen!S29*Vermögen!AE29,0)","v":0},{"$f":"IF(Vermögen!$AF29=\"ja\",'Daten Projektion'!O31*Vermögen!$AE29,0)","v":0},{"$f":"IF(Vermögen!$AF29=\"ja\",'Daten Projektion'!P31*Vermögen!$AE29,0)","v":0},{"$f":"IF(Vermögen!$AF29=\"ja\",'Daten Projektion'!Q31*Vermögen!$AE29,0)","v":0},{"$f":"IF(Vermögen!$AF29=\"ja\",'Daten Projektion'!R31*Vermögen!$AE29,0)","v":0},{"$f":"IF(Vermögen!$AF29=\"ja\",'Daten Projektion'!S31*Vermögen!$AE29,0)","v":0}]
[null,{"$f":"B103","v":"20."},"",{"$f":"Vermögen!S30*Vermögen!AE30","v":0},{"$f":"E103","v":{"v":0,"d":"0.0%"}},{"v":0,"d":"0.0%"},{"v":0,"d":"0.0%"},{"v":0,"d":"0.0%"},{"v":0,"d":"0.0%"},{"v":0,"d":"0.0%"},{"v":0,"d":"0.0%"},{"v":0,"d":"0.0%"},{"v":0,"d":"0.0%"},{"$f":"IF(Vermögen!AF30=\"ja\",Vermögen!S30*Vermögen!AE30,0)","v":0},{"$f":"IF(Vermögen!$AF30=\"ja\",'Daten Projektion'!O32*Vermögen!$AE30,0)","v":0},{"$f":"IF(Vermögen!$AF30=\"ja\",'Daten Projektion'!P32*Vermögen!$AE30,0)","v":0},{"$f":"IF(Vermögen!$AF30=\"ja\",'Daten Projektion'!Q32*Vermögen!$AE30,0)","v":0},{"$f":"IF(Vermögen!$AF30=\"ja\",'Daten Projektion'!R32*Vermögen!$AE30,0)","v":0},{"$f":"IF(Vermögen!$AF30=\"ja\",'Daten Projektion'!S32*Vermögen!$AE30,0)","v":0}]
[null,"21.","",{"$f":"Vermögen!S31*Vermögen!AE31","v":0},{"$f":"E104","v":{"v":0,"d":"0.0%"}},{"v":0,"d":"0.0%"},{"v":0,"d":"0.0%"},{"v":0,"d":"0.0%"},{"v":0,"d":"0.0%"},{"v":0,"d":"0.0%"},{"v":0,"d":"0.0%"},{"v":0,"d":"0.0%"},{"v":0,"d":"0.0%"},{"$f":"IF(Vermögen!AF31=\"ja\",Vermögen!S31*Vermögen!AE31,0)","v":0},{"$f":"IF(Vermögen!$AF31=\"ja\",'Daten Projektion'!O33*Vermögen!$AE31,0)","v":0},{"$f":"IF(Vermögen!$AF31=\"ja\",'Daten Projektion'!P33*Vermögen!$AE31,0)","v":0},{"$f":"IF(Vermögen!$AF31=\"ja\",'Daten Projektion'!Q33*Vermögen!$AE31,0)","v":0},{"$f":"IF(Vermögen!$AF31=\"ja\",'Daten Projektion'!R33*Vermögen!$AE31,0)","v":0},{"$f":"IF(Vermögen!$AF31=\"ja\",'Daten Projektion'!S33*Vermögen!$AE31,0)","v":0}]
[null,"22.","",{"$f":"Vermögen!S32*Vermögen!AE32","v":0},{"$f":"E105","v":{"v":0,"d":"0.0%"}},{"v":0,"d":"0.0%"},{"v":0,"d":"0.0%"},{"v":0,"d":"0.0%"},{"v":0,"d":"0.0%"},{"v":0,"d":"0.0%"},{"v":0,"d":"0.0%"},{"v":0,"d":"0.0%"},{"v":0,"d":"0.0%"},{"$f":"IF(Vermögen!AF32=\"ja\",Vermögen!S32*Vermögen!AE32,0)","v":0},{"$f":"IF(Vermögen!$AF32=\"ja\",'Daten Projektion'!O34*Vermögen!$AE32,0)","v":0},{"$f":"IF(Vermögen!$AF32=\"ja\",'Daten Projektion'!P34*Vermögen!$AE32,0)","v":0},{"$f":"IF(Vermögen!$AF32=\"ja\",'Daten Projektion'!Q34*Vermögen!$AE32,0)","v":0},{"$f":"IF(Vermögen!$AF32=\"ja\",'Daten Projektion'!R34*Vermögen!$AE32,0)","v":0},{"$f":"IF(Vermögen!$AF32=\"ja\",'Daten Projektion'!S34*Vermögen!$AE32,0)","v":0}]
[null,"23.","",{"$f":"Vermögen!S33*Vermögen!AE33","v":0},{"$f":"E106","v":{"v":0,"d":"0.0%"}},{"v":0,"d":"0.0%"},{"v":0,"d":"0.0%"},{"v":0,"d":"0.0%"},{"v":0,"d":"0.0%"},{"v":0,"d":"0.0%"},{"v":0,"d":"0.0%"},{"v":0,"d":"0.0%"},{"v":0,"d":"0.0%"},{"$f":"IF(Vermögen!AF33=\"ja\",Vermögen!S33*Vermögen!AE33,0)","v":0},{"$f":"IF(Vermögen!$AF33=\"ja\",'Daten Projektion'!O35*Vermögen!$AE33,0)","v":0},{"$f":"IF(Vermögen!$AF33=\"ja\",'Daten Projektion'!P35*Vermögen!$AE33,0)","v":0},{"$f":"IF(Vermögen!$AF33=\"ja\",'Daten Projektion'!Q35*Vermögen!$AE33,0)","v":0},{"$f":"IF(Vermögen!$AF33=\"ja\",'Daten Projektion'!R35*Vermögen!$AE33,0)","v":0},{"$f":"IF(Vermögen!$AF33=\"ja\",'Daten Projektion'!S35*Vermögen!$AE33,0)","v":0}]
[null,"24.","",{"$f":"Vermögen!S34*Vermögen!AE34","v":0},{"$f":"E107","v":{"v":0,"d":"0.0%"}},{"v":0,"d":"0.0%"},{"v":0,"d":"0.0%"},{"v":0,"d":"0.0%"},{"v":0,"d":"0.0%"},{"v":0,"d":"0.0%"},{"v":0,"d":"0.0%"},{"v":0,"d":"0.0%"},{"v":0,"d":"0.0%"},{"$f":"IF(Vermögen!AF34=\"ja\",Vermögen!S34*Vermögen!AE34,0)","v":0},{"$f":"IF(Vermögen!$AF34=\"ja\",'Daten Projektion'!O36*Vermögen!$AE34,0)","v":0},{"$f":"IF(Vermögen!$AF34=\"ja\",'Daten Projektion'!P36*Vermögen!$AE34,0)","v":0},{"$f":"IF(Vermögen!$AF34=\"ja\",'Daten Projektion'!Q36*Vermögen!$AE34,0)","v":0},{"$f":"IF(Vermögen!$AF34=\"ja\",'Daten Projektion'!R36*Vermögen!$AE34,0)","v":0},{"$f":"IF(Vermögen!$AF34=\"ja\",'Daten Projektion'!S36*Vermögen!$AE34,0)","v":0}]
[null,"25.","",{"$f":"Vermögen!S35*Vermögen!AE35","v":0},{"$f":"E108","v":{"v":0,"d":"0.0%"}},{"v":0,"d":"0.0%"},{"v":0,"d":"0.0%"},{"v":0,"d":"0.0%"},{"v":0,"d":"0.0%"},{"v":0,"d":"0.0%"},{"v":0,"d":"0.0%"},{"v":0,"d":"0.0%"},{"v":0,"d":"0.0%"},{"$f":"IF(Vermögen!AF35=\"ja\",Vermögen!S35*Vermögen!AE35,0)","v":0},{"$f":"IF(Vermögen!$AF35=\"ja\",'Daten Projektion'!O37*Vermögen!$AE35,0)","v":0},{"$f":"IF(Vermögen!$AF35=\"ja\",'Daten Projektion'!P37*Vermögen!$AE35,0)","v":0},{"$f":"IF(Vermögen!$AF35=\"ja\",'Daten Projektion'!Q37*Vermögen!$AE35,0)","v":0},{"$f":"IF(Vermögen!$AF35=\"ja\",'Daten Projektion'!R37*Vermögen!$AE35,0)","v":0},{"$f":"IF(Vermögen!$AF35=\"ja\",'Daten Projektion'!S37*Vermögen!$AE35,0)","v":0}]
[null,"26.","",{"$f":"Vermögen!S36*Vermögen!AE36","v":0},{"$f":"E109","v":{"v":0,"d":"0.0%"}},{"v":0,"d":"0.0%"},{"v":0,"d":"0.0%"},{"v":0,"d":"0.0%"},{"v":0,"d":"0.0%"},{"v":0,"d":"0.0%"},{"v":0,"d":"0.0%"},{"v":0,"d":"0.0%"},{"v":0,"d":"0.0%"},{"$f":"IF(Vermögen!AF36=\"ja\",Vermögen!S36*Vermögen!AE36,0)","v":0},{"$f":"IF(Vermögen!$AF36=\"ja\",'Daten Projektion'!O38*Vermögen!$AE36,0)","v":0},{"$f":"IF(Vermögen!$AF36=\"ja\",'Daten Projektion'!P38*Vermögen!$AE36,0)","v":0},{"$f":"IF(Vermögen!$AF36=\"ja\",'Daten Projektion'!Q38*Vermögen!$AE36,0)","v":0},{"$f":"IF(Vermögen!$AF36=\"ja\",'Daten Projektion'!R38*Vermögen!$AE36,0)","v":0},{"$f":"IF(Vermögen!$AF36=\"ja\",'Daten Projektion'!S38*Vermögen!$AE36,0)","v":0}]
[null,"27.","",{"$f":"Vermögen!S37*Vermögen!AE37","v":0},{"$f":"E110","v":{"v":0,"d":"0.0%"}},{"v":0,"d":"0.0%"},{"v":0,"d":"0.0%"},{"v":0,"d":"0.0%"},{"v":0,"d":"0.0%"},{"v":0,"d":"0.0%"},{"v":0,"d":"0.0%"},{"v":0,"d":"0.0%"},{"v":0,"d":"0.0%"},{"$f":"IF(Vermögen!AF37=\"ja\",Vermögen!S37*Vermögen!AE37,0)","v":0},{"$f":"IF(Vermögen!$AF37=\"ja\",'Daten Projektion'!O39*Vermögen!$AE37,0)","v":0},{"$f":"IF(Vermögen!$AF37=\"ja\",'Daten Projektion'!P39*Vermögen!$AE37,0)","v":0},{"$f":"IF(Vermögen!$AF37=\"ja\",'Daten Projektion'!Q39*Vermögen!$AE37,0)","v":0},{"$f":"IF(Vermögen!$AF37=\"ja\",'Daten Projektion'!R39*Vermögen!$AE37,0)","v":0},{"$f":"IF(Vermögen!$AF37=\"ja\",'Daten Projektion'!S39*Vermögen!$AE37,0)","v":0}]
[null,"28.","",{"$f":"Vermögen!S38*Vermögen!AE38","v":0},{"$f":"E111","v":{"v":0,"d":"0.0%"}},{"v":0,"d":"0.0%"},{"v":0,"d":"0.0%"},{"v":0,"d":"0.0%"},{"v":0,"d":"0.0%"},{"v":0,"d":"0.0%"},{"v":0,"d":"0.0%"},{"v":0,"d":"0.0%"},{"v":0,"d":"0.0%"},{"$f":"IF(Vermögen!AF38=\"ja\",Vermögen!S38*Vermögen!AE38,0)","v":0},{"$f":"IF(Vermögen!$AF38=\"ja\",'Daten Projektion'!O40*Vermögen!$AE38,0)","v":0},{"$f":"IF(Vermögen!$AF38=\"ja\",'Daten Projektion'!P40*Vermögen!$AE38,0)","v":0},{"$f":"IF(Vermögen!$AF38=\"ja\",'Daten Projektion'!Q40*Vermögen!$AE38,0)","v":0},{"$f":"IF(Vermögen!$AF38=\"ja\",'Daten Projektion'!R40*Vermögen!$AE38,0)","v":0},{"$f":"IF(Vermögen!$AF38=\"ja\",'Daten Projektion'!S40*Vermögen!$AE38,0)","v":0}]
[null,"29.","",{"$f":"Vermögen!S39*Vermögen!AE39","v":0},{"$f":"E112","v":{"v":0,"d":"0.0%"}},{"v":0,"d":"0.0%"},{"v":0,"d":"0.0%"},{"v":0,"d":"0.0%"},{"v":0,"d":"0.0%"},{"v":0,"d":"0.0%"},{"v":0,"d":"0.0%"},{"v":0,"d":"0.0%"},{"v":0,"d":"0.0%"},{"$f":"IF(Vermögen!AF39=\"ja\",Vermögen!S39*Vermögen!AE39,0)","v":0},{"$f":"IF(Vermögen!$AF39=\"ja\",'Daten Projektion'!O41*Vermögen!$AE39,0)","v":0},{"$f":"IF(Vermögen!$AF39=\"ja\",'Daten Projektion'!P41*Vermögen!$AE39,0)","v":0},{"$f":"IF(Vermögen!$AF39=\"ja\",'Daten Projektion'!Q41*Vermögen!$AE39,0)","v":0},{"$f":"IF(Vermögen!$AF39=\"ja\",'Daten Projektion'!R41*Vermögen!$AE39,0)","v":0},{"$f":"IF(Vermögen!$AF39=\"ja\",'Daten Projektion'!S41*Vermögen!$AE39,0)","v":0}]
[null,"30.","",{"$f":"Vermögen!S40*Vermögen!AE40","v":0},{"$f":"E113","v":{"v":0,"d":"0.0%"}},{"v":0,"d":"0.0%"},{"v":0,"d":"0.0%"},{"v":0,"d":"0.0%"},{"v":0,"d":"0.0%"},{"v":0,"d":"0.0%"},{"v":0,"d":"0.0%"},{"v":0,"d":"0.0%"},{"v":0,"d":"0.0%"},{"$f":"IF(Vermögen!AF40=\"ja\",Vermögen!S40*Vermögen!AE40,0)","v":0},{"$f":"IF(Vermögen!$AF40=\"ja\",'Daten Projektion'!O42*Vermögen!$AE40,0)","v":0},{"$f":"IF(Vermögen!$AF40=\"ja\",'Daten Projektion'!P42*Vermögen!$AE40,0)","v":0},{"$f":"IF(Vermögen!$AF40=\"ja\",'Daten Projektion'!Q42*Vermögen!$AE40,0)","v":0},{"$f":"IF(Vermögen!$AF40=\"ja\",'Daten Projektion'!R42*Vermögen!$AE40,0)","v":0},{"$f":"IF(Vermögen!$AF40=\"ja\",'Daten Projektion'!S42*Vermögen!$AE40,0)","v":0}]
[null,"31.","",{"$f":"Vermögen!S41*Vermögen!AE41","v":0},{"$f":"E114","v":{"v":0,"d":"0.0%"}},{"v":0,"d":"0.0%"},{"v":0,"d":"0.0%"},{"v":0,"d":"0.0%"},{"v":0,"d":"0.0%"},{"v":0,"d":"0.0%"},{"v":0,"d":"0.0%"},{"v":0,"d":"0.0%"},{"v":0,"d":"0.0%"},{"$f":"IF(Vermögen!AF41=\"ja\",Vermögen!S41*Vermögen!AE41,0)","v":0},{"$f":"IF(Vermögen!$AF41=\"ja\",'Daten Projektion'!O43*Vermögen!$AE41,0)","v":0},{"$f":"IF(Vermögen!$AF41=\"ja\",'Daten Projektion'!P43*Vermögen!$AE41,0)","v":0},{"$f":"IF(Vermögen!$AF41=\"ja\",'Daten Projektion'!Q43*Vermögen!$AE41,0)","v":0},{"$f":"IF(Vermögen!$AF41=\"ja\",'Daten Projektion'!R43*Vermögen!$AE41,0)","v":0},{"$f":"IF(Vermögen!$AF41=\"ja\",'Daten Projektion'!S43*Vermögen!$AE41,0)","v":0}]
[null,"32.","",{"$f":"Vermögen!S42*Vermögen!AE42","v":0},{"$f":"E115","v":{"v":0,"d":"0.0%"}},{"v":0,"d":"0.0%"},{"v":0,"d":"0.0%"},{"v":0,"d":"0.0%"},{"v":0,"d":"0.0%"},{"v":0,"d":"0.0%"},{"v":0,"d":"0.0%"},{"v":0,"d":"0.0%"},{"v":0,"d":"0.0%"},{"$f":"IF(Vermögen!AF42=\"ja\",Vermögen!S42*Vermögen!AE42,0)","v":0},{"$f":"IF(Vermögen!$AF42=\"ja\",'Daten Projektion'!O44*Vermögen!$AE42,0)","v":0},{"$f":"IF(Vermögen!$AF42=\"ja\",'Daten Projektion'!P44*Vermögen!$AE42,0)","v":0},{"$f":"IF(Vermögen!$AF42=\"ja\",'Daten Projektion'!Q44*Vermögen!$AE42,0)","v":0},{"$f":"IF(Vermögen!$AF42=\"ja\",'Daten Projektion'!R44*Vermögen!$AE42,0)","v":0},{"$f":"IF(Vermögen!$AF42=\"ja\",'Daten Projektion'!S44*Vermögen!$AE42,0)","v":0}]
[null,"33.","",{"$f":"Vermögen!S43*Vermögen!AE43","v":0},{"$f":"E116","v":{"v":0,"d":"0.0%"}},{"v":0,"d":"0.0%"},{"v":0,"d":"0.0%"},{"v":0,"d":"0.0%"},{"v":0,"d":"0.0%"},{"v":0,"d":"0.0%"},{"v":0,"d":"0.0%"},{"v":0,"d":"0.0%"},{"v":0,"d":"0.0%"},{"$f":"IF(Vermögen!AF43=\"ja\",Vermögen!S43*Vermögen!AE43,0)","v":0},{"$f":"IF(Vermögen!$AF43=\"ja\",'Daten Projektion'!O45*Vermögen!$AE43,0)","v":0},{"$f":"IF(Vermögen!$AF43=\"ja\",'Daten Projektion'!P45*Vermögen!$AE43,0)","v":0},{"$f":"IF(Vermögen!$AF43=\"ja\",'Daten Projektion'!Q45*Vermögen!$AE43,0)","v":0},{"$f":"IF(Vermögen!$AF43=\"ja\",'Daten Projektion'!R45*Vermögen!$AE43,0)","v":0},{"$f":"IF(Vermögen!$AF43=\"ja\",'Daten Projektion'!S45*Vermögen!$AE43,0)","v":0}]
[null,"34.","",{"$f":"Vermögen!S44*Vermögen!AE44","v":0},{"$f":"E117","v":{"v":0,"d":"0.0%"}},{"v":0,"d":"0.0%"},{"v":0,"d":"0.0%"},{"v":0,"d":"0.0%"},{"v":0,"d":"0.0%"},{"v":0,"d":"0.0%"},{"v":0,"d":"0.0%"},{"v":0,"d":"0.0%"},{"v":0,"d":"0.0%"},{"$f":"IF(Vermögen!AF44=\"ja\",Vermögen!S44*Vermögen!AE44,0)","v":0},{"$f":"IF(Vermögen!$AF44=\"ja\",'Daten Projektion'!O46*Vermögen!$AE44,0)","v":0},{"$f":"IF(Vermögen!$AF44=\"ja\",'Daten Projektion'!P46*Vermögen!$AE44,0)","v":0},{"$f":"IF(Vermögen!$AF44=\"ja\",'Daten Projektion'!Q46*Vermögen!$AE44,0)","v":0},{"$f":"IF(Vermögen!$AF44=\"ja\",'Daten Projektion'!R46*Vermögen!$AE44,0)","v":0},{"$f":"IF(Vermögen!$AF44=\"ja\",'Daten Projektion'!S46*Vermögen!$AE44,0)","v":0}]
[null,"35.","",{"$f":"Vermögen!S45*Vermögen!AE45","v":0},{"$f":"E118","v":{"v":0,"d":"0.0%"}},{"v":0,"d":"0.0%"},{"v":0,"d":"0.0%"},{"v":0,"d":"0.0%"},{"v":0,"d":"0.0%"},{"v":0,"d":"0.0%"},{"v":0,"d":"0.0%"},{"v":0,"d":"0.0%"},{"v":0,"d":"0.0%"},{"$f":"IF(Vermögen!AF45=\"ja\",Vermögen!S45*Vermögen!AE45,0)","v":0},{"$f":"IF(Vermögen!$AF45=\"ja\",'Daten Projektion'!O47*Vermögen!$AE45,0)","v":0},{"$f":"IF(Vermögen!$AF45=\"ja\",'Daten Projektion'!P47*Vermögen!$AE45,0)","v":0},{"$f":"IF(Vermögen!$AF45=\"ja\",'Daten Projektion'!Q47*Vermögen!$AE45,0)","v":0},{"$f":"IF(Vermögen!$AF45=\"ja\",'Daten Projektion'!R47*Vermögen!$AE45,0)","v":0},{"$f":"IF(Vermögen!$AF45=\"ja\",'Daten Projektion'!S47*Vermögen!$AE45,0)","v":0}]
[null,"36.","",{"$f":"Vermögen!S46*Vermögen!AE46","v":0},{"$f":"E119","v":{"v":0,"d":"0.0%"}},{"v":0,"d":"0.0%"},{"v":0,"d":"0.0%"},{"v":0,"d":"0.0%"},{"v":0,"d":"0.0%"},{"v":0,"d":"0.0%"},{"v":0,"d":"0.0%"},{"v":0,"d":"0.0%"},{"v":0,"d":"0.0%"},{"$f":"IF(Vermögen!AF46=\"ja\",Vermögen!S46*Vermögen!AE46,0)","v":0},{"$f":"IF(Vermögen!$AF46=\"ja\",'Daten Projektion'!O48*Vermögen!$AE46,0)","v":0},{"$f":"IF(Vermögen!$AF46=\"ja\",'Daten Projektion'!P48*Vermögen!$AE46,0)","v":0},{"$f":"IF(Vermögen!$AF46=\"ja\",'Daten Projektion'!Q48*Vermögen!$AE46,0)","v":0},{"$f":"IF(Vermögen!$AF46=\"ja\",'Daten Projektion'!R48*Vermögen!$AE46,0)","v":0},{"$f":"IF(Vermögen!$AF46=\"ja\",'Daten Projektion'!S48*Vermögen!$AE46,0)","v":0}]
[null,"37.","",{"$f":"Vermögen!S47*Vermögen!AE47","v":0},{"$f":"E120","v":{"v":0,"d":"0.0%"}},{"v":0,"d":"0.0%"},{"v":0,"d":"0.0%"},{"v":0,"d":"0.0%"},{"v":0,"d":"0.0%"},{"v":0,"d":"0.0%"},{"v":0,"d":"0.0%"},{"v":0,"d":"0.0%"},{"v":0,"d":"0.0%"},{"$f":"IF(Vermögen!AF47=\"ja\",Vermögen!S47*Vermögen!AE47,0)","v":0},{"$f":"IF(Vermögen!$AF47=\"ja\",'Daten Projektion'!O49*Vermögen!$AE47,0)","v":0},{"$f":"IF(Vermögen!$AF47=\"ja\",'Daten Projektion'!P49*Vermögen!$AE47,0)","v":0},{"$f":"IF(Vermögen!$AF47=\"ja\",'Daten Projektion'!Q49*Vermögen!$AE47,0)","v":0},{"$f":"IF(Vermögen!$AF47=\"ja\",'Daten Projektion'!R49*Vermögen!$AE47,0)","v":0},{"$f":"IF(Vermögen!$AF47=\"ja\",'Daten Projektion'!S49*Vermögen!$AE47,0)","v":0}]
[null,"38.","",{"$f":"Vermögen!S48*Vermögen!AE48","v":0},{"$f":"E121","v":{"v":0,"d":"0.0%"}},{"v":0,"d":"0.0%"},{"v":0,"d":"0.0%"},{"v":0,"d":"0.0%"},{"v":0,"d":"0.0%"},{"v":0,"d":"0.0%"},{"v":0,"d":"0.0%"},{"v":0,"d":"0.0%"},{"v":0,"d":"0.0%"},{"$f":"IF(Vermögen!AF48=\"ja\",Vermögen!S48*Vermögen!AE48,0)","v":0},{"$f":"IF(Vermögen!$AF48=\"ja\",'Daten Projektion'!O50*Vermögen!$AE48,0)","v":0},{"$f":"IF(Vermögen!$AF48=\"ja\",'Daten Projektion'!P50*Vermögen!$AE48,0)","v":0},{"$f":"IF(Vermögen!$AF48=\"ja\",'Daten Projektion'!Q50*Vermögen!$AE48,0)","v":0},{"$f":"IF(Vermögen!$AF48=\"ja\",'Daten Projektion'!R50*Vermögen!$AE48,0)","v":0},{"$f":"IF(Vermögen!$AF48=\"ja\",'Daten Projektion'!S50*Vermögen!$AE48,0)","v":0}]
[null,"39.","",{"$f":"Vermögen!S49*Vermögen!AE49","v":0},{"$f":"E122","v":{"v":0,"d":"0.0%"}},{"v":0,"d":"0.0%"},{"v":0,"d":"0.0%"},{"v":0,"d":"0.0%"},{"v":0,"d":"0.0%"},{"v":0,"d":"0.0%"},{"v":0,"d":"0.0%"},{"v":0,"d":"0.0%"},{"v":0,"d":"0.0%"},{"$f":"IF(Vermögen!AF49=\"ja\",Vermögen!S49*Vermögen!AE49,0)","v":0},{"$f":"IF(Vermögen!$AF49=\"ja\",'Daten Projektion'!O51*Vermögen!$AE49,0)","v":0},{"$f":"IF(Vermögen!$AF49=\"ja\",'Daten Projektion'!P51*Vermögen!$AE49,0)","v":0},{"$f":"IF(Vermögen!$AF49=\"ja\",'Daten Projektion'!Q51*Vermögen!$AE49,0)","v":0},{"$f":"IF(Vermögen!$AF49=\"ja\",'Daten Projektion'!R51*Vermögen!$AE49,0)","v":0},{"$f":"IF(Vermögen!$AF49=\"ja\",'Daten Projektion'!S51*Vermögen!$AE49,0)","v":0}]
[null,{"$f":"B123","v":"40."},"",{"$f":"Vermögen!S50*Vermögen!AE50","v":0},{"$f":"E123","v":{"v":0,"d":"0.0%"}},{"v":0,"d":"0.0%"},{"v":0,"d":"0.0%"},{"v":0,"d":"0.0%"},{"v":0,"d":"0.0%"},{"v":0,"d":"0.0%"},{"v":0,"d":"0.0%"},{"v":0,"d":"0.0%"},{"v":0,"d":"0.0%"},{"$f":"IF(Vermögen!AF50=\"ja\",Vermögen!S50*Vermögen!AE50,0)","v":0},{"$f":"IF(Vermögen!$AF50=\"ja\",'Daten Projektion'!O52*Vermögen!$AE50,0)","v":0},{"$f":"IF(Vermögen!$AF50=\"ja\",'Daten Projektion'!P52*Vermögen!$AE50,0)","v":0},{"$f":"IF(Vermögen!$AF50=\"ja\",'Daten Projektion'!Q52*Vermögen!$AE50,0)","v":0},{"$f":"IF(Vermögen!$AF50=\"ja\",'Daten Projektion'!R52*Vermögen!$AE50,0)","v":0},{"$f":"IF(Vermögen!$AF50=\"ja\",'Daten Projektion'!S52*Vermögen!$AE50,0)","v":0}]
[null,"41.","",{"$f":"Vermögen!S51*Vermögen!AE51","v":0},{"$f":"E124","v":{"v":0,"d":"0.0%"}},{"v":0,"d":"0.0%"},{"v":0,"d":"0.0%"},{"v":0,"d":"0.0%"},{"v":0,"d":"0.0%"},{"v":0,"d":"0.0%"},{"v":0,"d":"0.0%"},{"v":0,"d":"0.0%"},{"v":0,"d":"0.0%"},{"$f":"IF(Vermögen!AF51=\"ja\",Vermögen!S51*Vermögen!AE51,0)","v":0},{"$f":"IF(Vermögen!$AF51=\"ja\",'Daten Projektion'!O53*Vermögen!$AE51,0)","v":0},{"$f":"IF(Vermögen!$AF51=\"ja\",'Daten Projektion'!P53*Vermögen!$AE51,0)","v":0},{"$f":"IF(Vermögen!$AF51=\"ja\",'Daten Projektion'!Q53*Vermögen!$AE51,0)","v":0},{"$f":"IF(Vermögen!$AF51=\"ja\",'Daten Projektion'!R53*Vermögen!$AE51,0)","v":0},{"$f":"IF(Vermögen!$AF51=\"ja\",'Daten Projektion'!S53*Vermögen!$AE51,0)","v":0}]
[null,"42.","",{"$f":"Vermögen!S52*Vermögen!AE52","v":0},{"$f":"E125","v":{"v":0,"d":"0.0%"}},{"v":0,"d":"0.0%"},{"v":0,"d":"0.0%"},{"v":0,"d":"0.0%"},{"v":0,"d":"0.0%"},{"v":0,"d":"0.0%"},{"v":0,"d":"0.0%"},{"v":0,"d":"0.0%"},{"v":0,"d":"0.0%"},{"$f":"IF(Vermögen!AF52=\"ja\",Vermögen!S52*Vermögen!AE52,0)","v":0},{"$f":"IF(Vermögen!$AF52=\"ja\",'Daten Projektion'!O54*Vermögen!$AE52,0)","v":0},{"$f":"IF(Vermögen!$AF52=\"ja\",'Daten Projektion'!P54*Vermögen!$AE52,0)","v":0},{"$f":"IF(Vermögen!$AF52=\"ja\",'Daten Projektion'!Q54*Vermögen!$AE52,0)","v":0},{"$f":"IF(Vermögen!$AF52=\"ja\",'Daten Projektion'!R54*Vermögen!$AE52,0)","v":0},{"$f":"IF(Vermögen!$AF52=\"ja\",'Daten Projektion'!S54*Vermögen!$AE52,0)","v":0}]
[null,"43.","",{"$f":"Vermögen!S53*Vermögen!AE53","v":0},{"$f":"E126","v":{"v":0,"d":"0.0%"}},{"v":0,"d":"0.0%"},{"v":0,"d":"0.0%"},{"v":0,"d":"0.0%"},{"v":0,"d":"0.0%"},{"v":0,"d":"0.0%"},{"v":0,"d":"0.0%"},{"v":0,"d":"0.0%"},{"v":0,"d":"0.0%"},{"$f":"IF(Vermögen!AF53=\"ja\",Vermögen!S53*Vermögen!AE53,0)","v":0},{"$f":"IF(Vermögen!$AF53=\"ja\",'Daten Projektion'!O55*Vermögen!$AE53,0)","v":0},{"$f":"IF(Vermögen!$AF53=\"ja\",'Daten Projektion'!P55*Vermögen!$AE53,0)","v":0},{"$f":"IF(Vermögen!$AF53=\"ja\",'Daten Projektion'!Q55*Vermögen!$AE53,0)","v":0},{"$f":"IF(Vermögen!$AF53=\"ja\",'Daten Projektion'!R55*Vermögen!$AE53,0)","v":0},{"$f":"IF(Vermögen!$AF53=\"ja\",'Daten Projektion'!S55*Vermögen!$AE53,0)","v":0}]
[null,"44.","",{"$f":"Vermögen!S54*Vermögen!AE54","v":0},{"$f":"E127","v":{"v":0,"d":"0.0%"}},{"v":0,"d":"0.0%"},{"v":0,"d":"0.0%"},{"v":0,"d":"0.0%"},{"v":0,"d":"0.0%"},{"v":0,"d":"0.0%"},{"v":0,"d":"0.0%"},{"v":0,"d":"0.0%"},{"v":0,"d":"0.0%"},{"$f":"IF(Vermögen!AF54=\"ja\",Vermögen!S54*Vermögen!AE54,0)","v":0},{"$f":"IF(Vermögen!$AF54=\"ja\",'Daten Projektion'!O56*Vermögen!$AE54,0)","v":0},{"$f":"IF(Vermögen!$AF54=\"ja\",'Daten Projektion'!P56*Vermögen!$AE54,0)","v":0},{"$f":"IF(Vermögen!$AF54=\"ja\",'Daten Projektion'!Q56*Vermögen!$AE54,0)","v":0},{"$f":"IF(Vermögen!$AF54=\"ja\",'Daten Projektion'!R56*Vermögen!$AE54,0)","v":0},{"$f":"IF(Vermögen!$AF54=\"ja\",'Daten Projektion'!S56*Vermögen!$AE54,0)","v":0}]
[null,"45.","",{"$f":"Vermögen!S55*Vermögen!AE55","v":0},{"$f":"E128","v":{"v":0,"d":"0.0%"}},{"v":0,"d":"0.0%"},{"v":0,"d":"0.0%"},{"v":0,"d":"0.0%"},{"v":0,"d":"0.0%"},{"v":0,"d":"0.0%"},{"v":0,"d":"0.0%"},{"v":0,"d":"0.0%"},{"v":0,"d":"0.0%"},{"$f":"IF(Vermögen!AF55=\"ja\",Vermögen!S55*Vermögen!AE55,0)","v":0},{"$f":"IF(Vermögen!$AF55=\"ja\",'Daten Projektion'!O57*Vermögen!$AE55,0)","v":0},{"$f":"IF(Vermögen!$AF55=\"ja\",'Daten Projektion'!P57*Vermögen!$AE55,0)","v":0},{"$f":"IF(Vermögen!$AF55=\"ja\",'Daten Projektion'!Q57*Vermögen!$AE55,0)","v":0},{"$f":"IF(Vermögen!$AF55=\"ja\",'Daten Projektion'!R57*Vermögen!$AE55,0)","v":0},{"$f":"IF(Vermögen!$AF55=\"ja\",'Daten Projektion'!S57*Vermögen!$AE55,0)","v":0}]
[null,"46.","",{"$f":"Vermögen!S56*Vermögen!AE56","v":0},{"$f":"E129","v":{"v":0,"d":"0.0%"}},{"v":0,"d":"0.0%"},{"v":0,"d":"0.0%"},{"v":0,"d":"0.0%"},{"v":0,"d":"0.0%"},{"v":0,"d":"0.0%"},{"v":0,"d":"0.0%"},{"v":0,"d":"0.0%"},{"v":0,"d":"0.0%"},{"$f":"IF(Vermögen!AF56=\"ja\",Vermögen!S56*Vermögen!AE56,0)","v":0},{"$f":"IF(Vermögen!$AF56=\"ja\",'Daten Projektion'!O58*Vermögen!$AE56,0)","v":0},{"$f":"IF(Vermögen!$AF56=\"ja\",'Daten Projektion'!P58*Vermögen!$AE56,0)","v":0},{"$f":"IF(Vermögen!$AF56=\"ja\",'Daten Projektion'!Q58*Vermögen!$AE56,0)","v":0},{"$f":"IF(Vermögen!$AF56=\"ja\",'Daten Projektion'!R58*Vermögen!$AE56,0)","v":0},{"$f":"IF(Vermögen!$AF56=\"ja\",'Daten Projektion'!S58*Vermögen!$AE56,0)","v":0}]
[null,"47.","",{"$f":"Vermögen!S57*Vermögen!AE57","v":0},{"$f":"E130","v":{"v":0,"d":"0.0%"}},{"v":0,"d":"0.0%"},{"v":0,"d":"0.0%"},{"v":0,"d":"0.0%"},{"v":0,"d":"0.0%"},{"v":0,"d":"0.0%"},{"v":0,"d":"0.0%"},{"v":0,"d":"0.0%"},{"v":0,"d":"0.0%"},{"$f":"IF(Vermögen!AF57=\"ja\",Vermögen!S57*Vermögen!AE57,0)","v":0},{"$f":"IF(Vermögen!$AF57=\"ja\",'Daten Projektion'!O59*Vermögen!$AE57,0)","v":0},{"$f":"IF(Vermögen!$AF57=\"ja\",'Daten Projektion'!P59*Vermögen!$AE57,0)","v":0},{"$f":"IF(Vermögen!$AF57=\"ja\",'Daten Projektion'!Q59*Vermögen!$AE57,0)","v":0},{"$f":"IF(Vermögen!$AF57=\"ja\",'Daten Projektion'!R59*Vermögen!$AE57,0)","v":0},{"$f":"IF(Vermögen!$AF57=\"ja\",'Daten Projektion'!S59*Vermögen!$AE57,0)","v":0}]
[null,"48.","",{"$f":"Vermögen!S58*Vermögen!AE58","v":0},{"$f":"E131","v":{"v":0,"d":"0.0%"}},{"v":0,"d":"0.0%"},{"v":0,"d":"0.0%"},{"v":0,"d":"0.0%"},{"v":0,"d":"0.0%"},{"v":0,"d":"0.0%"},{"v":0,"d":"0.0%"},{"v":0,"d":"0.0%"},{"v":0,"d":"0.0%"},{"$f":"IF(Vermögen!AF58=\"ja\",Vermögen!S58*Vermögen!AE58,0)","v":0},{"$f":"IF(Vermögen!$AF58=\"ja\",'Daten Projektion'!O60*Vermögen!$AE58,0)","v":0},{"$f":"IF(Vermögen!$AF58=\"ja\",'Daten Projektion'!P60*Vermögen!$AE58,0)","v":0},{"$f":"IF(Vermögen!$AF58=\"ja\",'Daten Projektion'!Q60*Vermögen!$AE58,0)","v":0},{"$f":"IF(Vermögen!$AF58=\"ja\",'Daten Projektion'!R60*Vermögen!$AE58,0)","v":0},{"$f":"IF(Vermögen!$AF58=\"ja\",'Daten Projektion'!S60*Vermögen!$AE58,0)","v":0}]
[null,"49.","",{"$f":"Vermögen!S59*Vermögen!AE59","v":0},{"$f":"E132","v":{"v":0,"d":"0.0%"}},{"v":0,"d":"0.0%"},{"v":0,"d":"0.0%"},{"v":0,"d":"0.0%"},{"v":0,"d":"0.0%"},{"v":0,"d":"0.0%"},{"v":0,"d":"0.0%"},{"v":0,"d":"0.0%"},{"v":0,"d":"0.0%"},{"$f":"IF(Vermögen!AF59=\"ja\",Vermögen!S59*Vermögen!AE59,0)","v":0},{"$f":"IF(Vermögen!$AF59=\"ja\",'Daten Projektion'!O61*Vermögen!$AE59,0)","v":0},{"$f":"IF(Vermögen!$AF59=\"ja\",'Daten Projektion'!P61*Vermögen!$AE59,0)","v":0},{"$f":"IF(Vermögen!$AF59=\"ja\",'Daten Projektion'!Q61*Vermögen!$AE59,0)","v":0},{"$f":"IF(Vermögen!$AF59=\"ja\",'Daten Projektion'!R61*Vermögen!$AE59,0)","v":0},{"$f":"IF(Vermögen!$AF59=\"ja\",'Daten Projektion'!S61*Vermögen!$AE59,0)","v":0}]
[null,"50.","",{"$f":"Vermögen!S60*Vermögen!AE60","v":0},{"$f":"E133","v":{"v":0,"d":"0.0%"}},{"v":0,"d":"0.0%"},{"v":0,"d":"0.0%"},{"v":0,"d":"0.0%"},{"v":0,"d":"0.0%"},{"v":0,"d":"0.0%"},{"v":0,"d":"0.0%"},{"v":0,"d":"0.0%"},{"v":0,"d":"0.0%"},{"$f":"IF(Vermögen!AF60=\"ja\",Vermögen!S60*Vermögen!AE60,0)","v":0},{"$f":"IF(Vermögen!$AF60=\"ja\",'Daten Projektion'!O62*Vermögen!$AE60,0)","v":0},{"$f":"IF(Vermögen!$AF60=\"ja\",'Daten Projektion'!P62*Vermögen!$AE60,0)","v":0},{"$f":"IF(Vermögen!$AF60=\"ja\",'Daten Projektion'!Q62*Vermögen!$AE60,0)","v":0},{"$f":"IF(Vermögen!$AF60=\"ja\",'Daten Projektion'!R62*Vermögen!$AE60,0)","v":0},{"$f":"IF(Vermögen!$AF60=\"ja\",'Daten Projektion'!S62*Vermögen!$AE60,0)","v":0}]
[null,null,{"$f":"C134","v":"Summe"},{"$f":"SUM(D151:D200)","v":0},{"$nulls":9},{"$f":"SUM(N151:N200)","v":0},{"$f":"SUM(O151:O200)","v":0},{"$f":"SUM(P151:P200)","v":0},0,0,0]
[{"$nulls":4},"Tatsächl. Kosten"]
[null,null,"Kosten Vermögensanlage nach Anlagekl.",{"$f":"D136","v":"Aktien"},{"$f":"SUM($D$151:$D$200*E$151:E$200)","v":0},{"$nulls":9},{"$f":"SUMIF($D$151:$D$162,$D203,$O$151:$O$162)","v":0},0,0,0,0]
[{"$nulls":3},"Anleihen",{"$f":"SUM($D$151:$D$200*F$151:F$200)","v":0},{"$nulls":9},0,0,0,0,0]
[{"$nulls":3},"Alternative Inv.",{"$f":"SUM($D$151:$D$200*G$151:G$200)","v":0},{"$nulls":9},0,0,0,0,0]
[{"$nulls":3},"Rohstoffe",{"$f":"SUM($D$151:$D$200*H$151:H$200)","v":0},{"$nulls":9},0,0,0,0,0]
[{"$nulls":3},"Liquidität",{"$f":"SUM($D$151:$D$200*I$151:I$200)","v":0},{"$nulls":9},0,0,0,0,0]
[{"$nulls":3},"Immobilien",{"$f":"SUM($D$151:$D$200*J$151:J$200)","v":0},{"$nulls":9},0,0,0,0,0]
[{"$nulls":3},"Beteiligungen",{"$f":"SUM($D$151:$D$200*K$151:K$200)","v":0},{"$nulls":9},0,0,0,0,0]
[{"$nulls":3},"Sonst. Verm.",{"$f":"SUM($D$151:$D$200*L$151:L$200)","v":0},{"$nulls":9},0,0,0,0,0]
[{"$nulls":3},"Verbindlichkeiten",{"$f":"SUM($D$151:$D$200*M$151:M$200)","v":0},{"$nulls":9},0,0,0,0,0]
[{"$nulls":3},"Summe",{"$f":"SUM(E203:E211)","v":0},{"$nulls":9},{"$f":"SUM(O203:O211)","v":0},{"$f":"SUM(P203:P211)","v":0},{"$f":"SUM(Q203:Q211)","v":0},{"$f":"SUM(R203:R211)","v":0},{"$f":"SUM(S203:S211)","v":0}]
[]
[null,null,"Ertragsziel",{"$nulls":11},{"$f":"Einstellungen!G13","v":2024},{"$f":"O214+1","v":2025},{"$f":"P214+1","v":2026},{"$f":"Q214+1","v":2027},{"$f":"R214+1","v":2028}]
[{"$nulls":3},"Überschuss",{"$nulls":10},{"$f":"Wirtschaftsplan!H54*Anlageziele!$O$16","v":0},{"$f":"Wirtschaftsplan!M54*Anlageziele!$O$16","v":0},{"$f":"Wirtschaftsplan!N54*Anlageziele!$O$16","v":0},{"$f":"Wirtschaftsplan!O54*Anlageziele!$O$16","v":0},{"$f":"Wirtschaftsplan!P54*Anlageziele!$O$16","v":0}]
[{"$nulls":3},"Zielsumme",{"$nulls":10},{"$f":"Anlageziele!$O$17","v":0},{"$f":"Anlageziele!$O$17","v":0},{"$f":"Anlageziele!$O$17","v":0},{"$f":"Anlageziele!$O$17","v":0},{"$f":"Anlageziele!$O$17","v":0}]
[{"$nulls":3},"Zielquote",{"$nulls":10},{"$f":"Daten_Vermögenserhaltung!$D$75*Anlageziele!$O$18","v":0},{"$f":"Daten_Vermögenserhaltung!$D$75*Anlageziele!$O$18","v":0},{"$f":"Daten_Vermögenserhaltung!$D$75*Anlageziele!$O$18","v":0},{"$f":"Daten_Vermögenserhaltung!$D$75*Anlageziele!$O$18","v":0},{"$f":"Daten_Vermögenserhaltung!$D$75*Anlageziele!$O$18","v":0}]
[{"$nulls":3},"Sonstige Ausgaben (allg. Verwaltungskosten+Kosten VA)",{"$nulls":10},{"$f":"Wirtschaftsplan!H54+'Daten Projektion'!O212","v":0},{"$f":"Wirtschaftsplan!M54+'Daten Projektion'!P212","v":0},{"$f":"Wirtschaftsplan!N54+'Daten Projektion'!Q212","v":0},{"$f":"Wirtschaftsplan!O54+'Daten Projektion'!R212","v":0},{"$f":"Wirtschaftsplan!P54+'Daten Projektion'!S212","v":0}]
[{"$nulls":3},"Freie Rücklage Überschuss",{"$nulls":10},{"$f":"(O215+Wirtschaftsplan!H$54)*Einstellungen!$G$25","v":0},{"$f":"(P215+Wirtschaftsplan!M$54)*Einstellungen!$G$25","v":0},{"$f":"(Q215+Wirtschaftsplan!N$54)*Einstellungen!$G$25","v":0},{"$f":"(R215+Wirtschaftsplan!O$54)*Einstellungen!$G$25","v":0},{"$f":"(S215+Wirtschaftsplan!P$54)*Einstellungen!$G$25","v":0}]
[{"$nulls":3},"Freie Rücklage Zielsumme",{"$nulls":10},{"$f":"(O216+Wirtschaftsplan!H$54)*Einstellungen!$G$25","v":0},{"$f":"(P216+Wirtschaftsplan!M$54)*Einstellungen!$G$25","v":0},{"$f":"(Q216+Wirtschaftsplan!N$54)*Einstellungen!$G$25","v":0},{"$f":"(R216+Wirtschaftsplan!O$54)*Einstellungen!$G$25","v":0},{"$f":"(S216+Wirtschaftsplan!P$54)*Einstellungen!$G$25","v":0}]
[{"$nulls":3},"Freie Rücklage Zielquote",{"$nulls":10},{"$f":"(O217+Wirtschaftsplan!H$54)*Einstellungen!$G$25","v":0},{"$f":"(P217+Wirtschaftsplan!M$54)*Einstellungen!$G$25","v":0},{"$f":"(Q217+Wirtschaftsplan!N$54)*Einstellungen!$G$25","v":0},{"$f":"(R217+Wirtschaftsplan!O$54)*Einstellungen!$G$25","v":0},{"$f":"(S217+Wirtschaftsplan!P$54)*Einstellungen!$G$25","v":0}]
[{"$nulls":3},"Ertragsziel Überschuss",{"$nulls":10},{"$f":"O215+O218","v":0},{"$f":"P215+P218","v":0},{"$f":"Q215+Q218","v":0},{"$f":"R215+R218","v":0},{"$f":"S215+S218","v":0}]
[{"$nulls":3},"Ertragsziel Zielbetrag",{"$nulls":10},{"$f":"O216","v":0},{"$f":"O223+O223*'Daten Szenarien'!C16","v":0},{"$f":"P223+P223*'Daten Szenarien'!D16","v":0},{"$f":"Q223+Q223*'Daten Szenarien'!E16","v":0},{"$f":"R223+R223*'Daten Szenarien'!F16","v":0}]
[{"$nulls":3},"Ertragsziel Zielquote",{"$nulls":10},{"$f":"O217+O218","v":0},{"$f":"P217+P218","v":0},{"$f":"Q217+Q218","v":0},{"$f":"R217+R218","v":0},{"$f":"S217+S218","v":0}]
[]
[null,null,"Cockpit Grafik Erträge",{"$nulls":11},{"$f":"O214","v":2024},{"$f":"P214","v":2025},{"$f":"Q214","v":2026},{"$f":"R214","v":2027},{"$f":"S214","v":2028}]
[{"$nulls":3},"Ertragsziel",{"$nulls":10},{"$f":"IF(Anlageziele!$O$14=\"Überschuss\",'Daten Projektion'!O222,IF(Anlageziele!$O$14=Daten_Einstellg_Ziele!$D$20,'Daten Projektion'!O223,O224))","v":0},{"$f":"IF(Anlageziele!$O$14=\"Überschuss\",'Daten Projektion'!P222,IF(Anlageziele!$O$14=Daten_Einstellg_Ziele!$D$20,'Daten Projektion'!P223,P224))","v":0},{"$f":"IF(Anlageziele!$O$14=\"Überschuss\",'Daten Projektion'!Q222,IF(Anlageziele!$O$14=Daten_Einstellg_Ziele!$D$20,'Daten Projektion'!Q223,Q224))","v":0},{"$f":"IF(Anlageziele!$O$14=\"Überschuss\",'Daten Projektion'!R222,IF(Anlageziele!$O$14=Daten_Einstellg_Ziele!$D$20,'Daten Projektion'!R223,R224))","v":0},{"$f":"IF(Anlageziele!$O$14=\"Überschuss\",'Daten Projektion'!S222,IF(Anlageziele!$O$14=Daten_Einstellg_Ziele!$D$20,'Daten Projektion'!S223,S224))","v":0}]
[{"$nulls":3},"Status quo/Projektion",{"$nulls":10},{"$f":"O145+O146","v":0},{"$f":"P145+P146","v":0},{"$f":"Q145+Q146","v":0},{"$f":"R145+R146","v":0},{"$f":"S145+S146","v":0}]
[]
[null,null,"Risiko: Vermögen Worst Case Szenario",{"$nulls":11},"Projektion Risiko"]
[{"$nulls":14},2,3,4,5,6]
[null,{"$f":"B12","v":"Nr."},"Vermögensgegenstand",null,{"$f":"E150","v":"Aktien"},{"$f":"F150","v":"Anleihen"},"Alternative Inv.","Rohstoffe","Liquidität","Immobilien","Beteiligungen","Sonst. Verm.","Verbindlichkeiten","Drawdown",{"$f":"O12","v":2024},{"$f":"P12","v":2025},{"$f":"Q12","v":2026},{"$f":"R12","v":2027},{"$f":"S12","v":2028}]
[null,"1.","",null,{"$f":"E151","v":{"v":0,"d":"0.0%"}},{"$f":"F151","v":{"v":0,"d":"0.0%"}},{"v":0,"d":"0.0%"},{"v":0,"d":"0.0%"},{"v":0,"d":"0.0%"},{"v":0,"d":"0.0%"},{"v":0,"d":"0.0%"},{"v":0,"d":"0.0%"},{"v":0,"d":"0.0%"},{"$f":"Vermögen!AC11","v":{"v":0,"d":"0.0%"}},{"$f":"O13*$N233","v":0},{"$f":"P13*$N233","v":0},0,0,0]
[null,"2.","",null,{"$f":"E152","v":{"v":0,"d":"0.0%"}},{"v":0,"d":"0.0%"},{"v":0,"d":"0.0%"},{"v":0,"d":"0.0%"},{"v":0,"d":"0.0%"},{"v":0,"d":"0.0%"},{"v":0,"d":"0.0%"},{"v":0,"d":"0.0%"},{"v":0,"d":"0.0%"},{"$f":"Vermögen!AC12","v":{"v":0,"d":"0.0%"}},{"$f":"O14*$N234","v":0},0,0,0,0]
[null,"3.","",null,{"$f":"E153","v":{"v":0,"d":"0.0%"}},{"v":0,"d":"0.0%"},{"v":0,"d":"0.0%"},{"v":0,"d":"0.0%"},{"v":0,"d":"0.0%"},{"v":0,"d":"0.0%"},{"v":0,"d":"0.0%"},{"v":0,"d":"0.0%"},{"v":0,"d":"0.0%"},{"$f":"Vermögen!AC13","v":{"v":0,"d":"0.0%"}},{"$f":"O15*$N235","v":0},0,0,0,0]
[null,"4.","",null,{"$f":"E154","v":{"v":0,"d":"0.0%"}},{"v":0,"d":"0.0%"},{"v":0,"d":"0.0%"},{"v":0,"d":"0.0%"},{"v":0,"d":"0.0%"},{"v":0,"d":"0.0%"},{"v":0,"d":"0.0%"},{"v":0,"d":"0.0%"},{"v":0,"d":"0.0%"},{"$f":"Vermögen!AC14","v":{"v":0,"d":"0.0%"}},{"$f":"O16*$N236","v":0},0,0,0,0]
[null,"5.","",null,{"$f":"E155","v":{"v":0,"d":"0.0%"}},{"v":0,"d":"0.0%"},{"v":0,"d":"0.0%"},{"v":0,"d":"0.0%"},{"v":0,"d":"0.0%"},{"v":0,"d":"0.0%"},{"v":0,"d":"0.0%"},{"v":0,"d":"0.0%"},{"v":0,"d":"0.0%"},{"$f":"Vermögen!AC15","v":{"v":0,"d":"0.0%"}},{"$f":"O17*$N237","v":0},0,0,0,0]
[null,"6.","",null,{"$f":"E156","v":{"v":0,"d":"0.0%"}},{"v":0,"d":"0.0%"},{"v":0,"d":"0.0%"},{"v":0,"d":"0.0%"},{"v":0,"d":"0.0%"},{"v":0,"d":"0.0%"},{"v":0,"d":"0.0%"},{"v":0,"d":"0.0%"},{"v":0,"d":"0.0%"},{"$f":"Vermögen!AC16","v":{"v":0,"d":"0.0%"}},{"$f":"O18*$N238","v":0},0,0,0,0]
[null,"7.","",null,{"$f":"E157","v":{"v":0,"d":"0.0%"}},{"v":0,"d":"0.0%"},{"v":0,"d":"0.0%"},{"v":0,"d":"0.0%"},{"v":0,"d":"0.0%"},{"v":0,"d":"0.0%"},{"v":0,"d":"0.0%"},{"v":0,"d":"0.0%"},{"v":0,"d":"0.0%"},{"$f":"Vermögen!AC17","v":{"v":0,"d":"0.0%"}},{"$f":"O19*$N239","v":0},0,0,0,0]
[null,"8.","",null,{"$f":"E158","v":{"v":0,"d":"0.0%"}},{"v":0,"d":"0.0%"},{"v":0,"d":"0.0%"},{"v":0,"d":"0.0%"},{"v":0,"d":"0.0%"},{"v":0,"d":"0.0%"},{"v":0,"d":"0.0%"},{"v":0,"d":"0.0%"},{"v":0,"d":"0.0%"},{"$f":"Vermögen!AC18","v":{"v":0,"d":"0.0%"}},{"$f":"O20*$N240","v":0},0,0,0,0]
[null,"9.","",null,{"$f":"E159","v":{"v":0,"d":"0.0%"}},{"v":0,"d":"0.0%"},{"v":0,"d":"0.0%"},{"v":0,"d":"0.0%"},{"v":0,"d":"0.0%"},{"v":0,"d":"0.0%"},{"v":0,"d":"0.0%"},{"v":0,"d":"0.0%"},{"v":0,"d":"0.0%"},{"$f":"Vermögen!AC19","v":{"v":0,"d":"0.0%"}},{"$f":"O21*$N241","v":0},0,0,0,0]
[null,"10.","",null,{"$f":"E160","v":{"v":0,"d":"0.0%"}},{"v":0,"d":"0.0%"},{"v":0,"d":"0.0%"},{"v":0,"d":"0.0%"},{"v":0,"d":"0.0%"},{"v":0,"d":"0.0%"},{"v":0,"d":"0.0%"},{"v":0,"d":"0.0%"},{"v":0,"d":"0.0%"},{"$f":"Vermögen!AC20","v":{"v":0,"d":"0.0%"}},{"$f":"O22*$N242","v":0},0,0,0,0]
[null,"11.","",null,{"$f":"E161","v":{"v":0,"d":"0.0%"}},{"v":0,"d":"0.0%"},{"v":0,"d":"0.0%"},{"v":0,"d":"0.0%"},{"v":0,"d":"0.0%"},{"v":0,"d":"0.0%"},{"v":0,"d":"0.0%"},{"v":0,"d":"0.0%"},{"v":0,"d":"0.0%"},{"$f":"Vermögen!AC21","v":{"v":0,"d":"0.0%"}},{"$f":"O23*$N243","v":0},0,0,0,0]
[null,"12.","",null,{"$f":"E162","v":{"v":0,"d":"0.0%"}},{"v":0,"d":"0.0%"},{"v":0,"d":"0.0%"},{"v":0,"d":"0.0%"},{"v":0,"d":"0.0%"},{"v":0,"d":"0.0%"},{"v":0,"d":"0.0%"},{"v":0,"d":"0.0%"},{"v":0,"d":"0.0%"},{"$f":"Vermögen!AC22","v":{"v":0,"d":"0.0%"}},{"$f":"O24*$N244","v":0},0,0,0,0]
[null,"13.","",null,{"$f":"E163","v":{"v":0,"d":"0.0%"}},{"v":0,"d":"0.0%"},{"v":0,"d":"0.0%"},{"v":0,"d":"0.0%"},{"v":0,"d":"0.0%"},{"v":0,"d":"0.0%"},{"v":0,"d":"0.0%"},{"v":0,"d":"0.0%"},{"v":0,"d":"0.0%"},{"$f":"Vermögen!AC23","v":{"v":0,"d":"0.0%"}},{"$f":"O25*$N245","v":0},0,0,0,0]
[null,"14.","",null,{"$f":"E164","v":{"v":0,"d":"0.0%"}},{"v":0,"d":"0.0%"},{"v":0,"d":"0.0%"},{"v":0,"d":"0.0%"},{"v":0,"d":"0.0%"},{"v":0,"d":"0.0%"},{"v":0,"d":"0.0%"},{"v":0,"d":"0.0%"},{"v":0,"d":"0.0%"},{"$f":"Vermögen!AC24","v":{"v":0,"d":"0.0%"}},{"$f":"O26*$N246","v":0},0,0,0,0]
[null,"15.","",null,{"$f":"E165","v":{"v":0,"d":"0.0%"}},{"v":0,"d":"0.0%"},{"v":0,"d":"0.0%"},{"v":0,"d":"0.0%"},{"v":0,"d":"0.0%"},{"v":0,"d":"0.0%"},{"v":0,"d":"0.0%"},{"v":0,"d":"0.0%"},{"v":0,"d":"0.0%"},{"$f":"Vermögen!AC25","v":{"v":0,"d":"0.0%"}},{"$f":"O27*$N247","v":0},0,0,0,0]
[null,"16.","",null,{"$f":"E166","v":{"v":0,"d":"0.0%"}},{"v":0,"d":"0.0%"},{"v":0,"d":"0.0%"},{"v":0,"d":"0.0%"},{"v":0,"d":"0.0%"},{"v":0,"d":"0.0%"},{"v":0,"d":"0.0%"},{"v":0,"d":"0.0%"},{"v":0,"d":"0.0%"},{"$f":"Vermögen!AC26","v":{"v":0,"d":"0.0%"}},{"$f":"O28*$N248","v":0},0,0,0,0]
[null,"17.","",null,{"$f":"E167","v":{"v":0,"d":"0.0%"}},{"v":0,"d":"0.0%"},{"v":0,"d":"0.0%"},{"v":0,"d":"0.0%"},{"v":0,"d":"0.0%"},{"v":0,"d":"0.0%"},{"v":0,"d":"0.0%"},{"v":0,"d":"0.0%"},{"v":0,"d":"0.0%"},{"$f":"Vermögen!AC27","v":{"v":0,"d":"0.0%"}},{"$f":"O29*$N249","v":0},0,0,0,0]
[null,"18.","",null,{"$f":"E168","v":{"v":0,"d":"0.0%"}},{"v":0,"d":"0.0%"},{"v":0,"d":"0.0%"},{"v":0,"d":"0.0%"},{"v":0,"d":"0.0%"},{"v":0,"d":"0.0%"},{"v":0,"d":"0.0%"},{"v":0,"d":"0.0%"},{"v":0,"d":"0.0%"},{"$f":"Vermögen!AC28","v":{"v":0,"d":"0.0%"}},{"$f":"O30*$N250","v":0},0,0,0,0]
[null,"19.","",null,{"$f":"E169","v":{"v":0,"d":"0.0%"}},{"v":0,"d":"0.0%"},{"v":0,"d":"0.0%"},{"v":0,"d":"0.0%"},{"v":0,"d":"0.0%"},{"v":0,"d":"0.0%"},{"v":0,"d":"0.0%"},{"v":0,"d":"0.0%"},{"v":0,"d":"0.0%"},{"$f":"Vermögen!AC29","v":{"v":0,"d":"0.0%"}},{"$f":"O31*$N251","v":0},0,0,0,0]
[null,"20.","",null,{"$f":"E170","v":{"v":0,"d":"0.0%"}},{"v":0,"d":"0.0%"},{"v":0,"d":"0.0%"},{"v":0,"d":"0.0%"},{"v":0,"d":"0.0%"},{"v":0,"d":"0.0%"},{"v":0,"d":"0.0%"},{"v":0,"d":"0.0%"},{"v":0,"d":"0.0%"},{"$f":"Vermögen!AC30","v":{"v":0,"d":"0.0%"}},{"$f":"O32*$N252","v":0},0,0,0,0]
[null,"21.","",null,{"$f":"E171","v":{"v":0,"d":"0.0%"}},{"v":0,"d":"0.0%"},{"v":0,"d":"0.0%"},{"v":0,"d":"0.0%"},{"v":0,"d":"0.0%"},{"v":0,"d":"0.0%"},{"v":0,"d":"0.0%"},{"v":0,"d":"0.0%"},{"v":0,"d":"0.0%"},{"$f":"Vermögen!AC31","v":{"v":0,"d":"0.0%"}},{"$f":"O33*$N253","v":0},0,0,0,0]
[null,"22.","",null,{"$f":"E172","v":{"v":0,"d":"0.0%"}},{"v":0,"d":"0.0%"},{"v":0,"d":"0.0%"},{"v":0,"d":"0.0%"},{"v":0,"d":"0.0%"},{"v":0,"d":"0.0%"},{"v":0,"d":"0.0%"},{"v":0,"d":"0.0%"},{"v":0,"d":"0.0%"},{"$f":"Vermögen!AC32","v":{"v":0,"d":"0.0%"}},{"$f":"O34*$N254","v":0},0,0,0,0]
[null,"23.","",null,{"$f":"E173","v":{"v":0,"d":"0.0%"}},{"v":0,"d":"0.0%"},{"v":0,"d":"0.0%"},{"v":0,"d":"0.0%"},{"v":0,"d":"0.0%"},{"v":0,"d":"0.0%"},{"v":0,"d":"0.0%"},{"v":0,"d":"0.0%"},{"v":0,"d":"0.0%"},{"$f":"Vermögen!AC33","v":{"v":0,"d":"0.0%"}},{"$f":"O35*$N255","v":0},0,0,0,0]
[null,"24.","",null,{"$f":"E174","v":{"v":0,"d":"0.0%"}},{"v":0,"d":"0.0%"},{"v":0,"d":"0.0%"},{"v":0,"d":"0.0%"},{"v":0,"d":"0.0%"},{"v":0,"d":"0.0%"},{"v":0,"d":"0.0%"},{"v":0,"d":"0.0%"},{"v":0,"d":"0.0%"},{"$f":"Vermögen!AC34","v":{"v":0,"d":"0.0%"}},{"$f":"O36*$N256","v":0},0,0,0,0]
[null,{"$f":"B37","v":"25."},{"$f":"C37","v":""},null,{"$f":"E175","v":{"v":0,"d":"0.0%"}},{"v":0,"d":"0.0%"},{"v":0,"d":"0.0%"},{"v":0,"d":"0.0%"},{"v":0,"d":"0.0%"},{"v":0,"d":"0.0%"},{"v":0,"d":"0.0%"},{"v":0,"d":"0.0%"},{"v":0,"d":"0.0%"},{"$f":"Vermögen!AC35","v":{"v":0,"d":"0.0%"}},{"$f":"O37*$N257","v":0},0,0,0,0]
[null,"26.",{"$f":"C38","v":""},null,{"$f":"E176","v":{"v":0,"d":"0.0%"}},{"v":0,"d":"0.0%"},{"v":0,"d":"0.0%"},{"v":0,"d":"0.0%"},{"v":0,"d":"0.0%"},{"v":0,"d":"0.0%"},{"v":0,"d":"0.0%"},{"v":0,"d":"0.0%"},{"v":0,"d":"0.0%"},{"$f":"Vermögen!AC36","v":{"v":0,"d":"0.0%"}},{"$f":"O38*$N258","v":0},0,0,0,0]
[null,"27.",{"$f":"C39","v":""},null,{"$f":"E177","v":{"v":0,"d":"0.0%"}},{"v":0,"d":"0.0%"},{"v":0,"d":"0.0%"},{"v":0,"d":"0.0%"},{"v":0,"d":"0.0%"},{"v":0,"d":"0.0%"},{"v":0,"d":"0.0%"},{"v":0,"d":"0.0%"},{"v":0,"d":"0.0%"},{"$f":"Vermögen!AC37","v":{"v":0,"d":"0.0%"}},{"$f":"O39*$N259","v":0},0,0,0,0]
[null,"28.",{"$f":"C40","v":""},null,{"$f":"E178","v":{"v":0,"d":"0.0%"}},{"v":0,"d":"0.0%"},{"v":0,"d":"0.0%"},{"v":0,"d":"0.0%"},{"v":0,"d":"0.0%"},{"v":0,"d":"0.0%"},{"v":0,"d":"0.0%"},{"v":0,"d":"0.0%"},{"v":0,"d":"0.0%"},{"$f":"Vermögen!AC38","v":{"v":0,"d":"0.0%"}},{"$f":"O40*$N260","v":0},0,0,0,0]
[null,"29.",{"$f":"C41","v":""},null,{"$f":"E179","v":{"v":0,"d":"0.0%"}},{"v":0,"d":"0.0%"},{"v":0,"d":"0.0%"},{"v":0,"d":"0.0%"},{"v":0,"d":"0.0%"},{"v":0,"d":"0.0%"},{"v":0,"d":"0.0%"},{"v":0,"d":"0.0%"},{"v":0,"d":"0.0%"},{"$f":"Vermögen!AC39","v":{"v":0,"d":"0.0%"}},{"$f":"O41*$N261","v":0},0,0,0,0]
[null,"30.",{"$f":"C42","v":""},null,{"$f":"E180","v":{"v":0,"d":"0.0%"}},{"v":0,"d":"0.0%"},{"v":0,"d":"0.0%"},{"v":0,"d":"0.0%"},{"v":0,"d":"0.0%"},{"v":0,"d":"0.0%"},{"v":0,"d":"0.0%"},{"v":0,"d":"0.0%"},{"v":0,"d":"0.0%"},{"$f":"Vermögen!AC40","v":{"v":0,"d":"0.0%"}},{"$f":"O42*$N262","v":0},0,0,0,0]
[null,"31.",{"$f":"C43","v":""},null,{"$f":"E181","v":{"v":0,"d":"0.0%"}},{"v":0,"d":"0.0%"},{"v":0,"d":"0.0%"},{"v":0,"d":"0.0%"},{"v":0,"d":"0.0%"},{"v":0,"d":"0.0%"},{"v":0,"d":"0.0%"},{"v":0,"d":"0.0%"},{"v":0,"d":"0.0%"},{"$f":"Vermögen!AC41","v":{"v":0,"d":"0.0%"}},{"$f":"O43*$N263","v":0},0,0,0,0]
[null,"32.",{"$f":"C44","v":""},null,{"$f":"E182","v":{"v":0,"d":"0.0%"}},{"v":0,"d":"0.0%"},{"v":0,"d":"0.0%"},{"v":0,"d":"0.0%"},{"v":0,"d":"0.0%"},{"v":0,"d":"0.0%"},{"v":0,"d":"0.0%"},{"v":0,"d":"0.0%"},{"v":0,"d":"0.0%"},{"$f":"Vermögen!AC42","v":{"v":0,"d":"0.0%"}},{"$f":"O44*$N264","v":0},0,0,0,0]
[null,"33.",{"$f":"C45","v":""},null,{"$f":"E183","v":{"v":0,"d":"0.0%"}},{"v":0,"d":"0.0%"},{"v":0,"d":"0.0%"},{"v":0,"d":"0.0%"},{"v":0,"d":"0.0%"},{"v":0,"d":"0.0%"},{"v":0,"d":"0.0%"},{"v":0,"d":"0.0%"},{"v":0,"d":"0.0%"},{"$f":"Vermögen!AC43","v":{"v":0,"d":"0.0%"}},{"$f":"O45*$N265","v":0},0,0,0,0]
[null,"34.",{"$f":"C46","v":""},null,{"$f":"E184","v":{"v":0,"d":"0.0%"}},{"v":0,"d":"0.0%"},{"v":0,"d":"0.0%"},{"v":0,"d":"0.0%"},{"v":0,"d":"0.0%"},{"v":0,"d":"0.0%"},{"v":0,"d":"0.0%"},{"v":0,"d":"0.0%"},{"v":0,"d":"0.0%"},{"$f":"Vermögen!AC44","v":{"v":0,"d":"0.0%"}},{"$f":"O46*$N266","v":0},0,0,0,0]
[null,"35.",{"$f":"C47","v":""},null,{"$f":"E185","v":{"v":0,"d":"0.0%"}},{"v":0,"d":"0.0%"},{"v":0,"d":"0.0%"},{"v":0,"d":"0.0%"},{"v":0,"d":"0.0%"},{"v":0,"d":"0.0%"},{"v":0,"d":"0.0%"},{"v":0,"d":"0.0%"},{"v":0,"d":"0.0%"},{"$f":"Vermögen!AC45","v":{"v":0,"d":"0.0%"}},{"$f":"O47*$N267","v":0},0,0,0,0]
[null,"36.",{"$f":"C48","v":""},null,{"$f":"E186","v":{"v":0,"d":"0.0%"}},{"v":0,"d":"0.0%"},{"v":0,"d":"0.0%"},{"v":0,"d":"0.0%"},{"v":0,"d":"0.0%"},{"v":0,"d":"0.0%"},{"v":0,"d":"0.0%"},{"v":0,"d":"0.0%"},{"v":0,"d":"0.0%"},{"$f":"Vermögen!AC46","v":{"v":0,"d":"0.0%"}},{"$f":"O48*$N268","v":0},0,0,0,0]
[null,"37.",{"$f":"C49","v":""},null,{"$f":"E187","v":{"v":0,"d":"0.0%"}},{"v":0,"d":"0.0%"},{"v":0,"d":"0.0%"},{"v":0,"d":"0.0%"},{"v":0,"d":"0.0%"},{"v":0,"d":"0.0%"},{"v":0,"d":"0.0%"},{"v":0,"d":"0.0%"},{"v":0,"d":"0.0%"},{"$f":"Vermögen!AC47","v":{"v":0,"d":"0.0%"}},{"$f":"O49*$N269","v":0},0,0,0,0]
[null,"38.",{"$f":"C50","v":""},null,{"$f":"E188","v":{"v":0,"d":"0.0%"}},{"v":0,"d":"0.0%"},{"v":0,"d":"0.0%"},{"v":0,"d":"0.0%"},{"v":0,"d":"0.0%"},{"v":0,"d":"0.0%"},{"v":0,"d":"0.0%"},{"v":0,"d":"0.0%"},{"v":0,"d":"0.0%"},{"$f":"Vermögen!AC48","v":{"v":0,"d":"0.0%"}},{"$f":"O50*$N270","v":0},0,0,0,0]
[null,"39.",{"$f":"C51","v":""},null,{"$f":"E189","v":{"v":0,"d":"0.0%"}},{"v":0,"d":"0.0%"},{"v":0,"d":"0.0%"},{"v":0,"d":"0.0%"},{"v":0,"d":"0.0%"},{"v":0,"d":"0.0%"},{"v":0,"d":"0.0%"},{"v":0,"d":"0.0%"},{"v":0,"d":"0.0%"},{"$f":"Vermögen!AC49","v":{"v":0,"d":"0.0%"}},{"$f":"O51*$N271","v":0},0,0,0,0]
[null,"40.",{"$f":"C52","v":""},null,{"$f":"E190","v":{"v":0,"d":"0.0%"}},{"v":0,"d":"0.0%"},{"v":0,"d":"0.0%"},{"v":0,"d":"0.0%"},{"v":0,"d":"0.0%"},{"v":0,"d":"0.0%"},{"v":0,"d":"0.0%"},{"v":0,"d":"0.0%"},{"v":0,"d":"0.0%"},{"$f":"Vermögen!AC50","v":{"v":0,"d":"0.0%"}},{"$f":"O52*$N272","v":0},0,0,0,0]
[null,"41.",{"$f":"C53","v":""},null,{"$f":"E191","v":{"v":0,"d":"0.0%"}},{"v":0,"d":"0.0%"},{"v":0,"d":"0.0%"},{"v":0,"d":"0.0%"},{"v":0,"d":"0.0%"},{"v":0,"d":"0.0%"},{"v":0,"d":"0.0%"},{"v":0,"d":"0.0%"},{"v":0,"d":"0.0%"},{"$f":"Vermögen!AC51","v":{"v":0,"d":"0.0%"}},{"$f":"O53*$N273","v":0},0,0,0,0]
[null,"42.",{"$f":"C54","v":""},null,{"$f":"E192","v":{"v":0,"d":"0.0%"}},{"v":0,"d":"0.0%"},{"v":0,"d":"0.0%"},{"v":0,"d":"0.0%"},{"v":0,"d":"0.0%"},{"v":0,"d":"0.0%"},{"v":0,"d":"0.0%"},{"v":0,"d":"0.0%"},{"v":0,"d":"0.0%"},{"$f":"Vermögen!AC52","v":{"v":0,"d":"0.0%"}},{"$f":"O54*$N274","v":0},0,0,0,0]
[null,"43.",{"$f":"C55","v":""},null,{"$f":"E193","v":{"v":0,"d":"0.0%"}},{"v":0,"d":"0.0%"},{"v":0,"d":"0.0%"},{"v":0,"d":"0.0%"},{"v":0,"d":"0.0%"},{"v":0,"d":"0.0%"},{"v":0,"d":"0.0%"},{"v":0,"d":"0.0%"},{"v":0,"d":"0.0%"},{"$f":"Vermögen!AC53","v":{"v":0,"d":"0.0%"}},{"$f":"O55*$N275","v":0},0,0,0,0]
[null,"44.",{"$f":"C56","v":""},null,{"$f":"E194","v":{"v":0,"d":"0.0%"}},{"v":0,"d":"0.0%"},{"v":0,"d":"0.0%"},{"v":0,"d":"0.0%"},{"v":0,"d":"0.0%"},{"v":0,"d":"0.0%"},{"v":0,"d":"0.0%"},{"v":0,"d":"0.0%"},{"v":0,"d":"0.0%"},{"$f":"Vermögen!AC54","v":{"v":0,"d":"0.0%"}},{"$f":"O56*$N276","v":0},0,0,0,0]
[null,"45.",{"$f":"C57","v":""},null,{"$f":"E195","v":{"v":0,"d":"0.0%"}},{"v":0,"d":"0.0%"},{"v":0,"d":"0.0%"},{"v":0,"d":"0.0%"},{"v":0,"d":"0.0%"},{"v":0,"d":"0.0%"},{"v":0,"d":"0.0%"},{"v":0,"d":"0.0%"},{"v":0,"d":"0.0%"},{"$f":"Vermögen!AC55","v":{"v":0,"d":"0.0%"}},{"$f":"O57*$N277","v":0},0,0,0,0]
[null,"46.",{"$f":"C58","v":""},null,{"$f":"E196","v":{"v":0,"d":"0.0%"}},{"v":0,"d":"0.0%"},{"v":0,"d":"0.0%"},{"v":0,"d":"0.0%"},{"v":0,"d":"0.0%"},{"v":0,"d":"0.0%"},{"v":0,"d":"0.0%"},{"v":0,"d":"0.0%"},{"v":0,"d":"0.0%"},{"$f":"Vermögen!AC56","v":{"v":0,"d":"0.0%"}},{"$f":"O58*$N278","v":0},0,0,0,0]
[null,"47.",{"$f":"C59","v":""},null,{"$f":"E197","v":{"v":0,"d":"0.0%"}},{"v":0,"d":"0.0%"},{"v":0,"d":"0.0%"},{"v":0,"d":"0.0%"},{"v":0,"d":"0.0%"},{"v":0,"d":"0.0%"},{"v":0,"d":"0.0%"},{"v":0,"d":"0.0%"},{"v":0,"d":"0.0%"},{"$f":"Vermögen!AC57","v":{"v":0,"d":"0.0%"}},{"$f":"O59*$N279","v":0},0,0,0,0]
[null,"48.",{"$f":"C60","v":""},null,{"$f":"E198","v":{"v":0,"d":"0.0%"}},{"v":0,"d":"0.0%"},{"v":0,"d":"0.0%"},{"v":0,"d":"0.0%"},{"v":0,"d":"0.0%"},{"v":0,"d":"0.0%"},{"v":0,"d":"0.0%"},{"v":0,"d":"0.0%"},{"v":0,"d":"0.0%"},{"$f":"Vermögen!AC58","v":{"v":0,"d":"0.0%"}},{"$f":"O60*$N280","v":0},0,0,0,0]
[null,"49.",{"$f":"C61","v":""},null,{"$f":"E199","v":{"v":0,"d":"0.0%"}},{"v":0,"d":"0.0%"},{"v":0,"d":"0.0%"},{"v":0,"d":"0.0%"},{"v":0,"d":"0.0%"},{"v":0,"d":"0.0%"},{"v":0,"d":"0.0%"},{"v":0,"d":"0.0%"},{"v":0,"d":"0.0%"},{"$f":"Vermögen!AC59","v":{"v":0,"d":"0.0%"}},{"$f":"O61*$N281","v":0},0,0,0,0]
[null,"50.",{"$f":"C62","v":""},null,{"$f":"E200","v":{"v":0,"d":"0.0%"}},{"v":0,"d":"0.0%"},{"v":0,"d":"0.0%"},{"v":0,"d":"0.0%"},{"v":0,"d":"0.0%"},{"v":0,"d":"0.0%"},{"v":0,"d":"0.0%"},{"v":0,"d":"0.0%"},{"v":0,"d":"0.0%"},{"$f":"Vermögen!AC60","v":{"v":0,"d":"0.0%"}},{"$f":"O62*$N282","v":0},0,0,0,0]
[null,null,"Zustiftungen",{"$f":"D63","v":"Liquidität"},{"$f":"IF($D$283=E232,1,0)","v":{"v":0,"d":"0.0%"}},{"$f":"IF($D$283=F232,1,0)","v":{"v":0,"d":"0.0%"}},{"v":0,"d":"0.0%"},{"v":0,"d":"0.0%"},{"v":1,"d":"100.0%"},{"v":0,"d":"0.0%"},{"v":0,"d":"0.0%"},{"v":0,"d":"0.0%"},{"v":0,"d":"0.0%"},{"v":0,"d":"0.0%"},{"$f":"O63","v":0},{"$f":"P63","v":0},0,0,0]
[null,null,"Summe",{"$nulls":11},{"$f":"SUM(O233:O283)","v":0},0,0,0,0]
[{"$nulls":4},{"$f":"E232","v":"Aktien"},{"$f":"F232","v":"Anleihen"},"Alternative Inv.","Rohstoffe","Liquidität","Immobilien","Beteiligungen","Sonst. Verm.","Verbindlichkeiten"]
[null,null,"Risiko nach Anlageklassen",{"$f":"Daten_Vermögen!B7","v":"Aktien"},{"$nulls":10},{"$f":"SUM(O$233:O$283*$E$233:$E$283)","v":0},{"$f":"SUM(P$233:P$283*$E$233:$E$283)","v":0},{"$f":"SUM(Q$233:Q$283*$E$233:$E$283)","v":0},{"$f":"SUM(R$233:R$283*$E$233:$E$283)","v":0},{"$f":"SUM(S$233:S$283*$E$233:$E$283)","v":0}]
[{"$nulls":3},{"$f":"Daten_Vermögen!B8","v":"Anleihen"},{"$nulls":10},{"$f":"SUM(O$233:O$283*$F$233:$F$283)","v":0},{"$f":"SUM(P$233:P$283*$F$233:$F$283)","v":0},{"$f":"SUM(Q$233:Q$283*$F$233:$F$283)","v":0},{"$f":"SUM(R$233:R$283*$F$233:$F$283)","v":0},{"$f":"SUM(S$233:S$283*$F$233:$F$283)","v":0}]
[{"$nulls":3},{"$f":"Daten_Vermögen!B9","v":"Alternative Inv."},{"$nulls":10},{"$f":"SUM(O$233:O$283*$G$233:$G$283)","v":0},{"$f":"SUM(P$233:P$283*$G$233:$G$283)","v":0},{"$f":"SUM(Q$233:Q$283*$G$233:$G$283)","v":0},{"$f":"SUM(R$233:R$283*$G$233:$G$283)","v":0},{"$f":"SUM(S$233:S$283*$G$233:$G$283)","v":0}]
[{"$nulls":3},{"$f":"Daten_Vermögen!B10","v":"Rohstoffe"},{"$nulls":10},{"$f":"SUM(O$233:O$283*$H$233:$H$283)","v":0},{"$f":"SUM(P$233:P$283*$H$233:$H$283)","v":0},{"$f":"SUM(Q$233:Q$283*$H$233:$H$283)","v":0},{"$f":"SUM(R$233:R$283*$H$233:$H$283)","v":0},{"$f":"SUM(S$233:S$283*$H$233:$H$283)","v":0}]
[{"$nulls":3},{"$f":"Daten_Vermögen!B11","v":"Liquidität"},{"$nulls":10},{"$f":"SUM(O$233:O$283*$I$233:$I$283)","v":0},{"$f":"SUM(P$233:P$283*$I$233:$I$283)","v":0},{"$f":"SUM(Q$233:Q$283*$I$233:$I$283)","v":0},{"$f":"SUM(R$233:R$283*$I$233:$I$283)","v":0},{"$f":"SUM(S$233:S$283*$I$233:$I$283)","v":0}]
[{"$nulls":3},{"$f":"Daten_Vermögen!B13","v":"Immobilien"},{"$nulls":10},{"$f":"SUM(O$233:O$283*$J$233:$J$283)","v":0},{"$f":"SUM(P$233:P$283*$J$233:$J$283)","v":0},{"$f":"SUM(Q$233:Q$283*$J$233:$J$283)","v":0},{"$f":"SUM(R$233:R$283*$J$233:$J$283)","v":0},{"$f":"SUM(S$233:S$283*$J$233:$J$283)","v":0}]
[{"$nulls":3},{"$f":"Daten_Vermögen!B14","v":"Beteiligungen"},{"$nulls":10},{"$f":"SUM(O$233:O$283*$K$233:$K$283)","v":0},{"$f":"SUM(P$233:P$283*$K$233:$K$283)","v":0},{"$f":"SUM(Q$233:Q$283*$K$233:$K$283)","v":0},{"$f":"SUM(R$233:R$283*$K$233:$K$283)","v":0},{"$f":"SUM(S$233:S$283*$K$233:$K$283)","v":0}]
[{"$nulls":3},{"$f":"Daten_Vermögen!B15","v":"Sonst. Verm."},{"$nulls":10},{"$f":"SUM(O$233:O$283*$L$233:$L$283)","v":0},{"$f":"SUM(P$233:P$283*$L$233:$L$283)","v":0},{"$f":"SUM(Q$233:Q$283*$L$233:$L$283)","v":0},{"$f":"SUM(R$233:R$283*$L$233:$L$283)","v":0},{"$f":"SUM(S$233:S$283*$L$233:$L$283)","v":0}]
[{"$nulls":3},{"$f":"Daten_Vermögen!B16","v":"Verbindlichkeiten"},{"$nulls":10},{"$f":"SUM(O$233:O$283*$M$233:$M$283)","v":0},{"$f":"SUM(P$233:P$283*$M$233:$M$283)","v":0},{"$f":"SUM(Q$233:Q$283*$M$233:$M$283)","v":0},{"$f":"SUM(R$233:R$283*$M$233:$M$283)","v":0},{"$f":"SUM(S$233:S$283*$M$233:$M$283)","v":0}]
[{"$nulls":3},"Summe",{"$nulls":10},{"$f":"SUM(O286:O294)","v":0},{"$f":"SUM(P286:P294)","v":0},{"$f":"SUM(Q286:Q294)","v":0},{"$f":"SUM(R286:R294)","v":0},{"$f":"SUM(S286:S294)","v":0}]
[]
[null,null,"Cockpit Grafik Risiko",{"$nulls":11},{"$f":"O232","v":2024},{"$f":"P232","v":2025},{"$f":"Q232","v":2026},{"$f":"R232","v":2027},{"$f":"S232","v":2028}]
[{"$nulls":3},"Risikoziel Investitionsvermögen",{"$nulls":10},{"$f":"O64*Anlageziele!$H$32","v":0},{"$f":"P64*Anlageziele!$H$32","v":0},{"$f":"Q64*Anlageziele!$H$32","v":0},{"$f":"R64*Anlageziele!$H$32","v":0},{"$f":"S64*Anlageziele!$H$32","v":0}]
[{"$nulls":3},"Maximalverlust Projektion",{"$nulls":10},{"$f":"O295","v":0},{"$f":"P295","v":0},{"$f":"Q295","v":0},{"$f":"R295","v":0},{"$f":"S295","v":0}]
[]
[null,null,"Nachhaltigkeit"]
[]
[null,{"$f":"Vermögen!E10","v":"Nr."},{"$f":"Vermögen!F10","v":"Vermögensgegenstand (Bezeichnung)"},null,{"$f":"E232","v":"Aktien"},{"$f":"F232","v":"Anleihen"},"Alternative Inv.","Rohstoffe","Liquidität","Immobilien","Beteiligungen","Sonst. Verm.","Verbindlichkeiten","Gew./adj.",{"$f":"O297","v":2024},{"$f":"P297","v":2025},{"$f":"Q297","v":2026},{"$f":"R297","v":2027},{"$f":"S297","v":2028}]
[null,{"$f":"Vermögen!E11","v":"1."},{"$f":"Vermögen!F11","v":0},null,{"$f":"E233","v":{"v":0,"d":"0.0%"}},{"v":0,"d":"0.0%"},{"v":0,"d":"0.0%"},{"v":0,"d":"0.0%"},{"v":0,"d":"0.0%"},{"v":0,"d":"0.0%"},{"v":0,"d":"0.0%"},{"v":0,"d":"0.0%"},{"v":0,"d":"0.0%"},{"$f":"IF(Vermögen!AD11=\"Keine\",0,1)","v":{"v":1,"d":"100.0%"}},{"$f":"O13*$N304","v":0},{"$f":"P13*$N304","v":0},0,0,0]
[null,{"$f":"Vermögen!E12","v":"2."},{"$f":"Vermögen!F12","v":0},null,{"$f":"E234","v":{"v":0,"d":"0.0%"}},{"v":0,"d":"0.0%"},{"v":0,"d":"0.0%"},{"v":0,"d":"0.0%"},{"v":0,"d":"0.0%"},{"v":0,"d":"0.0%"},{"v":0,"d":"0.0%"},{"v":0,"d":"0.0%"},{"v":0,"d":"0.0%"},{"$f":"IF(Vermögen!AD12=\"Keine\",0,1)","v":{"v":1,"d":"100.0%"}},{"$f":"O14*$N305","v":0},0,0,0,0]
[null,{"$f":"Vermögen!E13","v":"3."},{"$f":"Vermögen!F13","v":0},null,{"$f":"E235","v":{"v":0,"d":"0.0%"}},{"v":0,"d":"0.0%"},{"v":0,"d":"0.0%"},{"v":0,"d":"0.0%"},{"v":0,"d":"0.0%"},{"v":0,"d":"0.0%"},{"v":0,"d":"0.0%"},{"v":0,"d":"0.0%"},{"v":0,"d":"0.0%"},{"$f":"IF(Vermögen!AD13=\"Keine\",0,1)","v":{"v":1,"d":"100.0%"}},{"$f":"O15*$N306","v":0},0,0,0,0]
[null,{"$f":"Vermögen!E14","v":"4."},{"$f":"Vermögen!F14","v":0},null,{"$f":"E236","v":{"v":0,"d":"0.0%"}},{"v":0,"d":"0.0%"},{"v":0,"d":"0.0%"},{"v":0,"d":"0.0%"},{"v":0,"d":"0.0%"},{"v":0,"d":"0.0%"},{"v":0,"d":"0.0%"},{"v":0,"d":"0.0%"},{"v":0,"d":"0.0%"},{"$f":"IF(Vermögen!AD14=\"Keine\",0,1)","v":{"v":1,"d":"100.0%"}},{"$f":"O16*$N307","v":0},0,0,0,0]
[null,{"$f":"Vermögen!E15","v":"5."},{"$f":"Vermögen!F15","v":0},null,{"$f":"E237","v":{"v":0,"d":"0.0%"}},{"v":0,"d":"0.0%"},{"v":0,"d":"0.0%"},{"v":0,"d":"0.0%"},{"v":0,"d":"0.0%"},{"v":0,"d":"0.0%"},{"v":0,"d":"0.0%"},{"v":0,"d":"0.0%"},{"v":0,"d":"0.0%"},{"$f":"IF(Vermögen!AD15=\"Keine\",0,1)","v":{"v":1,"d":"100.0%"}},{"$f":"O17*$N308","v":0},0,0,0,0]
[null,{"$f":"Vermögen!E16","v":"6."},{"$f":"Vermögen!F16","v":0},null,{"$f":"E238","v":{"v":0,"d":"0.0%"}},{"v":0,"d":"0.0%"},{"v":0,"d":"0.0%"},{"v":0,"d":"0.0%"},{"v":0,"d":"0.0%"},{"v":0,"d":"0.0%"},{"v":0,"d":"0.0%"},{"v":0,"d":"0.0%"},{"v":0,"d":"0.0%"},{"$f":"IF(Vermögen!AD16=\"Keine\",0,1)","v":{"v":1,"d":"100.0%"}},{"$f":"O18*$N309","v":0},0,0,0,0]
[null,{"$f":"Vermögen!E17","v":"7."},{"$f":"Vermögen!F17","v":0},null,{"$f":"E239","v":{"v":0,"d":"0.0%"}},{"v":0,"d":"0.0%"},{"v":0,"d":"0.0%"},{"v":0,"d":"0.0%"},{"v":0,"d":"0.0%"},{"v":0,"d":"0.0%"},{"v":0,"d":"0.0%"},{"v":0,"d":"0.0%"},{"v":0,"d":"0.0%"},{"$f":"IF(Vermögen!AD17=\"Keine\",0,1)","v":{"v":1,"d":"100.0%"}},{"$f":"O19*$N310","v":0},0,0,0,0]
[null,{"$f":"Vermögen!E18","v":"8."},{"$f":"Vermögen!F18","v":0},null,{"$f":"E240","v":{"v":0,"d":"0.0%"}},{"v":0,"d":"0.0%"},{"v":0,"d":"0.0%"},{"v":0,"d":"0.0%"},{"v":0,"d":"0.0%"},{"v":0,"d":"0.0%"},{"v":0,"d":"0.0%"},{"v":0,"d":"0.0%"},{"v":0,"d":"0.0%"},{"$f":"IF(Vermögen!AD18=\"Keine\",0,1)","v":{"v":1,"d":"100.0%"}},{"$f":"O20*$N311","v":0},0,0,0,0]
[null,{"$f":"Vermögen!E19","v":"9."},{"$f":"Vermögen!F19","v":0},null,{"$f":"E241","v":{"v":0,"d":"0.0%"}},{"v":0,"d":"0.0%"},{"v":0,"d":"0.0%"},{"v":0,"d":"0.0%"},{"v":0,"d":"0.0%"},{"v":0,"d":"0.0%"},{"v":0,"d":"0.0%"},{"v":0,"d":"0.0%"},{"v":0,"d":"0.0%"},{"$f":"IF(Vermögen!AD19=\"Keine\",0,1)","v":{"v":1,"d":"100.0%"}},{"$f":"O21*$N312","v":0},0,0,0,0]
[null,{"$f":"Vermögen!E20","v":"10."},{"$f":"Vermögen!F20","v":0},null,{"$f":"E242","v":{"v":0,"d":"0.0%"}},{"v":0,"d":"0.0%"},{"v":0,"d":"0.0%"},{"v":0,"d":"0.0%"},{"v":0,"d":"0.0%"},{"v":0,"d":"0.0%"},{"v":0,"d":"0.0%"},{"v":0,"d":"0.0%"},{"v":0,"d":"0.0%"},{"$f":"IF(Vermögen!AD20=\"Keine\",0,1)","v":{"v":1,"d":"100.0%"}},{"$f":"O22*$N313","v":0},0,0,0,0]
[null,{"$f":"Vermögen!E21","v":"11."},{"$f":"Vermögen!F21","v":0},null,{"$f":"E243","v":{"v":0,"d":"0.0%"}},{"v":0,"d":"0.0%"},{"v":0,"d":"0.0%"},{"v":0,"d":"0.0%"},{"v":0,"d":"0.0%"},{"v":0,"d":"0.0%"},{"v":0,"d":"0.0%"},{"v":0,"d":"0.0%"},{"v":0,"d":"0.0%"},{"$f":"IF(Vermögen!AD21=\"Keine\",0,1)","v":{"v":1,"d":"100.0%"}},{"$f":"O23*$N314","v":0},0,0,0,0]
[null,{"$f":"Vermögen!E22","v":"12."},{"$f":"Vermögen!F22","v":0},null,{"$f":"E244","v":{"v":0,"d":"0.0%"}},{"v":0,"d":"0.0%"},{"v":0,"d":"0.0%"},{"v":0,"d":"0.0%"},{"v":0,"d":"0.0%"},{"v":0,"d":"0.0%"},{"v":0,"d":"0.0%"},{"v":0,"d":"0.0%"},{"v":0,"d":"0.0%"},{"$f":"IF(Vermögen!AD22=\"Keine\",0,1)","v":{"v":1,"d":"100.0%"}},{"$f":"O24*$N315","v":0},0,0,0,0]
[null,{"$f":"Vermögen!E23","v":"13."},{"$f":"Vermögen!F23","v":0},null,{"$f":"E245","v":{"v":0,"d":"0.0%"}},{"v":0,"d":"0.0%"},{"v":0,"d":"0.0%"},{"v":0,"d":"0.0%"},{"v":0,"d":"0.0%"},{"v":0,"d":"0.0%"},{"v":0,"d":"0.0%"},{"v":0,"d":"0.0%"},{"v":0,"d":"0.0%"},{"$f":"IF(Vermögen!AD23=\"Keine\",0,1)","v":{"v":1,"d":"100.0%"}},{"$f":"O25*$N316","v":0},0,0,0,0]
[null,{"$f":"Vermögen!E24","v":"14."},{"$f":"Vermögen!F24","v":0},null,{"$f":"E246","v":{"v":0,"d":"0.0%"}},{"v":0,"d":"0.0%"},{"v":0,"d":"0.0%"},{"v":0,"d":"0.0%"},{"v":0,"d":"0.0%"},{"v":0,"d":"0.0%"},{"v":0,"d":"0.0%"},{"v":0,"d":"0.0%"},{"v":0,"d":"0.0%"},{"$f":"IF(Vermögen!AD24=\"Keine\",0,1)","v":{"v":1,"d":"100.0%"}},{"$f":"O26*$N317","v":0},0,0,0,0]
[null,{"$f":"Vermögen!E25","v":"15."},{"$f":"Vermögen!F25","v":0},null,{"$f":"E247","v":{"v":0,"d":"0.0%"}},{"v":0,"d":"0.0%"},{"v":0,"d":"0.0%"},{"v":0,"d":"0.0%"},{"v":0,"d":"0.0%"},{"v":0,"d":"0.0%"},{"v":0,"d":"0.0%"},{"v":0,"d":"0.0%"},{"v":0,"d":"0.0%"},{"$f":"IF(Vermögen!AD25=\"Keine\",0,1)","v":{"v":1,"d":"100.0%"}},{"$f":"O27*$N318","v":0},0,0,0,0]
[null,{"$f":"Vermögen!E26","v":"16."},{"$f":"Vermögen!F26","v":0},null,{"$f":"E248","v":{"v":0,"d":"0.0%"}},{"v":0,"d":"0.0%"},{"v":0,"d":"0.0%"},{"v":0,"d":"0.0%"},{"v":0,"d":"0.0%"},{"v":0,"d":"0.0%"},{"v":0,"d":"0.0%"},{"v":0,"d":"0.0%"},{"v":0,"d":"0.0%"},{"$f":"IF(Vermögen!AD26=\"Keine\",0,1)","v":{"v":1,"d":"100.0%"}},{"$f":"O28*$N319","v":0},0,0,0,0]
[null,{"$f":"Vermögen!E27","v":"17."},{"$f":"Vermögen!F27","v":0},null,{"$f":"E249","v":{"v":0,"d":"0.0%"}},{"v":0,"d":"0.0%"},{"v":0,"d":"0.0%"},{"v":0,"d":"0.0%"},{"v":0,"d":"0.0%"},{"v":0,"d":"0.0%"},{"v":0,"d":"0.0%"},{"v":0,"d":"0.0%"},{"v":0,"d":"0.0%"},{"$f":"IF(Vermögen!AD27=\"Keine\",0,1)","v":{"v":1,"d":"100.0%"}},{"$f":"O29*$N320","v":0},0,0,0,0]
[null,{"$f":"Vermögen!E28","v":"18."},{"$f":"Vermögen!F28","v":0},null,{"$f":"E250","v":{"v":0,"d":"0.0%"}},{"v":0,"d":"0.0%"},{"v":0,"d":"0.0%"},{"v":0,"d":"0.0%"},{"v":0,"d":"0.0%"},{"v":0,"d":"0.0%"},{"v":0,"d":"0.0%"},{"v":0,"d":"0.0%"},{"v":0,"d":"0.0%"},{"$f":"IF(Vermögen!AD28=\"Keine\",0,1)","v":{"v":1,"d":"100.0%"}},{"$f":"O30*$N321","v":0},0,0,0,0]
[null,{"$f":"Vermögen!E29","v":"19."},{"$f":"Vermögen!F29","v":0},null,{"$f":"E251","v":{"v":0,"d":"0.0%"}},{"v":0,"d":"0.0%"},{"v":0,"d":"0.0%"},{"v":0,"d":"0.0%"},{"v":0,"d":"0.0%"},{"v":0,"d":"0.0%"},{"v":0,"d":"0.0%"},{"v":0,"d":"0.0%"},{"v":0,"d":"0.0%"},{"$f":"IF(Vermögen!AD29=\"Keine\",0,1)","v":{"v":1,"d":"100.0%"}},{"$f":"O31*$N322","v":0},0,0,0,0]
[null,{"$f":"Vermögen!E30","v":"20."},{"$f":"Vermögen!F30","v":0},null,{"$f":"E252","v":{"v":0,"d":"0.0%"}},{"v":0,"d":"0.0%"},{"v":0,"d":"0.0%"},{"v":0,"d":"0.0%"},{"v":0,"d":"0.0%"},{"v":0,"d":"0.0%"},{"v":0,"d":"0.0%"},{"v":0,"d":"0.0%"},{"v":0,"d":"0.0%"},{"$f":"IF(Vermögen!AD30=\"Keine\",0,1)","v":{"v":1,"d":"100.0%"}},{"$f":"O32*$N323","v":0},0,0,0,0]
[null,{"$f":"Vermögen!E31","v":"21."},{"$f":"Vermögen!F31","v":0},null,{"$f":"E253","v":{"v":0,"d":"0.0%"}},{"v":0,"d":"0.0%"},{"v":0,"d":"0.0%"},{"v":0,"d":"0.0%"},{"v":0,"d":"0.0%"},{"v":0,"d":"0.0%"},{"v":0,"d":"0.0%"},{"v":0,"d":"0.0%"},{"v":0,"d":"0.0%"},{"$f":"IF(Vermögen!AD31=\"Keine\",0,1)","v":{"v":1,"d":"100.0%"}},{"$f":"O33*$N324","v":0},0,0,0,0]
[null,{"$f":"Vermögen!E32","v":"22."},{"$f":"Vermögen!F32","v":0},null,{"$f":"E254","v":{"v":0,"d":"0.0%"}},{"v":0,"d":"0.0%"},{"v":0,"d":"0.0%"},{"v":0,"d":"0.0%"},{"v":0,"d":"0.0%"},{"v":0,"d":"0.0%"},{"v":0,"d":"0.0%"},{"v":0,"d":"0.0%"},{"v":0,"d":"0.0%"},{"$f":"IF(Vermögen!AD32=\"Keine\",0,1)","v":{"v":1,"d":"100.0%"}},{"$f":"O34*$N325","v":0},0,0,0,0]
[null,{"$f":"Vermögen!E33","v":"23."},{"$f":"Vermögen!F33","v":0},null,{"$f":"E255","v":{"v":0,"d":"0.0%"}},{"v":0,"d":"0.0%"},{"v":0,"d":"0.0%"},{"v":0,"d":"0.0%"},{"v":0,"d":"0.0%"},{"v":0,"d":"0.0%"},{"v":0,"d":"0.0%"},{"v":0,"d":"0.0%"},{"v":0,"d":"0.0%"},{"$f":"IF(Vermögen!AD33=\"Keine\",0,1)","v":{"v":1,"d":"100.0%"}},{"$f":"O35*$N326","v":0},0,0,0,0]
[null,{"$f":"Vermögen!E34","v":"24."},{"$f":"Vermögen!F34","v":0},null,{"$f":"E256","v":{"v":0,"d":"0.0%"}},{"v":0,"d":"0.0%"},{"v":0,"d":"0.0%"},{"v":0,"d":"0.0%"},{"v":0,"d":"0.0%"},{"v":0,"d":"0.0%"},{"v":0,"d":"0.0%"},{"v":0,"d":"0.0%"},{"v":0,"d":"0.0%"},{"$f":"IF(Vermögen!AD34=\"Keine\",0,1)","v":{"v":1,"d":"100.0%"}},{"$f":"O36*$N327","v":0},0,0,0,0]
[null,{"$f":"Vermögen!E35","v":"25."},{"$f":"Vermögen!F35","v":0},null,{"$f":"E257","v":{"v":0,"d":"0.0%"}},{"v":0,"d":"0.0%"},{"v":0,"d":"0.0%"},{"v":0,"d":"0.0%"},{"v":0,"d":"0.0%"},{"v":0,"d":"0.0%"},{"v":0,"d":"0.0%"},{"v":0,"d":"0.0%"},{"v":0,"d":"0.0%"},{"$f":"IF(Vermögen!AD35=\"Keine\",0,1)","v":{"v":1,"d":"100.0%"}},{"$f":"O37*$N328","v":0},0,0,0,0]
[null,{"$f":"Vermögen!E36","v":"26."},{"$f":"Vermögen!F36","v":0},null,{"$f":"E258","v":{"v":0,"d":"0.0%"}},{"v":0,"d":"0.0%"},{"v":0,"d":"0.0%"},{"v":0,"d":"0.0%"},{"v":0,"d":"0.0%"},{"v":0,"d":"0.0%"},{"v":0,"d":"0.0%"},{"v":0,"d":"0.0%"},{"v":0,"d":"0.0%"},{"$f":"IF(Vermögen!AD36=\"Keine\",0,1)","v":{"v":1,"d":"100.0%"}},{"$f":"O38*$N329","v":0},0,0,0,0]
[null,{"$f":"Vermögen!E37","v":"27."},{"$f":"Vermögen!F37","v":0},null,{"$f":"E259","v":{"v":0,"d":"0.0%"}},{"v":0,"d":"0.0%"},{"v":0,"d":"0.0%"},{"v":0,"d":"0.0%"},{"v":0,"d":"0.0%"},{"v":0,"d":"0.0%"},{"v":0,"d":"0.0%"},{"v":0,"d":"0.0%"},{"v":0,"d":"0.0%"},{"$f":"IF(Vermögen!AD37=\"Keine\",0,1)","v":{"v":1,"d":"100.0%"}},{"$f":"O39*$N330","v":0},0,0,0,0]
[null,{"$f":"Vermögen!E38","v":"28."},{"$f":"Vermögen!F38","v":0},null,{"$f":"E260","v":{"v":0,"d":"0.0%"}},{"v":0,"d":"0.0%"},{"v":0,"d":"0.0%"},{"v":0,"d":"0.0%"},{"v":0,"d":"0.0%"},{"v":0,"d":"0.0%"},{"v":0,"d":"0.0%"},{"v":0,"d":"0.0%"},{"v":0,"d":"0.0%"},{"$f":"IF(Vermögen!AD38=\"Keine\",0,1)","v":{"v":1,"d":"100.0%"}},{"$f":"O40*$N331","v":0},0,0,0,0]
[null,{"$f":"Vermögen!E39","v":"29."},{"$f":"Vermögen!F39","v":0},null,{"$f":"E261","v":{"v":0,"d":"0.0%"}},{"v":0,"d":"0.0%"},{"v":0,"d":"0.0%"},{"v":0,"d":"0.0%"},{"v":0,"d":"0.0%"},{"v":0,"d":"0.0%"},{"v":0,"d":"0.0%"},{"v":0,"d":"0.0%"},{"v":0,"d":"0.0%"},{"$f":"IF(Vermögen!AD39=\"Keine\",0,1)","v":{"v":1,"d":"100.0%"}},{"$f":"O41*$N332","v":0},0,0,0,0]
[null,{"$f":"Vermögen!E40","v":"30."},{"$f":"Vermögen!F40","v":0},null,{"$f":"E262","v":{"v":0,"d":"0.0%"}},{"v":0,"d":"0.0%"},{"v":0,"d":"0.0%"},{"v":0,"d":"0.0%"},{"v":0,"d":"0.0%"},{"v":0,"d":"0.0%"},{"v":0,"d":"0.0%"},{"v":0,"d":"0.0%"},{"v":0,"d":"0.0%"},{"$f":"IF(Vermögen!AD40=\"Keine\",0,1)","v":{"v":1,"d":"100.0%"}},{"$f":"O42*$N333","v":0},0,0,0,0]
[null,{"$f":"Vermögen!E41","v":"31."},{"$f":"Vermögen!F41","v":0},null,{"$f":"E263","v":{"v":0,"d":"0.0%"}},{"v":0,"d":"0.0%"},{"v":0,"d":"0.0%"},{"v":0,"d":"0.0%"},{"v":0,"d":"0.0%"},{"v":0,"d":"0.0%"},{"v":0,"d":"0.0%"},{"v":0,"d":"0.0%"},{"v":0,"d":"0.0%"},{"$f":"IF(Vermögen!AD41=\"Keine\",0,1)","v":{"v":1,"d":"100.0%"}},{"$f":"O43*$N334","v":0},0,0,0,0]
[null,{"$f":"Vermögen!E42","v":"32."},{"$f":"Vermögen!F42","v":0},null,{"$f":"E264","v":{"v":0,"d":"0.0%"}},{"v":0,"d":"0.0%"},{"v":0,"d":"0.0%"},{"v":0,"d":"0.0%"},{"v":0,"d":"0.0%"},{"v":0,"d":"0.0%"},{"v":0,"d":"0.0%"},{"v":0,"d":"0.0%"},{"v":0,"d":"0.0%"},{"$f":"IF(Vermögen!AD42=\"Keine\",0,1)","v":{"v":1,"d":"100.0%"}},{"$f":"O44*$N335","v":0},0,0,0,0]
[null,{"$f":"Vermögen!E43","v":"33."},{"$f":"Vermögen!F43","v":0},null,{"$f":"E265","v":{"v":0,"d":"0.0%"}},{"v":0,"d":"0.0%"},{"v":0,"d":"0.0%"},{"v":0,"d":"0.0%"},{"v":0,"d":"0.0%"},{"v":0,"d":"0.0%"},{"v":0,"d":"0.0%"},{"v":0,"d":"0.0%"},{"v":0,"d":"0.0%"},{"$f":"IF(Vermögen!AD43=\"Keine\",0,1)","v":{"v":1,"d":"100.0%"}},{"$f":"O45*$N336","v":0},0,0,0,0]
[null,{"$f":"Vermögen!E44","v":"34."},{"$f":"Vermögen!F44","v":0},null,{"$f":"E266","v":{"v":0,"d":"0.0%"}},{"v":0,"d":"0.0%"},{"v":0,"d":"0.0%"},{"v":0,"d":"0.0%"},{"v":0,"d":"0.0%"},{"v":0,"d":"0.0%"},{"v":0,"d":"0.0%"},{"v":0,"d":"0.0%"},{"v":0,"d":"0.0%"},{"$f":"IF(Vermögen!AD44=\"Keine\",0,1)","v":{"v":1,"d":"100.0%"}},{"$f":"O46*$N337","v":0},0,0,0,0]
[null,{"$f":"Vermögen!E45","v":"35."},{"$f":"Vermögen!F45","v":0},null,{"$f":"E267","v":{"v":0,"d":"0.0%"}},{"v":0,"d":"0.0%"},{"v":0,"d":"0.0%"},{"v":0,"d":"0.0%"},{"v":0,"d":"0.0%"},{"v":0,"d":"0.0%"},{"v":0,"d":"0.0%"},{"v":0,"d":"0.0%"},{"v":0,"d":"0.0%"},{"$f":"IF(Vermögen!AD45=\"Keine\",0,1)","v":{"v":1,"d":"100.0%"}},{"$f":"O47*$N338","v":0},0,0,0,0]
[null,{"$f":"Vermögen!E46","v":"36."},{"$f":"Vermögen!F46","v":0},null,{"$f":"E268","v":{"v":0,"d":"0.0%"}},{"v":0,"d":"0.0%"},{"v":0,"d":"0.0%"},{"v":0,"d":"0.0%"},{"v":0,"d":"0.0%"},{"v":0,"d":"0.0%"},{"v":0,"d":"0.0%"},{"v":0,"d":"0.0%"},{"v":0,"d":"0.0%"},{"$f":"IF(Vermögen!AD46=\"Keine\",0,1)","v":{"v":1,"d":"100.0%"}},{"$f":"O48*$N339","v":0},0,0,0,0]
[null,{"$f":"Vermögen!E47","v":"37."},{"$f":"Vermögen!F47","v":0},null,{"$f":"E269","v":{"v":0,"d":"0.0%"}},{"v":0,"d":"0.0%"},{"v":0,"d":"0.0%"},{"v":0,"d":"0.0%"},{"v":0,"d":"0.0%"},{"v":0,"d":"0.0%"},{"v":0,"d":"0.0%"},{"v":0,"d":"0.0%"},{"v":0,"d":"0.0%"},{"$f":"IF(Vermögen!AD47=\"Keine\",0,1)","v":{"v":1,"d":"100.0%"}},{"$f":"O49*$N340","v":0},0,0,0,0]
[null,{"$f":"Vermögen!E48","v":"38."},{"$f":"Vermögen!F48","v":0},null,{"$f":"E270","v":{"v":0,"d":"0.0%"}},{"v":0,"d":"0.0%"},{"v":0,"d":"0.0%"},{"v":0,"d":"0.0%"},{"v":0,"d":"0.0%"},{"v":0,"d":"0.0%"},{"v":0,"d":"0.0%"},{"v":0,"d":"0.0%"},{"v":0,"d":"0.0%"},{"$f":"IF(Vermögen!AD48=\"Keine\",0,1)","v":{"v":1,"d":"100.0%"}},{"$f":"O50*$N341","v":0},0,0,0,0]
[null,{"$f":"Vermögen!E49","v":"39."},{"$f":"Vermögen!F49","v":0},null,{"$f":"E271","v":{"v":0,"d":"0.0%"}},{"v":0,"d":"0.0%"},{"v":0,"d":"0.0%"},{"v":0,"d":"0.0%"},{"v":0,"d":"0.0%"},{"v":0,"d":"0.0%"},{"v":0,"d":"0.0%"},{"v":0,"d":"0.0%"},{"v":0,"d":"0.0%"},{"$f":"IF(Vermögen!AD49=\"Keine\",0,1)","v":{"v":1,"d":"100.0%"}},{"$f":"O51*$N342","v":0},0,0,0,0]
[null,{"$f":"Vermögen!E50","v":"40."},{"$f":"Vermögen!F50","v":0},null,{"$f":"E272","v":{"v":0,"d":"0.0%"}},{"v":0,"d":"0.0%"},{"v":0,"d":"0.0%"},{"v":0,"d":"0.0%"},{"v":0,"d":"0.0%"},{"v":0,"d":"0.0%"},{"v":0,"d":"0.0%"},{"v":0,"d":"0.0%"},{"v":0,"d":"0.0%"},{"$f":"IF(Vermögen!AD50=\"Keine\",0,1)","v":{"v":1,"d":"100.0%"}},{"$f":"O52*$N343","v":0},0,0,0,0]
[null,{"$f":"Vermögen!E51","v":"41."},{"$f":"Vermögen!F51","v":0},null,{"$f":"E273","v":{"v":0,"d":"0.0%"}},{"v":0,"d":"0.0%"},{"v":0,"d":"0.0%"},{"v":0,"d":"0.0%"},{"v":0,"d":"0.0%"},{"v":0,"d":"0.0%"},{"v":0,"d":"0.0%"},{"v":0,"d":"0.0%"},{"v":0,"d":"0.0%"},{"$f":"IF(Vermögen!AD51=\"Keine\",0,1)","v":{"v":1,"d":"100.0%"}},{"$f":"O53*$N344","v":0},0,0,0,0]
[null,{"$f":"Vermögen!E52","v":"42."},{"$f":"Vermögen!F52","v":0},null,{"$f":"E274","v":{"v":0,"d":"0.0%"}},{"v":0,"d":"0.0%"},{"v":0,"d":"0.0%"},{"v":0,"d":"0.0%"},{"v":0,"d":"0.0%"},{"v":0,"d":"0.0%"},{"v":0,"d":"0.0%"},{"v":0,"d":"0.0%"},{"v":0,"d":"0.0%"},{"$f":"IF(Vermögen!AD52=\"Keine\",0,1)","v":{"v":1,"d":"100.0%"}},{"$f":"O54*$N345","v":0},0,0,0,0]
[null,{"$f":"Vermögen!E53","v":"43."},{"$f":"Vermögen!F53","v":0},null,{"$f":"E275","v":{"v":0,"d":"0.0%"}},{"v":0,"d":"0.0%"},{"v":0,"d":"0.0%"},{"v":0,"d":"0.0%"},{"v":0,"d":"0.0%"},{"v":0,"d":"0.0%"},{"v":0,"d":"0.0%"},{"v":0,"d":"0.0%"},{"v":0,"d":"0.0%"},{"$f":"IF(Vermögen!AD53=\"Keine\",0,1)","v":{"v":1,"d":"100.0%"}},{"$f":"O55*$N346","v":0},0,0,0,0]
[null,{"$f":"Vermögen!E54","v":"44."},{"$f":"Vermögen!F54","v":0},null,{"$f":"E276","v":{"v":0,"d":"0.0%"}},{"v":0,"d":"0.0%"},{"v":0,"d":"0.0%"},{"v":0,"d":"0.0%"},{"v":0,"d":"0.0%"},{"v":0,"d":"0.0%"},{"v":0,"d":"0.0%"},{"v":0,"d":"0.0%"},{"v":0,"d":"0.0%"},{"$f":"IF(Vermögen!AD54=\"Keine\",0,1)","v":{"v":1,"d":"100.0%"}},{"$f":"O56*$N347","v":0},0,0,0,0]
[null,{"$f":"Vermögen!E55","v":"45."},{"$f":"Vermögen!F55","v":0},null,{"$f":"E277","v":{"v":0,"d":"0.0%"}},{"v":0,"d":"0.0%"},{"v":0,"d":"0.0%"},{"v":0,"d":"0.0%"},{"v":0,"d":"0.0%"},{"v":0,"d":"0.0%"},{"v":0,"d":"0.0%"},{"v":0,"d":"0.0%"},{"v":0,"d":"0.0%"},{"$f":"IF(Vermögen!AD55=\"Keine\",0,1)","v":{"v":1,"d":"100.0%"}},{"$f":"O57*$N348","v":0},0,0,0,0]
[null,{"$f":"Vermögen!E56","v":"46."},{"$f":"Vermögen!F56","v":0},null,{"$f":"E278","v":{"v":0,"d":"0.0%"}},{"v":0,"d":"0.0%"},{"v":0,"d":"0.0%"},{"v":0,"d":"0.0%"},{"v":0,"d":"0.0%"},{"v":0,"d":"0.0%"},{"v":0,"d":"0.0%"},{"v":0,"d":"0.0%"},{"v":0,"d":"0.0%"},{"$f":"IF(Vermögen!AD56=\"Keine\",0,1)","v":{"v":1,"d":"100.0%"}},{"$f":"O58*$N349","v":0},0,0,0,0]
[null,{"$f":"Vermögen!E57","v":"47."},{"$f":"Vermögen!F57","v":0},null,{"$f":"E279","v":{"v":0,"d":"0.0%"}},{"v":0,"d":"0.0%"},{"v":0,"d":"0.0%"},{"v":0,"d":"0.0%"},{"v":0,"d":"0.0%"},{"v":0,"d":"0.0%"},{"v":0,"d":"0.0%"},{"v":0,"d":"0.0%"},{"v":0,"d":"0.0%"},{"$f":"IF(Vermögen!AD57=\"Keine\",0,1)","v":{"v":1,"d":"100.0%"}},{"$f":"O59*$N350","v":0},0,0,0,0]
[null,{"$f":"Vermögen!E58","v":"48."},{"$f":"Vermögen!F58","v":0},null,{"$f":"E280","v":{"v":0,"d":"0.0%"}},{"v":0,"d":"0.0%"},{"v":0,"d":"0.0%"},{"v":0,"d":"0.0%"},{"v":0,"d":"0.0%"},{"v":0,"d":"0.0%"},{"v":0,"d":"0.0%"},{"v":0,"d":"0.0%"},{"v":0,"d":"0.0%"},{"$f":"IF(Vermögen!AD58=\"Keine\",0,1)","v":{"v":1,"d":"100.0%"}},{"$f":"O60*$N351","v":0},0,0,0,0]
[null,{"$f":"Vermögen!E59","v":"49."},{"$f":"Vermögen!F59","v":0},null,{"$f":"E281","v":{"v":0,"d":"0.0%"}},{"v":0,"d":"0.0%"},{"v":0,"d":"0.0%"},{"v":0,"d":"0.0%"},{"v":0,"d":"0.0%"},{"v":0,"d":"0.0%"},{"v":0,"d":"0.0%"},{"v":0,"d":"0.0%"},{"v":0,"d":"0.0%"},{"$f":"IF(Vermögen!AD59=\"Keine\",0,1)","v":{"v":1,"d":"100.0%"}},{"$f":"O61*$N352","v":0},0,0,0,0]
[null,{"$f":"Vermögen!E60","v":"50."},{"$f":"Vermögen!F60","v":0},null,{"$f":"E282","v":{"v":0,"d":"0.0%"}},{"v":0,"d":"0.0%"},{"v":0,"d":"0.0%"},{"v":0,"d":"0.0%"},{"v":0,"d":"0.0%"},{"v":0,"d":"0.0%"},{"v":0,"d":"0.0%"},{"v":0,"d":"0.0%"},{"v":0,"d":"0.0%"},{"$f":"IF(Vermögen!AD60=\"Keine\",0,1)","v":{"v":1,"d":"100.0%"}},{"$f":"O62*$N353","v":0},0,0,0,0]
[null,null,"Zustiftungen","Cash",{"$nulls":9},{"v":0,"d":"0.0%"},{"$f":"IFERROR(N354+N354*INDEX(Szenarien!$F$31:$L$39,MATCH($D63,Szenarien!$F$31:$F$39,0),O$11),0)","v":0},{"$f":"IFERROR(O354+O354*INDEX(Szenarien!$F$31:$L$39,MATCH($D63,Szenarien!$F$31:$F$39,0),P$11),0)","v":0},{"$f":"IFERROR(P354+P354*INDEX(Szenarien!$F$31:$L$39,MATCH($D63,Szenarien!$F$31:$F$39,0),Q$11),0)","v":0},{"$f":"IFERROR(Q354+Q354*INDEX(Szenarien!$F$31:$L$39,MATCH($D63,Szenarien!$F$31:$F$39,0),R$11),0)","v":0},{"$f":"IFERROR(R354+R354*INDEX(Szenarien!$F$31:$L$39,MATCH($D63,Szenarien!$F$31:$F$39,0),S$11),0)","v":0}]
[null,null,"Summe",null,{"$f":"E285","v":"Aktien"},{"$f":"F285","v":"Anleihen"},"Alternative Inv.","Rohstoffe","Liquidität","Immobilien","Beteiligungen","Sonst. Verm.","Verbindlichkeiten",null,{"$f":"SUM(O304:O354)","v":0},{"$f":"SUM(P304:P354)","v":0},{"$f":"SUM(Q304:Q354)","v":0},{"$f":"SUM(R304:R354)","v":0},{"$f":"SUM(S304:S354)","v":0}]
[]
[null,null,"Nachhaltigkeit nach Anlageklassen",{"$nulls":10},"Ziel",{"$f":"O303","v":2024},{"$f":"P303","v":2025},{"$f":"Q303","v":2026},{"$f":"R303","v":2027},{"$f":"S303","v":2028}]
[{"$nulls":3},{"$f":"D66","v":"Aktien"},{"$nulls":10},{"$f":"SUM($E$304:$E$353*O$304:O$353)","v":0},{"$f":"SUM($E$304:$E$353*P$304:P$353)","v":0},{"$f":"SUM($E$304:$E$353*Q$304:Q$353)","v":0},{"$f":"SUM($E$304:$E$353*R$304:R$353)","v":0},{"$f":"SUM($E$304:$E$353*S$304:S$353)","v":0}]
[{"$nulls":3},{"$f":"D67","v":"Anleihen"},{"$nulls":10},{"$f":"SUM($F$304:$F$353*O$304:O$353)","v":0},{"$f":"SUM($F$304:$F$353*P$304:P$353)","v":0},{"$f":"SUM($F$304:$F$353*Q$304:Q$353)","v":0},{"$f":"SUM($F$304:$F$353*R$304:R$353)","v":0},{"$f":"SUM($F$304:$F$353*S$304:S$353)","v":0}]
[{"$nulls":3},"Alternative Inv.",{"$nulls":10},{"$f":"SUM($G$304:$G$353*O$304:O$353)","v":0},{"$f":"SUM($G$304:$G$353*P$304:P$353)","v":0},{"$f":"SUM($G$304:$G$353*Q$304:Q$353)","v":0},{"$f":"SUM($G$304:$G$353*R$304:R$353)","v":0},{"$f":"SUM($G$304:$G$353*S$304:S$353)","v":0}]
[{"$nulls":3},"Rohstoffe",{"$nulls":10},{"$f":"SUM($H$304:$H$353*O$304:O$353)","v":0},{"$f":"SUM($H$304:$H$353*P$304:P$353)","v":0},{"$f":"SUM($H$304:$H$353*Q$304:Q$353)","v":0},{"$f":"SUM($H$304:$H$353*R$304:R$353)","v":0},{"$f":"SUM($H$304:$H$353*S$304:S$353)","v":0}]
[{"$nulls":3},"Liquidität",{"$nulls":10},{"$f":"SUM($I$304:$I$353*O$304:O$353)","v":0},{"$f":"SUM($I$304:$I$353*P$304:P$353)","v":0},{"$f":"SUM($I$304:$I$353*Q$304:Q$353)","v":0},{"$f":"SUM($I$304:$I$353*R$304:R$353)","v":0},{"$f":"SUM($I$304:$I$353*S$304:S$353)","v":0}]
[{"$nulls":3},"Immobilien",{"$nulls":10},{"$f":"SUM($J$304:$J$353*O$304:O$353)","v":0},{"$f":"SUM($J$304:$J$353*P$304:P$353)","v":0},{"$f":"SUM($J$304:$J$353*Q$304:Q$353)","v":0},{"$f":"SUM($J$304:$J$353*R$304:R$353)","v":0},{"$f":"SUM($J$304:$J$353*S$304:S$353)","v":0}]
[{"$nulls":3},"Beteiligungen",{"$nulls":10},{"$f":"SUM($K$304:$K$353*O$304:O$353)","v":0},{"$f":"SUM($K$304:$K$353*P$304:P$353)","v":0},{"$f":"SUM($K$304:$K$353*Q$304:Q$353)","v":0},{"$f":"SUM($K$304:$K$353*R$304:R$353)","v":0},{"$f":"SUM($K$304:$K$353*S$304:S$353)","v":0}]
[{"$nulls":3},"Sonst. Verm.",{"$nulls":10},{"$f":"SUM($L$304:$L$353*O$304:O$353)","v":0},{"$f":"SUM($L$304:$L$353*P$304:P$353)","v":0},{"$f":"SUM($L$304:$L$353*Q$304:Q$353)","v":0},{"$f":"SUM($L$304:$L$353*R$304:R$353)","v":0},{"$f":"SUM($L$304:$L$353*S$304:S$353)","v":0}]
[{"$nulls":3},"Verbindlichkeiten",{"$nulls":10},{"$f":"SUM($M$304:$M$353*O$304:O$353)","v":0},{"$f":"SUM($M$304:$M$353*P$304:P$353)","v":0},{"$f":"SUM($M$304:$M$353*Q$304:Q$353)","v":0},{"$f":"SUM($M$304:$M$353*R$304:R$353)","v":0},{"$f":"SUM($M$304:$M$353*S$304:S$353)","v":0}]
[{"$nulls":3},"Summe",{"$nulls":10},{"$f":"SUM(O358:O366)","v":0},{"$f":"SUM(P358:P366)","v":0},0,0,0]
[]
[null,null,"Nachhaltigkeitsstrategien Abweichung",{"$f":"D358","v":"Aktien"},{"$nulls":9},{"$f":"N358","v":{"v":0,"d":"0.0%"}},{"$f":"IF(O358>$N358,0,O358-$N358)","v":{"v":0,"d":"0.0%"}},{"v":0,"d":"0.0%"},{"v":0,"d":"0.0%"},{"v":0,"d":"0.0%"},{"v":0,"d":"0.0%"}]
[null,null,"Derzeit ohne Funktion",{"$f":"D359","v":"Anleihen"},{"$nulls":9},{"$f":"N359","v":{"v":0,"d":"0.0%"}},{"v":0,"d":"0.0%"},{"v":0,"d":"0.0%"},{"v":0,"d":"0.0%"},{"v":0,"d":"0.0%"},{"v":0,"d":"0.0%"}]
[{"$nulls":3},"Alternative Inv.",{"$nulls":9},{"v":0,"d":"0.0%"},{"v":0,"d":"0.0%"},{"v":0,"d":"0.0%"},{"v":0,"d":"0.0%"},{"v":0,"d":"0.0%"},{"v":0,"d":"0.0%"}]
[{"$nulls":3},"Rohstoffe",{"$nulls":9},{"v":0,"d":"0.0%"},{"v":0,"d":"0.0%"},{"v":0,"d":"0.0%"},{"v":0,"d":"0.0%"},{"v":0,"d":"0.0%"},{"v":0,"d":"0.0%"}]
[{"$nulls":3},"Liquidität",{"$nulls":9},{"v":0,"d":"0.0%"},{"v":0,"d":"0.0%"},{"v":0,"d":"0.0%"},{"v":0,"d":"0.0%"},{"v":0,"d":"0.0%"},{"v":0,"d":"0.0%"}]
[{"$nulls":3},"Immobilien",{"$nulls":9},{"v":0,"d":"0.0%"},{"v":0,"d":"0.0%"},{"v":0,"d":"0.0%"},{"v":0,"d":"0.0%"},{"v":0,"d":"0.0%"},{"v":0,"d":"0.0%"}]
[{"$nulls":3},"Beteiligungen",{"$nulls":9},{"v":0,"d":"0.0%"},{"v":0,"d":"0.0%"},{"v":0,"d":"0.0%"},{"v":0,"d":"0.0%"},{"v":0,"d":"0.0%"},{"v":0,"d":"0.0%"}]
[{"$nulls":3},"Sonst. Verm.",{"$nulls":9},{"v":0,"d":"0.0%"},{"v":0,"d":"0.0%"},{"v":0,"d":"0.0%"},{"v":0,"d":"0.0%"},{"v":0,"d":"0.0%"},{"v":0,"d":"0.0%"}]
[null,null,"Derzeit ohne Funktion","Summe Nachhaltigkeitsstrategien",{"$nulls":9},{"$f":"SUM(N358:N365)","v":{"v":0,"d":"0.0%"}}]
[{"$nulls":3},"Projektion-Quote Nachhaltigkeit",{"$nulls":10},{"$f":"O367/O64","v":{"$error":"#DIV/0!"}},{"$f":"P367/P64","v":{"$error":"#DIV/0!"}},{"$error":"#DIV/0!"},{"$error":"#DIV/0!"},{"$error":"#DIV/0!"}]
[{"$nulls":3},"SOLL-Quote Nachhaltigkeit",{"$nulls":10},{"$f":"Anlageziele!$N$29","v":{"v":0,"d":"0.0%"}},{"$f":"Anlageziele!$N$29","v":{"v":0,"d":"0.0%"}},{"$f":"Anlageziele!$N$29","v":{"v":0,"d":"0.0%"}},{"$f":"Anlageziele!$N$29","v":{"v":0,"d":"0.0%"}},{"$f":"Anlageziele!$N$29","v":{"v":0,"d":"0.0%"}}]
[{"$nulls":3},"Differenz Quote",{"$nulls":10},{"$f":"O379-O378","v":{"$error":"#DIV/0!"}},{"$f":"P379-P378","v":{"$error":"#DIV/0!"}},{"$error":"#DIV/0!"},{"$error":"#DIV/0!"},{"$error":"#DIV/0!"}]
[null,null,"Derzeit ohne Funktion","Nachhaltigkeitsziel PRISC-Score"]
[{"$nulls":3},"Projektion PRISC-Score"]
[{"$nulls":3},"Differenz %"]
[{"$nulls":3},"Differenz Quote"]
[]
[null,null,"Cockpit-Grafik Nachhaltigkeit",{"$nulls":11},{"$f":"O357","v":2024},{"$f":"P357","v":2025},{"$f":"Q357","v":2026},{"$f":"R357","v":2027},{"$f":"S357","v":2028}]
[{"$nulls":3},"Nachhaltigkeitsziel",{"$nulls":10},{"$f":"IF(Anlageziele!$O$31=\"Quantitativ\",'Daten Projektion'!O379,'Daten Projektion'!O381)","v":{"v":0,"d":"0.0%"}},{"$f":"IF(Anlageziele!$O$31=\"Quantitativ\",'Daten Projektion'!P379,'Daten Projektion'!P381)","v":{"v":0,"d":"0.0%"}},{"$f":"IF(Anlageziele!$O$31=\"Quantitativ\",'Daten Projektion'!Q379,'Daten Projektion'!Q381)","v":{"v":0,"d":"0.0%"}},{"$f":"IF(Anlageziele!$O$31=\"Quantitativ\",'Daten Projektion'!R379,'Daten Projektion'!R381)","v":{"v":0,"d":"0.0%"}},{"$f":"IF(Anlageziele!$O$31=\"Quantitativ\",'Daten Projektion'!S379,'Daten Projektion'!S381)","v":{"v":0,"d":"0.0%"}}]
[{"$nulls":3},"Nachhaltigkeit Projektion",{"$nulls":10},{"$f":"IF(Anlageziele!$O$31=\"Quantitativ\",'Daten Projektion'!O378,'Daten Projektion'!O382)","v":{"$error":"#DIV/0!"}},{"$f":"IF(Anlageziele!$O$31=\"Quantitativ\",'Daten Projektion'!P378,'Daten Projektion'!P382)","v":{"$error":"#DIV/0!"}},{"$f":"IF(Anlageziele!$O$31=\"Quantitativ\",'Daten Projektion'!Q378,'Daten Projektion'!Q382)","v":{"$error":"#DIV/0!"}},{"$f":"IF(Anlageziele!$O$31=\"Quantitativ\",'Daten Projektion'!R378,'Daten Projektion'!R382)","v":{"$error":"#DIV/0!"}},{"$f":"IF(Anlageziele!$O$31=\"Quantitativ\",'Daten Projektion'!S378,'Daten Projektion'!S382)","v":{"$error":"#DIV/0!"}}]

{"sheet":"Vermögenserhaltung","index":11,"n_rows":34,"n_cols":16,"rows_kept":34,"merged":[[11,12,11,13],[18,12,18,13]]}
[]
[]
[]
[]
[" "]
[]
[]
[]
[]
[null,"Legende"]
[]
[null,"Pflichteingabe",{"$nulls":3},"Ausstattung bei Gründung",0,"EUR",{"$nulls":4},"Abschreibungen auf den Grundstock"]
[null,"Optionale Eingabe",{"$nulls":6},"DM"]
[null,"Systemeingabe überschreibbar",{"$nulls":5}," ",{"$nulls":4},"Bezeichnung","Betrag","EUR/DM","Jahr"]
[null,"Systemeingabe nicht überschreibbar",{"$nulls":10},"Abschreibung 1",0,"EUR","Bitte ausw."]
[null,"Weitere Infos im Hintergrund",{"$nulls":3},"Zustiftungen ",{"$nulls":6},"Abschreibung 2",0,"EUR","Bitte ausw."]
[{"$nulls":12},"Abschreibung 3",0,"EUR","Bitte ausw."]
[{"$nulls":5},"Bezeichnung","Betrag","EUR/DM","Jahr"]
[{"$nulls":5},"Zustiftung 1",0,"EUR","Bitte ausw.",{"$nulls":3},"Zuschreibungen zum Grundstock"]
[{"$nulls":5},"Zustiftung 2",0,"EUR","Bitte ausw."]
[null,"Gründungsjahr lt. Einstellungen:",{"$nulls":3},"Zustiftung 3",0,"EUR","Bitte ausw.",{"$nulls":3},"Bezeichnung","Betrag","EUR/DM","Jahr"]
[null,{"$f":"Einstellungen!G12","v":0},{"$nulls":3},"Zustiftung 4",0,"EUR","Bitte ausw.",{"$nulls":3},"Zuschreibung 1",0,"EUR","Bitte ausw."]
[null,"Vermögenserhaltungskonzept lt. ",{"$nulls":3},"Zustiftung 5",0,"EUR","Bitte ausw.",{"$nulls":3},"Zuschreibung 2",0,"EUR","Bitte ausw."]
[null,"Eingaben Anlageziele:",{"$nulls":3},"Zustiftung 6",0,"EUR","Bitte ausw.",{"$nulls":3},"Zuschreibung 3",0,"EUR","Bitte ausw."]
[null,{"$f":"Anlageziele!$H$14","v":"Real"}]
[null,"SOLL-Vermögen aktuell EUR:"]
[null,{"$f":"Daten_Willkommen!C20","v":0}]
[null,"IST-Vermögen aktuell EUR:"]
[null,{"$f":"Daten_Willkommen!C19","v":0}]
[null,"Zielerreichtung aktuell:"]
[null,{"$f":"Daten_Willkommen!C22","v":"OFF"}]
[]
[]
[null,"Weiter zu"]

{"sheet":"Daten_Vermögenserhaltung","index":12,"n_rows":123,"n_cols":19,"rows_kept":123,"hidden":true,"merged":[[94,9,94,10],[101,9,101,10],[110,9,110,10],[117,9,117,10]]}
["Daten Vermögenserhaltung"]
[]
[{"$nulls":3},"Inflationsraten in Deutschland von 1992 bis 2021"]
[{"$nulls":3},"(Veränderung des Verbraucherpreisindex gegenüber Vorjahr)"]
[null,"Währung","Jahre für Auswahlfeld","Jahr","VPI","Ausstattung","Zustiftung","Abschreibung","Zuschreibung","Nominalwert","Realwert","Verbrauch","MIN Verbrauch","Grundstock nom.:",{"$f":"SUM(O28:O54)","v":0},"ü","VPI lfd. Jahr","Quelle:statista.com"]
[{"$nulls":3},1970,{"v":0.031,"d":"3.1%"},{"$f":"IF($D6=Einstellungen!$G$12,$O$28,0)","v":0},{"$f":"IF(D6=Vermögenserhaltung!$I$19,$O$33,0)+IF(D6=Vermögenserhaltung!$I$20,$O$34,0)+IF(D6=Vermögenserhaltung!$I$21,$O$35,0)+IF(D6=Vermögenserhaltung!$I$22,$O$36,0)+IF(D6=Vermögenserhaltung!$I$23,$O$37,0)+IF(D6=Vermögenserhaltung!$I$24,Daten_Vermögenserhaltung!$O$38,0)","v":0},{"$f":"IF(D6=Vermögenserhaltung!$P$15,$O$41,0)+IF(D6=Vermögenserhaltung!$P$16,$O$42,0)+IF(D6=Vermögenserhaltung!$P$17,$O$43,0)","v":0},{"$f":"IF(D6=Vermögenserhaltung!$P$22,$O$50,0)+IF(D6=Vermögenserhaltung!$P$23,$O$51,0)+IF(D6=Vermögenserhaltung!$P$24,$O$52,0)","v":0},{"$f":"SUM(F6:I6)","v":0},{"$f":"SUM(F6:I6)","v":0},{"$f":"K6","v":0},{"$f":"MAX(0,L6)","v":0},{"$nulls":3},"Jan",7.9]
[{"$nulls":3},1971,{"v":0.047,"d":"4.7%"},{"$f":"IF($D7=Einstellungen!$G$12,$O$28,0)","v":0},{"$f":"IF(D7=Vermögenserhaltung!$I$19,$O$33,0)+IF(D7=Vermögenserhaltung!$I$20,$O$34,0)+IF(D7=Vermögenserhaltung!$I$21,$O$35,0)+IF(D7=Vermögenserhaltung!$I$22,$O$36,0)+IF(D7=Vermögenserhaltung!$I$23,$O$37,0)+IF(D7=Vermögenserhaltung!$I$24,Daten_Vermögenserhaltung!$O$38,0)","v":0},{"$f":"IF(D7=Vermögenserhaltung!$P$15,$O$41,0)+IF(D7=Vermögenserhaltung!$P$16,$O$42,0)+IF(D7=Vermögenserhaltung!$P$17,$O$43,0)","v":0},{"$f":"IF(D7=Vermögenserhaltung!$P$22,$O$50,0)+IF(D7=Vermögenserhaltung!$P$23,$O$51,0)+IF(D7=Vermögenserhaltung!$P$24,$O$52,0)","v":0},{"$f":"J6+SUM(F7:I7)","v":0},{"$f":"K6+K6*E7+SUM(F7:I7)","v":0},{"$f":"IF(D7=Einstellungen!$G$12,Daten_Vermögenserhaltung!K7,IF(D7>Einstellungen!$G$12,L6-IF(Anlageziele!$H$21=Daten_Einstellg_Ziele!$C$18,Anlageziele!$H$22,$O$28/Anlageziele!$H$22),0))+SUM(G7:I7)","v":0},{"$f":"MAX(0,L7)","v":0},{"$nulls":3},"Feb",{"v":0,"d":"0.0"}]
[{"$nulls":3},1972,{"v":0.046,"d":"4.6%"},{"$f":"IF($D8=Einstellungen!$G$12,$O$28,0)","v":0},{"$f":"IF(D8=Vermögenserhaltung!$I$19,$O$33,0)+IF(D8=Vermögenserhaltung!$I$20,$O$34,0)+IF(D8=Vermögenserhaltung!$I$21,$O$35,0)+IF(D8=Vermögenserhaltung!$I$22,$O$36,0)+IF(D8=Vermögenserhaltung!$I$23,$O$37,0)+IF(D8=Vermögenserhaltung!$I$24,Daten_Vermögenserhaltung!$O$38,0)","v":0},{"$f":"IF(D8=Vermögenserhaltung!$P$15,$O$41,0)+IF(D8=Vermögenserhaltung!$P$16,$O$42,0)+IF(D8=Vermögenserhaltung!$P$17,$O$43,0)","v":0},{"$f":"IF(D8=Vermögenserhaltung!$P$22,$O$50,0)+IF(D8=Vermögenserhaltung!$P$23,$O$51,0)+IF(D8=Vermögenserhaltung!$P$24,$O$52,0)","v":0},{"$f":"J7+SUM(F8:I8)","v":0},{"$f":"K7+K7*E8+SUM(F8:I8)","v":0},{"$f":"IF(D8=Einstellungen!$G$12,Daten_Vermögenserhaltung!K8,IF(D8>Einstellungen!$G$12,L7-IF(Anlageziele!$H$21=Daten_Einstellg_Ziele!$C$18,Anlageziele!$H$22,$O$28/Anlageziele!$H$22),0))+SUM(G8:I8)","v":0},0,{"$nulls":3},"Mär",{"v":0,"d":"0.0"}]
[{"$nulls":3},1973,{"v":0.066,"d":"6.6%"},{"$f":"IF($D9=Einstellungen!$G$12,$O$28,0)","v":0},{"$f":"IF(D9=Vermögenserhaltung!$I$19,$O$33,0)+IF(D9=Vermögenserhaltung!$I$20,$O$34,0)+IF(D9=Vermögenserhaltung!$I$21,$O$35,0)+IF(D9=Vermögenserhaltung!$I$22,$O$36,0)+IF(D9=Vermögenserhaltung!$I$23,$O$37,0)+IF(D9=Vermögenserhaltung!$I$24,Daten_Vermögenserhaltung!$O$38,0)","v":0},{"$f":"IF(D9=Vermögenserhaltung!$P$15,$O$41,0)+IF(D9=Vermögenserhaltung!$P$16,$O$42,0)+IF(D9=Vermögenserhaltung!$P$17,$O$43,0)","v":0},{"$f":"IF(D9=Vermögenserhaltung!$P$22,$O$50,0)+IF(D9=Vermögenserhaltung!$P$23,$O$51,0)+IF(D9=Vermögenserhaltung!$P$24,$O$52,0)","v":0},0,0,{"$f":"IF(D9=Einstellungen!$G$12,Daten_Vermögenserhaltung!K9,IF(D9>Einstellungen!$G$12,L8-IF(Anlageziele!$H$21=Daten_Einstellg_Ziele!$C$18,Anlageziele!$H$22,$O$28/Anlageziele!$H$22),0))+SUM(G9:I9)","v":0},0,{"$nulls":3},"Apr",{"v":0,"d":"0.0"}]
[{"$nulls":3},1974,{"v":0.072,"d":"7.2%"},{"$f":"IF($D10=Einstellungen!$G$12,$O$28,0)","v":0},{"$f":"IF(D10=Vermögenserhaltung!$I$19,$O$33,0)+IF(D10=Vermögenserhaltung!$I$20,$O$34,0)+IF(D10=Vermögenserhaltung!$I$21,$O$35,0)+IF(D10=Vermögenserhaltung!$I$22,$O$36,0)+IF(D10=Vermögenserhaltung!$I$23,$O$37,0)+IF(D10=Vermögenserhaltung!$I$24,Daten_Vermögenserhaltung!$O$38,0)","v":0},{"$f":"IF(D10=Vermögenserhaltung!$P$15,$O$41,0)+IF(D10=Vermögenserhaltung!$P$16,$O$42,0)+IF(D10=Vermögenserhaltung!$P$17,$O$43,0)","v":0},{"$f":"IF(D10=Vermögenserhaltung!$P$22,$O$50,0)+IF(D10=Vermögenserhaltung!$P$23,$O$51,0)+IF(D10=Vermögenserhaltung!$P$24,$O$52,0)","v":0},0,0,{"$f":"IF(D10=Einstellungen!$G$12,Daten_Vermögenserhaltung!K10,IF(D10>Einstellungen!$G$12,L9-IF(Anlageziele!$H$21=Daten_Einstellg_Ziele!$C$18,Anlageziele!$H$22,$O$28/Anlageziele!$H$22),0))+SUM(G10:I10)","v":0},0,{"$nulls":3},"Mai",{"v":0,"d":"0.0"}]
[{"$nulls":3},1975,{"v":0.054,"d":"5.4%"},{"$f":"IF($D11=Einstellungen!$G$12,$O$28,0)","v":0},{"$f":"IF(D11=Vermögenserhaltung!$I$19,$O$33,0)+IF(D11=Vermögenserhaltung!$I$20,$O$34,0)+IF(D11=Vermögenserhaltung!$I$21,$O$35,0)+IF(D11=Vermögenserhaltung!$I$22,$O$36,0)+IF(D11=Vermögenserhaltung!$I$23,$O$37,0)+IF(D11=Vermögenserhaltung!$I$24,Daten_Vermögenserhaltung!$O$38,0)","v":0},{"$f":"IF(D11=Vermögenserhaltung!$P$15,$O$41,0)+IF(D11=Vermögenserhaltung!$P$16,$O$42,0)+IF(D11=Vermögenserhaltung!$P$17,$O$43,0)","v":0},{"$f":"IF(D11=Vermögenserhaltung!$P$22,$O$50,0)+IF(D11=Vermögenserhaltung!$P$23,$O$51,0)+IF(D11=Vermögenserhaltung!$P$24,$O$52,0)","v":0},0,0,{"$f":"IF(D11=Einstellungen!$G$12,Daten_Vermögenserhaltung!K11,IF(D11>Einstellungen!$G$12,L10-IF(Anlageziele!$H$21=Daten_Einstellg_Ziele!$C$18,Anlageziele!$H$22,$O$28/Anlageziele!$H$22),0))+SUM(G11:I11)","v":0},0,{"$nulls":3},"Jun",{"v":0,"d":"0.0"}]
[{"$nulls":3},1976,{"v":0.032,"d":"3.2%"},{"$f":"IF($D12=Einstellungen!$G$12,$O$28,0)","v":0},{"$f":"IF(D12=Vermögenserhaltung!$I$19,$O$33,0)+IF(D12=Vermögenserhaltung!$I$20,$O$34,0)+IF(D12=Vermögenserhaltung!$I$21,$O$35,0)+IF(D12=Vermögenserhaltung!$I$22,$O$36,0)+IF(D12=Vermögenserhaltung!$I$23,$O$37,0)+IF(D12=Vermögenserhaltung!$I$24,Daten_Vermögenserhaltung!$O$38,0)","v":0},{"$f":"IF(D12=Vermögenserhaltung!$P$15,$O$41,0)+IF(D12=Vermögenserhaltung!$P$16,$O$42,0)+IF(D12=Vermögenserhaltung!$P$17,$O$43,0)","v":0},{"$f":"IF(D12=Vermögenserhaltung!$P$22,$O$50,0)+IF(D12=Vermögenserhaltung!$P$23,$O$51,0)+IF(D12=Vermögenserhaltung!$P$24,$O$52,0)","v":0},0,0,{"$f":"IF(D12=Einstellungen!$G$12,Daten_Vermögenserhaltung!K12,IF(D12>Einstellungen!$G$12,L11-IF(Anlageziele!$H$21=Daten_Einstellg_Ziele!$C$18,Anlageziele!$H$22,$O$28/Anlageziele!$H$22),0))+SUM(G12:I12)","v":0},0,{"$nulls":3},"Jul",{"v":0,"d":"0.0"}]
[{"$nulls":3},1977,{"v":0.039,"d":"3.9%"},{"$f":"IF($D13=Einstellungen!$G$12,$O$28,0)","v":0},{"$f":"IF(D13=Vermögenserhaltung!$I$19,$O$33,0)+IF(D13=Vermögenserhaltung!$I$20,$O$34,0)+IF(D13=Vermögenserhaltung!$I$21,$O$35,0)+IF(D13=Vermögenserhaltung!$I$22,$O$36,0)+IF(D13=Vermögenserhaltung!$I$23,$O$37,0)+IF(D13=Vermögenserhaltung!$I$24,Daten_Vermögenserhaltung!$O$38,0)","v":0},{"$f":"IF(D13=Vermögenserhaltung!$P$15,$O$41,0)+IF(D13=Vermögenserhaltung!$P$16,$O$42,0)+IF(D13=Vermögenserhaltung!$P$17,$O$43,0)","v":0},{"$f":"IF(D13=Vermögenserhaltung!$P$22,$O$50,0)+IF(D13=Vermögenserhaltung!$P$23,$O$51,0)+IF(D13=Vermögenserhaltung!$P$24,$O$52,0)","v":0},0,0,{"$f":"IF(D13=Einstellungen!$G$12,Daten_Vermögenserhaltung!K13,IF(D13>Einstellungen!$G$12,L12-IF(Anlageziele!$H$21=Daten_Einstellg_Ziele!$C$18,Anlageziele!$H$22,$O$28/Anlageziele!$H$22),0))+SUM(G13:I13)","v":0},0,{"$nulls":3},"Aug",{"v":0,"d":"0.0"}]
[{"$nulls":3},1978,{"v":0.024,"d":"2.4%"},{"$f":"IF($D14=Einstellungen!$G$12,$O$28,0)","v":0},{"$f":"IF(D14=Vermögenserhaltung!$I$19,$O$33,0)+IF(D14=Vermögenserhaltung!$I$20,$O$34,0)+IF(D14=Vermögenserhaltung!$I$21,$O$35,0)+IF(D14=Vermögenserhaltung!$I$22,$O$36,0)+IF(D14=Vermögenserhaltung!$I$23,$O$37,0)+IF(D14=Vermögenserhaltung!$I$24,Daten_Vermögenserhaltung!$O$38,0)","v":0},{"$f":"IF(D14=Vermögenserhaltung!$P$15,$O$41,0)+IF(D14=Vermögenserhaltung!$P$16,$O$42,0)+IF(D14=Vermögenserhaltung!$P$17,$O$43,0)","v":0},{"$f":"IF(D14=Vermögenserhaltung!$P$22,$O$50,0)+IF(D14=Vermögenserhaltung!$P$23,$O$51,0)+IF(D14=Vermögenserhaltung!$P$24,$O$52,0)","v":0},0,0,{"$f":"IF(D14=Einstellungen!$G$12,Daten_Vermögenserhaltung!K14,IF(D14>Einstellungen!$G$12,L13-IF(Anlageziele!$H$21=Daten_Einstellg_Ziele!$C$18,Anlageziele!$H$22,$O$28/Anlageziele!$H$22),0))+SUM(G14:I14)","v":0},0,{"$nulls":3},"Sep",{"v":0,"d":"0.0"}]
[{"$nulls":3},1979,{"v":0.035,"d":"3.5%"},{"$f":"IF($D15=Einstellungen!$G$12,$O$28,0)","v":0},{"$f":"IF(D15=Vermögenserhaltung!$I$19,$O$33,0)+IF(D15=Vermögenserhaltung!$I$20,$O$34,0)+IF(D15=Vermögenserhaltung!$I$21,$O$35,0)+IF(D15=Vermögenserhaltung!$I$22,$O$36,0)+IF(D15=Vermögenserhaltung!$I$23,$O$37,0)+IF(D15=Vermögenserhaltung!$I$24,Daten_Vermögenserhaltung!$O$38,0)","v":0},{"$f":"IF(D15=Vermögenserhaltung!$P$15,$O$41,0)+IF(D15=Vermögenserhaltung!$P$16,$O$42,0)+IF(D15=Vermögenserhaltung!$P$17,$O$43,0)","v":0},{"$f":"IF(D15=Vermögenserhaltung!$P$22,$O$50,0)+IF(D15=Vermögenserhaltung!$P$23,$O$51,0)+IF(D15=Vermögenserhaltung!$P$24,$O$52,0)","v":0},0,0,{"$f":"IF(D15=Einstellungen!$G$12,Daten_Vermögenserhaltung!K15,IF(D15>Einstellungen!$G$12,L14-IF(Anlageziele!$H$21=Daten_Einstellg_Ziele!$C$18,Anlageziele!$H$22,$O$28/Anlageziele!$H$22),0))+SUM(G15:I15)","v":0},0,{"$nulls":3},"Okt",{"v":0,"d":"0.0"}]
[{"$nulls":3},1980,{"v":0.052,"d":"5.2%"},{"$f":"IF($D16=Einstellungen!$G$12,$O$28,0)","v":0},{"$f":"IF(D16=Vermögenserhaltung!$I$19,$O$33,0)+IF(D16=Vermögenserhaltung!$I$20,$O$34,0)+IF(D16=Vermögenserhaltung!$I$21,$O$35,0)+IF(D16=Vermögenserhaltung!$I$22,$O$36,0)+IF(D16=Vermögenserhaltung!$I$23,$O$37,0)+IF(D16=Vermögenserhaltung!$I$24,Daten_Vermögenserhaltung!$O$38,0)","v":0},{"$f":"IF(D16=Vermögenserhaltung!$P$15,$O$41,0)+IF(D16=Vermögenserhaltung!$P$16,$O$42,0)+IF(D16=Vermögenserhaltung!$P$17,$O$43,0)","v":0},{"$f":"IF(D16=Vermögenserhaltung!$P$22,$O$50,0)+IF(D16=Vermögenserhaltung!$P$23,$O$51,0)+IF(D16=Vermögenserhaltung!$P$24,$O$52,0)","v":0},0,0,{"$f":"IF(D16=Einstellungen!$G$12,Daten_Vermögenserhaltung!K16,IF(D16>Einstellungen!$G$12,L15-IF(Anlageziele!$H$21=Daten_Einstellg_Ziele!$C$18,Anlageziele!$H$22,$O$28/Anlageziele!$H$22),0))+SUM(G16:I16)","v":0},0,{"$nulls":3},"Nov",{"v":0,"d":"0.0"}]
[{"$nulls":3},1981,{"v":0.052,"d":"5.2%"},{"$f":"IF($D17=Einstellungen!$G$12,$O$28,0)","v":0},{"$f":"IF(D17=Vermögenserhaltung!$I$19,$O$33,0)+IF(D17=Vermögenserhaltung!$I$20,$O$34,0)+IF(D17=Vermögenserhaltung!$I$21,$O$35,0)+IF(D17=Vermögenserhaltung!$I$22,$O$36,0)+IF(D17=Vermögenserhaltung!$I$23,$O$37,0)+IF(D17=Vermögenserhaltung!$I$24,Daten_Vermögenserhaltung!$O$38,0)","v":0},{"$f":"IF(D17=Vermögenserhaltung!$P$15,$O$41,0)+IF(D17=Vermögenserhaltung!$P$16,$O$42,0)+IF(D17=Vermögenserhaltung!$P$17,$O$43,0)","v":0},{"$f":"IF(D17=Vermögenserhaltung!$P$22,$O$50,0)+IF(D17=Vermögenserhaltung!$P$23,$O$51,0)+IF(D17=Vermögenserhaltung!$P$24,$O$52,0)","v":0},0,0,{"$f":"IF(D17=Einstellungen!$G$12,Daten_Vermögenserhaltung!K17,IF(D17>Einstellungen!$G$12,L16-IF(Anlageziele!$H$21=Daten_Einstellg_Ziele!$C$18,Anlageziele!$H$22,$O$28/Anlageziele!$H$22),0))+SUM(G17:I17)","v":0},0,{"$nulls":3},"Dez",{"v":0,"d":"0.0"}]
[{"$nulls":3},1982,{"v":0.048,"d":"4.8%"},{"$f":"IF($D18=Einstellungen!$G$12,$O$28,0)","v":0},{"$f":"IF(D18=Vermögenserhaltung!$I$19,$O$33,0)+IF(D18=Vermögenserhaltung!$I$20,$O$34,0)+IF(D18=Vermögenserhaltung!$I$21,$O$35,0)+IF(D18=Vermögenserhaltung!$I$22,$O$36,0)+IF(D18=Vermögenserhaltung!$I$23,$O$37,0)+IF(D18=Vermögenserhaltung!$I$24,Daten_Vermögenserhaltung!$O$38,0)","v":0},{"$f":"IF(D18=Vermögenserhaltung!$P$15,$O$41,0)+IF(D18=Vermögenserhaltung!$P$16,$O$42,0)+IF(D18=Vermögenserhaltung!$P$17,$O$43,0)","v":0},{"$f":"IF(D18=Vermögenserhaltung!$P$22,$O$50,0)+IF(D18=Vermögenserhaltung!$P$23,$O$51,0)+IF(D18=Vermögenserhaltung!$P$24,$O$52,0)","v":0},0,0,{"$f":"IF(D18=Einstellungen!$G$12,Daten_Vermögenserhaltung!K18,IF(D18>Einstellungen!$G$12,L17-IF(Anlageziele!$H$21=Daten_Einstellg_Ziele!$C$18,Anlageziele!$H$22,$O$28/Anlageziele!$H$22),0))+SUM(G18:I18)","v":0},0,{"$nulls":3},"Schnitt",{"$f":"SUM(R6:R17)/COUNTIF(R6:R17,\"<>0\")","v":7.9},{"$f":"SUM(S6:S17)/12","v":{"v":0,"d":"0.00%"}}]
[{"$nulls":3},1983,{"v":0.027,"d":"2.7%"},{"$f":"IF($D19=Einstellungen!$G$12,$O$28,0)","v":0},{"$f":"IF(D19=Vermögenserhaltung!$I$19,$O$33,0)+IF(D19=Vermögenserhaltung!$I$20,$O$34,0)+IF(D19=Vermögenserhaltung!$I$21,$O$35,0)+IF(D19=Vermögenserhaltung!$I$22,$O$36,0)+IF(D19=Vermögenserhaltung!$I$23,$O$37,0)+IF(D19=Vermögenserhaltung!$I$24,Daten_Vermögenserhaltung!$O$38,0)","v":0},{"$f":"IF(D19=Vermögenserhaltung!$P$15,$O$41,0)+IF(D19=Vermögenserhaltung!$P$16,$O$42,0)+IF(D19=Vermögenserhaltung!$P$17,$O$43,0)","v":0},{"$f":"IF(D19=Vermögenserhaltung!$P$22,$O$50,0)+IF(D19=Vermögenserhaltung!$P$23,$O$51,0)+IF(D19=Vermögenserhaltung!$P$24,$O$52,0)","v":0},0,0,{"$f":"IF(D19=Einstellungen!$G$12,Daten_Vermögenserhaltung!K19,IF(D19>Einstellungen!$G$12,L18-IF(Anlageziele!$H$21=Daten_Einstellg_Ziele!$C$18,Anlageziele!$H$22,$O$28/Anlageziele!$H$22),0))+SUM(G19:I19)","v":0},0]
[{"$nulls":3},1984,{"v":0.02,"d":"2.0%"},{"$f":"IF($D20=Einstellungen!$G$12,$O$28,0)","v":0},{"$f":"IF(D20=Vermögenserhaltung!$I$19,$O$33,0)+IF(D20=Vermögenserhaltung!$I$20,$O$34,0)+IF(D20=Vermögenserhaltung!$I$21,$O$35,0)+IF(D20=Vermögenserhaltung!$I$22,$O$36,0)+IF(D20=Vermögenserhaltung!$I$23,$O$37,0)+IF(D20=Vermögenserhaltung!$I$24,Daten_Vermögenserhaltung!$O$38,0)","v":0},{"$f":"IF(D20=Vermögenserhaltung!$P$15,$O$41,0)+IF(D20=Vermögenserhaltung!$P$16,$O$42,0)+IF(D20=Vermögenserhaltung!$P$17,$O$43,0)","v":0},{"$f":"IF(D20=Vermögenserhaltung!$P$22,$O$50,0)+IF(D20=Vermögenserhaltung!$P$23,$O$51,0)+IF(D20=Vermögenserhaltung!$P$24,$O$52,0)","v":0},0,0,{"$f":"IF(D20=Einstellungen!$G$12,Daten_Vermögenserhaltung!K20,IF(D20>Einstellungen!$G$12,L19-IF(Anlageziele!$H$21=Daten_Einstellg_Ziele!$C$18,Anlageziele!$H$22,$O$28/Anlageziele!$H$22),0))+SUM(G20:I20)","v":0},0]
[{"$nulls":3},1985,{"v":0.016,"d":"1.6%"},{"$f":"IF($D21=Einstellungen!$G$12,$O$28,0)","v":0},{"$f":"IF(D21=Vermögenserhaltung!$I$19,$O$33,0)+IF(D21=Vermögenserhaltung!$I$20,$O$34,0)+IF(D21=Vermögenserhaltung!$I$21,$O$35,0)+IF(D21=Vermögenserhaltung!$I$22,$O$36,0)+IF(D21=Vermögenserhaltung!$I$23,$O$37,0)+IF(D21=Vermögenserhaltung!$I$24,Daten_Vermögenserhaltung!$O$38,0)","v":0},{"$f":"IF(D21=Vermögenserhaltung!$P$15,$O$41,0)+IF(D21=Vermögenserhaltung!$P$16,$O$42,0)+IF(D21=Vermögenserhaltung!$P$17,$O$43,0)","v":0},{"$f":"IF(D21=Vermögenserhaltung!$P$22,$O$50,0)+IF(D21=Vermögenserhaltung!$P$23,$O$51,0)+IF(D21=Vermögenserhaltung!$P$24,$O$52,0)","v":0},0,0,{"$f":"IF(D21=Einstellungen!$G$12,Daten_Vermögenserhaltung!K21,IF(D21>Einstellungen!$G$12,L20-IF(Anlageziele!$H$21=Daten_Einstellg_Ziele!$C$18,Anlageziele!$H$22,$O$28/Anlageziele!$H$22),0))+SUM(G21:I21)","v":0},0]
[{"$nulls":3},1986,{"v":-0.005,"d":"-0.5%"},{"$f":"IF($D22=Einstellungen!$G$12,$O$28,0)","v":0},{"$f":"IF(D22=Vermögenserhaltung!$I$19,$O$33,0)+IF(D22=Vermögenserhaltung!$I$20,$O$34,0)+IF(D22=Vermögenserhaltung!$I$21,$O$35,0)+IF(D22=Vermögenserhaltung!$I$22,$O$36,0)+IF(D22=Vermögenserhaltung!$I$23,$O$37,0)+IF(D22=Vermögenserhaltung!$I$24,Daten_Vermögenserhaltung!$O$38,0)","v":0},{"$f":"IF(D22=Vermögenserhaltung!$P$15,$O$41,0)+IF(D22=Vermögenserhaltung!$P$16,$O$42,0)+IF(D22=Vermögenserhaltung!$P$17,$O$43,0)","v":0},{"$f":"IF(D22=Vermögenserhaltung!$P$22,$O$50,0)+IF(D22=Vermögenserhaltung!$P$23,$O$51,0)+IF(D22=Vermögenserhaltung!$P$24,$O$52,0)","v":0},0,0,{"$f":"IF(D22=Einstellungen!$G$12,Daten_Vermögenserhaltung!K22,IF(D22>Einstellungen!$G$12,L21-IF(Anlageziele!$H$21=Daten_Einstellg_Ziele!$C$18,Anlageziele!$H$22,$O$28/Anlageziele!$H$22),0))+SUM(G22:I22)","v":0},0]
[{"$nulls":3},1987,{"v":1E-3,"d":"0.1%"},{"$f":"IF($D23=Einstellungen!$G$12,$O$28,0)","v":0},{"$f":"IF(D23=Vermögenserhaltung!$I$19,$O$33,0)+IF(D23=Vermögenserhaltung!$I$20,$O$34,0)+IF(D23=Vermögenserhaltung!$I$21,$O$35,0)+IF(D23=Vermögenserhaltung!$I$22,$O$36,0)+IF(D23=Vermögenserhaltung!$I$23,$O$37,0)+IF(D23=Vermögenserhaltung!$I$24,Daten_Vermögenserhaltung!$O$38,0)","v":0},{"$f":"IF(D23=Vermögenserhaltung!$P$15,$O$41,0)+IF(D23=Vermögenserhaltung!$P$16,$O$42,0)+IF(D23=Vermögenserhaltung!$P$17,$O$43,0)","v":0},{"$f":"IF(D23=Vermögenserhaltung!$P$22,$O$50,0)+IF(D23=Vermögenserhaltung!$P$23,$O$51,0)+IF(D23=Vermögenserhaltung!$P$24,$O$52,0)","v":0},0,0,{"$f":"IF(D23=Einstellungen!$G$12,Daten_Vermögenserhaltung!K23,IF(D23>Einstellungen!$G$12,L22-IF(Anlageziele!$H$21=Daten_Einstellg_Ziele!$C$18,Anlageziele!$H$22,$O$28/Anlageziele!$H$22),0))+SUM(G23:I23)","v":0},0]
[{"$nulls":3},1988,{"v":0.006,"d":"0.6%"},{"$f":"IF($D24=Einstellungen!$G$12,$O$28,0)","v":0},{"$f":"IF(D24=Vermögenserhaltung!$I$19,$O$33,0)+IF(D24=Vermögenserhaltung!$I$20,$O$34,0)+IF(D24=Vermögenserhaltung!$I$21,$O$35,0)+IF(D24=Vermögenserhaltung!$I$22,$O$36,0)+IF(D24=Vermögenserhaltung!$I$23,$O$37,0)+IF(D24=Vermögenserhaltung!$I$24,Daten_Vermögenserhaltung!$O$38,0)","v":0},{"$f":"IF(D24=Vermögenserhaltung!$P$15,$O$41,0)+IF(D24=Vermögenserhaltung!$P$16,$O$42,0)+IF(D24=Vermögenserhaltung!$P$17,$O$43,0)","v":0},{"$f":"IF(D24=Vermögenserhaltung!$P$22,$O$50,0)+IF(D24=Vermögenserhaltung!$P$23,$O$51,0)+IF(D24=Vermögenserhaltung!$P$24,$O$52,0)","v":0},0,0,{"$f":"IF(D24=Einstellungen!$G$12,Daten_Vermögenserhaltung!K24,IF(D24>Einstellungen!$G$12,L23-IF(Anlageziele!$H$21=Daten_Einstellg_Ziele!$C$18,Anlageziele!$H$22,$O$28/Anlageziele!$H$22),0))+SUM(G24:I24)","v":0},0]
[{"$nulls":3},1989,{"v":0.021,"d":"2.1%"},{"$f":"IF($D25=Einstellungen!$G$12,$O$28,0)","v":0},{"$f":"IF(D25=Vermögenserhaltung!$I$19,$O$33,0)+IF(D25=Vermögenserhaltung!$I$20,$O$34,0)+IF(D25=Vermögenserhaltung!$I$21,$O$35,0)+IF(D25=Vermögenserhaltung!$I$22,$O$36,0)+IF(D25=Vermögenserhaltung!$I$23,$O$37,0)+IF(D25=Vermögenserhaltung!$I$24,Daten_Vermögenserhaltung!$O$38,0)","v":0},{"$f":"IF(D25=Vermögenserhaltung!$P$15,$O$41,0)+IF(D25=Vermögenserhaltung!$P$16,$O$42,0)+IF(D25=Vermögenserhaltung!$P$17,$O$43,0)","v":0},{"$f":"IF(D25=Vermögenserhaltung!$P$22,$O$50,0)+IF(D25=Vermögenserhaltung!$P$23,$O$51,0)+IF(D25=Vermögenserhaltung!$P$24,$O$52,0)","v":0},0,0,{"$f":"IF(D25=Einstellungen!$G$12,Daten_Vermögenserhaltung!K25,IF(D25>Einstellungen!$G$12,L24-IF(Anlageziele!$H$21=Daten_Einstellg_Ziele!$C$18,Anlageziele!$H$22,$O$28/Anlageziele!$H$22),0))+SUM(G25:I25)","v":0},0]
[{"$nulls":3},1990,{"v":0.02,"d":"2.0%"},{"$f":"IF($D26=Einstellungen!$G$12,$O$28,0)","v":0},{"$f":"IF(D26=Vermögenserhaltung!$I$19,$O$33,0)+IF(D26=Vermögenserhaltung!$I$20,$O$34,0)+IF(D26=Vermögenserhaltung!$I$21,$O$35,0)+IF(D26=Vermögenserhaltung!$I$22,$O$36,0)+IF(D26=Vermögenserhaltung!$I$23,$O$37,0)+IF(D26=Vermögenserhaltung!$I$24,Daten_Vermögenserhaltung!$O$38,0)","v":0},{"$f":"IF(D26=Vermögenserhaltung!$P$15,$O$41,0)+IF(D26=Vermögenserhaltung!$P$16,$O$42,0)+IF(D26=Vermögenserhaltung!$P$17,$O$43,0)","v":0},{"$f":"IF(D26=Vermögenserhaltung!$P$22,$O$50,0)+IF(D26=Vermögenserhaltung!$P$23,$O$51,0)+IF(D26=Vermögenserhaltung!$P$24,$O$52,0)","v":0},0,0,{"$f":"IF(D26=Einstellungen!$G$12,Daten_Vermögenserhaltung!K26,IF(D26>Einstellungen!$G$12,L25-IF(Anlageziele!$H$21=Daten_Einstellg_Ziele!$C$18,Anlageziele!$H$22,$O$28/Anlageziele!$H$22),0))+SUM(G26:I26)","v":0},0]
[{"$nulls":3},1991,{"v":0.035,"d":"3.5%"},{"$f":"IF($D27=Einstellungen!$G$12,$O$28,0)","v":0},{"$f":"IF(D27=Vermögenserhaltung!$I$19,$O$33,0)+IF(D27=Vermögenserhaltung!$I$20,$O$34,0)+IF(D27=Vermögenserhaltung!$I$21,$O$35,0)+IF(D27=Vermögenserhaltung!$I$22,$O$36,0)+IF(D27=Vermögenserhaltung!$I$23,$O$37,0)+IF(D27=Vermögenserhaltung!$I$24,Daten_Vermögenserhaltung!$O$38,0)","v":0},{"$f":"IF(D27=Vermögenserhaltung!$P$15,$O$41,0)+IF(D27=Vermögenserhaltung!$P$16,$O$42,0)+IF(D27=Vermögenserhaltung!$P$17,$O$43,0)","v":0},{"$f":"IF(D27=Vermögenserhaltung!$P$22,$O$50,0)+IF(D27=Vermögenserhaltung!$P$23,$O$51,0)+IF(D27=Vermögenserhaltung!$P$24,$O$52,0)","v":0},0,0,{"$f":"IF(D27=Einstellungen!$G$12,Daten_Vermögenserhaltung!K27,IF(D27>Einstellungen!$G$12,L26-IF(Anlageziele!$H$21=Daten_Einstellg_Ziele!$C$18,Anlageziele!$H$22,$O$28/Anlageziele!$H$22),0))+SUM(G27:I27)","v":0},0]
[null,"EUR","Bitte ausw.",1992,{"v":0.051,"d":"5.1%"},{"$f":"IF($D28=Einstellungen!$G$12,$O$28,0)","v":0},{"$f":"IF(D28=Vermögenserhaltung!$I$19,$O$33,0)+IF(D28=Vermögenserhaltung!$I$20,$O$34,0)+IF(D28=Vermögenserhaltung!$I$21,$O$35,0)+IF(D28=Vermögenserhaltung!$I$22,$O$36,0)+IF(D28=Vermögenserhaltung!$I$23,$O$37,0)+IF(D28=Vermögenserhaltung!$I$24,Daten_Vermögenserhaltung!$O$38,0)","v":0},{"$f":"IF(D28=Vermögenserhaltung!$P$15,$O$41,0)+IF(D28=Vermögenserhaltung!$P$16,$O$42,0)+IF(D28=Vermögenserhaltung!$P$17,$O$43,0)","v":0},{"$f":"IF(D28=Vermögenserhaltung!$P$22,$O$50,0)+IF(D28=Vermögenserhaltung!$P$23,$O$51,0)+IF(D28=Vermögenserhaltung!$P$24,$O$52,0)","v":0},0,0,{"$f":"IF(D28=Einstellungen!$G$12,Daten_Vermögenserhaltung!K28,IF(D28>Einstellungen!$G$12,L27-IF(Anlageziele!$H$21=Daten_Einstellg_Ziele!$C$18,Anlageziele!$H$22,$O$28/Anlageziele!$H$22),0))+SUM(G28:I28)","v":0},0,"Ausstattung:",{"$f":"IF(Vermögenserhaltung!H12=\"EUR\",Vermögenserhaltung!G12,Vermögenserhaltung!G12/1.95583)","v":0}]
[null,"DM",{"$f":"Einstellungen!G12","v":0},1993,{"v":0.045,"d":"4.5%"},{"$f":"IF($D29=Einstellungen!$G$12,$O$28,0)","v":0},{"$f":"IF(D29=Vermögenserhaltung!$I$19,$O$33,0)+IF(D29=Vermögenserhaltung!$I$20,$O$34,0)+IF(D29=Vermögenserhaltung!$I$21,$O$35,0)+IF(D29=Vermögenserhaltung!$I$22,$O$36,0)+IF(D29=Vermögenserhaltung!$I$23,$O$37,0)+IF(D29=Vermögenserhaltung!$I$24,Daten_Vermögenserhaltung!$O$38,0)","v":0},{"$f":"IF(D29=Vermögenserhaltung!$P$15,$O$41,0)+IF(D29=Vermögenserhaltung!$P$16,$O$42,0)+IF(D29=Vermögenserhaltung!$P$17,$O$43,0)","v":0},{"$f":"IF(D29=Vermögenserhaltung!$P$22,$O$50,0)+IF(D29=Vermögenserhaltung!$P$23,$O$51,0)+IF(D29=Vermögenserhaltung!$P$24,$O$52,0)","v":0},0,0,{"$f":"IF(D29=Einstellungen!$G$12,Daten_Vermögenserhaltung!K29,IF(D29>Einstellungen!$G$12,L28-IF(Anlageziele!$H$21=Daten_Einstellg_Ziele!$C$18,Anlageziele!$H$22,$O$28/Anlageziele!$H$22),0))+SUM(G29:I29)","v":0},0]
[null,null,{"$f":"IF(C29=\"\",\"\",IF(C29=Einstellungen!$G$13-1,\"\",Daten_Vermögenserhaltung!C29+1))","v":1},1994,{"v":0.026,"d":"2.6%"},{"$f":"IF($D30=Einstellungen!$G$12,$O$28,0)","v":0},{"$f":"IF(D30=Vermögenserhaltung!$I$19,$O$33,0)+IF(D30=Vermögenserhaltung!$I$20,$O$34,0)+IF(D30=Vermögenserhaltung!$I$21,$O$35,0)+IF(D30=Vermögenserhaltung!$I$22,$O$36,0)+IF(D30=Vermögenserhaltung!$I$23,$O$37,0)+IF(D30=Vermögenserhaltung!$I$24,Daten_Vermögenserhaltung!$O$38,0)","v":0},{"$f":"IF(D30=Vermögenserhaltung!$P$15,$O$41,0)+IF(D30=Vermögenserhaltung!$P$16,$O$42,0)+IF(D30=Vermögenserhaltung!$P$17,$O$43,0)","v":0},{"$f":"IF(D30=Vermögenserhaltung!$P$22,$O$50,0)+IF(D30=Vermögenserhaltung!$P$23,$O$51,0)+IF(D30=Vermögenserhaltung!$P$24,$O$52,0)","v":0},0,0,{"$f":"IF(D30=Einstellungen!$G$12,Daten_Vermögenserhaltung!K30,IF(D30>Einstellungen!$G$12,L29-IF(Anlageziele!$H$21=Daten_Einstellg_Ziele!$C$18,Anlageziele!$H$22,$O$28/Anlageziele!$H$22),0))+SUM(G30:I30)","v":0},0]
[null,null,{"$f":"IF(C30=\"\",\"\",IF(C30=Einstellungen!$G$13-1,\"\",Daten_Vermögenserhaltung!C30+1))","v":2},1995,{"v":0.018,"d":"1.8%"},{"$f":"IF($D31=Einstellungen!$G$12,$O$28,0)","v":0},{"$f":"IF(D31=Vermögenserhaltung!$I$19,$O$33,0)+IF(D31=Vermögenserhaltung!$I$20,$O$34,0)+IF(D31=Vermögenserhaltung!$I$21,$O$35,0)+IF(D31=Vermögenserhaltung!$I$22,$O$36,0)+IF(D31=Vermögenserhaltung!$I$23,$O$37,0)+IF(D31=Vermögenserhaltung!$I$24,Daten_Vermögenserhaltung!$O$38,0)","v":0},{"$f":"IF(D31=Vermögenserhaltung!$P$15,$O$41,0)+IF(D31=Vermögenserhaltung!$P$16,$O$42,0)+IF(D31=Vermögenserhaltung!$P$17,$O$43,0)","v":0},{"$f":"IF(D31=Vermögenserhaltung!$P$22,$O$50,0)+IF(D31=Vermögenserhaltung!$P$23,$O$51,0)+IF(D31=Vermögenserhaltung!$P$24,$O$52,0)","v":0},0,0,{"$f":"IF(D31=Einstellungen!$G$12,Daten_Vermögenserhaltung!K31,IF(D31>Einstellungen!$G$12,L30-IF(Anlageziele!$H$21=Daten_Einstellg_Ziele!$C$18,Anlageziele!$H$22,$O$28/Anlageziele!$H$22),0))+SUM(G31:I31)","v":0},0]
[null,null,{"$f":"IF(C31=\"\",\"\",IF(C31=Einstellungen!$G$13-1,\"\",Daten_Vermögenserhaltung!C31+1))","v":3},1996,{"v":0.014,"d":"1.4%"},{"$f":"IF($D32=Einstellungen!$G$12,$O$28,0)","v":0},{"$f":"IF(D32=Vermögenserhaltung!$I$19,$O$33,0)+IF(D32=Vermögenserhaltung!$I$20,$O$34,0)+IF(D32=Vermögenserhaltung!$I$21,$O$35,0)+IF(D32=Vermögenserhaltung!$I$22,$O$36,0)+IF(D32=Vermögenserhaltung!$I$23,$O$37,0)+IF(D32=Vermögenserhaltung!$I$24,Daten_Vermögenserhaltung!$O$38,0)","v":0},{"$f":"IF(D32=Vermögenserhaltung!$P$15,$O$41,0)+IF(D32=Vermögenserhaltung!$P$16,$O$42,0)+IF(D32=Vermögenserhaltung!$P$17,$O$43,0)","v":0},{"$f":"IF(D32=Vermögenserhaltung!$P$22,$O$50,0)+IF(D32=Vermögenserhaltung!$P$23,$O$51,0)+IF(D32=Vermögenserhaltung!$P$24,$O$52,0)","v":0},0,0,{"$f":"IF(D32=Einstellungen!$G$12,Daten_Vermögenserhaltung!K32,IF(D32>Einstellungen!$G$12,L31-IF(Anlageziele!$H$21=Daten_Einstellg_Ziele!$C$18,Anlageziele!$H$22,$O$28/Anlageziele!$H$22),0))+SUM(G32:I32)","v":0},0]
[null,null,{"$f":"IF(C32=\"\",\"\",IF(C32=Einstellungen!$G$13-1,\"\",Daten_Vermögenserhaltung!C32+1))","v":4},1997,{"v":0.02,"d":"2.0%"},{"$f":"IF($D33=Einstellungen!$G$12,$O$28,0)","v":0},{"$f":"IF(D33=Vermögenserhaltung!$I$19,$O$33,0)+IF(D33=Vermögenserhaltung!$I$20,$O$34,0)+IF(D33=Vermögenserhaltung!$I$21,$O$35,0)+IF(D33=Vermögenserhaltung!$I$22,$O$36,0)+IF(D33=Vermögenserhaltung!$I$23,$O$37,0)+IF(D33=Vermögenserhaltung!$I$24,Daten_Vermögenserhaltung!$O$38,0)","v":0},{"$f":"IF(D33=Vermögenserhaltung!$P$15,$O$41,0)+IF(D33=Vermögenserhaltung!$P$16,$O$42,0)+IF(D33=Vermögenserhaltung!$P$17,$O$43,0)","v":0},{"$f":"IF(D33=Vermögenserhaltung!$P$22,$O$50,0)+IF(D33=Vermögenserhaltung!$P$23,$O$51,0)+IF(D33=Vermögenserhaltung!$P$24,$O$52,0)","v":0},0,0,{"$f":"IF(D33=Einstellungen!$G$12,Daten_Vermögenserhaltung!K33,IF(D33>Einstellungen!$G$12,L32-IF(Anlageziele!$H$21=Daten_Einstellg_Ziele!$C$18,Anlageziele!$H$22,$O$28/Anlageziele!$H$22),0))+SUM(G33:I33)","v":0},0,"Zustiftungen:",{"$f":"IF(Vermögenserhaltung!H19=\"DM\",Vermögenserhaltung!G19/1.95583,Vermögenserhaltung!G19)","v":0},"ü"]
[null,null,{"$f":"IF(C33=\"\",\"\",IF(C33=Einstellungen!$G$13-1,\"\",Daten_Vermögenserhaltung!C33+1))","v":5},1998,{"v":0.01,"d":"1.0%"},{"$f":"IF($D34=Einstellungen!$G$12,$O$28,0)","v":0},{"$f":"IF(D34=Vermögenserhaltung!$I$19,$O$33,0)+IF(D34=Vermögenserhaltung!$I$20,$O$34,0)+IF(D34=Vermögenserhaltung!$I$21,$O$35,0)+IF(D34=Vermögenserhaltung!$I$22,$O$36,0)+IF(D34=Vermögenserhaltung!$I$23,$O$37,0)+IF(D34=Vermögenserhaltung!$I$24,Daten_Vermögenserhaltung!$O$38,0)","v":0},{"$f":"IF(D34=Vermögenserhaltung!$P$15,$O$41,0)+IF(D34=Vermögenserhaltung!$P$16,$O$42,0)+IF(D34=Vermögenserhaltung!$P$17,$O$43,0)","v":0},{"$f":"IF(D34=Vermögenserhaltung!$P$22,$O$50,0)+IF(D34=Vermögenserhaltung!$P$23,$O$51,0)+IF(D34=Vermögenserhaltung!$P$24,$O$52,0)","v":0},0,0,{"$f":"IF(D34=Einstellungen!$G$12,Daten_Vermögenserhaltung!K34,IF(D34>Einstellungen!$G$12,L33-IF(Anlageziele!$H$21=Daten_Einstellg_Ziele!$C$18,Anlageziele!$H$22,$O$28/Anlageziele!$H$22),0))+SUM(G34:I34)","v":0},0,null,{"$f":"IF(Vermögenserhaltung!H20=\"DM\",Vermögenserhaltung!G20/1.95583,Vermögenserhaltung!G20)","v":0},"ü"]
[null,null,{"$f":"IF(C34=\"\",\"\",IF(C34=Einstellungen!$G$13-1,\"\",Daten_Vermögenserhaltung!C34+1))","v":6},1999,{"v":0.006,"d":"0.6%"},{"$f":"IF($D35=Einstellungen!$G$12,$O$28,0)","v":0},{"$f":"IF(D35=Vermögenserhaltung!$I$19,$O$33,0)+IF(D35=Vermögenserhaltung!$I$20,$O$34,0)+IF(D35=Vermögenserhaltung!$I$21,$O$35,0)+IF(D35=Vermögenserhaltung!$I$22,$O$36,0)+IF(D35=Vermögenserhaltung!$I$23,$O$37,0)+IF(D35=Vermögenserhaltung!$I$24,Daten_Vermögenserhaltung!$O$38,0)","v":0},{"$f":"IF(D35=Vermögenserhaltung!$P$15,$O$41,0)+IF(D35=Vermögenserhaltung!$P$16,$O$42,0)+IF(D35=Vermögenserhaltung!$P$17,$O$43,0)","v":0},{"$f":"IF(D35=Vermögenserhaltung!$P$22,$O$50,0)+IF(D35=Vermögenserhaltung!$P$23,$O$51,0)+IF(D35=Vermögenserhaltung!$P$24,$O$52,0)","v":0},0,0,{"$f":"IF(D35=Einstellungen!$G$12,Daten_Vermögenserhaltung!K35,IF(D35>Einstellungen!$G$12,L34-IF(Anlageziele!$H$21=Daten_Einstellg_Ziele!$C$18,Anlageziele!$H$22,$O$28/Anlageziele!$H$22),0))+SUM(G35:I35)","v":0},0,null,{"$f":"IF(Vermögenserhaltung!H21=\"DM\",Vermögenserhaltung!G21/1.95583,Vermögenserhaltung!G21)","v":0},"ü"]
[null,null,{"$f":"IF(C35=\"\",\"\",IF(C35=Einstellungen!$G$13-1,\"\",Daten_Vermögenserhaltung!C35+1))","v":7},2000,{"v":0.014,"d":"1.4%"},{"$f":"IF($D36=Einstellungen!$G$12,$O$28,0)","v":0},{"$f":"IF(D36=Vermögenserhaltung!$I$19,$O$33,0)+IF(D36=Vermögenserhaltung!$I$20,$O$34,0)+IF(D36=Vermögenserhaltung!$I$21,$O$35,0)+IF(D36=Vermögenserhaltung!$I$22,$O$36,0)+IF(D36=Vermögenserhaltung!$I$23,$O$37,0)+IF(D36=Vermögenserhaltung!$I$24,Daten_Vermögenserhaltung!$O$38,0)","v":0},{"$f":"IF(D36=Vermögenserhaltung!$P$15,$O$41,0)+IF(D36=Vermögenserhaltung!$P$16,$O$42,0)+IF(D36=Vermögenserhaltung!$P$17,$O$43,0)","v":0},{"$f":"IF(D36=Vermögenserhaltung!$P$22,$O$50,0)+IF(D36=Vermögenserhaltung!$P$23,$O$51,0)+IF(D36=Vermögenserhaltung!$P$24,$O$52,0)","v":0},0,0,{"$f":"IF(D36=Einstellungen!$G$12,Daten_Vermögenserhaltung!K36,IF(D36>Einstellungen!$G$12,L35-IF(Anlageziele!$H$21=Daten_Einstellg_Ziele!$C$18,Anlageziele!$H$22,$O$28/Anlageziele!$H$22),0))+SUM(G36:I36)","v":0},0,null,{"$f":"IF(Vermögenserhaltung!H22=\"DM\",Vermögenserhaltung!G22/1.95583,Vermögenserhaltung!G22)","v":0},"ü"]
[null,null,{"$f":"IF(C36=\"\",\"\",IF(C36=Einstellungen!$G$13-1,\"\",Daten_Vermögenserhaltung!C36+1))","v":8},2001,{"v":0.02,"d":"2.0%"},{"$f":"IF($D37=Einstellungen!$G$12,$O$28,0)","v":0},{"$f":"IF(D37=Vermögenserhaltung!$I$19,$O$33,0)+IF(D37=Vermögenserhaltung!$I$20,$O$34,0)+IF(D37=Vermögenserhaltung!$I$21,$O$35,0)+IF(D37=Vermögenserhaltung!$I$22,$O$36,0)+IF(D37=Vermögenserhaltung!$I$23,$O$37,0)+IF(D37=Vermögenserhaltung!$I$24,Daten_Vermögenserhaltung!$O$38,0)","v":0},{"$f":"IF(D37=Vermögenserhaltung!$P$15,$O$41,0)+IF(D37=Vermögenserhaltung!$P$16,$O$42,0)+IF(D37=Vermögenserhaltung!$P$17,$O$43,0)","v":0},{"$f":"IF(D37=Vermögenserhaltung!$P$22,$O$50,0)+IF(D37=Vermögenserhaltung!$P$23,$O$51,0)+IF(D37=Vermögenserhaltung!$P$24,$O$52,0)","v":0},0,0,{"$f":"IF(D37=Einstellungen!$G$12,Daten_Vermögenserhaltung!K37,IF(D37>Einstellungen!$G$12,L36-IF(Anlageziele!$H$21=Daten_Einstellg_Ziele!$C$18,Anlageziele!$H$22,$O$28/Anlageziele!$H$22),0))+SUM(G37:I37)","v":0},0,null,{"$f":"IF(Vermögenserhaltung!H23=\"DM\",Vermögenserhaltung!G23/1.95583,Vermögenserhaltung!G23)","v":0},"ü"]
[null,null,{"$f":"IF(C37=\"\",\"\",IF(C37=Einstellungen!$G$13-1,\"\",Daten_Vermögenserhaltung!C37+1))","v":9},2002,{"v":0.014,"d":"1.4%"},{"$f":"IF($D38=Einstellungen!$G$12,$O$28,0)","v":0},{"$f":"IF(D38=Vermögenserhaltung!$I$19,$O$33,0)+IF(D38=Vermögenserhaltung!$I$20,$O$34,0)+IF(D38=Vermögenserhaltung!$I$21,$O$35,0)+IF(D38=Vermögenserhaltung!$I$22,$O$36,0)+IF(D38=Vermögenserhaltung!$I$23,$O$37,0)+IF(D38=Vermögenserhaltung!$I$24,Daten_Vermögenserhaltung!$O$38,0)","v":0},{"$f":"IF(D38=Vermögenserhaltung!$P$15,$O$41,0)+IF(D38=Vermögenserhaltung!$P$16,$O$42,0)+IF(D38=Vermögenserhaltung!$P$17,$O$43,0)","v":0},{"$f":"IF(D38=Vermögenserhaltung!$P$22,$O$50,0)+IF(D38=Vermögenserhaltung!$P$23,$O$51,0)+IF(D38=Vermögenserhaltung!$P$24,$O$52,0)","v":0},0,0,{"$f":"IF(D38=Einstellungen!$G$12,Daten_Vermögenserhaltung!K38,IF(D38>Einstellungen!$G$12,L37-IF(Anlageziele!$H$21=Daten_Einstellg_Ziele!$C$18,Anlageziele!$H$22,$O$28/Anlageziele!$H$22),0))+SUM(G38:I38)","v":0},0,null,{"$f":"IF(Vermögenserhaltung!H24=\"DM\",Vermögenserhaltung!G24/1.95583,Vermögenserhaltung!G24)","v":0},"ü"]
[null,null,{"$f":"IF(C38=\"\",\"\",IF(C38=Einstellungen!$G$13-1,\"\",Daten_Vermögenserhaltung!C38+1))","v":10},2003,{"v":0.011,"d":"1.1%"},{"$f":"IF($D39=Einstellungen!$G$12,$O$28,0)","v":0},{"$f":"IF(D39=Vermögenserhaltung!$I$19,$O$33,0)+IF(D39=Vermögenserhaltung!$I$20,$O$34,0)+IF(D39=Vermögenserhaltung!$I$21,$O$35,0)+IF(D39=Vermögenserhaltung!$I$22,$O$36,0)+IF(D39=Vermögenserhaltung!$I$23,$O$37,0)+IF(D39=Vermögenserhaltung!$I$24,Daten_Vermögenserhaltung!$O$38,0)","v":0},{"$f":"IF(D39=Vermögenserhaltung!$P$15,$O$41,0)+IF(D39=Vermögenserhaltung!$P$16,$O$42,0)+IF(D39=Vermögenserhaltung!$P$17,$O$43,0)","v":0},{"$f":"IF(D39=Vermögenserhaltung!$P$22,$O$50,0)+IF(D39=Vermögenserhaltung!$P$23,$O$51,0)+IF(D39=Vermögenserhaltung!$P$24,$O$52,0)","v":0},0,0,{"$f":"IF(D39=Einstellungen!$G$12,Daten_Vermögenserhaltung!K39,IF(D39>Einstellungen!$G$12,L38-IF(Anlageziele!$H$21=Daten_Einstellg_Ziele!$C$18,Anlageziele!$H$22,$O$28/Anlageziele!$H$22),0))+SUM(G39:I39)","v":0},0]
[null,null,{"$f":"IF(C39=\"\",\"\",IF(C39=Einstellungen!$G$13-1,\"\",Daten_Vermögenserhaltung!C39+1))","v":11},2004,{"v":0.016,"d":"1.6%"},{"$f":"IF($D40=Einstellungen!$G$12,$O$28,0)","v":0},{"$f":"IF(D40=Vermögenserhaltung!$I$19,$O$33,0)+IF(D40=Vermögenserhaltung!$I$20,$O$34,0)+IF(D40=Vermögenserhaltung!$I$21,$O$35,0)+IF(D40=Vermögenserhaltung!$I$22,$O$36,0)+IF(D40=Vermögenserhaltung!$I$23,$O$37,0)+IF(D40=Vermögenserhaltung!$I$24,Daten_Vermögenserhaltung!$O$38,0)","v":0},{"$f":"IF(D40=Vermögenserhaltung!$P$15,$O$41,0)+IF(D40=Vermögenserhaltung!$P$16,$O$42,0)+IF(D40=Vermögenserhaltung!$P$17,$O$43,0)","v":0},{"$f":"IF(D40=Vermögenserhaltung!$P$22,$O$50,0)+IF(D40=Vermögenserhaltung!$P$23,$O$51,0)+IF(D40=Vermögenserhaltung!$P$24,$O$52,0)","v":0},0,0,{"$f":"IF(D40=Einstellungen!$G$12,Daten_Vermögenserhaltung!K40,IF(D40>Einstellungen!$G$12,L39-IF(Anlageziele!$H$21=Daten_Einstellg_Ziele!$C$18,Anlageziele!$H$22,$O$28/Anlageziele!$H$22),0))+SUM(G40:I40)","v":0},0]
[null,null,{"$f":"IF(C40=\"\",\"\",IF(C40=Einstellungen!$G$13-1,\"\",Daten_Vermögenserhaltung!C40+1))","v":12},2005,{"v":0.016,"d":"1.6%"},{"$f":"IF($D41=Einstellungen!$G$12,$O$28,0)","v":0},{"$f":"IF(D41=Vermögenserhaltung!$I$19,$O$33,0)+IF(D41=Vermögenserhaltung!$I$20,$O$34,0)+IF(D41=Vermögenserhaltung!$I$21,$O$35,0)+IF(D41=Vermögenserhaltung!$I$22,$O$36,0)+IF(D41=Vermögenserhaltung!$I$23,$O$37,0)+IF(D41=Vermögenserhaltung!$I$24,Daten_Vermögenserhaltung!$O$38,0)","v":0},{"$f":"IF(D41=Vermögenserhaltung!$P$15,$O$41,0)+IF(D41=Vermögenserhaltung!$P$16,$O$42,0)+IF(D41=Vermögenserhaltung!$P$17,$O$43,0)","v":0},{"$f":"IF(D41=Vermögenserhaltung!$P$22,$O$50,0)+IF(D41=Vermögenserhaltung!$P$23,$O$51,0)+IF(D41=Vermögenserhaltung!$P$24,$O$52,0)","v":0},0,0,{"$f":"IF(D41=Einstellungen!$G$12,Daten_Vermögenserhaltung!K41,IF(D41>Einstellungen!$G$12,L40-IF(Anlageziele!$H$21=Daten_Einstellg_Ziele!$C$18,Anlageziele!$H$22,$O$28/Anlageziele!$H$22),0))+SUM(G41:I41)","v":0},0,"Abschreibungen:",{"$f":"IF(Vermögenserhaltung!O15=\"EUR\",Vermögenserhaltung!N15,Vermögenserhaltung!N15/1.95583)","v":0},"ü"]
[null,null,{"$f":"IF(C41=\"\",\"\",IF(C41=Einstellungen!$G$13-1,\"\",Daten_Vermögenserhaltung!C41+1))","v":13},2006,{"v":0.015,"d":"1.5%"},{"$f":"IF($D42=Einstellungen!$G$12,$O$28,0)","v":0},{"$f":"IF(D42=Vermögenserhaltung!$I$19,$O$33,0)+IF(D42=Vermögenserhaltung!$I$20,$O$34,0)+IF(D42=Vermögenserhaltung!$I$21,$O$35,0)+IF(D42=Vermögenserhaltung!$I$22,$O$36,0)+IF(D42=Vermögenserhaltung!$I$23,$O$37,0)+IF(D42=Vermögenserhaltung!$I$24,Daten_Vermögenserhaltung!$O$38,0)","v":0},{"$f":"IF(D42=Vermögenserhaltung!$P$15,$O$41,0)+IF(D42=Vermögenserhaltung!$P$16,$O$42,0)+IF(D42=Vermögenserhaltung!$P$17,$O$43,0)","v":0},{"$f":"IF(D42=Vermögenserhaltung!$P$22,$O$50,0)+IF(D42=Vermögenserhaltung!$P$23,$O$51,0)+IF(D42=Vermögenserhaltung!$P$24,$O$52,0)","v":0},0,0,{"$f":"IF(D42=Einstellungen!$G$12,Daten_Vermögenserhaltung!K42,IF(D42>Einstellungen!$G$12,L41-IF(Anlageziele!$H$21=Daten_Einstellg_Ziele!$C$18,Anlageziele!$H$22,$O$28/Anlageziele!$H$22),0))+SUM(G42:I42)","v":0},0,null,{"$f":"IF(Vermögenserhaltung!O16=\"EUR\",Vermögenserhaltung!N16,Vermögenserhaltung!N16/1.95583)","v":0},"ü"]
[null,null,{"$f":"IF(C42=\"\",\"\",IF(C42=Einstellungen!$G$13-1,\"\",Daten_Vermögenserhaltung!C42+1))","v":14},2007,{"v":0.023,"d":"2.3%"},{"$f":"IF($D43=Einstellungen!$G$12,$O$28,0)","v":0},{"$f":"IF(D43=Vermögenserhaltung!$I$19,$O$33,0)+IF(D43=Vermögenserhaltung!$I$20,$O$34,0)+IF(D43=Vermögenserhaltung!$I$21,$O$35,0)+IF(D43=Vermögenserhaltung!$I$22,$O$36,0)+IF(D43=Vermögenserhaltung!$I$23,$O$37,0)+IF(D43=Vermögenserhaltung!$I$24,Daten_Vermögenserhaltung!$O$38,0)","v":0},{"$f":"IF(D43=Vermögenserhaltung!$P$15,$O$41,0)+IF(D43=Vermögenserhaltung!$P$16,$O$42,0)+IF(D43=Vermögenserhaltung!$P$17,$O$43,0)","v":0},{"$f":"IF(D43=Vermögenserhaltung!$P$22,$O$50,0)+IF(D43=Vermögenserhaltung!$P$23,$O$51,0)+IF(D43=Vermögenserhaltung!$P$24,$O$52,0)","v":0},0,0,{"$f":"IF(D43=Einstellungen!$G$12,Daten_Vermögenserhaltung!K43,IF(D43>Einstellungen!$G$12,L42-IF(Anlageziele!$H$21=Daten_Einstellg_Ziele!$C$18,Anlageziele!$H$22,$O$28/Anlageziele!$H$22),0))+SUM(G43:I43)","v":0},0,null,{"$f":"IF(Vermögenserhaltung!O17=\"EUR\",Vermögenserhaltung!N17,Vermögenserhaltung!N17/1.95583)","v":0},"ü"]
[null,null,{"$f":"IF(C43=\"\",\"\",IF(C43=Einstellungen!$G$13-1,\"\",Daten_Vermögenserhaltung!C43+1))","v":15},2008,{"v":0.026,"d":"2.6%"},{"$f":"IF($D44=Einstellungen!$G$12,$O$28,0)","v":0},{"$f":"IF(D44=Vermögenserhaltung!$I$19,$O$33,0)+IF(D44=Vermögenserhaltung!$I$20,$O$34,0)+IF(D44=Vermögenserhaltung!$I$21,$O$35,0)+IF(D44=Vermögenserhaltung!$I$22,$O$36,0)+IF(D44=Vermögenserhaltung!$I$23,$O$37,0)+IF(D44=Vermögenserhaltung!$I$24,Daten_Vermögenserhaltung!$O$38,0)","v":0},{"$f":"IF(D44=Vermögenserhaltung!$P$15,$O$41,0)+IF(D44=Vermögenserhaltung!$P$16,$O$42,0)+IF(D44=Vermögenserhaltung!$P$17,$O$43,0)","v":0},{"$f":"IF(D44=Vermögenserhaltung!$P$22,$O$50,0)+IF(D44=Vermögenserhaltung!$P$23,$O$51,0)+IF(D44=Vermögenserhaltung!$P$24,$O$52,0)","v":0},0,0,{"$f":"IF(D44=Einstellungen!$G$12,Daten_Vermögenserhaltung!K44,IF(D44>Einstellungen!$G$12,L43-IF(Anlageziele!$H$21=Daten_Einstellg_Ziele!$C$18,Anlageziele!$H$22,$O$28/Anlageziele!$H$22),0))+SUM(G44:I44)","v":0},0]
[null,null,{"$f":"IF(C44=\"\",\"\",IF(C44=Einstellungen!$G$13-1,\"\",Daten_Vermögenserhaltung!C44+1))","v":16},2009,{"v":0.003,"d":"0.3%"},{"$f":"IF($D45=Einstellungen!$G$12,$O$28,0)","v":0},{"$f":"IF(D45=Vermögenserhaltung!$I$19,$O$33,0)+IF(D45=Vermögenserhaltung!$I$20,$O$34,0)+IF(D45=Vermögenserhaltung!$I$21,$O$35,0)+IF(D45=Vermögenserhaltung!$I$22,$O$36,0)+IF(D45=Vermögenserhaltung!$I$23,$O$37,0)+IF(D45=Vermögenserhaltung!$I$24,Daten_Vermögenserhaltung!$O$38,0)","v":0},{"$f":"IF(D45=Vermögenserhaltung!$P$15,$O$41,0)+IF(D45=Vermögenserhaltung!$P$16,$O$42,0)+IF(D45=Vermögenserhaltung!$P$17,$O$43,0)","v":0},{"$f":"IF(D45=Vermögenserhaltung!$P$22,$O$50,0)+IF(D45=Vermögenserhaltung!$P$23,$O$51,0)+IF(D45=Vermögenserhaltung!$P$24,$O$52,0)","v":0},0,0,{"$f":"IF(D45=Einstellungen!$G$12,Daten_Vermögenserhaltung!K45,IF(D45>Einstellungen!$G$12,L44-IF(Anlageziele!$H$21=Daten_Einstellg_Ziele!$C$18,Anlageziele!$H$22,$O$28/Anlageziele!$H$22),0))+SUM(G45:I45)","v":0},0]
[null,null,{"$f":"IF(C45=\"\",\"\",IF(C45=Einstellungen!$G$13-1,\"\",Daten_Vermögenserhaltung!C45+1))","v":17},2010,{"v":0.011,"d":"1.1%"},{"$f":"IF($D46=Einstellungen!$G$12,$O$28,0)","v":0},{"$f":"IF(D46=Vermögenserhaltung!$I$19,$O$33,0)+IF(D46=Vermögenserhaltung!$I$20,$O$34,0)+IF(D46=Vermögenserhaltung!$I$21,$O$35,0)+IF(D46=Vermögenserhaltung!$I$22,$O$36,0)+IF(D46=Vermögenserhaltung!$I$23,$O$37,0)+IF(D46=Vermögenserhaltung!$I$24,Daten_Vermögenserhaltung!$O$38,0)","v":0},{"$f":"IF(D46=Vermögenserhaltung!$P$15,$O$41,0)+IF(D46=Vermögenserhaltung!$P$16,$O$42,0)+IF(D46=Vermögenserhaltung!$P$17,$O$43,0)","v":0},{"$f":"IF(D46=Vermögenserhaltung!$P$22,$O$50,0)+IF(D46=Vermögenserhaltung!$P$23,$O$51,0)+IF(D46=Vermögenserhaltung!$P$24,$O$52,0)","v":0},0,0,{"$f":"IF(D46=Einstellungen!$G$12,Daten_Vermögenserhaltung!K46,IF(D46>Einstellungen!$G$12,L45-IF(Anlageziele!$H$21=Daten_Einstellg_Ziele!$C$18,Anlageziele!$H$22,$O$28/Anlageziele!$H$22),0))+SUM(G46:I46)","v":0},0]
[null,null,{"$f":"IF(C46=\"\",\"\",IF(C46=Einstellungen!$G$13-1,\"\",Daten_Vermögenserhaltung!C46+1))","v":18},2011,{"v":0.021,"d":"2.1%"},{"$f":"IF($D47=Einstellungen!$G$12,$O$28,0)","v":0},{"$f":"IF(D47=Vermögenserhaltung!$I$19,$O$33,0)+IF(D47=Vermögenserhaltung!$I$20,$O$34,0)+IF(D47=Vermögenserhaltung!$I$21,$O$35,0)+IF(D47=Vermögenserhaltung!$I$22,$O$36,0)+IF(D47=Vermögenserhaltung!$I$23,$O$37,0)+IF(D47=Vermögenserhaltung!$I$24,Daten_Vermögenserhaltung!$O$38,0)","v":0},{"$f":"IF(D47=Vermögenserhaltung!$P$15,$O$41,0)+IF(D47=Vermögenserhaltung!$P$16,$O$42,0)+IF(D47=Vermögenserhaltung!$P$17,$O$43,0)","v":0},{"$f":"IF(D47=Vermögenserhaltung!$P$22,$O$50,0)+IF(D47=Vermögenserhaltung!$P$23,$O$51,0)+IF(D47=Vermögenserhaltung!$P$24,$O$52,0)","v":0},0,0,{"$f":"IF(D47=Einstellungen!$G$12,Daten_Vermögenserhaltung!K47,IF(D47>Einstellungen!$G$12,L46-IF(Anlageziele!$H$21=Daten_Einstellg_Ziele!$C$18,Anlageziele!$H$22,$O$28/Anlageziele!$H$22),0))+SUM(G47:I47)","v":0},0]
[null,null,{"$f":"IF(C47=\"\",\"\",IF(C47=Einstellungen!$G$13-1,\"\",Daten_Vermögenserhaltung!C47+1))","v":19},2012,{"v":0.02,"d":"2.0%"},{"$f":"IF($D48=Einstellungen!$G$12,$O$28,0)","v":0},{"$f":"IF(D48=Vermögenserhaltung!$I$19,$O$33,0)+IF(D48=Vermögenserhaltung!$I$20,$O$34,0)+IF(D48=Vermögenserhaltung!$I$21,$O$35,0)+IF(D48=Vermögenserhaltung!$I$22,$O$36,0)+IF(D48=Vermögenserhaltung!$I$23,$O$37,0)+IF(D48=Vermögenserhaltung!$I$24,Daten_Vermögenserhaltung!$O$38,0)","v":0},{"$f":"IF(D48=Vermögenserhaltung!$P$15,$O$41,0)+IF(D48=Vermögenserhaltung!$P$16,$O$42,0)+IF(D48=Vermögenserhaltung!$P$17,$O$43,0)","v":0},{"$f":"IF(D48=Vermögenserhaltung!$P$22,$O$50,0)+IF(D48=Vermögenserhaltung!$P$23,$O$51,0)+IF(D48=Vermögenserhaltung!$P$24,$O$52,0)","v":0},0,0,{"$f":"IF(D48=Einstellungen!$G$12,Daten_Vermögenserhaltung!K48,IF(D48>Einstellungen!$G$12,L47-IF(Anlageziele!$H$21=Daten_Einstellg_Ziele!$C$18,Anlageziele!$H$22,$O$28/Anlageziele!$H$22),0))+SUM(G48:I48)","v":0},0]
[null,null,{"$f":"IF(C48=\"\",\"\",IF(C48=Einstellungen!$G$13-1,\"\",Daten_Vermögenserhaltung!C48+1))","v":20},2013,{"v":0.015,"d":"1.5%"},{"$f":"IF($D49=Einstellungen!$G$12,$O$28,0)","v":0},{"$f":"IF(D49=Vermögenserhaltung!$I$19,$O$33,0)+IF(D49=Vermögenserhaltung!$I$20,$O$34,0)+IF(D49=Vermögenserhaltung!$I$21,$O$35,0)+IF(D49=Vermögenserhaltung!$I$22,$O$36,0)+IF(D49=Vermögenserhaltung!$I$23,$O$37,0)+IF(D49=Vermögenserhaltung!$I$24,Daten_Vermögenserhaltung!$O$38,0)","v":0},{"$f":"IF(D49=Vermögenserhaltung!$P$15,$O$41,0)+IF(D49=Vermögenserhaltung!$P$16,$O$42,0)+IF(D49=Vermögenserhaltung!$P$17,$O$43,0)","v":0},{"$f":"IF(D49=Vermögenserhaltung!$P$22,$O$50,0)+IF(D49=Vermögenserhaltung!$P$23,$O$51,0)+IF(D49=Vermögenserhaltung!$P$24,$O$52,0)","v":0},0,0,{"$f":"IF(D49=Einstellungen!$G$12,Daten_Vermögenserhaltung!K49,IF(D49>Einstellungen!$G$12,L48-IF(Anlageziele!$H$21=Daten_Einstellg_Ziele!$C$18,Anlageziele!$H$22,$O$28/Anlageziele!$H$22),0))+SUM(G49:I49)","v":0},0]
[null,null,{"$f":"IF(C49=\"\",\"\",IF(C49=Einstellungen!$G$13-1,\"\",Daten_Vermögenserhaltung!C49+1))","v":21},2014,{"v":0.009,"d":"0.9%"},{"$f":"IF($D50=Einstellungen!$G$12,$O$28,0)","v":0},{"$f":"IF(D50=Vermögenserhaltung!$I$19,$O$33,0)+IF(D50=Vermögenserhaltung!$I$20,$O$34,0)+IF(D50=Vermögenserhaltung!$I$21,$O$35,0)+IF(D50=Vermögenserhaltung!$I$22,$O$36,0)+IF(D50=Vermögenserhaltung!$I$23,$O$37,0)+IF(D50=Vermögenserhaltung!$I$24,Daten_Vermögenserhaltung!$O$38,0)","v":0},{"$f":"IF(D50=Vermögenserhaltung!$P$15,$O$41,0)+IF(D50=Vermögenserhaltung!$P$16,$O$42,0)+IF(D50=Vermögenserhaltung!$P$17,$O$43,0)","v":0},{"$f":"IF(D50=Vermögenserhaltung!$P$22,$O$50,0)+IF(D50=Vermögenserhaltung!$P$23,$O$51,0)+IF(D50=Vermögenserhaltung!$P$24,$O$52,0)","v":0},0,0,{"$f":"IF(D50=Einstellungen!$G$12,Daten_Vermögenserhaltung!K50,IF(D50>Einstellungen!$G$12,L49-IF(Anlageziele!$H$21=Daten_Einstellg_Ziele!$C$18,Anlageziele!$H$22,$O$28/Anlageziele!$H$22),0))+SUM(G50:I50)","v":0},0,"Zuschreibungen",{"$f":"IF(Vermögenserhaltung!O22=\"EUR\",Vermögenserhaltung!N22,Vermögenserhaltung!N22/1.95583)","v":0},"ü"]
[null,null,{"$f":"IF(C50=\"\",\"\",IF(C50=Einstellungen!$G$13-1,\"\",Daten_Vermögenserhaltung!C50+1))","v":22},2015,{"v":0.003,"d":"0.3%"},{"$f":"IF($D51=Einstellungen!$G$12,$O$28,0)","v":0},{"$f":"IF(D51=Vermögenserhaltung!$I$19,$O$33,0)+IF(D51=Vermögenserhaltung!$I$20,$O$34,0)+IF(D51=Vermögenserhaltung!$I$21,$O$35,0)+IF(D51=Vermögenserhaltung!$I$22,$O$36,0)+IF(D51=Vermögenserhaltung!$I$23,$O$37,0)+IF(D51=Vermögenserhaltung!$I$24,Daten_Vermögenserhaltung!$O$38,0)","v":0},{"$f":"IF(D51=Vermögenserhaltung!$P$15,$O$41,0)+IF(D51=Vermögenserhaltung!$P$16,$O$42,0)+IF(D51=Vermögenserhaltung!$P$17,$O$43,0)","v":0},{"$f":"IF(D51=Vermögenserhaltung!$P$22,$O$50,0)+IF(D51=Vermögenserhaltung!$P$23,$O$51,0)+IF(D51=Vermögenserhaltung!$P$24,$O$52,0)","v":0},0,0,{"$f":"IF(D51=Einstellungen!$G$12,Daten_Vermögenserhaltung!K51,IF(D51>Einstellungen!$G$12,L50-IF(Anlageziele!$H$21=Daten_Einstellg_Ziele!$C$18,Anlageziele!$H$22,$O$28/Anlageziele!$H$22),0))+SUM(G51:I51)","v":0},0,null,{"$f":"IF(Vermögenserhaltung!O23=\"EUR\",Vermögenserhaltung!N23,Vermögenserhaltung!N23/1.95583)","v":0},"ü"]
[null,null,{"$f":"IF(C51=\"\",\"\",IF(C51=Einstellungen!$G$13-1,\"\",Daten_Vermögenserhaltung!C51+1))","v":23},2016,{"v":0.005,"d":"0.5%"},{"$f":"IF($D52=Einstellungen!$G$12,$O$28,0)","v":0},{"$f":"IF(D52=Vermögenserhaltung!$I$19,$O$33,0)+IF(D52=Vermögenserhaltung!$I$20,$O$34,0)+IF(D52=Vermögenserhaltung!$I$21,$O$35,0)+IF(D52=Vermögenserhaltung!$I$22,$O$36,0)+IF(D52=Vermögenserhaltung!$I$23,$O$37,0)+IF(D52=Vermögenserhaltung!$I$24,Daten_Vermögenserhaltung!$O$38,0)","v":0},{"$f":"IF(D52=Vermögenserhaltung!$P$15,$O$41,0)+IF(D52=Vermögenserhaltung!$P$16,$O$42,0)+IF(D52=Vermögenserhaltung!$P$17,$O$43,0)","v":0},{"$f":"IF(D52=Vermögenserhaltung!$P$22,$O$50,0)+IF(D52=Vermögenserhaltung!$P$23,$O$51,0)+IF(D52=Vermögenserhaltung!$P$24,$O$52,0)","v":0},0,0,{"$f":"IF(D52=Einstellungen!$G$12,Daten_Vermögenserhaltung!K52,IF(D52>Einstellungen!$G$12,L51-IF(Anlageziele!$H$21=Daten_Einstellg_Ziele!$C$18,Anlageziele!$H$22,$O$28/Anlageziele!$H$22),0))+SUM(G52:I52)","v":0},0,null,{"$f":"IF(Vermögenserhaltung!O24=\"EUR\",Vermögenserhaltung!N24,Vermögenserhaltung!N24/1.95583)","v":0},"ü"]
[null,null,{"$f":"IF(C52=\"\",\"\",IF(C52=Einstellungen!$G$13-1,\"\",Daten_Vermögenserhaltung!C52+1))","v":24},2017,{"v":0.018,"d":"1.8%"},{"$f":"IF($D53=Einstellungen!$G$12,$O$28,0)","v":0},{"$f":"IF(D53=Vermögenserhaltung!$I$19,$O$33,0)+IF(D53=Vermögenserhaltung!$I$20,$O$34,0)+IF(D53=Vermögenserhaltung!$I$21,$O$35,0)+IF(D53=Vermögenserhaltung!$I$22,$O$36,0)+IF(D53=Vermögenserhaltung!$I$23,$O$37,0)+IF(D53=Vermögenserhaltung!$I$24,Daten_Vermögenserhaltung!$O$38,0)","v":0},{"$f":"IF(D53=Vermögenserhaltung!$P$15,$O$41,0)+IF(D53=Vermögenserhaltung!$P$16,$O$42,0)+IF(D53=Vermögenserhaltung!$P$17,$O$43,0)","v":0},{"$f":"IF(D53=Vermögenserhaltung!$P$22,$O$50,0)+IF(D53=Vermögenserhaltung!$P$23,$O$51,0)+IF(D53=Vermögenserhaltung!$P$24,$O$52,0)","v":0},0,0,{"$f":"IF(D53=Einstellungen!$G$12,Daten_Vermögenserhaltung!K53,IF(D53>Einstellungen!$G$12,L52-IF(Anlageziele!$H$21=Daten_Einstellg_Ziele!$C$18,Anlageziele!$H$22,$O$28/Anlageziele!$H$22),0))+SUM(G53:I53)","v":0},0]
[null,null,{"$f":"IF(C53=\"\",\"\",IF(C53=Einstellungen!$G$13-1,\"\",Daten_Vermögenserhaltung!C53+1))","v":25},2018,{"v":0.019,"d":"1.9%"},{"$f":"IF($D54=Einstellungen!$G$12,$O$28,0)","v":0},{"$f":"IF(D54=Vermögenserhaltung!$I$19,$O$33,0)+IF(D54=Vermögenserhaltung!$I$20,$O$34,0)+IF(D54=Vermögenserhaltung!$I$21,$O$35,0)+IF(D54=Vermögenserhaltung!$I$22,$O$36,0)+IF(D54=Vermögenserhaltung!$I$23,$O$37,0)+IF(D54=Vermögenserhaltung!$I$24,Daten_Vermögenserhaltung!$O$38,0)","v":0},{"$f":"IF(D54=Vermögenserhaltung!$P$15,$O$41,0)+IF(D54=Vermögenserhaltung!$P$16,$O$42,0)+IF(D54=Vermögenserhaltung!$P$17,$O$43,0)","v":0},{"$f":"IF(D54=Vermögenserhaltung!$P$22,$O$50,0)+IF(D54=Vermögenserhaltung!$P$23,$O$51,0)+IF(D54=Vermögenserhaltung!$P$24,$O$52,0)","v":0},0,0,{"$f":"IF(D54=Einstellungen!$G$12,Daten_Vermögenserhaltung!K54,IF(D54>Einstellungen!$G$12,L53-IF(Anlageziele!$H$21=Daten_Einstellg_Ziele!$C$18,Anlageziele!$H$22,$O$28/Anlageziele!$H$22),0))+SUM(G54:I54)","v":0},0]
[null,null,{"$f":"IF(C54=\"\",\"\",IF(C54=Einstellungen!$G$13-1,\"\",Daten_Vermögenserhaltung!C54+1))","v":26},2019,{"v":0.014,"d":"1.4%"},{"$f":"IF($D55=Einstellungen!$G$12,$O$28,0)","v":0},{"$f":"IF(D55=Vermögenserhaltung!$I$19,$O$33,0)+IF(D55=Vermögenserhaltung!$I$20,$O$34,0)+IF(D55=Vermögenserhaltung!$I$21,$O$35,0)+IF(D55=Vermögenserhaltung!$I$22,$O$36,0)+IF(D55=Vermögenserhaltung!$I$23,$O$37,0)+IF(D55=Vermögenserhaltung!$I$24,Daten_Vermögenserhaltung!$O$38,0)","v":0},{"$f":"IF(D55=Vermögenserhaltung!$P$15,$O$41,0)+IF(D55=Vermögenserhaltung!$P$16,$O$42,0)+IF(D55=Vermögenserhaltung!$P$17,$O$43,0)","v":0},{"$f":"IF(D55=Vermögenserhaltung!$P$22,$O$50,0)+IF(D55=Vermögenserhaltung!$P$23,$O$51,0)+IF(D55=Vermögenserhaltung!$P$24,$O$52,0)","v":0},0,0,{"$f":"IF(D55=Einstellungen!$G$12,Daten_Vermögenserhaltung!K55,IF(D55>Einstellungen!$G$12,L54-IF(Anlageziele!$H$21=Daten_Einstellg_Ziele!$C$18,Anlageziele!$H$22,$O$28/Anlageziele!$H$22),0))+SUM(G55:I55)","v":0},0]
[null,null,{"$f":"IF(C55=\"\",\"\",IF(C55=Einstellungen!$G$13-1,\"\",Daten_Vermögenserhaltung!C55+1))","v":27},2020,{"v":0.0006,"d":"0.1%"},{"$f":"IF($D56=Einstellungen!$G$12,$O$28,0)","v":0},{"$f":"IF(D56=Vermögenserhaltung!$I$19,$O$33,0)+IF(D56=Vermögenserhaltung!$I$20,$O$34,0)+IF(D56=Vermögenserhaltung!$I$21,$O$35,0)+IF(D56=Vermögenserhaltung!$I$22,$O$36,0)+IF(D56=Vermögenserhaltung!$I$23,$O$37,0)+IF(D56=Vermögenserhaltung!$I$24,Daten_Vermögenserhaltung!$O$38,0)","v":0},{"$f":"IF(D56=Vermögenserhaltung!$P$15,$O$41,0)+IF(D56=Vermögenserhaltung!$P$16,$O$42,0)+IF(D56=Vermögenserhaltung!$P$17,$O$43,0)","v":0},{"$f":"IF(D56=Vermögenserhaltung!$P$22,$O$50,0)+IF(D56=Vermögenserhaltung!$P$23,$O$51,0)+IF(D56=Vermögenserhaltung!$P$24,$O$52,0)","v":0},0,0,{"$f":"IF(D56=Einstellungen!$G$12,Daten_Vermögenserhaltung!K56,IF(D56>Einstellungen!$G$12,L55-IF(Anlageziele!$H$21=Daten_Einstellg_Ziele!$C$18,Anlageziele!$H$22,$O$28/Anlageziele!$H$22),0))+SUM(G56:I56)","v":0},0]
[null,null,{"$f":"IF(C56=\"\",\"\",IF(C56=Einstellungen!$G$13-1,\"\",Daten_Vermögenserhaltung!C56+1))","v":28},2021,{"v":0.03,"d":"3.0%"},{"$f":"IF($D57=Einstellungen!$G$12,$O$28,0)","v":0},{"$f":"IF(D57=Vermögenserhaltung!$I$19,$O$33,0)+IF(D57=Vermögenserhaltung!$I$20,$O$34,0)+IF(D57=Vermögenserhaltung!$I$21,$O$35,0)+IF(D57=Vermögenserhaltung!$I$22,$O$36,0)+IF(D57=Vermögenserhaltung!$I$23,$O$37,0)+IF(D57=Vermögenserhaltung!$I$24,Daten_Vermögenserhaltung!$O$38,0)","v":0},{"$f":"IF(D57=Vermögenserhaltung!$P$15,$O$41,0)+IF(D57=Vermögenserhaltung!$P$16,$O$42,0)+IF(D57=Vermögenserhaltung!$P$17,$O$43,0)","v":0},{"$f":"IF(D57=Vermögenserhaltung!$P$22,$O$50,0)+IF(D57=Vermögenserhaltung!$P$23,$O$51,0)+IF(D57=Vermögenserhaltung!$P$24,$O$52,0)","v":0},0,0,{"$f":"IF(D57=Einstellungen!$G$12,Daten_Vermögenserhaltung!K57,IF(D57>Einstellungen!$G$12,L56-IF(Anlageziele!$H$21=Daten_Einstellg_Ziele!$C$18,Anlageziele!$H$22,$O$28/Anlageziele!$H$22),0))+SUM(G57:I57)","v":0},0]
[null,null,{"$f":"IF(C57=\"\",\"\",IF(C57=Einstellungen!$G$13-1,\"\",Daten_Vermögenserhaltung!C57+1))","v":29},2022,{"v":0.079,"d":"7.9%"},{"$f":"IF($D58=Einstellungen!$G$12,$O$28,0)","v":0},{"$f":"IF(D58=Vermögenserhaltung!$I$19,$O$33,0)+IF(D58=Vermögenserhaltung!$I$20,$O$34,0)+IF(D58=Vermögenserhaltung!$I$21,$O$35,0)+IF(D58=Vermögenserhaltung!$I$22,$O$36,0)+IF(D58=Vermögenserhaltung!$I$23,$O$37,0)+IF(D58=Vermögenserhaltung!$I$24,Daten_Vermögenserhaltung!$O$38,0)","v":0},{"$f":"IF(D58=Vermögenserhaltung!$P$15,$O$41,0)+IF(D58=Vermögenserhaltung!$P$16,$O$42,0)+IF(D58=Vermögenserhaltung!$P$17,$O$43,0)","v":0},{"$f":"IF(D58=Vermögenserhaltung!$P$22,$O$50,0)+IF(D58=Vermögenserhaltung!$P$23,$O$51,0)+IF(D58=Vermögenserhaltung!$P$24,$O$52,0)","v":0},0,0,{"$f":"IF(D58=Einstellungen!$G$12,Daten_Vermögenserhaltung!K58,IF(D58>Einstellungen!$G$12,L57-IF(Anlageziele!$H$21=Daten_Einstellg_Ziele!$C$18,Anlageziele!$H$22,$O$28/Anlageziele!$H$22),0))+SUM(G58:I58)","v":0},0]
[null,null,"lfd.",2023,{"$f":"R18/100","v":{"v":0.079,"d":"7.9%"}},{"$f":"IF($D59=Einstellungen!$G$12,$O$28,0)","v":0},{"$f":"IF(D59=Vermögenserhaltung!$I$19,$O$33,0)+IF(D59=Vermögenserhaltung!$I$20,$O$34,0)+IF(D59=Vermögenserhaltung!$I$21,$O$35,0)+IF(D59=Vermögenserhaltung!$I$22,$O$36,0)+IF(D59=Vermögenserhaltung!$I$23,$O$37,0)+IF(D59=Vermögenserhaltung!$I$24,Daten_Vermögenserhaltung!$O$38,0)","v":0},{"$f":"IF(D59=Vermögenserhaltung!$P$15,$O$41,0)+IF(D59=Vermögenserhaltung!$P$16,$O$42,0)+IF(D59=Vermögenserhaltung!$P$17,$O$43,0)","v":0},{"$f":"IF(D59=Vermögenserhaltung!$P$22,$O$50,0)+IF(D59=Vermögenserhaltung!$P$23,$O$51,0)+IF(D59=Vermögenserhaltung!$P$24,$O$52,0)","v":0},{"$f":"J58+SUM(F59:I59)","v":0},{"$f":"K58+K58*E59+SUM(F59:I59)","v":0},{"$f":"IF(D59=Einstellungen!$G$12,Daten_Vermögenserhaltung!K59,IF(D59>Einstellungen!$G$12,L58-IF(Anlageziele!$H$21=Daten_Einstellg_Ziele!$C$18,Anlageziele!$H$22,$O$28/Anlageziele!$H$22),0))+SUM(G59:I59)","v":0},{"$f":"MAX(0,L59)","v":0}]
[]
[]
[null,null,"Soll",{"$f":"E62-1","v":2019},{"$f":"F62-1","v":2020},{"$f":"G62-1","v":2021},{"$f":"H62-1","v":2022},{"$f":"I62-1","v":2023},{"$f":"Einstellungen!G13","v":2024},{"$f":"I62+1","v":2025},{"$f":"J62+1","v":2026},{"$f":"K62+1","v":2027},{"$f":"L62+1","v":2028}]
[null,null,"Real",{"$f":"SUMIF($D$28:$D$58,D62,$K$28:$K$58)","v":0},{"$f":"SUMIF($D$28:$D$58,E62,$K$28:$K$58)","v":0},0,0,{"$f":"SUMIF($D$28:$D$59,H62,$K$28:$K$59)","v":0},{"$f":"$D$78+$D$78*Szenarien!H$21+Wirtschaftsplan!H21","v":0},{"$f":"I63+I63*Szenarien!I$21+Wirtschaftsplan!M21","v":0},{"$f":"J63+J63*Szenarien!J$21+Wirtschaftsplan!N21","v":0},{"$f":"K63+K63*Szenarien!K$21+Wirtschaftsplan!O21","v":0},{"$f":"L63+L63*Szenarien!L$21+Wirtschaftsplan!P21","v":0}]
[null,null,"Nominal",{"$f":"SUMIF($D$28:$D$58,D62,$J$28:$J$58)","v":0},{"$f":"SUMIF($D$28:$D$58,E62,$J$28:$J$58)","v":0},0,0,{"$f":"SUMIF($D$28:$D$59,H62,$J$28:$J$59)","v":0},{"$f":"H64+Wirtschaftsplan!H21","v":0},{"$f":"I64+Wirtschaftsplan!M21","v":0},{"$f":"J64+Wirtschaftsplan!N21","v":0},{"$f":"K64+Wirtschaftsplan!O21","v":0},{"$f":"L64+Wirtschaftsplan!P21","v":0}]
[null,null,"Verbrauch",{"$f":"MAX(0,SUMIF($D$28:$D$58,D62,$M$28:$M$58))","v":0},{"$f":"MAX(0,SUMIF($D$28:$D$58,E62,$M$28:$M$58))","v":0},0,0,0,{"$f":"MAX(0,H65-IF(Anlageziele!$H$21=Daten_Einstellg_Ziele!$C$18,Anlageziele!$H$22,Vermögenserhaltung!$G$12/Anlageziele!$H$22)+Wirtschaftsplan!H21)","v":0},{"$f":"MAX(0,I65-IF(Anlageziele!$H$21=Daten_Einstellg_Ziele!$C$18,Anlageziele!$H$22,Vermögenserhaltung!$G$12/Anlageziele!$H$22)+Wirtschaftsplan!M21)","v":0},{"$f":"MAX(0,J65-IF(Anlageziele!$H$21=Daten_Einstellg_Ziele!$C$18,Anlageziele!$H$22,Vermögenserhaltung!$G$12/Anlageziele!$H$22)+Wirtschaftsplan!N21)","v":0},{"$f":"MAX(0,K65-IF(Anlageziele!$H$21=Daten_Einstellg_Ziele!$C$18,Anlageziele!$H$22,Vermögenserhaltung!$G$12/Anlageziele!$H$22)+Wirtschaftsplan!O21)","v":0},{"$f":"MAX(0,L65-IF(Anlageziele!$H$21=Daten_Einstellg_Ziele!$C$18,Anlageziele!$H$22,Vermögenserhaltung!$G$12/Anlageziele!$H$22)+Wirtschaftsplan!P21)","v":0}]
[null,null,"Substanz",{"$nulls":4},{"$f":"Daten_Vermögen!C94","v":0},{"$f":"'Daten Projektion'!O64","v":0},{"$f":"'Daten Projektion'!P64","v":0},{"$f":"'Daten Projektion'!Q64","v":0},{"$f":"'Daten Projektion'!R64","v":0},{"$f":"'Daten Projektion'!S64","v":0}]
[]
[null,null,"Grafik Vermögenserhaltung"]
[{"$nulls":3},{"$f":"D62","v":2019},{"$f":"E62","v":2020},2021,2022,2023,2024,2025,2026,2027,{"$f":"M62","v":2028}]
[null,null,"Vermögenserhaltungsziel",{"$f":"IF(Anlageziele!$H$14=\"Substanz\",Daten_Vermögenserhaltung!D66,IF(Anlageziele!$H$14=\"Nominal\",D64,IF(Anlageziele!$H$14=\"Verbrauch\",D65,D63)))","v":0},{"$f":"IF(Anlageziele!$H$14=\"Substanz\",Daten_Vermögenserhaltung!E66,IF(Anlageziele!$H$14=\"Nominal\",E64,IF(Anlageziele!$H$14=\"Verbrauch\",E65,E63)))","v":0},{"$f":"IF(Anlageziele!$H$14=\"Substanz\",Daten_Vermögenserhaltung!F66,IF(Anlageziele!$H$14=\"Nominal\",F64,IF(Anlageziele!$H$14=\"Verbrauch\",F65,F63)))","v":0},{"$f":"IF(Anlageziele!$H$14=\"Substanz\",Daten_Vermögenserhaltung!G66,IF(Anlageziele!$H$14=\"Nominal\",G64,IF(Anlageziele!$H$14=\"Verbrauch\",G65,G63)))","v":0},{"$f":"IF(Anlageziele!$H$14=\"Substanz\",Daten_Vermögenserhaltung!H66,IF(Anlageziele!$H$14=\"Nominal\",H64,IF(Anlageziele!$H$14=\"Verbrauch\",H65,H63)))","v":0},{"$f":"IF(Anlageziele!$H$14=\"Substanz\",Daten_Vermögenserhaltung!I66,IF(Anlageziele!$H$14=\"Nominal\",I64,IF(Anlageziele!$H$14=\"Verbrauch\",I65,I63)))","v":0},{"$f":"IF(Anlageziele!$H$14=\"Substanz\",Daten_Vermögenserhaltung!J66,IF(Anlageziele!$H$14=\"Nominal\",J64,IF(Anlageziele!$H$14=\"Verbrauch\",J65,J63)))","v":0},{"$f":"IF(Anlageziele!$H$14=\"Substanz\",Daten_Vermögenserhaltung!K66,IF(Anlageziele!$H$14=\"Nominal\",K64,IF(Anlageziele!$H$14=\"Verbrauch\",K65,K63)))","v":0},{"$f":"IF(Anlageziele!$H$14=\"Substanz\",Daten_Vermögenserhaltung!L66,IF(Anlageziele!$H$14=\"Nominal\",L64,IF(Anlageziele!$H$14=\"Verbrauch\",L65,L63)))","v":0},{"$f":"IF(Anlageziele!$H$14=\"Substanz\",Daten_Vermögenserhaltung!M66,IF(Anlageziele!$H$14=\"Nominal\",M64,IF(Anlageziele!$H$14=\"Verbrauch\",M65,M63)))","v":0}]
[null,null,"Projektion",{"$nulls":4},{"$f":"Daten_Vermögen!C94","v":0},{"$f":"'Daten Projektion'!O64","v":0},{"$f":"'Daten Projektion'!P64","v":0},{"$f":"'Daten Projektion'!Q64","v":0},{"$f":"'Daten Projektion'!R64","v":0},{"$f":"'Daten Projektion'!S64","v":0}]
[]
[null,null,"Ausgangswert Vermögenserhaltung",{"$nulls":5},"EUR","%"]
[{"$nulls":3},"Grundstock","Investitionsvermögen",null,null,"Soll Vermögen",{"$f":"D84","v":0},{"v":1,"d":"100.0%"}]
[null,null,"Grundstock nominal ",{"$f":"J56","v":0},{"$nulls":3},"Ist Vermögen",{"$f":"E77","v":0},{"$f":"I75/I74","v":{"$error":"#DIV/0!"}}]
[null,null,"Inflationsausgleich",{"$f":"IF(Anlageziele!H14=\"Real\",D78-D75,0)","v":0},{"$nulls":3},"Differerenz",{"$f":"I75-I74","v":0},{"$f":"J75-J74","v":{"$error":"#DIV/0!"}}]
[null,null,"Investitionsvermögen",null,{"$f":"Vermögen!S61","v":0}]
[null,null,"Grundstock real (Soll)",{"$f":"K58","v":0}]
[null,null,"Grundstock Verbrauch",{"$f":"SUMIF($D$28:$D$58,Einstellungen!$G$13-1,Daten_Vermögenserhaltung!$L$28:$L$58)","v":0}]
[null,null,"Grundstock Substanz",{"$f":"Daten_Vermögen!C94","v":0}]
[]
[]
[null,null,"Anlageziele aktuell für Startseite/FS",{"$f":"INDEX(C84:D87,MATCH(Anlageziele!H14,Daten_Vermögenserhaltung!C84:C87,0),2)","v":0},"ü"]
[null,null,"Real",{"$f":"K56","v":0}]
[null,null,"Nominal",{"$f":"J56","v":0}]
[null,null,"Substanz",{"$f":"Daten_Vermögen!C94","v":0}]
[null,null,"Verbrauch",{"$f":"L58","v":0}]
[]
[]
[]
[]
[]
[null,null,"RESET - Derzeit ohne Funktion"]
[]
[null,null,"Ausstattung bei Gründung",0,"EUR",{"$nulls":4},"Abschreibungen auf den Grundstock"]
[{"$nulls":5},"DM"]
[{"$nulls":4}," ",{"$nulls":4},"Bezeichnung","Betrag","EUR/DM",null,"Jahr"]
[{"$nulls":9},"Abschreibung 1",0,"EUR",null,"Bitte ausw."]
[null,null,"Zustiftungen ",{"$nulls":6},"Abschreibung 2",0,"EUR",null,"Bitte ausw."]
[{"$nulls":9},"Abschreibung 3",0,"EUR",null,"Bitte ausw."]
[null,null,"Bezeichnung","Betrag","EUR/DM","Jahr"]
[null,null,"Zustiftung 1",0,"EUR","Bitte ausw.",{"$nulls":3},"Zuschreibungen zum Grundstock"]
[null,null,"Zustiftung 2",0,"EUR","Bitte ausw."]
[null,null,"Zustiftung 3",0,"EUR","Bitte ausw.",{"$nulls":3},"Bezeichnung","Betrag","EUR/DM",null,"Jahr"]
[null,null,"Zustiftung 4",0,"EUR","Bitte ausw.",{"$nulls":3},"Zuschreibung 1",0,"EUR",null,"Bitte ausw."]
[null,null,"Zustiftung 5",0,"EUR","Bitte ausw.",{"$nulls":3},"Zuschreibung 2",0,"EUR",null,"Bitte ausw."]
[null,null,"Zustiftung 6",0,"EUR","Bitte ausw.",{"$nulls":3},"Zuschreibung 3",0,"EUR",null,"Bitte ausw."]
[]
[null,null,"CHECK Position nicht verändern - Makro-Verweis!"]
[]
[null,null,"Ausstattung bei Gründung",{"v":5000000,"d":"5,000,000"},"EUR",{"$nulls":4},"Abschreibungen auf den Grundstock"]
[{"$nulls":5},"DM"]
[{"$nulls":4}," ",{"$nulls":4},"Bezeichnung","Betrag","EUR/DM",null,"Jahr"]
[{"$nulls":9},"Abschreibung 1",{"v":-10000,"d":"-10,000 "},"EUR",null,2010]
[null,null,"Zustiftungen ",{"$nulls":6},"Abschreibung 2",{"v":-20000,"d":"-20,000 "},"EUR",null,2015]
[{"$nulls":9},"Abschreibung 3",{"v":-30000,"d":"-30,000 "},"EUR",null,2020]
[null,null,"Bezeichnung","Betrag","EUR/DM","Jahr"]
[null,null,"Zustiftung 1",{"v":1000,"d":"1,000"},"EUR",2006,{"$nulls":3},"Zuschreibungen zum Grundstock"]
[null,null,"Zustiftung 2",{"v":2000,"d":"2,000"},"EUR",2008]
[null,null,"Zustiftung 3",{"v":3000,"d":"3,000"},"EUR",2010,{"$nulls":3},"Bezeichnung","Betrag","EUR/DM",null,"Jahr"]
[null,null,"Zustiftung 4",{"v":4000,"d":"4,000"},"EUR",2012,{"$nulls":3},"Zuschreibung 1",{"v":10000,"d":"10,000"},"EUR",null,2009]
[null,null,"Zustiftung 5",{"v":5000,"d":"5,000"},"EUR",2014,{"$nulls":3},"Zuschreibung 2",{"v":20000,"d":"20,000"},"EUR",null,2010]
[null,null,"Zustiftung 6",{"v":6000,"d":"6,000"},"EUR",2016,{"$nulls":3},"Zuschreibung 3",{"v":30000,"d":"30,000"},"EUR",null,2011]

{"sheet":"Daten_Wirtschaftsplan","index":13,"n_rows":45,"n_cols":9,"rows_kept":45,"hidden":true}
["Daten Liquidität"]
[]
[null,"AUSWAHLFELDER",null,"BEDINGTE FORMATIERUNG"]
[]
[null,"Turnus",null,"Verwaltungskostenquote 1",{"$f":"Einstellungen!H33%","v":0.33}]
[null,"Bitte auswählen",null,"Verwaltungskostenquote 2",{"$f":"Einstellungen!H34%","v":0.25}]
[null,"Monatlich"]
[null,"Quartalsw. 01/04/07/10"]
[null,"Quartalsw. 02/05/08/11",null,"GRAFIK"]
[null,"Quartalsw. 03/06/09/12"]
[null,"Halbjährlich 01/07",null,"Verwaltungskostenquote 1",{"$f":"(Wirtschaftsplan!H54+Wirtschaftsplan!I80)/Wirtschaftsplan!H22","v":{"$error":"#DIV/0!"}},"Aufgriffsgrenze 1",{"v":0.333,"d":"33.3%"},"Aufgriffsgrenze 2",{"v":0.25,"d":"25.0%"}]
[null,"Halbjährlich 06/12",null,"Verwaltungskostenquote 2",{"$f":"Wirtschaftsplan!H54/(Wirtschaftsplan!H22-Wirtschaftsplan!I80)","v":{"$error":"#DIV/0!"}},"Aufgriffsgrenze 2",{"v":0.333,"d":"33.3%"},"Aufgriffsgrenze 2",{"v":0.25,"d":"25.0%"}]
[null,"Januar"]
[null,"Februar"]
[null,"März",null,"DEPOTKOSTEN"]
[null,"April"]
[null,"Mai",null,"Kosten 2019",{"$f":"Wirtschaftsplan!I80","v":0}]
[null,"Juni",null,"Vermögen:",{"v":18567370,"d":"18,567,370 €"}]
[null,"Juli",null,"Quote:",{"$f":"E17/E18","v":{"v":0,"d":"0.0%"}}]
[null,"August"]
[null,"September"]
[null,"Oktober",null,"Zweckeffizienz"]
[null,"November"]
[null,"Dezember",null,"Einnahmen",{"$f":"Wirtschaftsplan!H22","v":0}]
[{"$nulls":3},"Abzüge"]
[null,"KOSTEN VV",null,"   Allgemeine Verwaltungskosten",{"$f":"Wirtschaftsplan!H54","v":0}]
[{"$nulls":3},"   Freie Rücklage",{"$f":"E24*Einstellungen!G25","v":0}]
[{"$nulls":3},"Summe Abzüge",{"$f":"SUM(E26:E27)","v":0}]
[{"$nulls":3},"Überschuss",{"$f":"E24-E28","v":0}]
[{"$nulls":3},"Zweckeffizienz Ertrag",{"$f":"E29/E24","v":{"$error":"#DIV/0!"}}]
[{"$nulls":3},"Zweckeffizienz Vermögen",{"$f":"E29/Daten_Vermögen!C94","v":{"$error":"#DIV/0!"}}]
[]
[{"$nulls":3},"Verwaltungskosten"]
[]
[{"$nulls":3},"Verwaltungskostenquote 1:",{"$f":"(E26+#REF!)/E24","v":{"$error":"#REF!"}}]
[{"$nulls":3},"Korrektur Kosten"]
[{"$nulls":3},"Kosten status quo",{"$f":"SUM(E26:E26)","v":0}]
[{"$nulls":3},"Kosten max.",{"$f":"E24*E5","v":0}]
[{"$nulls":3},"Differenz",{"$f":"E37-E38","v":0}]
[{"$nulls":3},"Senkung",{"$f":"E39/E37","v":{"$error":"#DIV/0!"}}]
[{"$nulls":3},"Korrektur Einnahmen"]
[{"$nulls":3},"Einnahmen status quo",{"$f":"E24","v":0}]
[{"$nulls":3},"Einnahmen min.",{"$f":"E37*3","v":0}]
[{"$nulls":3},"Differenz",{"$f":"E43-E42","v":0}]
[{"$nulls":3},"Steigerung",{"$f":"E44/E42","v":{"$error":"#DIV/0!"}}]

{"sheet":"Datenaufnahme","index":14,"n_rows":26,"n_cols":5,"rows_kept":26,"hidden":true}
[]
[]
[]
[]
[]
[null,"Name der Stiftung:"]
[]
[null,"Aufnahmedatum:"]
[]
[null,"Aufgenommen durch:"]
[]
[]
["Nr.","Unterlage","Enthaltene Informationen","Fehlanz.","Beigefügt"]
["1.","Stiftungsgeschäft","Gründungsdatum, anfängliche Vermögensausstattung"]
["2.","Aktuelle Satzung","Vermögenserhaltungskonzept, Regelungen zum Vermögensmanagement, Gremienstruktur, Verantwortlichkeiten"]
["3.","(Anonyme) Aufstellung über Aktuelle Gremienbesetzung und Berufungsdaten/Amtszeiten","Handlungsfähigkeit der Stiftung, Governance "]
["4.","Ggf. Anlagerichtlinie","Konkrete Regelungen zur Vermögenanlage, Übereinstimmung der Vermögensstruktur"]
["5.","Ggf. Geschäftsordnung","Prozesse bei Anlageentscheidungen, Governance"]
["6.","Jahresabschlüsse der letzten drei Jahre","Übersicht über Vermögensentwicklung, Mittelverwendung, Rücklagenbildung, Abgleich Vermögensstruktur u. Anlageziele"]
["7.","Aktueller Wirtschaftsplan ","Abgleich mit Vermögensstruktur und Anlagezielen"]
["8.","Beschlusssammlung/ Protokolle der Vorstandssitzungen d. letzten 3 Jahre","Prozesse bei Anlageentscheidungen, Governance, Legitimität der vorhandenen Anlagen"]
["9.","Aktuelle Konto-/Depotauszüge","Vermögensstruktur, Risiko, Abgleich mit Anlagezielen, Kosten"]
["10.","Aktuelle Reportings von Vermögensverwaltung/Fonds","Vermögens- und Ertragsentwicklung; Abgleich mit Anlagezielen"]
["11.","Ggf. Vermögensverwaltungs-verträge","Abgleich mit Anlagerichtlilien und Anlagezielen, Kosten"]
["12.","Rechnungsunterlagen oder gesonderte Aufstellung","Erfolgte Zustiftungen (Summe) und Zeitpunkt (Zuflussdatum)."]
["13.","Vorgängersatzungen im Fall von Satzungsänderungen.","Erfolge Satzungsänderungen mit Einfluss auf das Vermögensmanagment "]

{"sheet":"Nachhaltigkeit_PRISC","index":15,"n_rows":78,"n_cols":16,"rows_kept":78,"hidden":true,"merged":[[13,5,13,6],[75,5,75,6],[76,5,76,6],[77,5,77,6]]}
{"$rows_empty":10}
[null,"Legende"]
[{"$nulls":7},"Ausschlusskategorien","Impact/SDG-Ziele","ESG-Messmethode","Best of Univ./in Class","ESG Top %","ESG Frequenz","Stimmrechtsausübg.","Engagement","PRISC-Score"]
[null,"Pflichteingabe",{"$nulls":3},"Gewichtung: ",{"$f":"SUM(H13:O13)","v":{"v":0,"d":"0.0%"}},{"$f":"Anlageziele!O32","v":{"v":0,"d":"0.0%"}},{"$f":"Anlageziele!O33","v":{"v":0,"d":"0.0%"}},{"$f":"Anlageziele!O34","v":{"v":0,"d":"0.0%"}},{"$f":"Anlageziele!O35","v":{"v":0,"d":"0.0%"}},{"$f":"Anlageziele!O36","v":{"v":0,"d":"0.0%"}},{"$f":"Anlageziele!O37","v":{"v":0,"d":"0.0%"}},{"$f":"Anlageziele!O38","v":{"v":0,"d":"0.0%"}},{"$f":"Anlageziele!O39","v":{"v":0,"d":"0.0%"}}]
[null,"Optionale Eingabe",{"$nulls":3},"Vorhandene Vermögenswerte"]
[null,"Systemeingabe überschreibbar",null,null,{"$f":"Vermögen!E11","v":"1."},{"$f":"IF(Vermögen!F11<>0,Vermögen!F11,\"\")","v":""},null,"1-3 Ausschlusskriterien","Keine","Keine","Nur Best-in-Class","Keine","Keine","Keine","Mgt. und AR und HV",{"$f":"Daten_Vermögen!V6*Daten_Vermögen!#REF!","v":{"$error":"#REF!"}}]
[null,"Systemeingabe nicht überschreibbar",null,null,{"$f":"Vermögen!E12","v":"2."},{"$f":"IF(Vermögen!F12<>0,Vermögen!F12,\"\")","v":""},null,"4-6 Ausschlusskriterien","Keine","aggreg. M. Mindestscoring","Keine","Keine","Keine","Keine","Keine",{"$f":"Daten_Vermögen!V7*Daten_Vermögen!#REF!","v":{"$error":"#REF!"}}]
[null,"Weitere Infos im Hintergrund",null,null,{"$f":"Vermögen!E13","v":"3."},{"$f":"IF(Vermögen!F13<>0,Vermögen!F13,\"\")","v":""},null,">6 Ausschlusskriterien","Keine","Keine","Nur Best-in-Class","Keine","Keine","Keine","Keine",{"$f":"Daten_Vermögen!V8*Daten_Vermögen!#REF!","v":{"$error":"#REF!"}}]
[{"$nulls":4},{"$f":"Vermögen!E14","v":"4."},{"$f":"IF(Vermögen!F14<>0,Vermögen!F14,\"\")","v":""},null,"1-3 Ausschlusskriterien","Keine","Keine","Keine","Keine","Keine","Keine","Keine",{"$f":"Daten_Vermögen!V9*Daten_Vermögen!#REF!","v":{"$error":"#REF!"}}]
[{"$nulls":4},{"$f":"Vermögen!E15","v":"5."},{"$f":"IF(Vermögen!F15<>0,Vermögen!F15,\"\")","v":""},null,"Keine","Keine","Keine","Keine","Keine","Keine","Keine","Keine",{"$f":"Daten_Vermögen!V10*Daten_Vermögen!#REF!","v":{"$error":"#REF!"}}]
[{"$nulls":4},{"$f":"Vermögen!E16","v":"6."},{"$f":"IF(Vermögen!F16<>0,Vermögen!F16,\"\")","v":""},null,"Keine","Keine","Keine","Keine","Keine","Keine","Keine","Keine",{"$f":"Daten_Vermögen!V11*Daten_Vermögen!#REF!","v":{"$error":"#REF!"}}]
[{"$nulls":4},{"$f":"Vermögen!E17","v":"7."},{"$f":"IF(Vermögen!F17<>0,Vermögen!F17,\"\")","v":""},null,"Keine","Keine","Keine","Keine","Keine","Keine","Keine","Keine",{"$f":"Daten_Vermögen!V12*Daten_Vermögen!#REF!","v":{"$error":"#REF!"}}]
[null,"Wenn Sie als Nachhaltigkeitsziel",null,null,{"$f":"Vermögen!E18","v":"8."},{"$f":"IF(Vermögen!F18<>0,Vermögen!F18,\"\")","v":""},null,"Keine","Keine","Keine","Keine","Keine","Keine","Keine","Keine",{"$f":"Daten_Vermögen!V13*Daten_Vermögen!#REF!","v":{"$error":"#REF!"}}]
[null,"\"PRISC\" gewählt haben, muss die ",null,null,{"$f":"Vermögen!E19","v":"9."},{"$f":"IF(Vermögen!F19<>0,Vermögen!F19,\"\")","v":""},null,"Keine","Keine","Keine","Keine","Keine","Keine","Keine","Keine",{"$f":"Daten_Vermögen!V14*Daten_Vermögen!#REF!","v":{"$error":"#REF!"}}]
[null,"Summe der Gewichtungen 100%",null,null,{"$f":"Vermögen!E20","v":"10."},{"$f":"IF(Vermögen!F20<>0,Vermögen!F20,\"\")","v":""},null,"Keine","Keine","Keine","Keine","Keine","Keine","Keine","Keine",{"$f":"Daten_Vermögen!V15*Daten_Vermögen!#REF!","v":{"$error":"#REF!"}}]
[null,"betragen. Aktuell:",null,null,{"$f":"Vermögen!E21","v":"11."},{"$f":"IF(Vermögen!F21<>0,Vermögen!F21,\"\")","v":""},null,"Keine","Keine","Keine","Keine","Keine","Keine","Keine","Keine",{"$f":"Daten_Vermögen!V16*Daten_Vermögen!#REF!","v":{"$error":"#REF!"}}]
[{"$nulls":4},{"$f":"Vermögen!E22","v":"12."},{"$f":"IF(Vermögen!F22<>0,Vermögen!F22,\"\")","v":""},null,"Keine","Keine","Keine","Keine","Keine","Keine","Keine","Keine",{"$f":"Daten_Vermögen!#REF!*Daten_Vermögen!#REF!","v":{"$error":"#REF!"}}]
[null,{"$f":"SUM(H13:O13)","v":{"v":0,"d":"0%"}},null,null,{"$f":"Vermögen!E23","v":"13."},{"$f":"IF(Vermögen!F23<>0,Vermögen!F23,\"\")","v":""},null,"Keine","Keine","Keine","Keine","Keine","Keine","Keine","Keine",{"$f":"Daten_Vermögen!#REF!*Daten_Vermögen!#REF!","v":{"$error":"#REF!"}}]
[{"$nulls":4},{"$f":"Vermögen!E24","v":"14."},{"$f":"IF(Vermögen!F24<>0,Vermögen!F24,\"\")","v":""},null,"Keine","Keine","Keine","Keine","Keine","Keine","Keine","Keine",{"$f":"Daten_Vermögen!#REF!*Daten_Vermögen!#REF!","v":{"$error":"#REF!"}}]
[{"$nulls":4},{"$f":"Vermögen!E25","v":"15."},{"$f":"IF(Vermögen!F25<>0,Vermögen!F25,\"\")","v":""},null,"Keine","Keine","Keine","Keine","Keine","Keine","Keine","Keine",{"$f":"Daten_Vermögen!#REF!*Daten_Vermögen!#REF!","v":{"$error":"#REF!"}}]
[{"$nulls":4},{"$f":"Vermögen!E26","v":"16."},{"$f":"IF(Vermögen!F26<>0,Vermögen!F26,\"\")","v":""},null,"Keine","Keine","Keine","Keine","Keine","Keine","Keine","Keine",{"$f":"Daten_Vermögen!#REF!*Daten_Vermögen!#REF!","v":{"$error":"#REF!"}}]
[{"$nulls":4},{"$f":"Vermögen!E27","v":"17."},{"$f":"IF(Vermögen!F27<>0,Vermögen!F27,\"\")","v":""},null,"Keine","Keine","Keine","Keine","Keine","Keine","Keine","Keine",{"$f":"Daten_Vermögen!#REF!*Daten_Vermögen!#REF!","v":{"$error":"#REF!"}}]
[{"$nulls":4},{"$f":"Vermögen!E28","v":"18."},{"$f":"IF(Vermögen!F28<>0,Vermögen!F28,\"\")","v":""},null,"Keine","Keine","Keine","Keine","Keine","Keine","Keine","Keine"]
[{"$nulls":4},{"$f":"Vermögen!E29","v":"19."},{"$f":"IF(Vermögen!F29<>0,Vermögen!F29,\"\")","v":""},null,"Keine","Keine","Keine","Keine","Keine","Keine","Keine","Keine"]
[{"$nulls":4},{"$f":"Vermögen!E30","v":"20."},{"$f":"IF(Vermögen!F30<>0,Vermögen!F30,\"\")","v":""},null,"Keine","Keine","Keine","Keine","Keine","Keine","Keine","Keine"]
[null,"Weiter zu",null,null,{"$f":"Vermögen!E31","v":"21."},{"$f":"IF(Vermögen!F31<>0,Vermögen!F31,\"\")","v":""},null,"Keine","Keine","Keine","Keine","Keine","Keine","Keine","Keine"]
[{"$nulls":4},{"$f":"Vermögen!E32","v":"22."},{"$f":"IF(Vermögen!F32<>0,Vermögen!F32,\"\")","v":""},null,"Keine","Keine","Keine","Keine","Keine","Keine","Keine","Keine"]
[{"$nulls":4},{"$f":"Vermögen!E33","v":"23."},{"$f":"IF(Vermögen!F33<>0,Vermögen!F33,\"\")","v":""},null,"Keine","Keine","Keine","Keine","Keine","Keine","Keine","Keine"]
[{"$nulls":4},{"$f":"Vermögen!E34","v":"24."},{"$f":"IF(Vermögen!F34<>0,Vermögen!F34,\"\")","v":""},null,"Keine","Keine","Keine","Keine","Keine","Keine","Keine","Keine"]
[{"$nulls":4},{"$f":"Vermögen!E35","v":"25."},{"$f":"IF(Vermögen!F35<>0,Vermögen!F35,\"\")","v":""},null,"Keine","Keine","Keine","Keine","Keine","Keine","Keine","Keine"]
[{"$nulls":4},{"$f":"Vermögen!E36","v":"26."},{"$f":"IF(Vermögen!F36<>0,Vermögen!F36,\"\")","v":""},null,"Keine","Keine","Keine","Keine","Keine","Keine","Keine","Keine"]
[{"$nulls":4},{"$f":"Vermögen!E37","v":"27."},{"$f":"IF(Vermögen!F37<>0,Vermögen!F37,\"\")","v":""},null,"Keine","Keine","Keine","Keine","Keine","Keine","Keine","Keine"]
[null,"Externe Links",null,null,{"$f":"Vermögen!E38","v":"28."},{"$f":"IF(Vermögen!F38<>0,Vermögen!F38,\"\")","v":""},null,"Keine","Keine","Keine","Keine","Keine","Keine","Keine","Keine"]
[{"$nulls":4},{"$f":"Vermögen!E39","v":"29."},{"$f":"IF(Vermögen!F39<>0,Vermögen!F39,\"\")","v":""},null,"Keine","Keine","Keine","Keine","Keine","Keine","Keine","Keine"]
[{"$nulls":4},{"$f":"Vermögen!E40","v":"30."},{"$f":"IF(Vermögen!F40<>0,Vermögen!F40,\"\")","v":""},null,"Keine","Keine","Keine","Keine","Keine","Keine","Keine","Keine"]
[{"$nulls":4},{"$f":"Vermögen!E41","v":"31."},{"$f":"IF(Vermögen!F41<>0,Vermögen!F41,\"\")","v":""},null,"Keine","Keine","Keine","Keine","Keine","Keine","Keine","Keine"]
[{"$nulls":4},{"$f":"Vermögen!E42","v":"32."},{"$f":"IF(Vermögen!F42<>0,Vermögen!F42,\"\")","v":""},null,"Keine","Keine","Keine","Keine","Keine","Keine","Keine","Keine"]
[{"$nulls":4},{"$f":"Vermögen!E43","v":"33."},{"$f":"IF(Vermögen!F43<>0,Vermögen!F43,\"\")","v":""},null,"Keine","Keine","Keine","Keine","Keine","Keine","Keine","Keine"]
[{"$nulls":4},{"$f":"Vermögen!E44","v":"34."},{"$f":"IF(Vermögen!F44<>0,Vermögen!F44,\"\")","v":""},null,"Keine","Keine","Keine","Keine","Keine","Keine","Keine","Keine"]
[{"$nulls":4},{"$f":"Vermögen!E45","v":"35."},{"$f":"IF(Vermögen!F45<>0,Vermögen!F45,\"\")","v":""},null,"Keine","Keine","Keine","Keine","Keine","Keine","Keine","Keine"]
[{"$nulls":4},{"$f":"Vermögen!E46","v":"36."},{"$f":"IF(Vermögen!F46<>0,Vermögen!F46,\"\")","v":""},null,"Keine","Keine","Keine","Keine","Keine","Keine","Keine","Keine"]
[{"$nulls":4},{"$f":"Vermögen!E47","v":"37."},{"$f":"IF(Vermögen!F47<>0,Vermögen!F47,\"\")","v":""},null,"Keine","Keine","Keine","Keine","Keine","Keine","Keine","Keine"]
[{"$nulls":4},{"$f":"Vermögen!E48","v":"38."},{"$f":"IF(Vermögen!F48<>0,Vermögen!F48,\"\")","v":""},null,"Keine","Keine","Keine","Keine","Keine","Keine","Keine","Keine"]
[{"$nulls":4},{"$f":"Vermögen!E49","v":"39."},{"$f":"IF(Vermögen!F49<>0,Vermögen!F49,\"\")","v":""},null,"Keine","Keine","Keine","Keine","Keine","Keine","Keine","Keine"]
[{"$nulls":4},{"$f":"Vermögen!E50","v":"40."},{"$f":"IF(Vermögen!F50<>0,Vermögen!F50,\"\")","v":""},null,"Keine","Keine","Keine","Keine","Keine","Keine","Keine","Keine"]
[{"$nulls":4},{"$f":"Vermögen!E51","v":"41."},{"$f":"IF(Vermögen!F51<>0,Vermögen!F51,\"\")","v":""},null,"Keine","Keine","Keine","Keine","Keine","Keine","Keine","Keine"]
[{"$nulls":4},{"$f":"Vermögen!E52","v":"42."},{"$f":"IF(Vermögen!F52<>0,Vermögen!F52,\"\")","v":""},null,"Keine","Keine","Keine","Keine","Keine","Keine","Keine","Keine"]
[{"$nulls":4},{"$f":"Vermögen!E53","v":"43."},{"$f":"IF(Vermögen!F53<>0,Vermögen!F53,\"\")","v":""},null,"Keine","Keine","Keine","Keine","Keine","Keine","Keine","Keine"]
[{"$nulls":4},{"$f":"Vermögen!E54","v":"44."},{"$f":"IF(Vermögen!F54<>0,Vermögen!F54,\"\")","v":""},null,"Keine","Keine","Keine","Keine","Keine","Keine","Keine","Keine"]
[{"$nulls":4},{"$f":"Vermögen!E55","v":"45."},{"$f":"IF(Vermögen!F55<>0,Vermögen!F55,\"\")","v":""},null,"Keine","Keine","Keine","Keine","Keine","Keine","Keine","Keine"]
[{"$nulls":4},{"$f":"Vermögen!E56","v":"46."},{"$f":"IF(Vermögen!F56<>0,Vermögen!F56,\"\")","v":""},null,"Keine","Keine","Keine","Keine","Keine","Keine","Keine","Keine"]
[{"$nulls":4},{"$f":"Vermögen!E57","v":"47."},{"$f":"IF(Vermögen!F57<>0,Vermögen!F57,\"\")","v":""},null,"Keine","Keine","Keine","Keine","Keine","Keine","Keine","Keine"]
[{"$nulls":4},{"$f":"Vermögen!E58","v":"48."},{"$f":"IF(Vermögen!F58<>0,Vermögen!F58,\"\")","v":""},null,"Keine","Keine","Keine","Keine","Keine","Keine","Keine","Keine",{"$f":"Daten_Vermögen!#REF!*Daten_Vermögen!#REF!","v":{"$error":"#REF!"}}]
[{"$nulls":4},{"$f":"Vermögen!E59","v":"49."},{"$f":"IF(Vermögen!F59<>0,Vermögen!F59,\"\")","v":""},null,"Keine","Keine","Keine","Keine","Keine","Keine","Keine","Keine",{"$f":"Daten_Vermögen!#REF!*Daten_Vermögen!#REF!","v":{"$error":"#REF!"}}]
[{"$nulls":4},{"$f":"Vermögen!E60","v":"50."},{"$f":"IF(Vermögen!F60<>0,Vermögen!F60,\"\")","v":""},null,"Keine","Keine","Keine","Keine","Keine","Keine","Keine","Keine",{"$f":"Daten_Vermögen!#REF!*Daten_Vermögen!#REF!","v":{"$error":"#REF!"}}]
[]
[{"$nulls":5},"Geplante Umschichtungen",null,"Ausschlusskategorien","Impact/SDG-Ziele","ESG-Messmethode","Best of Univ./in Class","ESG Top %","ESG Frequenz","Stimmrechtsausübg.","Engagement",{"$f":"P12","v":"PRISC-Score"}]
[{"$nulls":4},{"$f":"Umschichtung!F13","v":"U1"},{"$f":"IF(Umschichtung!G13>0,Umschichtung!G13,\"\")","v":""},null,"4-6 Ausschlusskriterien","Keine","Keine","Nur Best-in-Class","Keine","Seltener als monatl.","Keine","Mgt. und AR und HV",{"$f":"Daten_Vermögen!#REF!*Daten_Vermögen!#REF!","v":{"$error":"#REF!"}}]
[{"$nulls":4},{"$f":"Umschichtung!F14","v":"U2"},{"$f":"IF(Umschichtung!G14>0,Umschichtung!G14,\"\")","v":""},null,"1-3 Ausschlusskriterien",">90% vom Umsatz","Keine","Keine","Keine","Seltener als monatl.","Keine","Keine",{"$f":"Daten_Vermögen!#REF!*Daten_Vermögen!#REF!","v":{"$error":"#REF!"}}]
[{"$nulls":4},{"$f":"Umschichtung!F15","v":"U3"},{"$f":"IF(Umschichtung!G15>0,Umschichtung!G15,\"\")","v":""},null,"Keine","Keine","Keine","Keine","Keine","Keine","Keine","Keine",{"$f":"Daten_Vermögen!#REF!*Daten_Vermögen!#REF!","v":{"$error":"#REF!"}}]
[{"$nulls":4},{"$f":"Umschichtung!F16","v":"U4"},{"$f":"IF(Umschichtung!G16>0,Umschichtung!G16,\"\")","v":""},null,"Keine","Keine","Keine","Keine","Keine","Keine","Keine","Keine",{"$f":"Daten_Vermögen!#REF!*Daten_Vermögen!#REF!","v":{"$error":"#REF!"}}]
[{"$nulls":4},{"$f":"Umschichtung!F17","v":"U5"},{"$f":"IF(Umschichtung!G17>0,Umschichtung!G17,\"\")","v":""},null,"Keine","Keine","Keine","Keine","Keine","Keine","Keine","Keine",{"$f":"Daten_Vermögen!#REF!*Daten_Vermögen!#REF!","v":{"$error":"#REF!"}}]
[{"$nulls":4},{"$f":"Umschichtung!F18","v":"U6"},{"$f":"IF(Umschichtung!G18>0,Umschichtung!G18,\"\")","v":""},null,"Keine","Keine","Keine","Keine","Keine","Keine","Keine","Keine",{"$f":"Daten_Vermögen!#REF!*Daten_Vermögen!#REF!","v":{"$error":"#REF!"}}]
[]
[{"$nulls":5},"Gesamtportfolio"]
[{"$nulls":7},"Bestandsvermögen ","Nach Umschichtung"]
[{"$nulls":5},"PRISC-Score ohne Adjustierung:",null,{"$f":"Daten_Vermögen!#REF!","v":{"$error":"#REF!"}},{"$f":"Daten_Umschichtung!O325","v":{"$error":"#DIV/0!"}}]
[{"$nulls":5},"Adustierungsfaktor:",null,{"v":2,"d":"200.0%"}]
[{"$nulls":5},"PRISC-Score mit Adjustierung:",null,{"$f":"IF(H77=\"Bitte ausw.\",\"\",H76*H77)","v":{"$error":"#REF!"}},{"$f":"I76*H77","v":{"$error":"#DIV/0!"}}]

{"sheet":"Szenarien","index":16,"n_rows":53,"n_cols":28,"rows_kept":53,"merged":[[11,5,11,6],[12,5,12,11],[12,14,12,19],[12,22,12,27],[13,5,13,11],[13,14,13,19],[13,22,13,27],[14,5,14,11],[14,14,14,19],[14,22,14,27],[15,5,15,11],[15,14,15,19],[15,22,15,27],[16,5,16,11],[16,14,16,19],[16,22,16,27],[17,5,17,11],[17,14,17,19],[17,22,17,27]]}
{"$rows_empty":9}
[null,"Legende"]
[]
[null,"Pflichteingabe",{"$nulls":3},"Linear",{"$nulls":8},"Worst Case",{"$nulls":7},"Mischszenario"]
[null,"Optionale Eingabe",{"$nulls":3},{"$f":"IFERROR(INDEX('Daten Szenarien'!$I$17:$J$58,MATCH(Szenarien!$F$12,'Daten Szenarien'!$I$17:$I$58,0),2),\"\")","v":"Die vorhandenen Vermögenswerte werden mit dem status quo fortgeschrieben."},{"$nulls":8},{"$f":"IFERROR(INDEX('Daten Szenarien'!$I$17:$J$58,MATCH(Szenarien!$O$12,'Daten Szenarien'!$I$17:$I$58,0),2),\"\")","v":"1. Unrealistische Kombination aller Inputvariablen mit negtativem Verlauf"},{"$nulls":7},{"$f":"IFERROR(INDEX('Daten Szenarien'!$I$17:$J$58,MATCH(Szenarien!$W$12,'Daten Szenarien'!$I$17:$I$58,0),2),\"\")","v":"1. Wechsel von stark inflationärem Umfeld zu konjunkturellen Abkühlung/tieferer Inflation und danach Stabilisierung"}]
[null,"Systemeingabe überschreibbar",{"$nulls":3},{"$f":"IFERROR(INDEX('Daten Szenarien'!$I$17:$J$58,MATCH(Szenarien!$F$12,'Daten Szenarien'!$I$17:$I$58,0)+1,2),\"\")","v":"Bei den Angaben handelt es sich um mittelfristige Durchschnittswerte."},{"$nulls":8},{"$f":"IFERROR(INDEX('Daten Szenarien'!$I$17:$J$58,MATCH(Szenarien!$O$12,'Daten Szenarien'!$I$17:$I$58,0)+1,2),\"\")","v":"2. Wahrscheinlichkeit für dieses Szenario sehr gering"},{"$nulls":7},{"$f":"IFERROR(INDEX('Daten Szenarien'!$I$17:$J$58,MATCH(Szenarien!$W$12,'Daten Szenarien'!$I$17:$I$58,0)+1,2),\"\")","v":0}]
[null,"Systemeingabe nicht überschreibbar",{"$nulls":3},{"$f":"IFERROR(INDEX('Daten Szenarien'!$I$17:$J$58,MATCH(Szenarien!$F$12,'Daten Szenarien'!$I$17:$I$58,0)+2,2),\"\")","v":0},{"$nulls":8},{"$f":"IFERROR(INDEX('Daten Szenarien'!$I$17:$J$58,MATCH(Szenarien!$O$12,'Daten Szenarien'!$I$17:$I$58,0)+2,2),\"\")","v":"3. Verlauf der Inputvariablen widersprechen sich teilweise"},{"$nulls":7},{"$f":"IFERROR(INDEX('Daten Szenarien'!$I$17:$J$58,MATCH(Szenarien!$W$12,'Daten Szenarien'!$I$17:$I$58,0)+2,2),\"\")","v":"3. Weltweit politische Spannungen und teilweise Deglobalisierung, Dekarbonisierung, Demogarphie (3D) sind inflationstreibend"}]
[null,"Weitere Infos im Hintergrund",{"$nulls":3},{"$f":"IFERROR(INDEX('Daten Szenarien'!$I$17:$J$58,MATCH(Szenarien!$F$12,'Daten Szenarien'!$I$17:$I$58,0)+3,2),\"\")","v":0},{"$nulls":8},{"$f":"IFERROR(INDEX('Daten Szenarien'!$I$17:$J$58,MATCH(Szenarien!$O$12,'Daten Szenarien'!$I$17:$I$58,0)+3,2),\"\")","v":0},{"$nulls":7},{"$f":"IFERROR(INDEX('Daten Szenarien'!$I$17:$J$58,MATCH(Szenarien!$W$12,'Daten Szenarien'!$I$17:$I$58,0)+3,2),\"\")","v":"4. Inflation fällt deutlich, bleibt aber auch langfristig über dem 2%-Zielwert der Notenbanken (aus strukturellen Gründen, 3D)"}]
[{"$nulls":5},{"$f":"IFERROR(INDEX('Daten Szenarien'!$I$17:$J$58,MATCH(Szenarien!$F$12,'Daten Szenarien'!$I$17:$I$58,0)+4,2),\"\")","v":0},{"$nulls":8},{"$f":"IFERROR(INDEX('Daten Szenarien'!$I$17:$J$58,MATCH(Szenarien!$O$12,'Daten Szenarien'!$I$17:$I$58,0)+4,2),\"\")","v":0},{"$nulls":7},{"$f":"IFERROR(INDEX('Daten Szenarien'!$I$17:$J$58,MATCH(Szenarien!$W$12,'Daten Szenarien'!$I$17:$I$58,0)+4,2),\"\")","v":"5.  Wirtschaftswachstum zunächst gebremst durch restriktivere Geldpolitik - danach Lockerung und \"Goldilocks-Light -Umfeld\""}]
[{"$nulls":5},{"$f":"IFERROR(INDEX('Daten Szenarien'!$I$17:$J$58,MATCH(Szenarien!$F$12,'Daten Szenarien'!$I$17:$I$58,0)+5,2),\"\")","v":0},{"$nulls":8},{"$f":"IFERROR(INDEX('Daten Szenarien'!$I$17:$J$58,MATCH(Szenarien!$O$12,'Daten Szenarien'!$I$17:$I$58,0)+5,2),\"\")","v":0},{"$nulls":7},{"$f":"IFERROR(INDEX('Daten Szenarien'!$I$17:$J$58,MATCH(Szenarien!$W$12,'Daten Szenarien'!$I$17:$I$58,0)+5,2),\"\")","v":"6. Staatsverschuldung steigt - Kompensation für restriktive Geldpolitik und weniger \"Helikoptergeld\" für den Staat"}]
[{"$nulls":5},"Volkswirtschaftliche Koordinaten",{"$nulls":8},{"$f":"F19","v":"Volkswirtschaftliche Koordinaten"},{"$nulls":7},{"$f":"F19","v":"Volkswirtschaftliche Koordinaten"}]
[{"$nulls":7},{"$f":"Einstellungen!G13","v":2024},{"$f":"H20+1","v":2025},{"$f":"I20+1","v":2026},{"$f":"J20+1","v":2027},{"$f":"K20+1","v":2028},{"$nulls":3},{"$f":"H20","v":2024},{"$f":"I20","v":2025},{"$f":"J20","v":2026},{"$f":"K20","v":2027},{"$f":"L20","v":2028},{"$nulls":3},{"$f":"P20","v":2024},{"$f":"Q20","v":2025},{"$f":"R20","v":2026},{"$f":"S20","v":2027},{"$f":"T20","v":2028}]
[{"$nulls":5},{"$f":"'Daten Szenarien'!A4","v":"Geldentwertung"},null,{"$f":"INDEX('Daten Szenarien'!$B$16:$G$22,MATCH(Szenarien!$F12,'Daten Szenarien'!$B$16:$B$22,0),2)","v":{"v":0,"d":"0.0%"}},{"$f":"INDEX('Daten Szenarien'!$B$16:$G$22,MATCH(Szenarien!$F12,'Daten Szenarien'!$B$16:$B$22,0),3)","v":{"v":0,"d":"0.0%"}},{"$f":"INDEX('Daten Szenarien'!$B$16:$G$22,MATCH(Szenarien!$F12,'Daten Szenarien'!$B$16:$B$22,0),4)","v":{"v":0,"d":"0.0%"}},{"$f":"INDEX('Daten Szenarien'!$B$16:$G$22,MATCH(Szenarien!$F12,'Daten Szenarien'!$B$16:$B$22,0),5)","v":{"v":0,"d":"0.0%"}},{"$f":"INDEX('Daten Szenarien'!$B$16:$G$22,MATCH(Szenarien!$F12,'Daten Szenarien'!$B$16:$B$22,0),6)","v":{"v":0,"d":"0.0%"}},null,null,{"$f":"F21","v":"Geldentwertung"},{"$f":"INDEX('Daten Szenarien'!$B$17:$G$22,MATCH(Szenarien!$O12,'Daten Szenarien'!$B$17:$B$22,0),2)","v":{"v":0.03,"d":"3.0%"}},{"$f":"INDEX('Daten Szenarien'!$B$17:$G$22,MATCH(Szenarien!$O$12,'Daten Szenarien'!$B$17:$B$22,0),3)","v":{"v":0.05,"d":"5.0%"}},{"$f":"INDEX('Daten Szenarien'!$B$17:$G$22,MATCH(Szenarien!$O$12,'Daten Szenarien'!$B$17:$B$22,0),4)","v":{"v":0.06,"d":"6.0%"}},{"$f":"INDEX('Daten Szenarien'!$B$17:$G$22,MATCH(Szenarien!$O$12,'Daten Szenarien'!$B$17:$B$22,0),5)","v":{"v":0.07,"d":"7.0%"}},{"$f":"INDEX('Daten Szenarien'!$B$17:$G$22,MATCH(Szenarien!$O$12,'Daten Szenarien'!$B$17:$B$22,0),6)","v":{"v":0.06,"d":"6.0%"}},null,null,{"$f":"O21","v":"Geldentwertung"},{"$f":"INDEX('Daten Szenarien'!$B$17:$G$22,MATCH(Szenarien!$W12,'Daten Szenarien'!$B$17:$B$22,0),2)","v":{"v":0.06,"d":"6.0%"}},{"$f":"INDEX('Daten Szenarien'!$B$17:$G$22,MATCH(Szenarien!$W$12,'Daten Szenarien'!$B$17:$B$22,0),3)","v":{"v":0.03,"d":"3.0%"}},{"$f":"INDEX('Daten Szenarien'!$B$17:$G$22,MATCH(Szenarien!$W$12,'Daten Szenarien'!$B$17:$B$22,0),4)","v":{"v":0.03,"d":"3.0%"}},{"$f":"INDEX('Daten Szenarien'!$B$17:$G$22,MATCH(Szenarien!$W$12,'Daten Szenarien'!$B$17:$B$22,0),5)","v":{"v":0.03,"d":"3.0%"}},{"$f":"INDEX('Daten Szenarien'!$B$17:$G$22,MATCH(Szenarien!$W$12,'Daten Szenarien'!$B$17:$B$22,0),6)","v":{"v":0.03,"d":"3.0%"}}]
[null,"Die volkswirtschaftliche Expertise",{"$nulls":3},{"$f":"'Daten Szenarien'!A5","v":"Wachstum real"},null,{"$f":"INDEX('Daten Szenarien'!$B$25:$G$31,MATCH(Szenarien!$F$12,'Daten Szenarien'!$B$25:$B$31,0),2)","v":{"v":0.03,"d":"3.0%"}},{"$f":"INDEX('Daten Szenarien'!$B$25:$G$31,MATCH(Szenarien!$F$12,'Daten Szenarien'!$B$25:$B$31,0),3)","v":{"v":0.03,"d":"3.0%"}},{"$f":"INDEX('Daten Szenarien'!$B$25:$G$31,MATCH(Szenarien!$F$12,'Daten Szenarien'!$B$25:$B$31,0),4)","v":{"v":0.03,"d":"3.0%"}},{"$f":"INDEX('Daten Szenarien'!$B$25:$G$31,MATCH(Szenarien!$F$12,'Daten Szenarien'!$B$25:$B$31,0),5)","v":{"v":0.03,"d":"3.0%"}},{"$f":"INDEX('Daten Szenarien'!$B$25:$G$31,MATCH(Szenarien!$F$12,'Daten Szenarien'!$B$25:$B$31,0),6)","v":{"v":0.03,"d":"3.0%"}},null,null,"Wachstum real",{"$f":"INDEX('Daten Szenarien'!$B$26:$G$31,MATCH(Szenarien!$O$12,'Daten Szenarien'!$B$26:$B$31,0),2)","v":{"v":0,"d":"0.0%"}},{"$f":"INDEX('Daten Szenarien'!$B$26:$G$31,MATCH(Szenarien!$O$12,'Daten Szenarien'!$B$26:$B$31,0),3)","v":{"v":-0.02,"d":"-2.0%"}},{"$f":"INDEX('Daten Szenarien'!$B$26:$G$31,MATCH(Szenarien!$O$12,'Daten Szenarien'!$B$26:$B$31,0),4)","v":{"v":-0.04,"d":"-4.0%"}},{"$f":"INDEX('Daten Szenarien'!$B$26:$G$31,MATCH(Szenarien!$O$12,'Daten Szenarien'!$B$26:$B$31,0),5)","v":{"v":-0.02,"d":"-2.0%"}},{"$f":"INDEX('Daten Szenarien'!$B$26:$G$31,MATCH(Szenarien!$O$12,'Daten Szenarien'!$B$26:$B$31,0),6)","v":{"v":-0.02,"d":"-2.0%"}},null,null,"Wachstum real",{"$f":"INDEX('Daten Szenarien'!$B$26:$G$31,MATCH(Szenarien!$W$12,'Daten Szenarien'!$B$26:$B$31,0),2)","v":{"v":-0.01,"d":"-1.0%"}},{"$f":"INDEX('Daten Szenarien'!$B$26:$G$31,MATCH(Szenarien!$W$12,'Daten Szenarien'!$B$26:$B$31,0),3)","v":{"v":0.01,"d":"1.0%"}},{"$f":"INDEX('Daten Szenarien'!$B$26:$G$31,MATCH(Szenarien!$W$12,'Daten Szenarien'!$B$26:$B$31,0),4)","v":{"v":0.02,"d":"2.0%"}},{"$f":"INDEX('Daten Szenarien'!$B$26:$G$31,MATCH(Szenarien!$W$12,'Daten Szenarien'!$B$26:$B$31,0),5)","v":{"v":0.03,"d":"3.0%"}},{"$f":"INDEX('Daten Szenarien'!$B$26:$G$31,MATCH(Szenarien!$W$12,'Daten Szenarien'!$B$26:$B$31,0),6)","v":{"v":0.03,"d":"3.0%"}}]
[null,"wird zur Verfügung gestellt von:",{"$nulls":3},{"$f":"'Daten Szenarien'!A6","v":"Arbeitslosigkeit"},null,{"$f":"INDEX('Daten Szenarien'!$B$34:$G$40,MATCH(Szenarien!$F$12,'Daten Szenarien'!$B$34:$B$40,0),2)","v":{"v":0.02,"d":"2.0%"}},{"$f":"INDEX('Daten Szenarien'!$B$34:$G$40,MATCH(Szenarien!$F$12,'Daten Szenarien'!$B$34:$B$40,0),3)","v":{"v":0.02,"d":"2.0%"}},{"$f":"INDEX('Daten Szenarien'!$B$34:$G$40,MATCH(Szenarien!$F$12,'Daten Szenarien'!$B$34:$B$40,0),4)","v":{"v":0.02,"d":"2.0%"}},{"$f":"INDEX('Daten Szenarien'!$B$34:$G$40,MATCH(Szenarien!$F$12,'Daten Szenarien'!$B$34:$B$40,0),5)","v":{"v":0.02,"d":"2.0%"}},{"$f":"INDEX('Daten Szenarien'!$B$34:$G$40,MATCH(Szenarien!$F$12,'Daten Szenarien'!$B$34:$B$40,0),6)","v":{"v":0.02,"d":"2.0%"}},null,null,"Arbeitslosigkeit",{"$f":"INDEX('Daten Szenarien'!$B$35:$G$40,MATCH(Szenarien!$O$12,'Daten Szenarien'!$B$35:$B$40,0),2)","v":{"v":0.1,"d":"10.0%"}},{"$f":"INDEX('Daten Szenarien'!$B$35:$G$40,MATCH(Szenarien!$O$12,'Daten Szenarien'!$B$35:$B$40,0),3)","v":{"v":0.1,"d":"10.0%"}},{"$f":"INDEX('Daten Szenarien'!$B$35:$G$40,MATCH(Szenarien!$O$12,'Daten Szenarien'!$B$35:$B$40,0),4)","v":{"v":0.11,"d":"11.0%"}},{"$f":"INDEX('Daten Szenarien'!$B$35:$G$40,MATCH(Szenarien!$O$12,'Daten Szenarien'!$B$35:$B$40,0),5)","v":{"v":0.1,"d":"10.0%"}},{"$f":"INDEX('Daten Szenarien'!$B$35:$G$40,MATCH(Szenarien!$O$12,'Daten Szenarien'!$B$35:$B$40,0),6)","v":{"v":0.08,"d":"8.0%"}},null,null,"Arbeitslosigkeit",{"$f":"INDEX('Daten Szenarien'!$B$35:$G$40,MATCH(Szenarien!$W$12,'Daten Szenarien'!$B$35:$B$40,0),2)","v":{"v":0.05,"d":"5.0%"}},{"$f":"INDEX('Daten Szenarien'!$B$35:$G$40,MATCH(Szenarien!$W$12,'Daten Szenarien'!$B$35:$B$40,0),3)","v":{"v":0.04,"d":"4.0%"}},{"$f":"INDEX('Daten Szenarien'!$B$35:$G$40,MATCH(Szenarien!$W$12,'Daten Szenarien'!$B$35:$B$40,0),4)","v":{"v":0.04,"d":"4.0%"}},{"$f":"INDEX('Daten Szenarien'!$B$35:$G$40,MATCH(Szenarien!$W$12,'Daten Szenarien'!$B$35:$B$40,0),5)","v":{"v":0.04,"d":"4.0%"}},{"$f":"INDEX('Daten Szenarien'!$B$35:$G$40,MATCH(Szenarien!$W$12,'Daten Szenarien'!$B$35:$B$40,0),6)","v":{"v":0.04,"d":"4.0%"}}]
[{"$nulls":5},{"$f":"'Daten Szenarien'!A7","v":"Staatsverschuldung real"},null,{"$f":"INDEX('Daten Szenarien'!$B$43:$G$49,MATCH(Szenarien!$F$12,'Daten Szenarien'!$B$43:$B$49,0),2)","v":{"v":0.03,"d":"3.0%"}},{"$f":"INDEX('Daten Szenarien'!$B$43:$G$49,MATCH(Szenarien!$F$12,'Daten Szenarien'!$B$43:$B$49,0),3)","v":{"v":0.03,"d":"3.0%"}},{"$f":"INDEX('Daten Szenarien'!$B$43:$G$49,MATCH(Szenarien!$F$12,'Daten Szenarien'!$B$43:$B$49,0),4)","v":{"v":0.03,"d":"3.0%"}},{"$f":"INDEX('Daten Szenarien'!$B$43:$G$49,MATCH(Szenarien!$F$12,'Daten Szenarien'!$B$43:$B$49,0),5)","v":{"v":0.03,"d":"3.0%"}},{"$f":"INDEX('Daten Szenarien'!$B$43:$G$49,MATCH(Szenarien!$F$12,'Daten Szenarien'!$B$43:$B$49,0),6)","v":{"v":0.03,"d":"3.0%"}},null,null,"Staatsverschuldung real",{"$f":"INDEX('Daten Szenarien'!$B$44:$G$49,MATCH(Szenarien!$O$12,'Daten Szenarien'!$B$44:$B$49,0),2)","v":{"v":0.05,"d":"5.0%"}},{"$f":"INDEX('Daten Szenarien'!$B$44:$G$49,MATCH(Szenarien!$O$12,'Daten Szenarien'!$B$44:$B$49,0),3)","v":{"v":0.05,"d":"5.0%"}},{"$f":"INDEX('Daten Szenarien'!$B$44:$G$49,MATCH(Szenarien!$O$12,'Daten Szenarien'!$B$44:$B$49,0),4)","v":{"v":0.08,"d":"8.0%"}},{"$f":"INDEX('Daten Szenarien'!$B$44:$G$49,MATCH(Szenarien!$O$12,'Daten Szenarien'!$B$44:$B$49,0),5)","v":{"v":0.05,"d":"5.0%"}},{"$f":"INDEX('Daten Szenarien'!$B$44:$G$49,MATCH(Szenarien!$O$12,'Daten Szenarien'!$B$44:$B$49,0),6)","v":{"v":0.03,"d":"3.0%"}},null,null,"Staatsverschuldung real",{"$f":"INDEX('Daten Szenarien'!$B$44:$G$49,MATCH(Szenarien!$W$12,'Daten Szenarien'!$B$44:$B$49,0),2)","v":{"v":0.04,"d":"4.0%"}},{"$f":"INDEX('Daten Szenarien'!$B$44:$G$49,MATCH(Szenarien!$W$12,'Daten Szenarien'!$B$44:$B$49,0),3)","v":{"v":0.05,"d":"5.0%"}},{"$f":"INDEX('Daten Szenarien'!$B$44:$G$49,MATCH(Szenarien!$W$12,'Daten Szenarien'!$B$44:$B$49,0),4)","v":{"v":0.05,"d":"5.0%"}},{"$f":"INDEX('Daten Szenarien'!$B$44:$G$49,MATCH(Szenarien!$W$12,'Daten Szenarien'!$B$44:$B$49,0),5)","v":{"v":0.05,"d":"5.0%"}},{"$f":"INDEX('Daten Szenarien'!$B$44:$G$49,MATCH(Szenarien!$W$12,'Daten Szenarien'!$B$44:$B$49,0),6)","v":{"v":0.05,"d":"5.0%"}}]
[{"$nulls":5},{"$f":"'Daten Szenarien'!A8","v":"Geldpolitik"},null,{"$f":"INDEX('Daten Szenarien'!$B$52:$G$58,MATCH(Szenarien!$F$12,'Daten Szenarien'!$B$52:$B$58,0),2)","v":"k.A."},{"$f":"INDEX('Daten Szenarien'!$B$52:$G$58,MATCH(Szenarien!$F$12,'Daten Szenarien'!$B$52:$B$58,0),3)","v":"k.A."},{"$f":"INDEX('Daten Szenarien'!$B$52:$G$58,MATCH(Szenarien!$F$12,'Daten Szenarien'!$B$52:$B$58,0),4)","v":"k.A."},{"$f":"INDEX('Daten Szenarien'!$B$52:$G$58,MATCH(Szenarien!$F$12,'Daten Szenarien'!$B$52:$B$58,0),5)","v":"k.A."},{"$f":"INDEX('Daten Szenarien'!$B$52:$G$58,MATCH(Szenarien!$F$12,'Daten Szenarien'!$B$52:$B$58,0),6)","v":"k.A."},null,null,"Geldpolitik",{"$f":"INDEX('Daten Szenarien'!$B$53:$G$58,MATCH(Szenarien!$O$12,'Daten Szenarien'!$B$53:$B$58,0),2)","v":"restriktiv"},{"$f":"INDEX('Daten Szenarien'!$B$53:$G$58,MATCH(Szenarien!$O$12,'Daten Szenarien'!$B$53:$B$58,0),3)","v":"restriktiv"},{"$f":"INDEX('Daten Szenarien'!$B$53:$G$58,MATCH(Szenarien!$O$12,'Daten Szenarien'!$B$53:$B$58,0),4)","v":"restriktiv"},{"$f":"INDEX('Daten Szenarien'!$B$53:$G$58,MATCH(Szenarien!$O$12,'Daten Szenarien'!$B$53:$B$58,0),5)","v":"restriktiv"},{"$f":"INDEX('Daten Szenarien'!$B$53:$G$58,MATCH(Szenarien!$O$12,'Daten Szenarien'!$B$53:$B$58,0),6)","v":"restriktiv"},null,null,"Geldpolitik",{"$f":"INDEX('Daten Szenarien'!$B$53:$G$58,MATCH(Szenarien!$W$12,'Daten Szenarien'!$B$53:$B$58,0),2)","v":"restriktiv"},{"$f":"INDEX('Daten Szenarien'!$B$53:$G$58,MATCH(Szenarien!$W$12,'Daten Szenarien'!$B$53:$B$58,0),3)","v":"neutral"},{"$f":"INDEX('Daten Szenarien'!$B$53:$G$58,MATCH(Szenarien!$W$12,'Daten Szenarien'!$B$53:$B$58,0),4)","v":"neutral/locker"},{"$f":"INDEX('Daten Szenarien'!$B$53:$G$58,MATCH(Szenarien!$W$12,'Daten Szenarien'!$B$53:$B$58,0),5)","v":"neutral/locker"},{"$f":"INDEX('Daten Szenarien'!$B$53:$G$58,MATCH(Szenarien!$W$12,'Daten Szenarien'!$B$53:$B$58,0),6)","v":"neutral/locker"}]
[null,"Ansprechpartner:",{"$nulls":3},{"$f":"'Daten Szenarien'!A9","v":"Dividendenpolitik"},null,{"$f":"INDEX('Daten Szenarien'!$B$61:$G$68,MATCH(Szenarien!$F$12,'Daten Szenarien'!$B$61:$B$68,0),2)","v":"k.A."},{"$f":"INDEX('Daten Szenarien'!$B$61:$G$68,MATCH(Szenarien!$F$12,'Daten Szenarien'!$B$61:$B$68,0),3)","v":"k.A."},{"$f":"INDEX('Daten Szenarien'!$B$61:$G$68,MATCH(Szenarien!$F$12,'Daten Szenarien'!$B$61:$B$68,0),4)","v":"k.A."},{"$f":"INDEX('Daten Szenarien'!$B$61:$G$68,MATCH(Szenarien!$F$12,'Daten Szenarien'!$B$61:$B$68,0),5)","v":"k.A,"},{"$f":"INDEX('Daten Szenarien'!$B$61:$G$68,MATCH(Szenarien!$F$12,'Daten Szenarien'!$B$61:$B$68,0),6)","v":"k.A."},null,null,"Dividendenpolitik",{"$f":"INDEX('Daten Szenarien'!$B$62:$G$68,MATCH(Szenarien!$O$12,'Daten Szenarien'!$B$62:$B$68,0),2)","v":"steigend"},{"$f":"INDEX('Daten Szenarien'!$B$62:$G$68,MATCH(Szenarien!$O$12,'Daten Szenarien'!$B$62:$B$68,0),3)","v":"neutral"},{"$f":"INDEX('Daten Szenarien'!$B$62:$G$68,MATCH(Szenarien!$O$12,'Daten Szenarien'!$B$62:$B$68,0),4)","v":"steigend"},{"$f":"INDEX('Daten Szenarien'!$B$62:$G$68,MATCH(Szenarien!$O$12,'Daten Szenarien'!$B$62:$B$68,0),5)","v":"neutral"},{"$f":"INDEX('Daten Szenarien'!$B$62:$G$68,MATCH(Szenarien!$O$12,'Daten Szenarien'!$B$62:$B$68,0),6)","v":"steigend"},null,null,"Dividendenpolitik",{"$f":"INDEX('Daten Szenarien'!$B$62:$G$68,MATCH(Szenarien!$W$12,'Daten Szenarien'!$B$62:$B$68,0),2)","v":"fallend"},{"$f":"INDEX('Daten Szenarien'!$B$62:$G$68,MATCH(Szenarien!$W$12,'Daten Szenarien'!$B$62:$B$68,0),3)","v":"neutral"},{"$f":"INDEX('Daten Szenarien'!$B$62:$G$68,MATCH(Szenarien!$W$12,'Daten Szenarien'!$B$62:$B$68,0),4)","v":"steigend"},{"$f":"INDEX('Daten Szenarien'!$B$62:$G$68,MATCH(Szenarien!$W$12,'Daten Szenarien'!$B$62:$B$68,0),5)","v":"steigend"},{"$f":"INDEX('Daten Szenarien'!$B$62:$G$68,MATCH(Szenarien!$W$12,'Daten Szenarien'!$B$62:$B$68,0),6)","v":"steigend"}]
[null,"Beat Thoma"]
[{"$nulls":5},"Gesamtrendite pro Anlageklasse",{"$nulls":8},{"$f":"F28","v":"Gesamtrendite pro Anlageklasse"},{"$nulls":7},{"$f":"O28","v":"Gesamtrendite pro Anlageklasse"}]
[]
[{"$nulls":5},"Anlageklasse",null,{"$f":"H20","v":2024},{"$f":"I20","v":2025},{"$f":"J20","v":2026},{"$f":"K20","v":2027},{"$f":"L20","v":2028},null,null,"Anlageklasse",{"$f":"P20","v":2024},{"$f":"Q20","v":2025},{"$f":"R20","v":2026},{"$f":"S20","v":2027},{"$f":"T20","v":2028},null,null,"Anlageklasse",{"$f":"X20","v":2024},{"$f":"Y20","v":2025},{"$f":"Z20","v":2026},{"$f":"AA20","v":2027},{"$f":"AB20","v":2028}]
[{"$nulls":5},{"$f":"Daten_Vermögen!B7","v":"Aktien"},null,{"$f":"('Daten Projektion'!O66-'Daten Projektion'!N66)/'Daten Projektion'!N$75","v":{"$error":"#DIV/0!"}},{"$f":"('Daten Projektion'!P66-'Daten Projektion'!O66)/'Daten Projektion'!O$75","v":{"$error":"#DIV/0!"}},{"$f":"('Daten Projektion'!Q66-'Daten Projektion'!P66)/'Daten Projektion'!P$75","v":{"$error":"#DIV/0!"}},{"$f":"('Daten Projektion'!R66-'Daten Projektion'!Q66)/'Daten Projektion'!Q$75","v":{"$error":"#DIV/0!"}},{"$f":"('Daten Projektion'!S66-'Daten Projektion'!R66)/'Daten Projektion'!R$75","v":{"$error":"#DIV/0!"}},null,null,{"$f":"F31","v":"Aktien"},{"$f":"INDEX('Daten Szenarien'!$B$72:$G$77,MATCH(Szenarien!$O$12,'Daten Szenarien'!$B$72:$B$77,0),'Daten Szenarien'!C$69)","v":{"v":-0.05,"d":"-5.0%"}},{"$f":"INDEX('Daten Szenarien'!$B$72:$G$77,MATCH(Szenarien!$O$12,'Daten Szenarien'!$B$72:$B$77,0),'Daten Szenarien'!D$69)","v":{"v":-0.1,"d":"-10.0%"}},{"$f":"INDEX('Daten Szenarien'!$B$72:$G$77,MATCH(Szenarien!$O$12,'Daten Szenarien'!$B$72:$B$77,0),'Daten Szenarien'!E$69)","v":{"v":-0.05,"d":"-5.0%"}},{"$f":"INDEX('Daten Szenarien'!$B$72:$G$77,MATCH(Szenarien!$O$12,'Daten Szenarien'!$B$72:$B$77,0),'Daten Szenarien'!F$69)","v":{"v":-0.08,"d":"-8.0%"}},{"$f":"INDEX('Daten Szenarien'!$B$72:$G$77,MATCH(Szenarien!$O$12,'Daten Szenarien'!$B$72:$B$77,0),'Daten Szenarien'!G$69)","v":{"v":-0.05,"d":"-5.0%"}},null,null,{"$f":"O31","v":"Aktien"},{"$f":"INDEX('Daten Szenarien'!$B$72:$G$77,MATCH(Szenarien!$W$12,'Daten Szenarien'!$B$72:$B$77,0),'Daten Szenarien'!C$69)","v":{"v":-0.05,"d":"-5.0%"}},{"$f":"INDEX('Daten Szenarien'!$B$72:$G$77,MATCH(Szenarien!$W$12,'Daten Szenarien'!$B$72:$B$77,0),'Daten Szenarien'!D$69)","v":{"v":0.06,"d":"6.0%"}},{"$f":"INDEX('Daten Szenarien'!$B$72:$G$77,MATCH(Szenarien!$W$12,'Daten Szenarien'!$B$72:$B$77,0),'Daten Szenarien'!E$69)","v":{"v":0.07,"d":"7.0%"}},{"$f":"INDEX('Daten Szenarien'!$B$72:$G$77,MATCH(Szenarien!$W$12,'Daten Szenarien'!$B$72:$B$77,0),'Daten Szenarien'!F$69)","v":{"v":0.08,"d":"8.0%"}},{"$f":"INDEX('Daten Szenarien'!$B$72:$G$77,MATCH(Szenarien!$W$12,'Daten Szenarien'!$B$72:$B$77,0),'Daten Szenarien'!G$69)","v":{"v":0.08,"d":"8.0%"}}]
[{"$nulls":5},{"$f":"Daten_Vermögen!B8","v":"Anleihen"},null,{"$f":"('Daten Projektion'!O67-'Daten Projektion'!N67)/'Daten Projektion'!N$75","v":{"$error":"#DIV/0!"}},{"$f":"('Daten Projektion'!P67-'Daten Projektion'!O67)/'Daten Projektion'!O$75","v":{"$error":"#DIV/0!"}},{"$f":"('Daten Projektion'!Q67-'Daten Projektion'!P67)/'Daten Projektion'!P$75","v":{"$error":"#DIV/0!"}},{"$f":"('Daten Projektion'!R67-'Daten Projektion'!Q67)/'Daten Projektion'!Q$75","v":{"$error":"#DIV/0!"}},{"$f":"('Daten Projektion'!S67-'Daten Projektion'!R67)/'Daten Projektion'!R$75","v":{"$error":"#DIV/0!"}},null,null,"Anleihen",{"$f":"INDEX('Daten Szenarien'!$B$81:$G$86,MATCH(Szenarien!$O$12,'Daten Szenarien'!$B$81:$B$86,0),'Daten Szenarien'!C$69)","v":{"v":-0.016000000000000007,"d":"-1.6%"}},{"$f":"INDEX('Daten Szenarien'!$B$81:$G$86,MATCH(Szenarien!$O$12,'Daten Szenarien'!$B$81:$B$86,0),'Daten Szenarien'!D$69)","v":{"v":-0.08000000000000003,"d":"-8.0%"}},{"$f":"INDEX('Daten Szenarien'!$B$81:$G$86,MATCH(Szenarien!$O$12,'Daten Szenarien'!$B$81:$B$86,0),'Daten Szenarien'!E$69)","v":{"v":-0.06799999999999999,"d":"-6.8%"}},{"$f":"INDEX('Daten Szenarien'!$B$81:$G$86,MATCH(Szenarien!$O$12,'Daten Szenarien'!$B$81:$B$86,0),'Daten Szenarien'!F$69)","v":{"v":-0.06800000000000003,"d":"-6.8%"}},{"$f":"INDEX('Daten Szenarien'!$B$81:$G$86,MATCH(Szenarien!$O$12,'Daten Szenarien'!$B$81:$B$86,0),'Daten Szenarien'!G$69)","v":{"v":-0.034,"d":"-3.4%"}},null,null,{"$f":"O32","v":"Anleihen"},{"$f":"INDEX('Daten Szenarien'!$B$81:$G$86,MATCH(Szenarien!$W$12,'Daten Szenarien'!$B$81:$B$86,0),'Daten Szenarien'!C$69)","v":{"v":-0.07600000000000001,"d":"-7.6%"}},{"$f":"INDEX('Daten Szenarien'!$B$81:$G$86,MATCH(Szenarien!$W$12,'Daten Szenarien'!$B$81:$B$86,0),'Daten Szenarien'!D$69)","v":{"v":0.08400000000000002,"d":"8.4%"}},{"$f":"INDEX('Daten Szenarien'!$B$81:$G$86,MATCH(Szenarien!$W$12,'Daten Szenarien'!$B$81:$B$86,0),'Daten Szenarien'!E$69)","v":{"v":0.028,"d":"2.8%"}},{"$f":"INDEX('Daten Szenarien'!$B$81:$G$86,MATCH(Szenarien!$W$12,'Daten Szenarien'!$B$81:$B$86,0),'Daten Szenarien'!F$69)","v":{"v":0.012,"d":"1.2%"}},{"$f":"INDEX('Daten Szenarien'!$B$81:$G$86,MATCH(Szenarien!$W$12,'Daten Szenarien'!$B$81:$B$86,0),'Daten Szenarien'!G$69)","v":{"v":0.014,"d":"1.4%"}}]
[{"$nulls":5},{"$f":"Daten_Vermögen!B9","v":"Alternative Inv."},null,{"$f":"('Daten Projektion'!O68-'Daten Projektion'!N68)/'Daten Projektion'!N$75","v":{"$error":"#DIV/0!"}},{"$f":"('Daten Projektion'!P68-'Daten Projektion'!O68)/'Daten Projektion'!O$75","v":{"$error":"#DIV/0!"}},{"$f":"('Daten Projektion'!Q68-'Daten Projektion'!P68)/'Daten Projektion'!P$75","v":{"$error":"#DIV/0!"}},{"$f":"('Daten Projektion'!R68-'Daten Projektion'!Q68)/'Daten Projektion'!Q$75","v":{"$error":"#DIV/0!"}},{"$f":"('Daten Projektion'!S68-'Daten Projektion'!R68)/'Daten Projektion'!R$75","v":{"$error":"#DIV/0!"}},null,null,{"$f":"F33","v":"Alternative Inv."},{"$f":"INDEX('Daten Szenarien'!$B$90:$G$95,MATCH(Szenarien!$O$12,'Daten Szenarien'!$B$90:$B$95,0),'Daten Szenarien'!C$69)","v":{"v":-0.05,"d":"-5.0%"}},{"$f":"INDEX('Daten Szenarien'!$B$90:$G$95,MATCH(Szenarien!$O$12,'Daten Szenarien'!$B$90:$B$95,0),'Daten Szenarien'!D$69)","v":{"v":-0.1,"d":"-10.0%"}},{"$f":"INDEX('Daten Szenarien'!$B$90:$G$95,MATCH(Szenarien!$O$12,'Daten Szenarien'!$B$90:$B$95,0),'Daten Szenarien'!E$69)","v":{"v":-0.06,"d":"-6.0%"}},{"$f":"INDEX('Daten Szenarien'!$B$90:$G$95,MATCH(Szenarien!$O$12,'Daten Szenarien'!$B$90:$B$95,0),'Daten Szenarien'!F$69)","v":{"v":-0.1,"d":"-10.0%"}},{"$f":"INDEX('Daten Szenarien'!$B$90:$G$95,MATCH(Szenarien!$O$12,'Daten Szenarien'!$B$90:$B$95,0),'Daten Szenarien'!G$69)","v":{"v":-0.06,"d":"-6.0%"}},null,null,"Alternative Inv.",{"$f":"INDEX('Daten Szenarien'!$B$90:$G$95,MATCH(Szenarien!$W$12,'Daten Szenarien'!$B$90:$B$95,0),'Daten Szenarien'!C$69)","v":{"v":-0.03,"d":"-3.0%"}},{"$f":"INDEX('Daten Szenarien'!$B$90:$G$95,MATCH(Szenarien!$W$12,'Daten Szenarien'!$B$90:$B$95,0),'Daten Szenarien'!D$69)","v":{"v":0.06,"d":"6.0%"}},{"$f":"INDEX('Daten Szenarien'!$B$90:$G$95,MATCH(Szenarien!$W$12,'Daten Szenarien'!$B$90:$B$95,0),'Daten Szenarien'!E$69)","v":{"v":0.06,"d":"6.0%"}},{"$f":"INDEX('Daten Szenarien'!$B$90:$G$95,MATCH(Szenarien!$W$12,'Daten Szenarien'!$B$90:$B$95,0),'Daten Szenarien'!F$69)","v":{"v":0.08,"d":"8.0%"}},{"$f":"INDEX('Daten Szenarien'!$B$90:$G$95,MATCH(Szenarien!$W$12,'Daten Szenarien'!$B$90:$B$95,0),'Daten Szenarien'!G$69)","v":{"v":0.08,"d":"8.0%"}}]
[null,"Weiter zu",{"$nulls":3},{"$f":"Daten_Vermögen!B10","v":"Rohstoffe"},null,{"v":0,"d":"0.0%"},{"$f":"('Daten Projektion'!P69-'Daten Projektion'!O69)/'Daten Projektion'!O$75","v":{"$error":"#DIV/0!"}},{"$f":"('Daten Projektion'!Q69-'Daten Projektion'!P69)/'Daten Projektion'!P$75","v":{"$error":"#DIV/0!"}},{"$f":"('Daten Projektion'!R69-'Daten Projektion'!Q69)/'Daten Projektion'!Q$75","v":{"$error":"#DIV/0!"}},{"$f":"('Daten Projektion'!S69-'Daten Projektion'!R69)/'Daten Projektion'!R$75","v":{"$error":"#DIV/0!"}},null,null,{"$f":"F34","v":"Rohstoffe"},{"$f":"INDEX('Daten Szenarien'!$B$99:$G$104,MATCH(Szenarien!$O$12,'Daten Szenarien'!$B$99:$B$104,0),'Daten Szenarien'!C$69)","v":{"v":0.05,"d":"5.0%"}},{"$f":"INDEX('Daten Szenarien'!$B$99:$G$104,MATCH(Szenarien!$O$12,'Daten Szenarien'!$B$99:$B$104,0),'Daten Szenarien'!D$69)","v":{"v":-0.08,"d":"-8.0%"}},{"$f":"INDEX('Daten Szenarien'!$B$99:$G$104,MATCH(Szenarien!$O$12,'Daten Szenarien'!$B$99:$B$104,0),'Daten Szenarien'!E$69)","v":{"v":-0.1,"d":"-10.0%"}},{"$f":"INDEX('Daten Szenarien'!$B$99:$G$104,MATCH(Szenarien!$O$12,'Daten Szenarien'!$B$99:$B$104,0),'Daten Szenarien'!F$69)","v":{"v":-0.08,"d":"-8.0%"}},{"$f":"INDEX('Daten Szenarien'!$B$99:$G$104,MATCH(Szenarien!$O$12,'Daten Szenarien'!$B$99:$B$104,0),'Daten Szenarien'!G$69)","v":{"v":-0.05,"d":"-5.0%"}},null,null,"Rohstoffe",{"$f":"INDEX('Daten Szenarien'!$B$99:$G$104,MATCH(Szenarien!$W$12,'Daten Szenarien'!$B$99:$B$104,0),'Daten Szenarien'!C$69)","v":{"v":0.08,"d":"8.0%"}},{"$f":"INDEX('Daten Szenarien'!$B$99:$G$104,MATCH(Szenarien!$W$12,'Daten Szenarien'!$B$99:$B$104,0),'Daten Szenarien'!D$69)","v":{"v":0.1,"d":"10.0%"}},{"$f":"INDEX('Daten Szenarien'!$B$99:$G$104,MATCH(Szenarien!$W$12,'Daten Szenarien'!$B$99:$B$104,0),'Daten Szenarien'!E$69)","v":{"v":0.05,"d":"5.0%"}},{"$f":"INDEX('Daten Szenarien'!$B$99:$G$104,MATCH(Szenarien!$W$12,'Daten Szenarien'!$B$99:$B$104,0),'Daten Szenarien'!F$69)","v":{"v":-0.08,"d":"-8.0%"}},{"$f":"INDEX('Daten Szenarien'!$B$99:$G$104,MATCH(Szenarien!$W$12,'Daten Szenarien'!$B$99:$B$104,0),'Daten Szenarien'!G$69)","v":{"v":0.01,"d":"1.0%"}}]
[{"$nulls":5},{"$f":"Daten_Vermögen!B11","v":"Liquidität"},null,{"$f":"('Daten Projektion'!O70-'Daten Projektion'!N70)/'Daten Projektion'!N$75","v":{"$error":"#DIV/0!"}},{"$f":"('Daten Projektion'!P70-'Daten Projektion'!O70)/'Daten Projektion'!O$75","v":{"$error":"#DIV/0!"}},{"$f":"('Daten Projektion'!Q70-'Daten Projektion'!P70)/'Daten Projektion'!P$75","v":{"$error":"#DIV/0!"}},{"$f":"('Daten Projektion'!R70-'Daten Projektion'!Q70)/'Daten Projektion'!Q$75","v":{"$error":"#DIV/0!"}},{"$f":"('Daten Projektion'!S70-'Daten Projektion'!R70)/'Daten Projektion'!R$75","v":{"$error":"#DIV/0!"}},null,null,"Liquidität",{"$f":"INDEX('Daten Szenarien'!$B$108:$G$113,MATCH(Szenarien!$O$12,'Daten Szenarien'!$B$108:$B$113,0),'Daten Szenarien'!C$69)","v":{"v":0,"d":"0.0%"}},{"$f":"INDEX('Daten Szenarien'!$B$108:$G$113,MATCH(Szenarien!$O$12,'Daten Szenarien'!$B$108:$B$113,0),'Daten Szenarien'!D$69)","v":{"v":0,"d":"0.0%"}},{"$f":"INDEX('Daten Szenarien'!$B$108:$G$113,MATCH(Szenarien!$O$12,'Daten Szenarien'!$B$108:$B$113,0),'Daten Szenarien'!E$69)","v":{"v":0,"d":"0.0%"}},{"$f":"INDEX('Daten Szenarien'!$B$108:$G$113,MATCH(Szenarien!$O$12,'Daten Szenarien'!$B$108:$B$113,0),'Daten Szenarien'!F$69)","v":{"v":0,"d":"0.0%"}},{"$f":"INDEX('Daten Szenarien'!$B$108:$G$113,MATCH(Szenarien!$O$12,'Daten Szenarien'!$B$108:$B$113,0),'Daten Szenarien'!G$69)","v":{"v":0,"d":"0.0%"}},null,null,"Liquidität",{"$f":"INDEX('Daten Szenarien'!$B$108:$G$113,MATCH(Szenarien!$W$12,'Daten Szenarien'!$B$108:$B$113,0),'Daten Szenarien'!C$69)","v":{"v":0,"d":"0.0%"}},{"$f":"INDEX('Daten Szenarien'!$B$108:$G$113,MATCH(Szenarien!$W$12,'Daten Szenarien'!$B$108:$B$113,0),'Daten Szenarien'!D$69)","v":{"v":0,"d":"0.0%"}},{"$f":"INDEX('Daten Szenarien'!$B$108:$G$113,MATCH(Szenarien!$W$12,'Daten Szenarien'!$B$108:$B$113,0),'Daten Szenarien'!E$69)","v":{"v":0,"d":"0.0%"}},{"$f":"INDEX('Daten Szenarien'!$B$108:$G$113,MATCH(Szenarien!$W$12,'Daten Szenarien'!$B$108:$B$113,0),'Daten Szenarien'!F$69)","v":{"v":0,"d":"0.0%"}},{"$f":"INDEX('Daten Szenarien'!$B$108:$G$113,MATCH(Szenarien!$W$12,'Daten Szenarien'!$B$108:$B$113,0),'Daten Szenarien'!G$69)","v":{"v":0,"d":"0.0%"}}]
[{"$nulls":5},{"$f":"Daten_Vermögen!B13","v":"Immobilien"},null,{"$f":"('Daten Projektion'!O71-'Daten Projektion'!N71)/'Daten Projektion'!N$75","v":{"$error":"#DIV/0!"}},{"$f":"('Daten Projektion'!P71-'Daten Projektion'!O71)/'Daten Projektion'!O$75","v":{"$error":"#DIV/0!"}},{"$f":"('Daten Projektion'!Q71-'Daten Projektion'!P71)/'Daten Projektion'!P$75","v":{"$error":"#DIV/0!"}},{"$f":"('Daten Projektion'!R71-'Daten Projektion'!Q71)/'Daten Projektion'!Q$75","v":{"$error":"#DIV/0!"}},{"$f":"('Daten Projektion'!S71-'Daten Projektion'!R71)/'Daten Projektion'!R$75","v":{"$error":"#DIV/0!"}},null,null,"Immobilien",{"$f":"INDEX('Daten Szenarien'!$B$117:$G$122,MATCH(Szenarien!$O$12,'Daten Szenarien'!$B$117:$B$122,0),'Daten Szenarien'!C$69)","v":{"v":0.01,"d":"1.0%"}},{"$f":"INDEX('Daten Szenarien'!$B$117:$G$122,MATCH(Szenarien!$O$12,'Daten Szenarien'!$B$117:$B$122,0),'Daten Szenarien'!D$69)","v":{"v":-0.03,"d":"-3.0%"}},{"$f":"INDEX('Daten Szenarien'!$B$117:$G$122,MATCH(Szenarien!$O$12,'Daten Szenarien'!$B$117:$B$122,0),'Daten Szenarien'!E$69)","v":{"v":-0.08,"d":"-8.0%"}},{"$f":"INDEX('Daten Szenarien'!$B$117:$G$122,MATCH(Szenarien!$O$12,'Daten Szenarien'!$B$117:$B$122,0),'Daten Szenarien'!F$69)","v":{"v":-0.08,"d":"-8.0%"}},{"$f":"INDEX('Daten Szenarien'!$B$117:$G$122,MATCH(Szenarien!$O$12,'Daten Szenarien'!$B$117:$B$122,0),'Daten Szenarien'!G$69)","v":{"v":-0.08,"d":"-8.0%"}},null,null,"Immobilien",{"$f":"INDEX('Daten Szenarien'!$B$117:$G$122,MATCH(Szenarien!$W$12,'Daten Szenarien'!$B$117:$B$122,0),'Daten Szenarien'!C$69)","v":{"v":-0.01,"d":"-1.0%"}},{"$f":"INDEX('Daten Szenarien'!$B$117:$G$122,MATCH(Szenarien!$W$12,'Daten Szenarien'!$B$117:$B$122,0),'Daten Szenarien'!D$69)","v":{"v":0.04,"d":"4.0%"}},{"$f":"INDEX('Daten Szenarien'!$B$117:$G$122,MATCH(Szenarien!$W$12,'Daten Szenarien'!$B$117:$B$122,0),'Daten Szenarien'!E$69)","v":{"v":0.04,"d":"4.0%"}},{"$f":"INDEX('Daten Szenarien'!$B$117:$G$122,MATCH(Szenarien!$W$12,'Daten Szenarien'!$B$117:$B$122,0),'Daten Szenarien'!F$69)","v":{"v":0.04,"d":"4.0%"}},{"$f":"INDEX('Daten Szenarien'!$B$117:$G$122,MATCH(Szenarien!$W$12,'Daten Szenarien'!$B$117:$B$122,0),'Daten Szenarien'!G$69)","v":{"v":0.04,"d":"4.0%"}}]
[{"$nulls":5},{"$f":"Daten_Vermögen!B14","v":"Beteiligungen"},null,{"$f":"('Daten Projektion'!O72-'Daten Projektion'!N72)/'Daten Projektion'!N$75","v":{"$error":"#DIV/0!"}},{"$f":"('Daten Projektion'!P72-'Daten Projektion'!O72)/'Daten Projektion'!O$75","v":{"$error":"#DIV/0!"}},{"$f":"('Daten Projektion'!Q72-'Daten Projektion'!P72)/'Daten Projektion'!P$75","v":{"$error":"#DIV/0!"}},{"$f":"('Daten Projektion'!R72-'Daten Projektion'!Q72)/'Daten Projektion'!Q$75","v":{"$error":"#DIV/0!"}},{"$f":"('Daten Projektion'!S72-'Daten Projektion'!R72)/'Daten Projektion'!R$75","v":{"$error":"#DIV/0!"}},null,null,{"$f":"F37","v":"Beteiligungen"},{"v":0,"d":"0.0%"},{"v":0,"d":"0.0%"},{"v":0,"d":"0.0%"},{"v":0,"d":"0.0%"},{"v":0,"d":"0.0%"},null,null,{"$f":"O37","v":"Beteiligungen"},{"v":0,"d":"0.0%"},{"v":0,"d":"0.0%"},{"v":0,"d":"0.0%"},{"v":0,"d":"0.0%"},{"v":0,"d":"0.0%"}]
[{"$nulls":5},{"$f":"Daten_Vermögen!B15","v":"Sonst. Verm."},null,{"$f":"('Daten Projektion'!O73-'Daten Projektion'!N73)/'Daten Projektion'!N$75","v":{"$error":"#DIV/0!"}},{"$f":"('Daten Projektion'!P73-'Daten Projektion'!O73)/'Daten Projektion'!O$75","v":{"$error":"#DIV/0!"}},{"$f":"('Daten Projektion'!Q73-'Daten Projektion'!P73)/'Daten Projektion'!P$75","v":{"$error":"#DIV/0!"}},{"$f":"('Daten Projektion'!R73-'Daten Projektion'!Q73)/'Daten Projektion'!Q$75","v":{"$error":"#DIV/0!"}},{"$f":"('Daten Projektion'!S73-'Daten Projektion'!R73)/'Daten Projektion'!R$75","v":{"$error":"#DIV/0!"}},null,null,{"$f":"F38","v":"Sonst. Verm."},{"v":0,"d":"0.0%"},{"v":0,"d":"0.0%"},{"v":0,"d":"0.0%"},{"v":0,"d":"0.0%"},{"v":0,"d":"0.0%"},null,null,{"$f":"O38","v":"Sonst. Verm."},{"v":0,"d":"0.0%"},{"v":0,"d":"0.0%"},{"v":0,"d":"0.0%"},{"v":0,"d":"0.0%"},{"v":0,"d":"0.0%"}]
[{"$nulls":5},{"$f":"Daten_Vermögen!B16","v":"Verbindlichkeiten"},null,{"$f":"('Daten Projektion'!O74-'Daten Projektion'!N74)/'Daten Projektion'!N$75","v":{"$error":"#DIV/0!"}},{"$f":"('Daten Projektion'!P74-'Daten Projektion'!O74)/'Daten Projektion'!O$75","v":{"$error":"#DIV/0!"}},{"$f":"('Daten Projektion'!Q74-'Daten Projektion'!P74)/'Daten Projektion'!P$75","v":{"$error":"#DIV/0!"}},{"$f":"('Daten Projektion'!R74-'Daten Projektion'!Q74)/'Daten Projektion'!Q$75","v":{"$error":"#DIV/0!"}},{"$f":"('Daten Projektion'!S74-'Daten Projektion'!R74)/'Daten Projektion'!R$75","v":{"$error":"#DIV/0!"}},null,null,{"$f":"F39","v":"Verbindlichkeiten"},{"v":0,"d":"0.0%"},{"v":0,"d":"0.0%"},{"v":0,"d":"0.0%"},{"v":0,"d":"0.0%"},{"v":0,"d":"0.0%"},null,null,"Verbindlichkeiten",{"v":0,"d":"0.0%"},{"v":0,"d":"0.0%"},{"v":0,"d":"0.0%"},{"v":0,"d":"0.0%"},{"v":0,"d":"0.0%"}]
[null,"Externe Links"]
[{"$nulls":5},"Gesamtrendite Investvermögen in EUR",{"$nulls":8},{"$f":"F41","v":"Gesamtrendite Investvermögen in EUR"},{"$nulls":7},{"$f":"F41","v":"Gesamtrendite Investvermögen in EUR"}]
[]
[{"$nulls":5},"Investitionsvermögen","EUR",{"$f":"H20","v":2024},{"$f":"I20","v":2025},{"$f":"J20","v":2026},{"$f":"K20","v":2027},{"$f":"L20","v":2028},null,null,{"$f":"F43","v":"Investitionsvermögen"},{"$f":"H43","v":2024},2025,2026,2027,2028,null,null,{"$f":"O43","v":"Investitionsvermögen"},2024,2025,2026,2027,2028]
[{"$nulls":5},{"$f":"F31","v":"Aktien"},null,{"$f":"IF($G$43=\"TEUR\",'Daten Projektion'!O66/1000,'Daten Projektion'!O66)","v":0},{"$f":"IF($G$43=\"TEUR\",'Daten Projektion'!P66/1000,'Daten Projektion'!P66)","v":0},{"$f":"IF($G$43=\"TEUR\",'Daten Projektion'!Q66/1000,'Daten Projektion'!Q66)","v":0},{"$f":"IF($G$43=\"TEUR\",'Daten Projektion'!R66/1000,'Daten Projektion'!R66)","v":0},{"$f":"IF($G$43=\"TEUR\",'Daten Projektion'!S66/1000,'Daten Projektion'!S66)","v":0},null,null,{"$f":"F44","v":"Aktien"},{"$f":"IF($G$43=\"TEUR\",'Daten Projektion'!U66/1000,'Daten Projektion'!U66)","v":0},{"$f":"IF($G$43=\"TEUR\",'Daten Projektion'!V66/1000,'Daten Projektion'!V66)","v":0},{"$f":"IF($G$43=\"TEUR\",'Daten Projektion'!W66/1000,'Daten Projektion'!W66)","v":0},{"$f":"IF($G$43=\"TEUR\",'Daten Projektion'!X66/1000,'Daten Projektion'!X66)","v":0},{"$f":"IF($G$43=\"TEUR\",'Daten Projektion'!Y66/1000,'Daten Projektion'!Y66)","v":0},null,null,{"$f":"O44","v":"Aktien"},{"$f":"IF($G$43=\"TEUR\",'Daten Projektion'!AA66/1000,'Daten Projektion'!AA66)","v":0},{"$f":"IF($G$43=\"TEUR\",'Daten Projektion'!AB66/1000,'Daten Projektion'!AB66)","v":0},{"$f":"IF($G$43=\"TEUR\",'Daten Projektion'!AC66/1000,'Daten Projektion'!AC66)","v":0},{"$f":"IF($G$43=\"TEUR\",'Daten Projektion'!AD66/1000,'Daten Projektion'!AD66)","v":0},{"$f":"IF($G$43=\"TEUR\",'Daten Projektion'!AE66/1000,'Daten Projektion'!AE66)","v":0}]
[{"$nulls":5},"Anleihen",null,{"$f":"IF($G$43=\"TEUR\",'Daten Projektion'!O67/1000,'Daten Projektion'!O67)","v":0},{"$f":"IF($G$43=\"TEUR\",'Daten Projektion'!P67/1000,'Daten Projektion'!P67)","v":0},{"$f":"IF($G$43=\"TEUR\",'Daten Projektion'!Q67/1000,'Daten Projektion'!Q67)","v":0},{"$f":"IF($G$43=\"TEUR\",'Daten Projektion'!R67/1000,'Daten Projektion'!R67)","v":0},{"$f":"IF($G$43=\"TEUR\",'Daten Projektion'!S67/1000,'Daten Projektion'!S67)","v":0},null,null,"Anleihen",{"$f":"IF($G$43=\"TEUR\",'Daten Projektion'!U67/1000,'Daten Projektion'!U67)","v":0},{"$f":"IF($G$43=\"TEUR\",'Daten Projektion'!V67/1000,'Daten Projektion'!V67)","v":0},{"$f":"IF($G$43=\"TEUR\",'Daten Projektion'!W67/1000,'Daten Projektion'!W67)","v":0},{"$f":"IF($G$43=\"TEUR\",'Daten Projektion'!X67/1000,'Daten Projektion'!X67)","v":0},{"$f":"IF($G$43=\"TEUR\",'Daten Projektion'!Y67/1000,'Daten Projektion'!Y67)","v":0},null,null,"Anleihen",{"$f":"IF($G$43=\"TEUR\",'Daten Projektion'!AA67/1000,'Daten Projektion'!AA67)","v":0},{"$f":"IF($G$43=\"TEUR\",'Daten Projektion'!AB67/1000,'Daten Projektion'!AB67)","v":0},{"$f":"IF($G$43=\"TEUR\",'Daten Projektion'!AC67/1000,'Daten Projektion'!AC67)","v":0},{"$f":"IF($G$43=\"TEUR\",'Daten Projektion'!AD67/1000,'Daten Projektion'!AD67)","v":0},{"$f":"IF($G$43=\"TEUR\",'Daten Projektion'!AE67/1000,'Daten Projektion'!AE67)","v":0}]
[{"$nulls":5},"Alternative Inv.",null,{"$f":"IF($G$43=\"TEUR\",'Daten Projektion'!O68/1000,'Daten Projektion'!O68)","v":0},{"$f":"IF($G$43=\"TEUR\",'Daten Projektion'!P68/1000,'Daten Projektion'!P68)","v":0},{"$f":"IF($G$43=\"TEUR\",'Daten Projektion'!Q68/1000,'Daten Projektion'!Q68)","v":0},{"$f":"IF($G$43=\"TEUR\",'Daten Projektion'!R68/1000,'Daten Projektion'!R68)","v":0},{"$f":"IF($G$43=\"TEUR\",'Daten Projektion'!S68/1000,'Daten Projektion'!S68)","v":0},null,null,"Alternative Inv.",{"$f":"IF($G$43=\"TEUR\",'Daten Projektion'!U68/1000,'Daten Projektion'!U68)","v":0},{"$f":"IF($G$43=\"TEUR\",'Daten Projektion'!V68/1000,'Daten Projektion'!V68)","v":0},{"$f":"IF($G$43=\"TEUR\",'Daten Projektion'!W68/1000,'Daten Projektion'!W68)","v":0},{"$f":"IF($G$43=\"TEUR\",'Daten Projektion'!X68/1000,'Daten Projektion'!X68)","v":0},{"$f":"IF($G$43=\"TEUR\",'Daten Projektion'!Y68/1000,'Daten Projektion'!Y68)","v":0},null,null,"Alternative Inv.",{"$f":"IF($G$43=\"TEUR\",'Daten Projektion'!AA68/1000,'Daten Projektion'!AA68)","v":0},{"$f":"IF($G$43=\"TEUR\",'Daten Projektion'!AB68/1000,'Daten Projektion'!AB68)","v":0},{"$f":"IF($G$43=\"TEUR\",'Daten Projektion'!AC68/1000,'Daten Projektion'!AC68)","v":0},{"$f":"IF($G$43=\"TEUR\",'Daten Projektion'!AD68/1000,'Daten Projektion'!AD68)","v":0},{"$f":"IF($G$43=\"TEUR\",'Daten Projektion'!AE68/1000,'Daten Projektion'!AE68)","v":0}]
[{"$nulls":5},"Rohstoffe",null,{"$f":"IF($G$43=\"TEUR\",'Daten Projektion'!O69/1000,'Daten Projektion'!O69)","v":0},{"$f":"IF($G$43=\"TEUR\",'Daten Projektion'!P69/1000,'Daten Projektion'!P69)","v":0},{"$f":"IF($G$43=\"TEUR\",'Daten Projektion'!Q69/1000,'Daten Projektion'!Q69)","v":0},{"$f":"IF($G$43=\"TEUR\",'Daten Projektion'!R69/1000,'Daten Projektion'!R69)","v":0},{"$f":"IF($G$43=\"TEUR\",'Daten Projektion'!S69/1000,'Daten Projektion'!S69)","v":0},null,null,"Rohstoffe",{"$f":"IF($G$43=\"TEUR\",'Daten Projektion'!U69/1000,'Daten Projektion'!U69)","v":0},{"$f":"IF($G$43=\"TEUR\",'Daten Projektion'!V69/1000,'Daten Projektion'!V69)","v":0},{"$f":"IF($G$43=\"TEUR\",'Daten Projektion'!W69/1000,'Daten Projektion'!W69)","v":0},{"$f":"IF($G$43=\"TEUR\",'Daten Projektion'!X69/1000,'Daten Projektion'!X69)","v":0},{"$f":"IF($G$43=\"TEUR\",'Daten Projektion'!Y69/1000,'Daten Projektion'!Y69)","v":0},null,null,"Rohstoffe",{"$f":"IF($G$43=\"TEUR\",'Daten Projektion'!AA69/1000,'Daten Projektion'!AA69)","v":0},{"$f":"IF($G$43=\"TEUR\",'Daten Projektion'!AB69/1000,'Daten Projektion'!AB69)","v":0},{"$f":"IF($G$43=\"TEUR\",'Daten Projektion'!AC69/1000,'Daten Projektion'!AC69)","v":0},{"$f":"IF($G$43=\"TEUR\",'Daten Projektion'!AD69/1000,'Daten Projektion'!AD69)","v":0},{"$f":"IF($G$43=\"TEUR\",'Daten Projektion'!AE69/1000,'Daten Projektion'!AE69)","v":0}]
[{"$nulls":5},"Liquidität",null,{"$f":"IF($G$43=\"TEUR\",'Daten Projektion'!O70/1000,'Daten Projektion'!O70)","v":0},{"$f":"IF($G$43=\"TEUR\",'Daten Projektion'!P70/1000,'Daten Projektion'!P70)","v":0},{"$f":"IF($G$43=\"TEUR\",'Daten Projektion'!Q70/1000,'Daten Projektion'!Q70)","v":0},{"$f":"IF($G$43=\"TEUR\",'Daten Projektion'!R70/1000,'Daten Projektion'!R70)","v":0},{"$f":"IF($G$43=\"TEUR\",'Daten Projektion'!S70/1000,'Daten Projektion'!S70)","v":0},null,null,"Liquidität",{"$f":"IF($G$43=\"TEUR\",'Daten Projektion'!U70/1000,'Daten Projektion'!U70)","v":0},{"$f":"IF($G$43=\"TEUR\",'Daten Projektion'!V70/1000,'Daten Projektion'!V70)","v":0},{"$f":"IF($G$43=\"TEUR\",'Daten Projektion'!W70/1000,'Daten Projektion'!W70)","v":0},{"$f":"IF($G$43=\"TEUR\",'Daten Projektion'!X70/1000,'Daten Projektion'!X70)","v":0},{"$f":"IF($G$43=\"TEUR\",'Daten Projektion'!Y70/1000,'Daten Projektion'!Y70)","v":0},null,null,"Liquidität",{"$f":"IF($G$43=\"TEUR\",'Daten Projektion'!AA70/1000,'Daten Projektion'!AA70)","v":0},{"$f":"IF($G$43=\"TEUR\",'Daten Projektion'!AB70/1000,'Daten Projektion'!AB70)","v":0},{"$f":"IF($G$43=\"TEUR\",'Daten Projektion'!AC70/1000,'Daten Projektion'!AC70)","v":0},{"$f":"IF($G$43=\"TEUR\",'Daten Projektion'!AD70/1000,'Daten Projektion'!AD70)","v":0},{"$f":"IF($G$43=\"TEUR\",'Daten Projektion'!AE70/1000,'Daten Projektion'!AE70)","v":0}]
[{"$nulls":5},"Immobilien",null,{"$f":"IF($G$43=\"TEUR\",'Daten Projektion'!O71/1000,'Daten Projektion'!O71)","v":0},{"$f":"IF($G$43=\"TEUR\",'Daten Projektion'!P71/1000,'Daten Projektion'!P71)","v":0},{"$f":"IF($G$43=\"TEUR\",'Daten Projektion'!Q71/1000,'Daten Projektion'!Q71)","v":0},{"$f":"IF($G$43=\"TEUR\",'Daten Projektion'!R71/1000,'Daten Projektion'!R71)","v":0},{"$f":"IF($G$43=\"TEUR\",'Daten Projektion'!S71/1000,'Daten Projektion'!S71)","v":0},null,null,"Immobilien",{"$f":"IF($G$43=\"TEUR\",'Daten Projektion'!U71/1000,'Daten Projektion'!U71)","v":0},{"$f":"IF($G$43=\"TEUR\",'Daten Projektion'!V71/1000,'Daten Projektion'!V71)","v":0},{"$f":"IF($G$43=\"TEUR\",'Daten Projektion'!W71/1000,'Daten Projektion'!W71)","v":0},{"$f":"IF($G$43=\"TEUR\",'Daten Projektion'!X71/1000,'Daten Projektion'!X71)","v":0},{"$f":"IF($G$43=\"TEUR\",'Daten Projektion'!Y71/1000,'Daten Projektion'!Y71)","v":0},null,null,"Immobilien",{"$f":"IF($G$43=\"TEUR\",'Daten Projektion'!AA71/1000,'Daten Projektion'!AA71)","v":0},{"$f":"IF($G$43=\"TEUR\",'Daten Projektion'!AB71/1000,'Daten Projektion'!AB71)","v":0},{"$f":"IF($G$43=\"TEUR\",'Daten Projektion'!AC71/1000,'Daten Projektion'!AC71)","v":0},{"$f":"IF($G$43=\"TEUR\",'Daten Projektion'!AD71/1000,'Daten Projektion'!AD71)","v":0},{"$f":"IF($G$43=\"TEUR\",'Daten Projektion'!AE71/1000,'Daten Projektion'!AE71)","v":0}]
[{"$nulls":5},"Beteiligungen",null,{"$f":"IF($G$43=\"TEUR\",'Daten Projektion'!O72/1000,'Daten Projektion'!O72)","v":0},{"$f":"IF($G$43=\"TEUR\",'Daten Projektion'!P72/1000,'Daten Projektion'!P72)","v":0},{"$f":"IF($G$43=\"TEUR\",'Daten Projektion'!Q72/1000,'Daten Projektion'!Q72)","v":0},{"$f":"IF($G$43=\"TEUR\",'Daten Projektion'!R72/1000,'Daten Projektion'!R72)","v":0},{"$f":"IF($G$43=\"TEUR\",'Daten Projektion'!S72/1000,'Daten Projektion'!S72)","v":0},null,null,"Beteiligungen",{"$f":"IF($G$43=\"TEUR\",'Daten Projektion'!U72/1000,'Daten Projektion'!U72)","v":0},{"$f":"IF($G$43=\"TEUR\",'Daten Projektion'!V72/1000,'Daten Projektion'!V72)","v":0},{"$f":"IF($G$43=\"TEUR\",'Daten Projektion'!W72/1000,'Daten Projektion'!W72)","v":0},{"$f":"IF($G$43=\"TEUR\",'Daten Projektion'!X72/1000,'Daten Projektion'!X72)","v":0},{"$f":"IF($G$43=\"TEUR\",'Daten Projektion'!Y72/1000,'Daten Projektion'!Y72)","v":0},null,null,"Beteiligungen",{"$f":"IF($G$43=\"TEUR\",'Daten Projektion'!AA72/1000,'Daten Projektion'!AA72)","v":0},{"$f":"IF($G$43=\"TEUR\",'Daten Projektion'!AB72/1000,'Daten Projektion'!AB72)","v":0},{"$f":"IF($G$43=\"TEUR\",'Daten Projektion'!AC72/1000,'Daten Projektion'!AC72)","v":0},{"$f":"IF($G$43=\"TEUR\",'Daten Projektion'!AD72/1000,'Daten Projektion'!AD72)","v":0},{"$f":"IF($G$43=\"TEUR\",'Daten Projektion'!AE72/1000,'Daten Projektion'!AE72)","v":0}]
[{"$nulls":5},"Sonst. Verm.",null,{"$f":"IF($G$43=\"TEUR\",'Daten Projektion'!O73/1000,'Daten Projektion'!O73)","v":0},{"$f":"IF($G$43=\"TEUR\",'Daten Projektion'!P73/1000,'Daten Projektion'!P73)","v":0},{"$f":"IF($G$43=\"TEUR\",'Daten Projektion'!Q73/1000,'Daten Projektion'!Q73)","v":0},{"$f":"IF($G$43=\"TEUR\",'Daten Projektion'!R73/1000,'Daten Projektion'!R73)","v":0},{"$f":"IF($G$43=\"TEUR\",'Daten Projektion'!S73/1000,'Daten Projektion'!S73)","v":0},null,null,"Sonst. Verm.",{"$f":"IF($G$43=\"TEUR\",'Daten Projektion'!U73/1000,'Daten Projektion'!U73)","v":0},{"$f":"IF($G$43=\"TEUR\",'Daten Projektion'!V73/1000,'Daten Projektion'!V73)","v":0},{"$f":"IF($G$43=\"TEUR\",'Daten Projektion'!W73/1000,'Daten Projektion'!W73)","v":0},{"$f":"IF($G$43=\"TEUR\",'Daten Projektion'!X73/1000,'Daten Projektion'!X73)","v":0},{"$f":"IF($G$43=\"TEUR\",'Daten Projektion'!Y73/1000,'Daten Projektion'!Y73)","v":0},null,null,"Sonst. Verm.",{"$f":"IF($G$43=\"TEUR\",'Daten Projektion'!AA73/1000,'Daten Projektion'!AA73)","v":0},{"$f":"IF($G$43=\"TEUR\",'Daten Projektion'!AB73/1000,'Daten Projektion'!AB73)","v":0},{"$f":"IF($G$43=\"TEUR\",'Daten Projektion'!AC73/1000,'Daten Projektion'!AC73)","v":0},{"$f":"IF($G$43=\"TEUR\",'Daten Projektion'!AD73/1000,'Daten Projektion'!AD73)","v":0},{"$f":"IF($G$43=\"TEUR\",'Daten Projektion'!AE73/1000,'Daten Projektion'!AE73)","v":0}]
[{"$nulls":5},"Verbindlichkeiten",null,{"$f":"IF($G$43=\"TEUR\",'Daten Projektion'!O74/1000,'Daten Projektion'!O74)","v":0},{"$f":"IF($G$43=\"TEUR\",'Daten Projektion'!P74/1000,'Daten Projektion'!P74)","v":0},{"$f":"IF($G$43=\"TEUR\",'Daten Projektion'!Q74/1000,'Daten Projektion'!Q74)","v":0},{"$f":"IF($G$43=\"TEUR\",'Daten Projektion'!R74/1000,'Daten Projektion'!R74)","v":0},{"$f":"IF($G$43=\"TEUR\",'Daten Projektion'!S74/1000,'Daten Projektion'!S74)","v":0},null,null,"Verbindlichkeiten",{"$f":"IF($G$43=\"TEUR\",'Daten Projektion'!U74/1000,'Daten Projektion'!U74)","v":0},{"$f":"IF($G$43=\"TEUR\",'Daten Projektion'!V74/1000,'Daten Projektion'!V74)","v":0},{"$f":"IF($G$43=\"TEUR\",'Daten Projektion'!W74/1000,'Daten Projektion'!W74)","v":0},{"$f":"IF($G$43=\"TEUR\",'Daten Projektion'!X74/1000,'Daten Projektion'!X74)","v":0},{"$f":"IF($G$43=\"TEUR\",'Daten Projektion'!Y74/1000,'Daten Projektion'!Y74)","v":0},null,null,"Verbindlichkeiten",{"$f":"IF($G$43=\"TEUR\",'Daten Projektion'!AA74/1000,'Daten Projektion'!AA74)","v":0},{"$f":"IF($G$43=\"TEUR\",'Daten Projektion'!AB74/1000,'Daten Projektion'!AB74)","v":0},{"$f":"IF($G$43=\"TEUR\",'Daten Projektion'!AC74/1000,'Daten Projektion'!AC74)","v":0},{"$f":"IF($G$43=\"TEUR\",'Daten Projektion'!AD74/1000,'Daten Projektion'!AD74)","v":0},{"$f":"IF($G$43=\"TEUR\",'Daten Projektion'!AE74/1000,'Daten Projektion'!AE74)","v":0}]
[{"$nulls":5},"Summen",null,{"$f":"SUM(H44:H52)","v":0},{"$f":"SUM(I44:I52)","v":0},0,0,0,null,null,"Summen",{"$f":"SUM(P44:P52)","v":0},{"$f":"SUM(Q44:Q52)","v":0},0,0,0,null,null,"Summen",{"$f":"SUM(X44:X52)","v":0},{"$f":"SUM(Y44:Y52)","v":0},0,0,0]

{"sheet":"Annahmen","index":17,"n_rows":20,"n_cols":10,"rows_kept":20,"hidden":true}
[]
[]
[]
[null,"Basisszenario",{"$nulls":5},"Worst Case"]
[{"$nulls":3},"Bruttoertrag","Bruttoertrag","Kosten der VV.",null,"Abweichung",null,"Ausfall im "]
[null,"Nr.","Vermögensgegenstand","% p.a.","EUR p.a.","EUR p.a.",null,"Ertrag in %","Jahr","Jahr"]
[null,{"$f":"Vermögen!E11","v":"1."},{"$f":"IF(Vermögen!F11<>0,Vermögen!F11,\"\")","v":""},null,{"$f":"IF(Vermögen!S11<>0,Vermögen!S11*Vermögen!X11,\"\")","v":""},{"v":6000,"d":"6,000"},null,null,2020,"Kein Ausfall"]
[null,{"$f":"Vermögen!E12","v":"2."},{"$f":"IF(Vermögen!F12<>0,Vermögen!F12,\"\")","v":""},null,{"$f":"IF(Vermögen!S12<>0,Vermögen!S12*Vermögen!X12,\"\")","v":""},0,null,null,2020,"Kein Ausfall"]
[null,{"$f":"Vermögen!E13","v":"3."},{"$f":"IF(Vermögen!F13<>0,Vermögen!F13,\"\")","v":""},null,{"$f":"IF(Vermögen!S13<>0,Vermögen!S13*Vermögen!X13,\"\")","v":""},{"$nulls":3},2020,"Kein Ausfall"]
[null,{"$f":"Vermögen!E14","v":"4."},{"$f":"IF(Vermögen!F14<>0,Vermögen!F14,\"\")","v":""},null,{"$f":"IF(Vermögen!S14<>0,Vermögen!S14*Vermögen!X14,\"\")","v":""},{"$nulls":3},2020,"Kein Ausfall"]
[null,{"$f":"Vermögen!E15","v":"5."},{"$f":"IF(Vermögen!F15<>0,Vermögen!F15,\"\")","v":""},null,{"$f":"IF(Vermögen!S15<>0,Vermögen!S15*Vermögen!X15,\"\")","v":""},{"$nulls":3},2020,"Kein Ausfall"]
[null,{"$f":"Vermögen!E16","v":"6."},{"$f":"IF(Vermögen!#REF!<>0,Vermögen!#REF!,\"\")","v":{"$error":"#REF!"}},null,{"$f":"IF(Vermögen!#REF!<>0,Vermögen!#REF!*Vermögen!#REF!,\"\")","v":{"$error":"#REF!"}},{"$nulls":3},"Bitte ausw.","Kein Ausfall"]
[null,{"$f":"Vermögen!E17","v":"7."},{"$f":"IF(Vermögen!F17<>0,Vermögen!F17,\"\")","v":""},null,{"$f":"IF(Vermögen!S17<>0,Vermögen!S17*Vermögen!X17,\"\")","v":""},{"$nulls":3},"Bitte ausw.","Kein Ausfall"]
[null,{"$f":"Vermögen!E18","v":"8."},{"$f":"IF(Vermögen!F18<>0,Vermögen!F18,\"\")","v":""},null,{"$f":"IF(Vermögen!S18<>0,Vermögen!S18*Vermögen!X18,\"\")","v":""},{"$nulls":3},"Bitte ausw.","Kein Ausfall"]
[null,{"$f":"Vermögen!E19","v":"9."},{"$f":"IF(Vermögen!F19<>0,Vermögen!F19,\"\")","v":""},null,{"$f":"IF(Vermögen!S19<>0,Vermögen!S19*Vermögen!X19,\"\")","v":""},{"$nulls":3},"Bitte ausw.","Kein Ausfall"]
[null,{"$f":"Vermögen!E20","v":"10."},{"$f":"IF(Vermögen!F20<>0,Vermögen!F20,\"\")","v":""},null,{"$f":"IF(Vermögen!S20<>0,Vermögen!S20*Vermögen!X20,\"\")","v":""},{"$nulls":3},"Bitte ausw.","Kein Ausfall"]
[null,{"$f":"Vermögen!E21","v":"11."},{"$f":"IF(Vermögen!F21<>0,Vermögen!F21,\"\")","v":""},null,{"$f":"IF(Vermögen!S21<>0,Vermögen!S21*Vermögen!X21,\"\")","v":""},{"$nulls":3},"Bitte ausw.","Kein Ausfall"]
[null,12,{"$f":"IF(Vermögen!#REF!<>0,Vermögen!#REF!,\"\")","v":{"$error":"#REF!"}},null,{"$f":"IF(Vermögen!#REF!<>0,Vermögen!#REF!*Vermögen!#REF!,\"\")","v":{"$error":"#REF!"}},{"$nulls":3},"Bitte ausw.","Kein Ausfall"]
[null,null,"Summen",null,{"$f":"SUM(E7:E18)","v":{"$error":"#REF!"}},{"$f":"SUM(F7:F18)","v":{"v":6000,"d":"6,000"}}]
[null,"--- Ende der Eingaben ---"]

{"sheet":"Daten Szenarien","index":18,"n_rows":122,"n_cols":16,"rows_kept":122,"hidden":true}
["Daten Szenarien"]
[]
["Makrodaten","Szenarien","EUR/TEUR",{"$nulls":5},"Szenario Anlageklassen"]
["Geldentwertung","Bitte auswählen","EUR",{"$nulls":5},"Aktien"]
["Wachstum real","Linear","TEUR",{"$nulls":5},"Zins"]
["Arbeitslosigkeit","Inflation",{"$nulls":6},"Unternehmensanleihen IG"]
["Staatsverschuldung real","Deflation/Depression",{"$nulls":6},"Unternehmensanleihen HY"]
["Geldpolitik","Best Case",{"$nulls":6},"Immobilien"]
["Dividendenpolitik","Worst Case",{"$nulls":6},"Private Equity/Debt"]
[null,"Goldilocks",{"$nulls":6},"Liquidität"]
[null,"Mischszenario",{"$nulls":6},"Beteiligungen"]
[{"$nulls":8},"Sonstiges Vermögen"]
[{"$nulls":8},"Verbindlichkeiten"]
[]
["Geldentwertung","Szenario",{"$f":"Einstellungen!G13","v":2024},{"$f":"C15+1","v":2025},{"$f":"D15+1","v":2026},{"$f":"E15+1","v":2027},{"$f":"F15+1","v":2028},null,"BESCHREIBUNGEN"]
[null,"Linear",{"$f":"Anlageziele!H18","v":{"v":0,"d":"0.0%"}},{"$f":"C16","v":{"v":0,"d":"0.0%"}},{"$f":"D16","v":{"v":0,"d":"0.0%"}},{"v":0,"d":"0.0%"},{"v":0,"d":"0.0%"},"ü"]
[null,{"$f":"B6","v":"Inflation"},{"v":0.02,"d":"2.0%"},{"v":0.04,"d":"4.0%"},{"v":0.05,"d":"5.0%"},{"v":0.03,"d":"3.0%"},{"v":0.02,"d":"2.0%"},"ü",{"$f":"B5","v":"Linear"},"Die vorhandenen Vermögenswerte werden mit dem status quo fortgeschrieben."]
[null,"Deflation/Depression",{"v":0.05,"d":"5.0%"},{"v":0.04,"d":"4.0%"},{"v":0.02,"d":"2.0%"},{"v":0,"d":"0.0%"},{"v":0.02,"d":"2.0%"},"ü",null,"Bei den Angaben handelt es sich um mittelfristige Durchschnittswerte."]
[null,"Best Case",{"v":0.02,"d":"2.0%"},{"v":0.02,"d":"2.0%"},{"v":0.02,"d":"2.0%"},{"v":0.02,"d":"2.0%"},{"v":0.02,"d":"2.0%"},"ü"]
[null,"Worst Case",{"v":0.03,"d":"3.0%"},{"v":0.05,"d":"5.0%"},{"v":0.06,"d":"6.0%"},{"v":0.07,"d":"7.0%"},{"v":0.06,"d":"6.0%"},"ü"]
[null,"Goldilocks",{"v":0.01,"d":"1.0%"},{"v":0.01,"d":"1.0%"},{"v":0.01,"d":"1.0%"},{"v":0.01,"d":"1.0%"},{"v":0.01,"d":"1.0%"},"ü"]
[null,"Mischszenario",{"v":0.06,"d":"6.0%"},{"v":0.03,"d":"3.0%"},{"v":0.03,"d":"3.0%"},{"v":0.03,"d":"3.0%"},{"v":0.03,"d":"3.0%"},"ü"]
[{"$nulls":8},{"$f":"B6","v":"Inflation"},"1. Stark steigende Inflation aufgrund lockerer Geldpolitik, zunehmender Staatsverschuldg., Wachstum"]
["Wachstum real","Szenario",{"$f":"C15","v":2024},{"$f":"C24+1","v":2025},{"$f":"D24+1","v":2026},{"$f":"E24+1","v":2027},{"$f":"F24+1","v":2028},null,null,"2. Arbeitslosigkeit zunächst sinkend - in der Inflationsbekämpfungsphase wieder steigend"]
[null,"Linear",{"v":0.03,"d":"3.0%"},{"v":0.03,"d":"3.0%"},{"v":0.03,"d":"3.0%"},{"v":0.03,"d":"3.0%"},{"v":0.03,"d":"3.0%"},null,null,"3. Inflationsbekämpfung gegen Ende: Restrikitvere Geldpolitik, Steuererhöhg./Staatsdefitzitreduktion"]
[null,{"$f":"B17","v":"Inflation"},{"v":0.01,"d":"1.0%"},{"v":0.03,"d":"3.0%"},{"v":0.04,"d":"4.0%"},{"v":0.01,"d":"1.0%"},{"v":-0.01,"d":"-1.0%"},"ü",null,"4. Wirtschaftlicher Einbruch aufgrund der Inflationsbekämpfungsmaßn., Anstieg Arbeitslosigkeit"]
[null,"Deflation/Depression",{"v":0,"d":"0.0%"},{"v":-0.03,"d":"-3.0%"},{"v":-0.04,"d":"-4.0%"},{"v":-0.02,"d":"-2.0%"},{"v":0.01,"d":"1.0%"},"ü",null,"5. Steigende Inflation macht Immobilieninvestments attraktiver"]
[null,"Best Case",{"v":0.02,"d":"2.0%"},{"v":0.03,"d":"3.0%"},{"v":0.04,"d":"4.0%"},{"v":0.04,"d":"4.0%"},{"v":0.05,"d":"5.0%"},"ü"]
[null,"Worst Case",{"v":0,"d":"0.0%"},{"v":-0.02,"d":"-2.0%"},{"v":-0.04,"d":"-4.0%"},{"v":-0.02,"d":"-2.0%"},{"v":-0.02,"d":"-2.0%"},"ü",{"$f":"B7","v":"Deflation/Depression"},"1. Starke wirtschaftliche Kontraktion aufgrund eines zyklischen Abschwungs"]
[null,"Goldilocks",{"v":0.02,"d":"2.0%"},{"v":0.02,"d":"2.0%"},{"v":0.02,"d":"2.0%"},{"v":0.02,"d":"2.0%"},{"v":0.02,"d":"2.0%"},"ü",null,"2. Arbeitslosigkeit stark steigend"]
[null,"Mischszenario",{"v":-0.01,"d":"-1.0%"},{"v":0.01,"d":"1.0%"},{"v":0.02,"d":"2.0%"},{"v":0.03,"d":"3.0%"},{"v":0.03,"d":"3.0%"},"ü",null,"3. Inflation anfangs hoch wegen wirtschaftlicher Überhitzung - dann fallend wegen "]
[{"$nulls":9},"    Wachstumsrückgang und Zentralbankpolitik"]
["Arbeitslosigkeit","Szenario",{"$f":"C24","v":2024},{"$f":"C33+1","v":2025},{"$f":"D33+1","v":2026},{"$f":"E33+1","v":2027},{"$f":"F33+1","v":2028},null,null,"4. Wirtschaftlicher Einbruch aufgrund des zyklischen Abschwungs und Inflationsbekämpfungsmaßn."]
[null,"Linear",{"v":0.02,"d":"2.0%"},{"v":0.02,"d":"2.0%"},{"v":0.02,"d":"2.0%"},{"v":0.02,"d":"2.0%"},{"v":0.02,"d":"2.0%"}]
[null,{"$f":"B26","v":"Inflation"},{"v":0.05,"d":"5.0%"},{"v":0.04,"d":"4.0%"},{"v":0.03,"d":"3.0%"},{"v":0.04,"d":"4.0%"},{"v":0.07,"d":"7.0%"},"ü",{"$f":"B8","v":"Best Case"},"1. Unrealistische Kombination aller Inputvariablen mit positivem Verlauf"]
[null,"Deflation/Depression",{"v":0.03,"d":"3.0%"},{"v":0.08,"d":"8.0%"},{"v":0.12,"d":"12.0%"},{"v":0.06,"d":"6.0%"},{"v":0.04,"d":"4.0%"},"ü",null,"2. Wahrscheinlichkeit für dieses Szenario sehr gering"]
[null,"Best Case",{"v":0.04,"d":"4.0%"},{"v":0.03,"d":"3.0%"},{"v":0.03,"d":"3.0%"},{"v":0.03,"d":"3.0%"},{"v":0.02,"d":"2.0%"},"ü",null,"3. Verlauf der Inputvariablen widersprechen sich teilweise"]
[null,"Worst Case",{"v":0.1,"d":"10.0%"},{"v":0.1,"d":"10.0%"},{"v":0.11,"d":"11.0%"},{"v":0.1,"d":"10.0%"},{"v":0.08,"d":"8.0%"},"ü",null,"4. Inflation auf gewünschtem Zielwert von 2%"]
[null,"Goldilocks",{"v":0.03,"d":"3.0%"},{"v":0.03,"d":"3.0%"},{"v":0.03,"d":"3.0%"},{"v":0.03,"d":"3.0%"},{"v":0.08,"d":"8.0%"},"ü"]
[null,"Mischszenario",{"v":0.05,"d":"5.0%"},{"v":0.04,"d":"4.0%"},{"v":0.04,"d":"4.0%"},{"v":0.04,"d":"4.0%"},{"v":0.04,"d":"4.0%"},"ü"]
[{"$nulls":8},{"$f":"B9","v":"Worst Case"},"1. Unrealistische Kombination aller Inputvariablen mit negtativem Verlauf"]
["Staatsverschuldung real","Szenario",{"$f":"C33","v":2024},{"$f":"C42+1","v":2025},{"$f":"D42+1","v":2026},{"$f":"E42+1","v":2027},{"$f":"F42+1","v":2028},null,null,"2. Wahrscheinlichkeit für dieses Szenario sehr gering"]
[null,"Linear",{"v":0.03,"d":"3.0%"},{"v":0.03,"d":"3.0%"},{"v":0.03,"d":"3.0%"},{"v":0.03,"d":"3.0%"},{"v":0.03,"d":"3.0%"},null,null,"3. Verlauf der Inputvariablen widersprechen sich teilweise"]
[null,{"$f":"B35","v":"Inflation"},{"v":0.01,"d":"1.0%"},{"v":0.02,"d":"2.0%"},{"v":0.04,"d":"4.0%"},{"v":0.04,"d":"4.0%"},{"v":0,"d":"0.0%"},"ü"]
[null,"Deflation/Depression",{"v":0.01,"d":"1.0%"},{"v":0.03,"d":"3.0%"},{"v":0.05,"d":"5.0%"},{"v":0.04,"d":"4.0%"},{"v":0.03,"d":"3.0%"},"ü"]
[null,"Best Case",{"v":0,"d":"0.0%"},{"v":0,"d":"0.0%"},{"v":0,"d":"0.0%"},{"v":0,"d":"0.0%"},{"v":0,"d":"0.0%"},"ü"]
[null,"Worst Case",{"v":0.05,"d":"5.0%"},{"v":0.05,"d":"5.0%"},{"v":0.08,"d":"8.0%"},{"v":0.05,"d":"5.0%"},{"v":0.03,"d":"3.0%"},"ü",{"$f":"B10","v":"Goldilocks"},"1. Sehr günstiges Szenario mit moderatem Wachstum, expansiver Geldpolitik und tiefer Inflation"]
[null,"Goldilocks",{"v":0.01,"d":"1.0%"},{"v":0.01,"d":"1.0%"},{"v":0.01,"d":"1.0%"},{"v":0.01,"d":"1.0%"},{"v":0.01,"d":"1.0%"},"ü",null,"2. Dieses Szenario war in den vergangenen 30 Jahren öfters gegeben"]
[null,"Mischszenario",{"v":0.04,"d":"4.0%"},{"v":0.05,"d":"5.0%"},{"v":0.05,"d":"5.0%"},{"v":0.05,"d":"5.0%"},{"v":0.05,"d":"5.0%"},"ü",null,"3. Produktivitäsfortschritte in der Industrie und steigende Ersparnisse sind kennzeichnend"]
[{"$nulls":9},"4. Inflation unterhalb des Zielwertes von 2%"]
["Geldpolitik","Szenario",{"$f":"C42","v":2024},{"$f":"C51+1","v":2025},{"$f":"D51+1","v":2026},{"$f":"E51+1","v":2027},{"$f":"F51+1","v":2028},null,null,"5. Moderat steigende Dividendenentwicklung"]
[null,"Linear","k.A.","k.A.","k.A.","k.A.","k.A.",null,null,"6. Goldilocks ist nahe an einem Best Case Szenario - Wachstum, Dividenden  und Inflation aber tiefer"]
[null,{"$f":"B44","v":"Inflation"},"expansiv","expansiv","neutral","restriktiv","restriktiv","ü",{"$f":"B11","v":"Mischszenario"},"1. Wechsel von stark inflationärem Umfeld zu konjunkturellen Abkühlung/tieferer Inflation und danach Stabilisierung"]
[null,"Deflation/Depression","restriktiv","restriktiv","expansiv","expansiv","neutral","ü"]
[null,"Best Case","expansiv","expansiv","expansiv","expansiv","expansiv","ü",null,"3. Weltweit politische Spannungen und teilweise Deglobalisierung, Dekarbonisierung, Demogarphie (3D) sind inflationstreibend"]
[null,"Worst Case","restriktiv","restriktiv","restriktiv","restriktiv","restriktiv","ü",null,"4. Inflation fällt deutlich, bleibt aber auch langfristig über dem 2%-Zielwert der Notenbanken (aus strukturellen Gründen, 3D)"]
[null,"Goldilocks","restriktiv","restriktiv","restriktiv","restriktiv","restriktiv","ü",null,"5.  Wirtschaftswachstum zunächst gebremst durch restriktivere Geldpolitik - danach Lockerung und \"Goldilocks-Light -Umfeld\""]
[null,"Mischszenario","restriktiv","neutral","neutral/locker","neutral/locker","neutral/locker","ü",null,"6. Staatsverschuldung steigt - Kompensation für restriktive Geldpolitik und weniger \"Helikoptergeld\" für den Staat"]
[]
["Dividendenpolitik","Szenario",{"$f":"C51","v":2024},{"$f":"C60+1","v":2025},{"$f":"D60+1","v":2026},{"$f":"E60+1","v":2027},{"$f":"F60+1","v":2028},null,null,"Anleihengewichtung (externe Quelle FISCH)"]
[null,"Linear","k.A.","k.A.","k.A.","k.A,","k.A."]
[null,{"$f":"B53","v":"Inflation"},"unverändert","steigend","steigend","unverändert","fallend","ü",null,"Ausgangszins:",{"v":0.015,"d":"1.5%"}]
[null,"Deflation/Depression","steigend","neutral","fallend","fallend","neutral","ü"]
[null,"Best Case","steigend","steigend","steigend","steigend","steigend","ü",null,"Inflation","Gewichtung","Jahr 1","Jahr 2","Jahr 3","Jahr 4","Jahr 5"]
[{"$nulls":9},"Zinsentwicklung (Absolutes Zinsniveau)",null,{"v":0,"d":"0.0%"},{"v":0.01,"d":"1.0%"},{"v":0.03,"d":"3.0%"},{"v":0.05,"d":"5.0%"},{"v":0.04,"d":"4.0%"}]
[null,{"$f":"B56","v":"Worst Case"},"steigend","neutral","steigend","neutral","steigend","ü",null,"Zinsveränderung Staatsanleihen",null,{"$f":"L65-$K$62","v":{"v":-0.015,"d":"-1.5%"}},{"$f":"M65-L65","v":{"v":0.01,"d":"1.0%"}},{"$f":"N65-M65","v":{"v":0.019999999999999997,"d":"2.0%"}},{"v":0.020000000000000004,"d":"2.0%"},{"v":-0.010000000000000002,"d":"-1.0%"}]
[null,{"$f":"B57","v":"Goldilocks"},"steigend","neutral","steigend","neutral","steigend","ü",null,"Wertveränderung Staatsanleihen gem. mod. Dur.",{"$f":"Anlagestrategie!$H$25","v":{"v":0.4,"d":"40.0%"}},{"$f":"Anlagestrategie!$H$38*'Daten Szenarien'!L66*-100","v":{"v":0.10500000000000001,"d":"10.5%"}},{"$f":"Anlagestrategie!$H$38*'Daten Szenarien'!M66*-100","v":{"v":-0.07,"d":"-7.0%"}},{"$f":"Anlagestrategie!$H$38*'Daten Szenarien'!N66*-100","v":{"v":-0.13999999999999999,"d":"-14.0%"}},{"$f":"Anlagestrategie!$H$38*'Daten Szenarien'!O66*-100","v":{"v":-0.14000000000000004,"d":"-14.0%"}},{"$f":"Anlagestrategie!$H$38*'Daten Szenarien'!P66*-100","v":{"v":0.07000000000000002,"d":"7.0%"}}]
[null,{"$f":"B58","v":"Mischszenario"},"fallend","neutral","steigend","steigend","steigend","ü",null,"Unternehmensanleihen IG (Veränderung)",{"$f":"Anlagestrategie!$H$26","v":{"v":0.4,"d":"40.0%"}},{"v":0.01,"d":"1.0%"},{"v":0.005,"d":"0.5%"},{"v":0,"d":"0.0%"},{"v":-0.01,"d":"-1.0%"},{"v":0,"d":"0.0%"}]
[null,1,2,3,4,5,6,null,null,"Unternehmensanleihen HY (Veränderung)",{"$f":"Anlagestrategie!$H$27","v":{"v":0.2,"d":"20.0%"}},{"v":0.05,"d":"5.0%"},{"v":0.06,"d":"6.0%"},{"v":0.06,"d":"6.0%"},{"v":-0.02,"d":"-2.0%"},{"v":-0.01,"d":"-1.0%"}]
["Aktien (Veränderung)","Szenario",{"$f":"C60","v":2024},{"$f":"D60","v":2025},{"$f":"E60","v":2026},{"$f":"F60","v":2027},{"$f":"G60","v":2028},null,null,"Anleihen gewichtet",null,{"$f":"L67*$K$67+L68*$K$68+L69*$K$69","v":{"v":0.056000000000000015,"d":"5.6%"}},{"$f":"M67*$K$67+M68*$K$68+M69*$K$69","v":{"v":-0.014000000000000002,"d":"-1.4%"}},{"v":-0.044,"d":"-4.4%"},{"v":-0.06400000000000003,"d":"-6.4%"},{"v":0.02600000000000001,"d":"2.6%"}]
[null,"Linear",{"$f":"Daten_Vermögen!T94","v":{"$error":"#VALUE!"}},{"$f":"C71","v":{"$error":"#VALUE!"}},{"$f":"D71","v":{"$error":"#VALUE!"}},{"$error":"#VALUE!"},{"$error":"#VALUE!"},"ü"]
[null,{"$f":"B62","v":"Inflation"},{"v":0.05,"d":"5.0%"},{"v":0.1,"d":"10.0%"},{"v":0.1,"d":"10.0%"},{"v":-0.08,"d":"-8.0%"},{"v":-0.08,"d":"-8.0%"},"ü",null,"Depression/Deflation","Gewichtung","Jahr 1","Jahr 2","Jahr 3","Jahr 4","Jahr 5"]
[null,{"$f":"B63","v":"Deflation/Depression"},{"v":0.05,"d":"5.0%"},{"v":-0.15,"d":"-15.0%"},{"v":-0.25,"d":"-25.0%"},{"v":0,"d":"0.0%"},{"v":0.05,"d":"5.0%"},"ü",null,"Zinsentwicklung (Absolutes Zinsniveau)",null,{"v":0.01,"d":"1.0%"},{"v":0.04,"d":"4.0%"},{"v":0.02,"d":"2.0%"},{"v":0.01,"d":"1.0%"},{"v":0,"d":"0.0%"}]
[null,{"$f":"B64","v":"Best Case"},{"v":0.08,"d":"8.0%"},{"v":0.1,"d":"10.0%"},{"v":0.1,"d":"10.0%"},{"v":0.15,"d":"15.0%"},{"v":0.1,"d":"10.0%"},"ü",null,"Zinsveränderung Staatsanleihen",null,{"$f":"L73-$K$62","v":{"v":-0.004999999999999999,"d":"-0.5%"}},{"$f":"M73-L73","v":{"v":0.03,"d":"3.0%"}},{"$f":"N73-M73","v":{"v":-0.02,"d":"-2.0%"}},{"$f":"O73-N73","v":{"v":-0.01,"d":"-1.0%"}},{"$f":"P73-O73","v":{"v":-0.01,"d":"-1.0%"}}]
[null,{"$f":"B66","v":"Worst Case"},{"v":-0.05,"d":"-5.0%"},{"v":-0.1,"d":"-10.0%"},{"v":-0.05,"d":"-5.0%"},{"v":-0.08,"d":"-8.0%"},{"v":-0.05,"d":"-5.0%"},"ü",null,"Wertveränderung Staatsanleihen gem. mod. Dur.",{"$f":"Anlagestrategie!$H$25","v":{"v":0.4,"d":"40.0%"}},{"$f":"Anlagestrategie!$H$38*'Daten Szenarien'!L74*-100","v":{"v":0.034999999999999996,"d":"3.5%"}},{"$f":"Anlagestrategie!$H$38*'Daten Szenarien'!M74*-100","v":{"v":-0.21000000000000002,"d":"-21.0%"}},{"$f":"Anlagestrategie!$H$38*'Daten Szenarien'!N74*-100","v":{"v":0.14,"d":"14.0%"}},{"$f":"Anlagestrategie!$H$38*'Daten Szenarien'!O74*-100","v":{"v":0.07,"d":"7.0%"}},{"$f":"Anlagestrategie!$H$38*'Daten Szenarien'!P74*-100","v":{"v":0.07,"d":"7.0%"}}]
[null,"Goldilocks",{"v":0.08,"d":"8.0%"},{"v":0.09,"d":"9.0%"},{"v":0.09,"d":"9.0%"},{"v":0.12,"d":"12.0%"},{"v":0.08,"d":"8.0%"},"ü",null,"Unternehmensanleihen IG (Veränderung)",{"$f":"Anlagestrategie!$H$26","v":{"v":0.4,"d":"40.0%"}},{"v":0.01,"d":"1%"},{"v":-0.08,"d":"-8%"},{"v":0,"d":"0%"},{"v":0.03,"d":"3%"},{"v":0.03,"d":"3%"}]
[null,"Mischszenario",{"v":-0.05,"d":"-5.0%"},{"v":0.06,"d":"6.0%"},{"v":0.07,"d":"7.0%"},{"v":0.08,"d":"8.0%"},{"v":0.08,"d":"8.0%"},"ü",null,"Unternehmensanleihen HY (Veränderung)",{"$f":"Anlagestrategie!$H$27","v":{"v":0.2,"d":"20.0%"}},{"v":0.02,"d":"2%"},{"v":-0.15,"d":"-15%"},{"v":-0.18,"d":"-18%"},{"v":0.05,"d":"5%"},{"v":0.08,"d":"8%"}]
[{"$nulls":9},"Anleihen gewichtet",null,{"$f":"L75*$K$67+L76*$K$68+L77*$K$69","v":{"v":0.022,"d":"2.2%"}},{"$f":"M75*$K$67+M76*$K$68+M77*$K$69","v":{"v":-0.14600000000000002,"d":"-14.6%"}},{"$f":"N75*$K$67+N76*$K$68+N77*$K$69","v":{"v":0.02000000000000001,"d":"2.0%"}},{"$f":"O75*$K$67+O76*$K$68+O77*$K$69","v":{"v":0.05000000000000001,"d":"5.0%"}},{"$f":"P75*$K$67+P76*$K$68+P77*$K$69","v":{"v":0.05600000000000001,"d":"5.6%"}}]
["Anleihen",{"$f":"B70","v":"Szenario"},2024,2025,2026,2027,2028]
[null,"Linear",{"$f":"Daten_Vermögen!U94","v":{"$error":"#VALUE!"}},{"$f":"C80","v":{"$error":"#VALUE!"}},{"$f":"D80","v":{"$error":"#VALUE!"}},{"$error":"#VALUE!"},{"$error":"#VALUE!"},"ü",null,"Best Case","Gewichtung","Jahr 1","Jahr 2","Jahr 3","Jahr 4","Jahr 5"]
[null,{"$f":"B72","v":"Inflation"},{"$f":"L70","v":{"v":0.056000000000000015,"d":"5.6%"}},{"$f":"M70","v":{"v":-0.014000000000000002,"d":"-1.4%"}},{"v":-0.044,"d":"-4.4%"},{"v":-0.06400000000000003,"d":"-6.4%"},{"v":0.02600000000000001,"d":"2.6%"},"ü",null,"Zinsentwicklung (Absolutes Zinsniveau)",null,{"v":0.04,"d":"4%"},{"v":0.03,"d":"3%"},{"v":0.03,"d":"3%"},{"v":0.02,"d":"2%"},{"v":0.02,"d":"2%"}]
[null,"Deflation/Depression",{"$f":"L78","v":{"v":0.022,"d":"2.2%"}},{"$f":"M78","v":{"v":-0.14600000000000002,"d":"-14.6%"}},{"v":0.02000000000000001,"d":"2.0%"},{"v":0.05000000000000001,"d":"5.0%"},{"v":0.05600000000000001,"d":"5.6%"},"ü",null,"Zinsveränderung Staatsanleihen",null,{"$f":"L81-$K$62","v":{"v":0.025,"d":"2.5%"}},{"$f":"M81-L81","v":{"v":-0.010000000000000002,"d":"-1.0%"}},{"$f":"N81-M81","v":{"v":0,"d":"0.0%"}},{"$f":"O81-N81","v":{"v":-0.009999999999999998,"d":"-1.0%"}},{"$f":"P81-O81","v":{"v":0,"d":"0.0%"}}]
[null,"Best Case",{"$f":"L86","v":{"v":-0.04000000000000001,"d":"-4.0%"}},{"$f":"M86","v":{"v":0.068,"d":"6.8%"}},{"v":0.038000000000000006,"d":"3.8%"},{"v":0.066,"d":"6.6%"},{"v":0.036000000000000004,"d":"3.6%"},"ü",null,"Wertveränderung Staatsanleihen gem. mod. Dur.",{"$f":"Anlagestrategie!$H$25","v":{"v":0.4,"d":"40.0%"}},{"$f":"Anlagestrategie!$H$38*'Daten Szenarien'!L82*-100","v":{"v":-0.17500000000000002,"d":"-17.5%"}},{"$f":"Anlagestrategie!$H$38*'Daten Szenarien'!M82*-100","v":{"v":0.07000000000000002,"d":"7.0%"}},{"$f":"Anlagestrategie!$H$38*'Daten Szenarien'!N82*-100","v":{"v":0,"d":"0.0%"}},{"$f":"Anlagestrategie!$H$38*'Daten Szenarien'!O82*-100","v":{"v":0.06999999999999999,"d":"7.0%"}},{"$f":"Anlagestrategie!$H$38*'Daten Szenarien'!P82*-100","v":{"v":0,"d":"0.0%"}}]
[null,"Worst Case",{"$f":"L94","v":{"v":-0.016000000000000007,"d":"-1.6%"}},{"$f":"M94","v":{"v":-0.08000000000000003,"d":"-8.0%"}},{"v":-0.06799999999999999,"d":"-6.8%"},{"v":-0.06800000000000003,"d":"-6.8%"},{"v":-0.034,"d":"-3.4%"},"ü",null,"Unternehmensanleihen IG (Veränderung)",{"$f":"Anlagestrategie!$H$26","v":{"v":0.4,"d":"40.0%"}},{"v":0.04,"d":"4%"},{"v":0.06,"d":"6%"},{"v":0.05,"d":"5%"},{"v":0.05,"d":"5%"},{"v":0.05,"d":"5%"}]
[null,"Goldilocks",{"$f":"L102","v":{"v":0.013999999999999995,"d":"1.4%"}},{"$f":"M102","v":{"v":0,"d":"0.0%"}},{"v":0.032,"d":"3.2%"},{"v":0.064,"d":"6.4%"},{"v":0.032,"d":"3.2%"},"ü",null,"Unternehmensanleihen HY (Veränderung)",{"$f":"Anlagestrategie!$H$27","v":{"v":0.2,"d":"20.0%"}},{"v":0.07,"d":"7%"},{"v":0.08,"d":"8%"},{"v":0.09,"d":"9%"},{"v":0.09,"d":"9%"},{"v":0.08,"d":"8%"}]
[null,"Mischszenario",{"$f":"L110","v":{"v":-0.07600000000000001,"d":"-7.6%"}},{"$f":"M110","v":{"v":0.08400000000000002,"d":"8.4%"}},{"v":0.028,"d":"2.8%"},{"v":0.012,"d":"1.2%"},{"v":0.014,"d":"1.4%"},"ü",null,"Anleihen gewichtet",null,{"$f":"L83*$K$67+L84*$K$68+L85*$K$69","v":{"v":-0.04000000000000001,"d":"-4.0%"}},{"$f":"M83*$K$67+M84*$K$68+M85*$K$69","v":{"v":0.068,"d":"6.8%"}},{"$f":"N83*$K$67+N84*$K$68+N85*$K$69","v":{"v":0.038000000000000006,"d":"3.8%"}},{"$f":"O83*$K$67+O84*$K$68+O85*$K$69","v":{"v":0.066,"d":"6.6%"}},{"$f":"P83*$K$67+P84*$K$68+P85*$K$69","v":{"v":0.036000000000000004,"d":"3.6%"}}]
[]
["Alternative Investments",{"$f":"B79","v":"Szenario"},2024,2025,2026,2027,2028,null,null,"Worst Case","Gewichtung","Jahr 1","Jahr 2","Jahr 3","Jahr 4","Jahr 5"]
[null,"Linear",{"$f":"Daten_Vermögen!V94","v":{"$error":"#VALUE!"}},{"$f":"C89","v":{"$error":"#VALUE!"}},{"$f":"D89","v":{"$error":"#VALUE!"}},{"$error":"#VALUE!"},{"$error":"#VALUE!"},"ü",null,"Zinsentwicklung (Absolutes Zinsniveau)",null,{"v":0.03,"d":"3%"},{"v":0.05,"d":"5%"},{"v":0.06,"d":"6%"},{"v":0.07,"d":"7%"},{"v":0.07,"d":"7%"}]
[null,{"$f":"B81","v":"Inflation"},{"v":0.04,"d":"4.0%"},{"v":0.05,"d":"5.0%"},{"v":0.04,"d":"4.0%"},{"v":0,"d":"0.0%"},{"v":0,"d":"0.0%"},"ü",null,"Zinsveränderung Staatsanleihen",null,{"$f":"L89-$K$62","v":{"v":0.015,"d":"1.5%"}},{"$f":"M89-L89","v":{"v":0.020000000000000004,"d":"2.0%"}},{"$f":"N89-M89","v":{"v":9.999999999999995E-3,"d":"1.0%"}},{"$f":"O89-N89","v":{"v":0.010000000000000009,"d":"1.0%"}},{"$f":"P89-O89","v":{"v":0,"d":"0.0%"}}]
[null,"Deflation/Depression",{"v":0.04,"d":"4.0%"},{"v":-0.12,"d":"-12.0%"},{"v":-0.19,"d":"-19.0%"},{"v":-0.02,"d":"-2.0%"},{"v":0.05,"d":"5.0%"},"ü",null,"Wertveränderung Staatsanleihen gem. mod. Dur.",{"$f":"Anlagestrategie!$H$25","v":{"v":0.4,"d":"40.0%"}},{"$f":"Anlagestrategie!$H$38*'Daten Szenarien'!L90*-100","v":{"v":-0.10500000000000001,"d":"-10.5%"}},{"$f":"Anlagestrategie!$H$38*'Daten Szenarien'!M90*-100","v":{"v":-0.14000000000000004,"d":"-14.0%"}},{"$f":"Anlagestrategie!$H$38*'Daten Szenarien'!N90*-100","v":{"v":-0.06999999999999997,"d":"-7.0%"}},{"$f":"Anlagestrategie!$H$38*'Daten Szenarien'!O90*-100","v":{"v":-0.07000000000000006,"d":"-7.0%"}},{"$f":"Anlagestrategie!$H$38*'Daten Szenarien'!P90*-100","v":{"v":0,"d":"0.0%"}}]
[null,"Best Case",{"v":0.07,"d":"7.0%"},{"v":0.08,"d":"8.0%"},{"v":0.1,"d":"10.0%"},{"v":0.1,"d":"10.0%"},{"v":0.08,"d":"8.0%"},"ü",null,"Unternehmensanleihen IG (Veränderung)",{"$f":"Anlagestrategie!$H$26","v":{"v":0.4,"d":"40.0%"}},{"v":0.04,"d":"4%"},{"v":-0.02,"d":"-2%"},{"v":-0.05,"d":"-5%"},{"v":-0.06,"d":"-6%"},{"v":-0.06,"d":"-6%"}]
[null,"Worst Case",{"v":-0.05,"d":"-5.0%"},{"v":-0.1,"d":"-10.0%"},{"v":-0.06,"d":"-6.0%"},{"$f":"-10%","v":{"v":-0.1,"d":"-10.0%"}},{"v":-0.06,"d":"-6.0%"},"ü",null,"Unternehmensanleihen HY (Veränderung)",{"$f":"Anlagestrategie!$H$27","v":{"v":0.2,"d":"20.0%"}},{"v":0.05,"d":"5%"},{"v":-0.08,"d":"-8%"},{"v":-0.1,"d":"-10%"},{"v":-0.08,"d":"-8%"},{"v":-0.05,"d":"-5%"}]
[null,"Goldilocks",{"v":0.07,"d":"7.0%"},{"v":0.07,"d":"7.0%"},{"v":0.08,"d":"8.0%"},{"v":0.08,"d":"8.0%"},{"v":0.07,"d":"7.0%"},"ü",null,"Anleihen gewichtet",null,{"$f":"L91*$K$67+L92*$K$68+L93*$K$69","v":{"v":-0.016000000000000007,"d":"-1.6%"}},{"$f":"M91*$K$67+M92*$K$68+M93*$K$69","v":{"v":-0.08000000000000003,"d":"-8.0%"}},{"$f":"N91*$K$67+N92*$K$68+N93*$K$69","v":{"v":-0.06799999999999999,"d":"-6.8%"}},{"$f":"O91*$K$67+O92*$K$68+O93*$K$69","v":{"v":-0.06800000000000003,"d":"-6.8%"}},{"$f":"P91*$K$67+P92*$K$68+P93*$K$69","v":{"v":-0.034,"d":"-3.4%"}}]
[null,"Mischszenario",{"v":-0.03,"d":"-3.0%"},{"v":0.06,"d":"6.0%"},{"v":0.06,"d":"6.0%"},{"v":0.08,"d":"8.0%"},{"v":0.08,"d":"8.0%"},"ü"]
[{"$nulls":9},"Goldilocks","Gewichtung","Jahr 1","Jahr 2","Jahr 3","Jahr 4","Jahr 5"]
["Rohstoffe",{"$f":"B88","v":"Szenario"},2024,2025,2026,2027,2028,null,null,"Zinsentwicklung (Absolutes Zinsniveau)",null,{"v":0.02,"d":"2%"},{"v":0.03,"d":"3%"},{"v":0.03,"d":"3%"},{"v":0.02,"d":"2%"},{"v":0.02,"d":"2%"}]
[null,"Linear",{"$f":"Daten_Vermögen!W94","v":{"$error":"#VALUE!"}},{"$f":"C98","v":{"$error":"#VALUE!"}},{"$f":"D98","v":{"$error":"#VALUE!"}},{"$error":"#VALUE!"},{"$error":"#VALUE!"},"ü",null,"Zinsveränderung Staatsanleihen",null,{"$f":"L97-$K$62","v":{"v":5.000000000000001E-3,"d":"0.5%"}},{"$f":"M97-L97","v":{"v":0.009999999999999998,"d":"1.0%"}},{"$f":"N97-M97","v":{"v":0,"d":"0.0%"}},{"$f":"O97-N97","v":{"v":-0.009999999999999998,"d":"-1.0%"}},{"$f":"P97-O97","v":{"v":0,"d":"0.0%"}}]
[null,{"$f":"B90","v":"Inflation"},{"v":0.05,"d":"5.0%"},{"v":0.06,"d":"6.0%"},{"v":0.06,"d":"6.0%"},{"v":-0.02,"d":"-2.0%"},{"v":-0.01,"d":"-1.0%"},null,null,"Wertveränderung Staatsanleihen gem. mod. Dur.",{"$f":"Anlagestrategie!$H$25","v":{"v":0.4,"d":"40.0%"}},{"$f":"Anlagestrategie!$H$38*'Daten Szenarien'!L98*-100","v":{"v":-0.03500000000000001,"d":"-3.5%"}},{"$f":"Anlagestrategie!$H$38*'Daten Szenarien'!M98*-100","v":{"v":-0.06999999999999999,"d":"-7.0%"}},{"$f":"Anlagestrategie!$H$38*'Daten Szenarien'!N98*-100","v":{"v":0,"d":"0.0%"}},{"$f":"Anlagestrategie!$H$38*'Daten Szenarien'!O98*-100","v":{"v":0.06999999999999999,"d":"7.0%"}},{"$f":"Anlagestrategie!$H$38*'Daten Szenarien'!P98*-100","v":{"v":0,"d":"0.0%"}}]
[null,"Deflation/Depression",{"v":0.02,"d":"2.0%"},{"v":-0.15,"d":"-15.0%"},{"v":-0.18,"d":"-18.0%"},{"v":0.05,"d":"5.0%"},{"v":0.08,"d":"8.0%"},null,null,"Unternehmensanleihen IG (Veränderung)",{"$f":"Anlagestrategie!$H$26","v":{"v":0.4,"d":"40.0%"}},{"v":0.04,"d":"4%"},{"v":0.04,"d":"4%"},{"v":0.05,"d":"5%"},{"v":0.06,"d":"6%"},{"v":0.05,"d":"5%"}]
[null,"Best Case",{"v":0.07,"d":"7.0%"},{"v":0.08,"d":"8.0%"},{"v":0.09,"d":"9.0%"},{"v":0.09,"d":"9.0%"},{"v":0.08,"d":"8.0%"},null,null,"Unternehmensanleihen HY (Veränderung)",{"$f":"Anlagestrategie!$H$27","v":{"v":0.2,"d":"20.0%"}},{"v":0.06,"d":"6%"},{"v":0.06,"d":"6%"},{"v":0.06,"d":"6%"},{"v":0.06,"d":"6%"},{"v":0.06,"d":"6%"}]
[null,"Worst Case",{"v":0.05,"d":"5.0%"},{"v":-0.08,"d":"-8.0%"},{"v":-0.1,"d":"-10.0%"},{"v":-0.08,"d":"-8.0%"},{"v":-0.05,"d":"-5.0%"},null,null,"Anleihen gewichtet",null,{"$f":"L99*$K$67+L100*$K$68+L101*$K$69","v":{"v":0.013999999999999995,"d":"1.4%"}},{"$f":"M99*$K$67+M100*$K$68+M101*$K$69","v":{"v":0,"d":"0.0%"}},{"$f":"N99*$K$67+N100*$K$68+N101*$K$69","v":{"v":0.032,"d":"3.2%"}},{"$f":"O99*$K$67+O100*$K$68+O101*$K$69","v":{"v":0.064,"d":"6.4%"}},{"$f":"P99*$K$67+P100*$K$68+P101*$K$69","v":{"v":0.032,"d":"3.2%"}}]
[null,"Goldilocks",{"v":0.06,"d":"6.0%"},{"v":0.06,"d":"6.0%"},{"v":0.06,"d":"6.0%"},{"v":0.06,"d":"6.0%"},{"v":0.06,"d":"6.0%"}]
[null,"Mischszenario",{"v":0.08,"d":"8.0%"},{"v":0.1,"d":"10.0%"},{"v":0.05,"d":"5.0%"},{"v":-0.08,"d":"-8.0%"},{"v":0.01,"d":"1.0%"},null,null,"Nächste fünf Jahre","Gewichtung","Jahr 1","Jahr 2","Jahr 3","Jahr 4","Jahr 5"]
[{"$nulls":9},"Zinsentwicklung (Absolutes Zinsniveau)",null,{"v":0.05,"d":"5%"},{"v":0.03,"d":"3%"},{"v":0.03,"d":"3%"},{"v":0.03,"d":"3%"},{"v":0.03,"d":"3%"}]
["Liquidität",{"$f":"B97","v":"Szenario"},2024,2025,2026,2027,2028,null,null,"Zinsveränderung Staatsanleihen",null,{"$f":"L105-$K$62","v":{"v":0.035,"d":"3.5%"}},{"$f":"M105-L105","v":{"v":-0.020000000000000004,"d":"-2.0%"}},{"$f":"N105-M105","v":{"v":0,"d":"0.0%"}},{"$f":"O105-N105","v":{"v":0,"d":"0.0%"}},{"$f":"P105-O105","v":{"v":0,"d":"0.0%"}}]
[null,"Linear",{"$f":"Daten_Vermögen!X94","v":{"$error":"#VALUE!"}},{"$f":"C107","v":{"$error":"#VALUE!"}},{"$f":"D107","v":{"$error":"#VALUE!"}},{"$error":"#VALUE!"},{"$error":"#VALUE!"},"ü",null,"Wertveränderung Staatsanleihen gem. mod. Dur.",{"$f":"Anlagestrategie!$H$25","v":{"v":0.4,"d":"40.0%"}},{"$f":"Anlagestrategie!$H$38*'Daten Szenarien'!L106*-100","v":{"v":-0.24500000000000002,"d":"-24.5%"}},{"$f":"Anlagestrategie!$H$38*'Daten Szenarien'!M106*-100","v":{"v":0.14000000000000004,"d":"14.0%"}},{"$f":"Anlagestrategie!$H$38*'Daten Szenarien'!N106*-100","v":{"v":0,"d":"0.0%"}},{"$f":"Anlagestrategie!$H$38*'Daten Szenarien'!O106*-100","v":{"v":0,"d":"0.0%"}},{"$f":"Anlagestrategie!$H$38*'Daten Szenarien'!P106*-100","v":{"v":0,"d":"0.0%"}}]
[null,{"$f":"B99","v":"Inflation"},{"v":0,"d":"0.0%"},{"v":0,"d":"0.0%"},{"v":0,"d":"0.0%"},{"v":0,"d":"0.0%"},{"v":0,"d":"0.0%"},null,null,"Unternehmensanleihen IG (Veränderung)",{"$f":"Anlagestrategie!$H$26","v":{"v":0.4,"d":"40.0%"}},{"v":0.03,"d":"3%"},{"v":0.04,"d":"4%"},{"v":0.04,"d":"4%"},{"v":0.04,"d":"4%"},{"v":0.04,"d":"4%"}]
[null,"Deflation/Depression",{"v":0,"d":"0.0%"},{"v":0,"d":"0.0%"},{"v":0,"d":"0.0%"},{"v":0,"d":"0.0%"},{"v":0,"d":"0.0%"},null,null,"Unternehmensanleihen HY (Veränderung)",{"$f":"Anlagestrategie!$H$27","v":{"v":0.2,"d":"20.0%"}},{"v":0.05,"d":"5.0%"},{"v":0.06,"d":"6.0%"},{"v":0.06,"d":"6.0%"},{"v":-0.02,"d":"-2.0%"},{"v":-0.01,"d":"-1.0%"}]
[null,"Best Case",{"v":0,"d":"0.0%"},{"v":0,"d":"0.0%"},{"v":0,"d":"0.0%"},{"v":0,"d":"0.0%"},{"v":0,"d":"0.0%"},null,null,"Anleihen gewichtet",null,{"$f":"L107*$K$67+L108*$K$68+L109*$K$69","v":{"v":-0.07600000000000001,"d":"-7.6%"}},{"$f":"M107*$K$67+M108*$K$68+M109*$K$69","v":{"v":0.08400000000000002,"d":"8.4%"}},{"$f":"N107*$K$67+N108*$K$68+N109*$K$69","v":{"v":0.028,"d":"2.8%"}},{"$f":"O107*$K$67+O108*$K$68+O109*$K$69","v":{"v":0.012,"d":"1.2%"}},{"$f":"P107*$K$67+P108*$K$68+P109*$K$69","v":{"v":0.014,"d":"1.4%"}}]
[null,"Worst Case",{"v":0,"d":"0.0%"},{"v":0,"d":"0.0%"},{"v":0,"d":"0.0%"},{"v":0,"d":"0.0%"},{"v":0,"d":"0.0%"}]
[null,"Goldilocks",{"v":0,"d":"0.0%"},{"v":0,"d":"0.0%"},{"v":0,"d":"0.0%"},{"v":0,"d":"0.0%"},{"v":0,"d":"0.0%"}]
[null,"Mischszenario",{"v":0,"d":"0.0%"},{"v":0,"d":"0.0%"},{"v":0,"d":"0.0%"},{"v":0,"d":"0.0%"},{"v":0,"d":"0.0%"}]
[]
["Immobilien (Veränderung)",{"$f":"B106","v":"Szenario"},2024,2025,2026,2027,2028]
[null,"Linear",{"$f":"Daten_Vermögen!Y94","v":{"v":0,"d":"0.0%"}},{"$f":"C116","v":{"v":0,"d":"0.0%"}},{"$f":"D116","v":{"v":0,"d":"0.0%"}},{"v":0,"d":"0.0%"},{"v":0,"d":"0.0%"},"ü"]
[null,{"$f":"B108","v":"Inflation"},{"v":0.03,"d":"3.0%"},{"v":0.04,"d":"4.0%"},{"v":0.05,"d":"5.0%"},{"v":0.01,"d":"1.0%"},{"v":0.02,"d":"2.0%"},"ü"]
[null,"Deflation/Depression",{"v":0.05,"d":"5.0%"},{"v":0,"d":"0.0%"},{"v":-0.1,"d":"-10.0%"},{"v":-0.03,"d":"-3.0%"},{"v":0.03,"d":"3.0%"},"ü"]
[null,"Best Case",{"v":0.06,"d":"6.0%"},{"v":0.06,"d":"6.0%"},{"v":0.07,"d":"7.0%"},{"v":0.07,"d":"7.0%"},{"v":0.06,"d":"6.0%"},"ü"]
[null,"Worst Case",{"v":0.01,"d":"1.0%"},{"v":-0.03,"d":"-3.0%"},{"v":-0.08,"d":"-8.0%"},{"v":-0.08,"d":"-8.0%"},{"v":-0.08,"d":"-8.0%"},"ü"]
[null,"Goldilocks",{"v":0.06,"d":"6.0%"},{"v":0.06,"d":"6.0%"},{"v":0.07,"d":"7.0%"},{"v":0.07,"d":"7.0%"},{"v":0.06,"d":"6.0%"},"ü"]
[null,"Mischszenario",{"v":-0.01,"d":"-1.0%"},{"v":0.04,"d":"4.0%"},{"v":0.04,"d":"4.0%"},{"v":0.04,"d":"4.0%"},{"v":0.04,"d":"4.0%"},"ü"]

{"sheet":"Anlagestrategie","index":19,"n_rows":188,"n_cols":18,"rows_kept":188,"merged":[[106,8,106,9],[106,12,106,13],[108,8,108,9],[110,8,110,9],[138,8,138,9],[138,12,138,13],[140,8,140,9],[158,8,158,9],[158,12,158,13],[163,8,163,9],[163,12,163,13],[165,11,165,12],[165,15,165,16],[167,8,167,9],[167,12,167,13],[171,8,171,9],[171,12,171,13],[178,8,178,9],[178,12,178,13],[185,8,185,9],[185,12,185,13],[187,7,187,9]]}
{"$rows_empty":9}
[null,"Legende"]
[{"$nulls":5},"Anlagerichtlinie vorhanden?",null,"Bitte ausw.",null,null,"Verantwortlich für Erstellung/Pflege:",null,"Bitte ausw."]
[null,"Pflichteingabe",{"$nulls":3},"Erstellt am ",{"$nulls":4},"Verantwortlich für Anwendung:",null,"Bitte ausw."]
[null,"Optionale Eingabe",{"$nulls":3},"Gültigkeit",null,"Bitte ausw.",null,null,"Verantwortlich für Kontrolle:",null,"Bitte ausw."]
[null,"Systemeingabe überschreibbar",{"$nulls":3},"Revisionsturnus",null,"Bitte ausw.",null,null,"Delegation auf Vermögensverwalter möglich:",null,"Bitte ausw."]
[null,"Systemeingabe nicht überschreibbar",{"$nulls":3},"Berichtsturnus",null,"Bitte ausw.",null,null,"Berichtsturnus des Vermögensverwalters:",null,"Bitte ausw."]
[null,"Weitere Infos im Hintergrund",{"$nulls":3},"Kostenziel in % des Investitionsvermögens","Bitte ausw.",{"$nulls":3},"Transparenzbericht erforderlich:",null,"Bitte ausw."]
[]
[]
[]
[]
[{"$nulls":5},"I. Strategische Allokation Gesamtvermögen",{"$nulls":4},"Abweichung der aktuellen Ist- von der Zielallokation"]
[]
[{"$nulls":5},{"$f":"Daten_Vermögen!B7","v":"Aktien"},null,{"v":0,"d":"0.0%"}]
[{"$nulls":5},{"$f":"Daten_Vermögen!B8","v":"Anleihen"},null,{"v":0,"d":"0.0%"}]
[" ",{"$nulls":4}," davon Staatsanleihen",null,{"v":0.4,"d":"40.0%"}]
[{"$nulls":5}," davon Unternehmensanl. Investment Grade",null,{"v":0.4,"d":"40.0%"}]
[{"$nulls":5}," davon Unternehmensanl. High Yield",null,{"v":0.2,"d":"20.0%"}]
[{"$nulls":5},{"$f":"Daten_Vermögen!B9","v":"Alternative Inv."},null,{"v":0,"d":"0.0%"}]
[{"$nulls":5},{"$f":"Daten_Vermögen!B10","v":"Rohstoffe"},null,{"v":0,"d":"0.0%"}]
[{"$nulls":5},{"$f":"Daten_Vermögen!B11","v":"Liquidität"},null,{"v":0,"d":"0.0%"}]
[{"$nulls":5},{"$f":"Daten_Vermögen!B13","v":"Immobilien"},null,{"v":0,"d":"0.0%"}]
[{"$nulls":5},{"$f":"Daten_Vermögen!B14","v":"Beteiligungen"},null,{"v":0,"d":"0.0%"}]
[{"$nulls":5},{"$f":"Daten_Vermögen!B15","v":"Sonst. Verm."},null,{"v":0,"d":"0.0%"}]
[null,"Weiter zu",{"$nulls":3},"Summe",null,{"$f":"SUM(H23:H24)+SUM(H28:H33)","v":{"v":0,"d":"0.0%"}}]
[]
[{"$nulls":5},"Geduldete Toleranz",null,{"v":0,"d":"0.0%"}]
[{"$nulls":5},"Überziehungszeitraum (Monate)"]
[{"$nulls":5},"Modifizierte Duration der Staatsanleihen",null,{"v":0.07,"d":"7.0%"}]
[]
[]
[{"$nulls":5},"Anlageinstrumente und Restriktionen"]
[]
[]
[]
[{"$nulls":5},"Anlageinstrumente","Ausgeschlossen",{"$nulls":3},"Weitere Restriktionen"]
[]
[null,"Externe Links",{"$nulls":3},"Direktanlage",null,false,null,null,"Maxquote pro Einzelwert",null,{"v":1,"d":"100.0%"}]
[{"$nulls":5},"Investmentfonds (auch gemischt)",null,false,null,null,"Maxquote Fremdwährungsanlagen",null,{"v":1,"d":"100.0%"}]
[{"$nulls":5},"ETF's physisch replizierend",null,false]
[{"$nulls":5},"ETF's synthetisch replizierend",null,false]
[{"$nulls":5},"Derivate ",null,false]
[{"$nulls":5},"Derivate zur Absicherung",null,false]
[{"$nulls":5},"Gedeckte Stillhaltergeschäfte",null,false]
[{"$nulls":5},"Wandelanleihen",null,false]
[{"$nulls":5},"Sonstiges ",null,false]
[]
[]
[]
[]
[{"$nulls":5},"Anlageinstrumente","Ausgeschlossen",{"$nulls":3},"Weitere Restriktionen"]
[]
[{"$nulls":5},"Direktanlage",null,false,null,null,"Maxquote pro Einzelwert",null,{"v":1,"d":"100.0%"}]
[{"$nulls":5},"Investmentfonds (auch gemischt)",null,false,null,null,"Maxquote Fremdwährungsanlagen",null,{"v":1,"d":"100.0%"}]
[{"$nulls":5},"Nachranganleihen",null,false,null,null,"Mindestbonität",null,"Bitte ausw."]
[{"$nulls":5},"ETF's physisch replizierend",null,false,null,null,"Durchschnittsbonität",null,"Bitte ausw."]
[{"$nulls":5},"ETF's synthetisch replizierend",null,false,null,null,"Käufe über Pari",null,"Bitte ausw."]
[{"$nulls":5},"Derivate ",null,false]
[{"$nulls":5},"Derivate nur zur Absicherung",null,false]
[{"$nulls":5},"Zertifikate",null,false]
[{"$nulls":5},"Sonstiges ",null,false]
[]
[]
[]
[]
[{"$nulls":5},"Anlageinstrumente","Ausgeschlossen",{"$nulls":3},"Weitere Restriktionen"]
[]
[{"$nulls":5},"Direktanlage",null,false,null,null,"Maxquote pro Objekt",null,{"v":1,"d":"100.0%"}]
[{"$nulls":5},"Offene Immobilienfonds ",null,false,null,null,"Maxquote Fremdwährungsanlagen",null,{"v":1,"d":"100.0%"}]
[{"$nulls":5},"Geschlossene Immobilienfonds (AIF's)",null,false,null,null,"Max. Fremdfinanzierung pro Objekt",null,{"v":1,"d":"100.0%"}]
[{"$nulls":5},"Immobilienaktien (REITS)",null,false]
[{"$nulls":5},"Sonstiges",null,false]
[]
[]
[]
[]
[{"$nulls":5},"Anlageinstrumente","Ausgeschlossen",{"$nulls":3},"Weitere Restriktionen"]
[]
[{"$nulls":5},"Direktinvestition",null,false,null,null,"Maxquote pro Instrument"]
[{"$nulls":5},"Spezial-AIF (ehem Geschlossene Fonds)",null,false,null,null,"Maxquote Fremdwährungsanlagen"]
[{"$nulls":5},"Zertifikate",null,false]
[{"$nulls":5},"Hedge Fonds",null,false]
[{"$nulls":5},"Sonstiges",null,false]
[]
[]
[]
[]
[{"$nulls":5},"Anlageinstrumente","Ausgeschlossen",{"$nulls":3},"Weitere Restriktionen"]
[]
[{"$nulls":5},"Geldmarktnahe Fonds",null,false,null,null,"Einlagensicherung",null,"Nur inländische"]
[{"$nulls":5},"Sonstiges",null,false,null,null,"Max. Guthaben pro Sicherungssystem EUR"]
[{"$nulls":10},"Max. Guthaben pro Institut EUR"]
[{"$nulls":10},"Max. Fremdwährungsguthaben EUR"]
[]
[]
[{"$nulls":5},"Nachhaltigkeit"]
[]
[]
[]
[{"$nulls":5},"1. Auschlusskategorien",null,"Zielgewichtung:",{"$f":"Anlageziele!O32","v":{"v":0,"d":"0%"}}]
[]
[{"$nulls":5},"a) Aktien/Unternehmensanleihen",null,"Umsatzschwelle:",{"v":0,"d":"0.0%"}]
[]
[{"$nulls":5},"E (Umwelt)","Ausschlüsse",null,{"$f":"COUNTIF(H114:H119,TRUE)","v":0},null,"S (Soziales)","Ausschlüsse",null,{"$f":"COUNTIF(M114:M125,TRUE)","v":0},"G (Unternehmensführgung)","Ausschlüsse",null,{"$f":"COUNTIF(Q114:Q116,TRUE)","v":0}]
[{"$nulls":5},"Chlor und Agrochemie (Biozide)",null,false,null,null,"Glücksspiel",null,false,null,"Korruption und Bestechung",null,false]
[{"$nulls":5},"Fossile Brennstoffe",null,false,null,null,"Pornografie",null,false,null,"Diskriminierung",null,false]
[{"$nulls":5},"Grüne Gentechnik",null,false,null,null,"Spirituosen/Alkohol",null,false,null,"Sonstiges",null,false]
[{"$nulls":5},"Kernenergie (Betrieb und Komponenten)",null,false,null,null,"Tabakwaren",null,false]
[{"$nulls":5},"Umweltschädliches Verhalten",null,false,null,null,"Waffen/Rüstungsgüter",null,false]
[{"$nulls":5},"Sonstiges",null,false,null,null,"Streubomben/Antipersonenminen",null,false]
[{"$nulls":10},"Massenvernichtungswaffen",null,false]
[{"$nulls":10},"Abeitsrechtsverst. (ILO Kernarbeitsnormen)",null,false]
[{"$nulls":10},"Ausbeuterische Kinderarbeit",null,false,{"$nulls":3},"v"]
[{"$nulls":10},"Menschenrechtsverstöße",null,false]
[{"$nulls":10},"Tierversuche",null,false]
[{"$nulls":10},"Sonstiges",null,false]
[]
[{"$nulls":5},"b) Staatsanleihen"]
[]
[{"$nulls":5},"E (Umwelt)","Ausschlüsse",{"$nulls":3},"S (Soziales)","Ausschlüsse",null,null,"G (Unternehmensführung)","Ausschlüsse"]
[{"$nulls":5},"Kernenergie nach Anteil an Energieerzeugg.",null,false,null,null,"Nichtgewährleistung der Arbeitsrechte",null,false,null,"Korruption",null,false]
[{"$nulls":5},"Nichtratifizierung der UN-Biodiveristäts-K.",null,false,null,null,"Duldung von Kinderarbeit",null,false,null,"Diskriminierung",null,false]
[{"$nulls":5},"Nichtratifizierung des Kyoto-Protokolls",null,false,null,null,"Nichtgewährleistung der Menschenrechte",null,false]
[{"$nulls":5},"Nichtratifizierung des Prot. biolog. Sicherh.",null,false,null,null,"Hohes Rüstungsbudget",null,false]
[{"$nulls":10},"Todesstrafe",null,false]
[{"$nulls":10},"Unfreie Staaten lt. Freedom House",null,false]
[{"$nulls":10},"Verstöße gegen Atomwaffensperrvertrag",null,false]
[{"$nulls":10},"Verstöße gegen Waffensperrverträge",null,false]
[]
[]
[]
[{"$nulls":5},"2. Impact Investing/SDG:",null,"Zielgewichtung:",{"$f":"Anlageziele!O33","v":{"v":0,"d":"0%"}}]
[]
[{"$nulls":5},"E (Umwelt)",null,{"$f":"COUNTIF(H144:H147,TRUE)","v":0},null,null,"S (Soziales)",null,{"$f":"COUNTIF(M144:M151,TRUE)","v":0},null,"G (Unternehmensführung)",null,{"$f":"COUNTIF(Q144:Q148,TRUE)","v":0}]
[{"$nulls":5},"06 Sauberes Wasser und Sanitärversorgung",null,false,null,null,"01 Keine Armut",null,false,null,"08 Menschenwürde, Arbeit und Wachstum.",null,false]
[{"$nulls":5},"13 Maßnahmen zum Klimaschutz",null,false,null,null,"02 Kein Hunger",null,false,null,"09 Industrie, Innovation und Infrastruktur",null,false]
[{"$nulls":5},"14 Leben unter Wasser",null,false,null,null,"03 Gesundheit und Wohlergehen",null,false,null,"10 Weniger Ungleichheiten",null,false]
[{"$nulls":5},"15 Leben an Land",null,false,null,null,"04 Hochwertige Bildung",null,false,null,"12 Verantwortungsv. Konsum u. Produktion",null,false]
[{"$nulls":10},"05 Geschlechtergleichstellung",null,false,null,"17 Partnerschaften zur Erreichung der Ziele",null,false]
[{"$nulls":10},"07 Bezahlbare und saubere Energie",null,false]
[{"$nulls":10},"11 Nachhaltige Städte und Gemeinden",null,false]
[{"$nulls":10},"16 Frieden, Gerechtigkeit, starke Institutionen",null,false]
[{"$nulls":5},"Impact Investing wird mittels SDG's umgesetzt",null,"Bitte ausw."]
[{"$nulls":5},"Wenn nein: Auswahlkriterien für Impact Inv.:",null,"Bitte ausw."]
[{"$nulls":5},"Umsatz-Anteil, der mind. auf SDG/ESG entf. soll:",null,"Bitte auswählen"]
[]
[]
[]
[]
[{"$nulls":5},"3. ESG MESSMETHODE (einzeln/aggregiert)",null,"Zielgewichtung:",{"$f":"Anlageziele!O34","v":{"v":0,"d":"0.0%"}}]
[]
[{"$nulls":5},"Aggregation der E-, S- und G-Punktzahlen",null,"Bitte auswählen"]
[{"$nulls":5},"Mindestscore",null,"A"]
[]
[{"$nulls":5},"4. BEST-OF-UNIVERSE / BEST-IN-CLASS",null,"Zielgewichtung:",{"$f":"Anlageziele!O35","v":{"v":0,"d":"0.0%"}}]
[]
[{"$nulls":5},"Gewählte Option Best-in-Class/Best-of-Universe:",null,"Bitte auswählen"]
[]
[{"$nulls":5},"5. ESG TOP % (Mindestscoring)",null,"Zielgewichtung:",{"$f":"Anlageziele!O36","v":{"v":0,"d":"0.0%"}}]
[]
[{"$nulls":5},"Anteil der nach ESG-Krit. ausgeschlossenen Werte:",null,{"v":0,"d":"0.0%"}]
[]
[{"$nulls":5},"6. ESG FREQUENZ",null,"Zielgewichtung:",{"$f":"Anlageziele!O37","v":{"v":0,"d":"0.0%"}}]
[]
[{"$nulls":5},"Aktualisierungsturnus der ESG-Daten (mindestens):",null,"Bitte auswählen"]
[]
[]
[]
[]
[{"$nulls":5},"7. STIMMRECHTSAUSÜBUNG",null,"Zielgewichtung:",{"$f":"Anlageziele!O38","v":{"v":0,"d":"0.0%"}}]
[]
[{"$nulls":5},"Vermögensanteil auf den das Voting fokussiert ist:",null,"Bitte auswählen"]
[]
[]
[]
[]
[{"$nulls":5},"8. ENGAGEMENT",null,"Zielgewichtung:",{"$f":"Anlageziele!O39","v":{"v":0,"d":"0.0%"}}]
[]
[{"$nulls":5},"ESG-gerichtete Ansprache folgender Stellen",null,"Bitte auswählen"]

{"sheet":"Daten_Anlagerichtlinie","index":20,"n_rows":286,"n_cols":33,"rows_kept":286,"hidden":true}
["Daten Anlagerichtlinie"]
[null,null," "]
[null,"Varianten","Text","Spezifikationen",null,"Datumsberechnung",null,null,"Auswahlfelder",{"$nulls":3},"Auswahlfelder"]
[]
["Präambel",null,"Aufgabe dieser Anlagerichtlinien ist es, den Gestaltungsspielraum, den Stiftungsgesetz und Satzung im Vermögensmanagement gewähren, dahingehend zu konkretisieren, dass für das verantwortliche Stiftungsgremium ein praktikabler und haftungsfreier Handlungsrahmen entsteht. Gleichzeitig sollen sie das Stiftungshandeln in diesem Bereich für Dritte nachvollziehbar machen und somit für Kontrollgremien und Stiftungsaufsicht die nötige Transparenz schaffen. Mit dem Beschluss dieser Anlagrerichtlinien verlieren alle früheren Anlagerichtlinien ihre Gültigkeit. Die Verantwortlichkeiten und Fristen für die vorliegenden Anlagerichtlinien regeln sich wie folgt. ",{"$nulls":5},"AR_Gremien","Bonitäten","Käufe_über_Pari","Einlagensicherung","AR_Gremien","Bonitäten","Gültigkeit","Ja/Nein","(Berichts-)Turnus","Berichtsadressat","Anbieter ESG-Rating","Anbieter Engagement","Anbieter Stimmrecht","Auswahl","Datenanbieter","Dienstleister","Anlageklassen","SDG-Umsatz","ESG Messmethode","BoU/BiC","ESG TOP %","ESG Frequenz","Stimmrecht","Engagement","Auswahl II"]
[null,"Verantwortlich f. Erstellung:",{"$f":"Anlagestrategie!M11","v":"Bitte ausw."},null,null,"Ausgangsdatum",{"$f":"Anlagestrategie!H12","v":"00:00:00"},null,"Bitte ausw.","Bitte ausw.","Bitte ausw.","Bitte ausw.","Bitte ausw.","Bitte ausw.","Bitte ausw.","Bitte ausw.","Bitte ausw.","Bitte ausw.","Bitte ausw.","Bitte ausw.","Bitte ausw.","Bitte ausw.","Bitte auswählen","Bitte auswählen","Bitte auswählen","Bitte auswählen","Bitte auswählen","Bitte auswählen","Bitte auswählen","Bitte auswählen","Bitte auswählen","Bitte auswählen","Bitte ausw."]
[null,"Verantwortlich f. Umsetzung:",{"$f":"Anlagestrategie!M12","v":"Bitte ausw."},null,null,"Revisionsturnus",{"$f":"IF(C9=\"quartalsweise\",90,IF(C9=\"halbjährlich\",180,IF(C9=\"jährlich\",360,\"Unbekannt\")))","v":"Unbekannt"},null,"Vorstand","Keine","unzulässig","Keine Einschränkung","Vorstand","Keine","Bis auf Widerruf","Ja","Monatlich","Vorstand","Keine","Keine","Keine","Positivkriterien","Ethix","Keiner","Aktien","50-70%","Aggregiert","Best in Class","<20% 'Schlechteste'","Seltener als monatl.","<25%","Mgt. o. AR o. HV-Rede","Nur E"]
[null,"Verantwortlich f. Kontrolle:",{"$f":"Anlagestrategie!M13","v":"Bitte ausw."},null,null,"Revisionsdatum",{"$f":"G6+G7","v":{"$error":"#VALUE!"}},null,"Geschäftsführung","Investment Grd.","max. 1%","Nur inländische","Geschäftsführung","Investment Grade","1 Jahr","Nein","Quartalsweise","Kuratorium","inrate",null,null,"Best in Class","imug Vigeo-eiris","Bank","Renten","70-90%","Aggreg. m. Mindestsc.","Mischung aus BiC/BoU","20-50% 'Schlechteste'","Monatlich","25%-50%","2 von Mgt/AR/HV-Rede","Nur S"]
[null,"Revisionsturnus:",{"$f":"Anlagestrategie!H14","v":"Bitte ausw."},null,null,"Berichtsturnus",null,null,"Generalsekretär/-in","Aa3 (High Grd.)","max. 2%","Nur Sparkassen","Generalsekretär/-in","Aa3 (High Grade)","2 Jahre",null,"Halbjährlich","Stiftungsrat","imug (vigeo eiris)",{"$nulls":3},"ISS (ex oekom)","Fondsgesellschaft","Immobilien",">90%","Nicht aggregiert","Best of Universe",">=50% 'Schlechteste'","Häufiger als monatl.",">50%","Mgt. u. AR u. HV-Rede","Nur G"]
[{"$nulls":8},"Kuratorium","A3 (Upper medium G.)","max. 3%","Nur Genossenschaftl.","Kuratorium","A3 (Upper medium G.)","3 Jahre",null,"Jährlich","Beirat","iss (oekom)",{"$nulls":3},"MSCI","Asset Manager","Alternative Inv.",{"$nulls":7},"E und S"]
["I. Anlageziele",{"$nulls":7},"Stiftungsrat","Baa3 (Lower medium G.)","max. 4%","Nur Private Banken","Aufsichtsrat","Baa3 (Lower medium G.)","4 Jahre",null,null,"Anlagerat","MSCI",{"$nulls":3},"RepRisk","Spezialdienstleister","Liquidität",{"$nulls":7},"E und G"]
[{"$nulls":8},"Aufsichtsrat","Ba3 (Speculative)","max. 5%",null,"Beirat","Ba3 (Speculative)","5 Jahre",null,null,"Aufsichtsrat","Sustainalytics",{"$nulls":3},"Sigwatch",{"$nulls":9},"S und G"]
["1. Vermögen","Gewichtung",null,{"$f":"Anlageziele!H12","v":{"v":0.25,"d":"25.0%"}},{"$nulls":4},"Beirat","B3 (Highly speculative)","max. 6%",null,"Anlageausschuss","B3 (Highly speculative)",{"$nulls":3},"Anlageausschuss","Sonstige",{"$nulls":3},"Solactive",{"$nulls":9},"E, S und G"]
[null,"Real","Das Grundstockvermögen ist auf unbestimmte Zeit in seinem realen Wert zu erhalten. Dieses Anlageziel ist erreicht, wenn das zur Anlage bestimmte Investitionsvermögen nach Verkehrswerten mindestens so hoch ist wie das in der Rechnungslegung ausgewiesene Grundstockvermögen zuzüglich der im Zeitraum seit Zufluss gemessenen allgemeinen Geldentwertung. Die Zielrendite Vermögen entspricht somit im Geltungszeitraum der Anlagerichtlinie erwarteten durchschnittlichen Geldentwertung nach Kosten der Vermögensverwaltung. Sofern Wertaufholungsbedarf besteht, kann die Zielrendite auch darüber liegen.",{"$nulls":5},"Anlageausschuss",null,"max. 7%",null,"Finanzvorstand",{"$nulls":4},"Stiftungsaufsicht",{"$nulls":4},"Sustainalytics"]
[null,null,"Maßstab für die allgemeine Geldentwertung: ",{"$f":"Anlageziele!H17","v":"Verbraucherpreise (VPI)"},{"$nulls":4},"Finanzvorstand",null,"Keine Einschränkg.",null,"Anlagerat",{"$nulls":4},"Stifter/in",{"$nulls":4},"Thomson Reuters"]
[null,null,"Zielrendite Vermögen:",{"$f":"Anlageziele!H18","v":{"v":0,"d":"0.0%"}},{"$nulls":4},"Anlagerat",{"$nulls":3},"Sonstige",{"$nulls":9},"Trucost"]
[null,"Nominal","Das Grundstockvermögen ist in seinem nominalen Wert zu erhalten. Dieses Anlageziel ist erreicht, wenn das Investitionsvermögen nach Verkehrswerten mindestens so hoch ist wie das in der Rechnungslegung ausgewiesene Grundstockvermögen.",{"$nulls":5},"Sonstige"]
[null,null,"Zielrendite Vermögen:",{"v":0,"d":"0.0%"}]
[null,"Substanz","Das Grundstockvermögen ist in seiner Substanz zu erhalten. Dieses Anlageziel ist erreicht, wenn die bei Gründung oder durch Zustiftung zugewendeten Vermögensgegenstände im Prüfungszeitpunkt noch immer Bestandteile des Stiftungsvermögens sind. ",{"$nulls":5},"Checkboxen Restriktionen"]
[null,null,"Zielrendite Vemögen:",{"v":0,"d":"0%"}]
[null,"Verbrauch","Das Grundstockvermögen darf sukzessive zur Zweckverwirklichung eingesetzt werden. Dieses Anlageziel ist erreicht, wenn das Investitionsvermögen nach Verkehrswerten mindestens so hoch ist wie das in der Rechnungslegung ausgewiesene Grundstockvermögen abzüglich der in der betreffenden Zeitspanne zum Verbrauch vorgesehenen Beträge.",{"$nulls":5},"Aktien","Renten","Immobilien","Alternative Investments","Liquidität"]
[null,null,"Verbrauchskonzept:","Vermögensverzehr EUR p.a.:"]
[null,null,"Vermögensverzehr EUR p.a.:",{"$f":"Anlageziele!H22","v":0}]
[null,"Kein Umschichtungsverbot","Die Satzung schränkt die Umschichtung vorhandener Vermögenswerte nicht ein."]
[null,"Mind. ein U-Verbot","Die satzungsmäßigen Umschichtungsverbote sind zu beachten."]
["2. Ertrag","Gewichtung",null,{"$f":"Anlageziele!O12","v":{"v":0.25,"d":"25.0%"}}]
[null,"Überschuss","Die Stiftung schüttet pro Jahr so viele Erträge wie nach Abzug der allgemeinen Verwaltungskosten und Bildung der gesetzlichen Rücklagen möglich für den Stiftungszweck aus. Dieses Anlageziel ist erreicht, wenn die Höhe der Ausschüttung mindestens dem nachfolgend genannten Mehrfachen der im gleichen Zeitraum aufgewandten allgemeinen Verwaltungskosten inklusive den Kosten der Vermögensverwaltung entspricht. Die Zielrendite gibt den entsprechenden Ausschüttungsertrag aus dem Investitionsvermögen nach Kosten der Vermögensverwaltung an. "]
[null,null,"Verwaltungskostenfaktor:",{"$f":"Anlageziele!O16","v":{"v":0,"d":"0.0"}}]
[null,null,"Ausschüttungssumme:",{"$f":"Wirtschaftsplan!H54*Daten_Anlagerichtlinie!D28","v":0}]
[null,null,"Ausschüttungsrendite:",{"$f":"D29/Daten_Vermögen!C94","v":{"$error":"#DIV/0!"}}]
[null,"Zielausschüttung in EUR","Die Stiftung schüttet pro Jahr den nachfolgend genannten Betrag aus, um damit die Verwaltungskosten sowie die freie Rücklage und die Kosten der Zweckverwirklichung zu decken. Die Zielrendite gibt den entsprechenden Ausschüttungsertrag aus dem Investitionsvermögen nach Kosten an."]
[null,null,"Zielausschüttung:",{"$f":"Anlageziele!O17","v":0}]
[null,null,"Ausschüttungsrendite:",{"$f":"D32/Daten_Vermögen!C94","v":{"$error":"#DIV/0!"}}]
[null,"Zielquote in Prozent","Die Stiftung schüttet pro Jahr mindestens einen Betrag aus, dessen Höhe dem nachfolgend genannten Prozentsatz vom Investitionsvermögen entspricht. Die Zielrendite gibt den entsprechenden Ausschüttungsertrag aus dem Investitionsvermögen nach Kosten der Vermögensverwaltung an."]
[null,null,"Zielrendite Ausschüttung",{"$f":"Anlageziele!O18","v":{"v":0,"d":"0.0%"}}]
[null,null,"Ausschüttungssumme:",{"$f":"Daten_Vermögen!C94*Daten_Anlagerichtlinie!D35","v":0}]
["3. Risiko","Gewichtung",null,{"$f":"Anlageziele!H27","v":{"v":0.25,"d":"25.0%"}}]
[null,"Investitionsverm.","Der Gesamtwert des zur Anlage bestimmten Vermögens darf sich im schlechtesten mit bestimmter Wahrscheinlichkeit anzunehmenden Fall in einem Kalenderjahr maximal um den nachfolgend genannten Prozentsatz reduzieren. "]
[null,null,"Maximalverlust Investitionsverm.:",{"$f":"Anlageziele!H32","v":{"v":0,"d":"0.00%"}}]
[null,null,"Erholungsphase:",{"$f":"Anlageziele!H34","v":0},"Jahre"]
[null,"Rücklagen","Der Gesamtwert des Investitionsvermögens darf sich im schlechtesten mit bestimmter Wahrscheinlichkeit anzunehmenden Fall in einem Jahr maximal um den jeweiligen summierten Bestand der freien und der Umschichtungsrücklage reduzieren, sofern dieser positiv ist."]
["4. Nachhaltigkeit",null,null,{"$f":"Anlageziele!O27","v":{"v":0.25,"d":"25.0%"}}]
[null,"Allgemein","Die gesellschaftlichen Wirkungen der Vermögensanlage dürfen den mit dem Stiftungszweck angestrebten Wirkungen nicht zuwiderlaufen. Darüber hinaus finden ökologische und soziale Kriterien sowie die Art der Unternehmensführung bei den Investitionsentscheidungen im Rahmen des Erkennbaren und wirtschaftlich Vernünftigen Berücksichtigung. Dem liegt die Überzeugung zu Grunde, dass die Berücksichtigung von Nachhaltigkeitsaspekten insbesondere bei langfristigen Investitionen zur Reduzierung von Wertschwankungs- und Ausfallrisiken beitragen kann. "]
[null,null,"PRISC-Sore als Anlageziel",{"$f":"Anlageziele!O31","v":"Quantitativ"}]
[null,null,"Dieses Anlageziel ist erreicht, wenn die Summe der mit Nachhaltigkeitsstrategien ausgestatteten Vermögensgegenstände nach Verkehrswerten den folgenden Anteil am Volumen des Investitionsvermögens ausmacht:",{"$f":"Anlageziele!N29","v":{"v":0,"d":"0.0%"}}]
[null,null,"Zielquote Nachhaltigkeit:",{"$f":"Anlageziele!N29","v":{"v":0,"d":"0.0%"}}]
[null,null,{"$f":"Anlageziele!M32","v":"Ausschlusskategorien"},{"$f":"Anlageziele!O32","v":{"v":0,"d":"0.0%"}}]
[null,null,{"$f":"Anlageziele!M33","v":"Impact/SDG-Ziele"},{"$f":"Anlageziele!O33","v":{"v":0,"d":"0.0%"}}]
[null,null,{"$f":"Anlageziele!M34","v":"ESG-Messmethode (einzeln/aggregiert)"},{"$f":"Anlageziele!O34","v":{"v":0,"d":"0.0%"}}]
[null,null,{"$f":"Anlageziele!M35","v":"Best of Universe/Best in Class"},{"$f":"Anlageziele!O35","v":{"v":0,"d":"0.0%"}}]
[null,null,{"$f":"Anlageziele!M36","v":"ESG Top%"},{"$f":"Anlageziele!O36","v":{"v":0,"d":"0.0%"}}]
[null,null,{"$f":"Anlageziele!M37","v":"ESG Frequenz"},{"$f":"Anlageziele!O37","v":{"v":0,"d":"0.0%"}}]
[null,null,{"$f":"Anlageziele!M38","v":"Stimmrechtsausübung"},{"$f":"Anlageziele!O38","v":{"v":0,"d":"0.0%"}}]
[null,null,{"$f":"Anlageziele!M39","v":"Engagement"},{"$f":"Anlageziele!O39","v":{"v":0,"d":"0.0%"}}]
[null,null,"Dieses Anlageziel ist erreicht, wenn das zur Anlage bestimmte Vermögen folgenden Zielwert nach dem DVFA PRISC-Score (Policy for Responsible Investment Scoring) erreicht:"]
[null,null,"Zielwert PRISC-Score",{"$f":"Anlageziele!O42","v":{"v":0,"d":"0.0%"}}]
[null,null,"Adjustierungsfaktor",{"$f":"Nachhaltigkeit_PRISC!H77","v":{"v":2,"d":"200.0%"}}]
[]
["II. Strategische Allokation",null,null,"SOLL","IST","Differenz","Korridor Untergrenze",null,"Korridor Obergrenze"]
[]
[null,null,"Zur Erreichung der vorgenannten Anlageziele erscheint der Stiftung folgende strategische Aufteilung des Vermögens auf einzelne Anlageklassen geeignet. Bezugsgröße ist stets das Gesamtvermögen."]
[null,null,{"$f":"Anlagestrategie!F23","v":"Aktien"},{"$f":"Anlagestrategie!H23","v":{"v":0,"d":"0.0%"}},{"$f":"Daten_Vermögen!E169","v":{"$error":"#DIV/0!"}},{"$f":"E62-D62","v":{"$error":"#DIV/0!"}},{"$f":"D62-D62*$D$72","v":{"v":0,"d":"0.0%"}},null,{"$f":"D62+D62*$D$72","v":{"v":0,"d":"0.0%"}}]
[null,null,{"$f":"Anlagestrategie!F24","v":"Anleihen"},{"$f":"Anlagestrategie!H24","v":{"v":0,"d":"0.0%"}},{"$f":"Daten_Vermögen!E170","v":{"$error":"#DIV/0!"}},{"$error":"#DIV/0!"},{"$f":"D63-D63*$D$72","v":{"v":0,"d":"0.0%"}},null,{"$f":"D63+D63*$D$72","v":{"v":0,"d":"0.0%"}}]
[null,null,{"$f":"Anlagestrategie!F28","v":"Alternative Inv."},{"$f":"Anlagestrategie!H28","v":{"v":0,"d":"0.0%"}},{"$f":"Daten_Vermögen!E171","v":{"$error":"#DIV/0!"}},{"$error":"#DIV/0!"},{"v":0,"d":"0.0%"},null,{"v":0,"d":"0.0%"}]
[null,null,{"$f":"Anlagestrategie!F29","v":"Rohstoffe"},{"$f":"Anlagestrategie!H29","v":{"v":0,"d":"0.0%"}},{"$f":"Daten_Vermögen!E172","v":{"$error":"#DIV/0!"}},{"$error":"#DIV/0!"},{"v":0,"d":"0.0%"},null,{"v":0,"d":"0.0%"}]
[null,null,{"$f":"Anlagestrategie!F30","v":"Liquidität"},{"$f":"Anlagestrategie!H30","v":{"v":0,"d":"0.0%"}},{"$f":"Daten_Vermögen!E173","v":{"$error":"#DIV/0!"}},{"$error":"#DIV/0!"},{"v":0,"d":"0.0%"},null,{"v":0,"d":"0.0%"}]
[null,null,{"$f":"Anlagestrategie!F31","v":"Immobilien"},{"$f":"Anlagestrategie!H31","v":{"v":0,"d":"0.0%"}},{"$f":"Daten_Vermögen!E174","v":{"$error":"#DIV/0!"}},{"$error":"#DIV/0!"},{"v":0,"d":"0.0%"},null,{"v":0,"d":"0.0%"}]
[null,null,{"$f":"Anlagestrategie!F32","v":"Beteiligungen"},{"$f":"Anlagestrategie!H32","v":{"v":0,"d":"0.0%"}},{"$f":"Daten_Vermögen!E175","v":{"$error":"#DIV/0!"}},{"$error":"#DIV/0!"},{"v":0,"d":"0.0%"},null,{"v":0,"d":"0.0%"}]
[null,null,{"$f":"Anlagestrategie!F33","v":"Sonst. Verm."},{"$f":"Anlagestrategie!H33","v":{"v":0,"d":"0.0%"}},{"$f":"Daten_Vermögen!E176","v":{"$error":"#DIV/0!"}},{"$error":"#DIV/0!"},{"v":0,"d":"0.0%"},null,{"v":0,"d":"0.0%"}]
[null,null,{"$f":"Anlagestrategie!F34","v":"Summe"},{"$f":"SUM(D62:D69)","v":{"v":0,"d":"0.0%"}},{"$f":"SUM(E62:E69)","v":{"$error":"#DIV/0!"}}]
[]
[null,null,"Die tatsächliche darf von der Zielallokation maximal im folgenden Umfang nach oben oder unten abweichen (Toleranz bezogen auf den jeweiligen Zielwert der einzelnen Anlageklasse):",{"$f":"Anlagestrategie!H36","v":{"v":0,"d":"0.0%"}}]
[null,null,"Weicht die tatsächliche von der Zielquote stärker als im genannten Toleranzumfang ab, ist eine Anpassung innerhalb des folgenden Überziehungszeitraums durch Umschichtung vorzunehmen, es sei denn, die Stiftung verlängert die Überziehung durch begründeten Beschluss des zuständigen Gremiums für einen definierten Zeitraum."]
[null,null,"Überziehungszeitraum:",{"$f":"Anlagestrategie!H37","v":0},"Monate"]
[]
["III. Restriktionen"]
[]
["1. Anlageinstrumente und Restriktionen"]
[]
[null,"Einleitung","Die nachfolgend aufgeführten Restriktionen dienen der Reduzierung möglicher Risiken bei der operativen Umsetzung der Zielallokation. Die ausgeschlossenen Anlageinstrumente werden als nicht geeignet, zu riskant oder zu schwer handhabbar eingestuft. Die weiteren Restriktionen dienen in erster Linie der Vermeidung von Währungs- oder Klumpenrisiken. Mögliche weitere Ausschlüsse aus ethischen oder sozialen Erwägungen oder Gründen der Unternehmensführung sind im Abschnitt \"ESG\" beschrieben."]
[]
[null,"1. Aktien","Folgende Anlageinstrumente sind für die Anlage des Stiftungsvermögen ausgeschlossen.","Komprimiert"]
[null,"Anlageinstrumente",{"$f":"IF(Anlagestrategie!H47=TRUE,Anlagestrategie!F47,\"\")","v":""},{"$f":"IF(ROW(A1)>COUNTIF($C:$C,\">*\"),\"\",INDEX(C:C,SMALL(IF(C$83:C$91<>\"\",ROW($83:$91)), ROW(A1))))","v":{"$error":"#NUM!"}}]
[null,null,{"$f":"IF(Anlagestrategie!H48=TRUE,Anlagestrategie!F48,\"\")","v":""},{"$f":"IF(ROW(A2)>COUNTIF($C:$C,\">*\"),\"\",INDEX(C:C,SMALL(IF(C$83:C$91<>\"\",ROW($83:$91)), ROW(A2))))","v":{"$error":"#NUM!"}}]
[null,null,{"$f":"IF(Anlagestrategie!H49=TRUE,Anlagestrategie!F49,\"\")","v":""},{"$f":"IF(ROW(A3)>COUNTIF($C:$C,\">*\"),\"\",INDEX(C:C,SMALL(IF(C$83:C$91<>\"\",ROW($83:$91)), ROW(A3))))","v":{"$error":"#NUM!"}}]
[null,null,{"$f":"IF(Anlagestrategie!H50=TRUE,Anlagestrategie!F50,\"\")","v":""},{"$f":"IF(ROW(A4)>COUNTIF($C:$C,\">*\"),\"\",INDEX(C:C,SMALL(IF(C$83:C$91<>\"\",ROW($83:$91)), ROW(A4))))","v":{"$error":"#NUM!"}}]
[null,null,{"$f":"IF(Anlagestrategie!H51=TRUE,Anlagestrategie!F51,\"\")","v":""},{"$f":"IF(ROW(A5)>COUNTIF($C:$C,\">*\"),\"\",INDEX(C:C,SMALL(IF(C$83:C$91<>\"\",ROW($83:$91)), ROW(A5))))","v":{"$error":"#NUM!"}}]
[null,null,{"$f":"IF(Anlagestrategie!H52=TRUE,Anlagestrategie!F52,\"\")","v":""},{"$f":"IF(ROW(A6)>COUNTIF($C:$C,\">*\"),\"\",INDEX(C:C,SMALL(IF(C$83:C$91<>\"\",ROW($83:$91)), ROW(A6))))","v":{"$error":"#NUM!"}}]
[null,null,{"$f":"IF(Anlagestrategie!H53=TRUE,Anlagestrategie!F53,\"\")","v":""},{"$f":"IF(ROW(A7)>COUNTIF($C:$C,\">*\"),\"\",INDEX(C:C,SMALL(IF(C$83:C$91<>\"\",ROW($83:$91)), ROW(A7))))","v":{"$error":"#NUM!"}}]
[null,null,{"$f":"IF(Anlagestrategie!H54=TRUE,Anlagestrategie!F54,\"\")","v":""},{"$f":"IF(ROW(A8)>COUNTIF($C:$C,\">*\"),\"\",INDEX(C:C,SMALL(IF(C$83:C$91<>\"\",ROW($83:$91)), ROW(A8))))","v":{"$error":"#NUM!"}}]
[null,null,{"$f":"IF(Anlagestrategie!H55=TRUE,Anlagestrategie!F55,\"\")","v":""},{"$f":"IF(ROW(A9)>COUNTIF($C:$C,\">*\"),\"\",INDEX(C:C,SMALL(IF(C$83:C$91<>\"\",ROW($83:$91)), ROW(A9))))","v":{"$error":"#NUM!"}}]
[null,"Weitere Restriktionen",{"$f":"Anlagestrategie!K47","v":"Maxquote pro Einzelwert"},{"$f":"Anlagestrategie!M47","v":{"v":1,"d":"100.0%"}}]
[null,null,{"$f":"Anlagestrategie!K48","v":"Maxquote Fremdwährungsanlagen"},{"$f":"Anlagestrategie!M48","v":{"v":1,"d":"100.0%"}}]
[]
[null,"2. Renten","Ausschlüsse","Komprimiert"]
[null," Anlageinstrumente",{"$f":"IF(Anlagestrategie!H62=TRUE,Anlagestrategie!F62,\"\")","v":""},{"$f":"IF(ROW(A1)>COUNTIF($C:$C,\">*\"),\"\",INDEX(C:C,SMALL(IF(C$96:C$104<>\"\",ROW($96:$104)), ROW(A1))))","v":{"$error":"#NUM!"}}]
[null,null,{"$f":"IF(Anlagestrategie!H63=TRUE,Anlagestrategie!F63,\"\")","v":""},{"$f":"IF(ROW(A2)>COUNTIF($C:$C,\">*\"),\"\",INDEX(C:C,SMALL(IF(C$96:C$104<>\"\",ROW($96:$104)), ROW(A2))))","v":{"$error":"#NUM!"}}]
[null,null,{"$f":"IF(Anlagestrategie!H64=TRUE,Anlagestrategie!F64,\"\")","v":""},{"$f":"IF(ROW(A3)>COUNTIF($C:$C,\">*\"),\"\",INDEX(C:C,SMALL(IF(C$96:C$104<>\"\",ROW($96:$104)), ROW(A3))))","v":{"$error":"#NUM!"}}]
[null,null,{"$f":"IF(Anlagestrategie!H65=TRUE,Anlagestrategie!F65,\"\")","v":""},{"$f":"IF(ROW(A4)>COUNTIF($C:$C,\">*\"),\"\",INDEX(C:C,SMALL(IF(C$96:C$104<>\"\",ROW($96:$104)), ROW(A4))))","v":{"$error":"#NUM!"}}]
[null,null,{"$f":"IF(Anlagestrategie!H66=TRUE,Anlagestrategie!F66,\"\")","v":""},{"$f":"IF(ROW(A5)>COUNTIF($C:$C,\">*\"),\"\",INDEX(C:C,SMALL(IF(C$96:C$104<>\"\",ROW($96:$104)), ROW(A5))))","v":{"$error":"#NUM!"}}]
[null,null,{"$f":"IF(Anlagestrategie!H67=TRUE,Anlagestrategie!F67,\"\")","v":""},{"$f":"IF(ROW(A6)>COUNTIF($C:$C,\">*\"),\"\",INDEX(C:C,SMALL(IF(C$96:C$104<>\"\",ROW($96:$104)), ROW(A6))))","v":{"$error":"#NUM!"}}]
[null,null,{"$f":"IF(Anlagestrategie!H68=TRUE,Anlagestrategie!F68,\"\")","v":""},{"$f":"IF(ROW(A7)>COUNTIF($C:$C,\">*\"),\"\",INDEX(C:C,SMALL(IF(C$96:C$104<>\"\",ROW($96:$104)), ROW(A7))))","v":{"$error":"#NUM!"}}]
[null,null,{"$f":"IF(Anlagestrategie!H69=TRUE,Anlagestrategie!F69,\"\")","v":""},{"$f":"IF(ROW(A8)>COUNTIF($C:$C,\">*\"),\"\",INDEX(C:C,SMALL(IF(C$96:C$104<>\"\",ROW($96:$104)), ROW(A8))))","v":{"$error":"#NUM!"}}]
[null,null,{"$f":"IF(Anlagestrategie!H70=TRUE,Anlagestrategie!F70,\"\")","v":""},{"$f":"IF(ROW(A9)>COUNTIF($C:$C,\">*\"),\"\",INDEX(C:C,SMALL(IF(C$96:C$104<>\"\",ROW($96:$104)), ROW(A9))))","v":{"$error":"#NUM!"}}]
[null," Weitere Restriktionen",{"$f":"Anlagestrategie!K62","v":"Maxquote pro Einzelwert"},{"$f":"Anlagestrategie!M62","v":{"v":1,"d":"100.0%"}}]
[null,null,{"$f":"Anlagestrategie!K63","v":"Maxquote Fremdwährungsanlagen"},{"$f":"Anlagestrategie!M63","v":{"v":1,"d":"100.0%"}}]
[null,null,{"$f":"Anlagestrategie!K64","v":"Mindestbonität"},{"$f":"Anlagestrategie!M64","v":"Bitte ausw."}]
[null,null,{"$f":"Anlagestrategie!K65","v":"Durchschnittsbonität"},{"$f":"Anlagestrategie!M65","v":"Bitte ausw."}]
[null,null,{"$f":"Anlagestrategie!K66","v":"Käufe über Pari"},{"$f":"Anlagestrategie!M66","v":"Bitte ausw."}]
[]
[null,"3. Immobilien","Ausschlüsse","Komprimiert"]
[null,"Anlageinstrumente",{"$f":"IF(Anlagestrategie!H77=TRUE,Anlagestrategie!F77,\"\")","v":""},{"$f":"IF(ROW(A1)>COUNTIF($C:$C,\">*\"),\"\",INDEX(C:C,SMALL(IF(C$112:C$116<>\"\",ROW($112:$116)), ROW(A1))))","v":{"$error":"#NUM!"}},{"$f":"COUNTA(C112:C116)","v":5}]
[null,null,{"$f":"IF(Anlagestrategie!H78=TRUE,Anlagestrategie!F78,\"\")","v":""},{"$f":"IF(ROW(A2)>COUNTIF($C:$C,\">*\"),\"\",INDEX(C:C,SMALL(IF(C$112:C$116<>\"\",ROW($112:$116)), ROW(A2))))","v":{"$error":"#NUM!"}}]
[null,null,{"$f":"IF(Anlagestrategie!H79=TRUE,Anlagestrategie!F79,\"\")","v":""},{"$f":"IF(ROW(A3)>COUNTIF($C:$C,\">*\"),\"\",INDEX(C:C,SMALL(IF(C$112:C$116<>\"\",ROW($112:$116)), ROW(A3))))","v":{"$error":"#NUM!"}}]
[null,null,{"$f":"IF(Anlagestrategie!H80=TRUE,Anlagestrategie!F80,\"\")","v":""},{"$f":"IF(ROW(A4)>COUNTIF($C:$C,\">*\"),\"\",INDEX(C:C,SMALL(IF(C$112:C$116<>\"\",ROW($112:$116)), ROW(A4))))","v":{"$error":"#NUM!"}}]
[null,null,{"$f":"IF(Anlagestrategie!H81=TRUE,Anlagestrategie!F81,\"\")","v":""},{"$f":"IF(ROW(A5)>COUNTIF($C:$C,\">*\"),\"\",INDEX(C:C,SMALL(IF(C$112:C$116<>\"\",ROW($112:$116)), ROW(A5))))","v":{"$error":"#NUM!"}}]
[null,"Weitere Restriktionen",{"$f":"Anlagestrategie!K77","v":"Maxquote pro Objekt"},{"$f":"Anlagestrategie!M77","v":{"v":1,"d":"100.0%"}}]
[null,null,{"$f":"Anlagestrategie!K78","v":"Maxquote Fremdwährungsanlagen"},{"$f":"Anlagestrategie!M78","v":{"v":1,"d":"100.0%"}}]
[null,null,{"$f":"Anlagestrategie!K79","v":"Max. Fremdfinanzierung pro Objekt"},{"$f":"Anlagestrategie!M79","v":{"v":1,"d":"100.0%"}}]
[]
[null,"4. Alternative Investments","Ausschlüsse","Komprimiert"]
[null,null,{"$f":"IF(Anlagestrategie!H88=TRUE,Anlagestrategie!F88,\"\")","v":""},{"$f":"IF(ROW(A1)>COUNTIF($C:$C,\">*\"),\"\",INDEX(C:C,SMALL(IF(C$122:C$126<>\"\",ROW($122:$126)), ROW(A1))))","v":{"$error":"#NUM!"}}]
[null,null,{"$f":"IF(Anlagestrategie!H89=TRUE,Anlagestrategie!F89,\"\")","v":""},{"$f":"IF(ROW(A2)>COUNTIF($C:$C,\">*\"),\"\",INDEX(C:C,SMALL(IF(C$122:C$126<>\"\",ROW($122:$126)), ROW(A2))))","v":{"$error":"#NUM!"}}]
[null,null,{"$f":"IF(Anlagestrategie!H90=TRUE,Anlagestrategie!F90,\"\")","v":""},{"$f":"IF(ROW(A3)>COUNTIF($C:$C,\">*\"),\"\",INDEX(C:C,SMALL(IF(C$122:C$126<>\"\",ROW($122:$126)), ROW(A3))))","v":{"$error":"#NUM!"}}]
[null,null,{"$f":"IF(Anlagestrategie!H91=TRUE,Anlagestrategie!F91,\"\")","v":""},{"$f":"IF(ROW(A4)>COUNTIF($C:$C,\">*\"),\"\",INDEX(C:C,SMALL(IF(C$122:C$126<>\"\",ROW($122:$126)), ROW(A4))))","v":{"$error":"#NUM!"}}]
[null,null,{"$f":"IF(Anlagestrategie!H92=TRUE,Anlagestrategie!F92,\"\")","v":""},{"$f":"IF(ROW(A5)>COUNTIF($C:$C,\">*\"),\"\",INDEX(C:C,SMALL(IF(C$122:C$126<>\"\",ROW($122:$126)), ROW(A5))))","v":{"$error":"#NUM!"}}]
[null,"Weitere Restriktionen","Maxquote pro Instrument",{"$f":"Anlagestrategie!M88","v":{"v":0,"d":"0.0%"}}]
[null,null,"Maxquote Fremdwährungsanlagen",{"$f":"Anlagestrategie!M89","v":{"v":0,"d":"0.0%"}}]
[]
[null,"5. Liquidität","Ausschlüsse","Komprimiert"]
[null,"Anlageinstrumente",{"$f":"IF(Anlagestrategie!H99=TRUE,Anlagestrategie!F99,\"\")","v":""},{"$f":"IF(ROW(A1)>COUNTIF($C:$C,\">*\"),\"\",INDEX(C:C,SMALL(IF(C$131:C$132<>\"\",ROW($131:$132)), ROW(A1))))","v":{"$error":"#NUM!"}}]
[null,null,{"$f":"IF(Anlagestrategie!H100=TRUE,Anlagestrategie!F100,\"\")","v":""},{"$f":"IF(ROW(A2)>COUNTIF($C:$C,\">*\"),\"\",INDEX(C:C,SMALL(IF(C$131:C$132<>\"\",ROW($131:$132)), ROW(A2))))","v":{"$error":"#NUM!"}}]
[null,"Weitere Restriktionen","Einlagensicherung",{"$f":"Anlagestrategie!M99","v":"Nur inländische"}]
[null,null,"Max. Guthaben pro Sicherungssystem",{"$f":"Anlagestrategie!M100","v":0},"EUR"]
[null,null,"Max. Guthaben pro Institut",{"$f":"Anlagestrategie!M101","v":0},"EUR"]
[null,null,"Max. Fremdwährungsguthaben",{"$f":"Anlagestrategie!M102","v":0},"EUR"]
[]
["IV. ESG"]
[]
[null,"1. Ausschlusskategorien","Folgende Branchen und Geschäftspraktiken sollen im Rahmen des Erkennbaren von jeglicher Investitionstätigkeit der Stiftung ausgeschlossen werden, sofern diese die jeweils genannte Umsatzanteile überschreiten.",{"$f":"Anlageziele!$O$32","v":{"v":0,"d":"0.0%"}},{"$f":"Anlageziele!$O$32*Anlageziele!$O$27","v":{"v":0,"d":"0.0%"}}]
[null,"Keine","Die Stiftung schränkt ihr Anlageuniversum derzeit nicht auf Grund von Nachhaltigkeitskriterien ein."]
[]
[null,"Aktien/Unternehmensanleihen",null,"Komprimiert"]
[null,"E (Umwelt)",{"$f":"IF(Anlagestrategie!H114=TRUE,Anlagestrategie!F114,\"\")","v":""},{"$f":"IF(ROW(A1)>COUNTIF($C:$C,\">*\"),\"\",INDEX(C:C,SMALL(IF(C$144:C$164<>\"\",ROW($144:$164)), ROW(A1))))","v":{"$error":"#NUM!"}},{"$f":"IF(ROW(A1)>COUNTIF($D:$D,\">*\"),\"\",INDEX(D:D,SMALL(IF(#REF!<>\"\",ROW($144:$164)), ROW(A1))))","v":{"$error":"#REF!"}}]
[null,null,{"$f":"IF(Anlagestrategie!H115=TRUE,Anlagestrategie!F115,\"\")","v":""},{"$f":"IF(ROW(A2)>COUNTIF($C:$C,\">*\"),\"\",INDEX(C:C,SMALL(IF(C$144:C$164<>\"\",ROW($144:$164)), ROW(A2))))","v":{"$error":"#NUM!"}},{"$f":"IF(ROW(A2)>COUNTIF($D:$D,\">*\"),\"\",INDEX(D:D,SMALL(IF(#REF!<>\"\",ROW($144:$164)), ROW(A2))))","v":{"$error":"#REF!"}}]
[null,null,{"$f":"IF(Anlagestrategie!H116=TRUE,Anlagestrategie!F116,\"\")","v":""},{"$f":"IF(ROW(A3)>COUNTIF($C:$C,\">*\"),\"\",INDEX(C:C,SMALL(IF(C$144:C$164<>\"\",ROW($144:$164)), ROW(A3))))","v":{"$error":"#NUM!"}},{"$f":"IF(ROW(A3)>COUNTIF($D:$D,\">*\"),\"\",INDEX(D:D,SMALL(IF(#REF!<>\"\",ROW($144:$164)), ROW(A3))))","v":{"$error":"#REF!"}}]
[null,null,{"$f":"IF(Anlagestrategie!H117=TRUE,Anlagestrategie!F117,\"\")","v":""},{"$f":"IF(ROW(A4)>COUNTIF($C:$C,\">*\"),\"\",INDEX(C:C,SMALL(IF(C$144:C$164<>\"\",ROW($144:$164)), ROW(A4))))","v":{"$error":"#NUM!"}},{"$f":"IF(ROW(A4)>COUNTIF($D:$D,\">*\"),\"\",INDEX(D:D,SMALL(IF(#REF!<>\"\",ROW($144:$164)), ROW(A4))))","v":{"$error":"#REF!"}}]
[null,null,{"$f":"IF(Anlagestrategie!H118=TRUE,Anlagestrategie!F118,\"\")","v":""},{"$f":"IF(ROW(A5)>COUNTIF($C:$C,\">*\"),\"\",INDEX(C:C,SMALL(IF(C$144:C$164<>\"\",ROW($144:$164)), ROW(A5))))","v":{"$error":"#NUM!"}},{"$f":"IF(ROW(A5)>COUNTIF($D:$D,\">*\"),\"\",INDEX(D:D,SMALL(IF(#REF!<>\"\",ROW($144:$164)), ROW(A5))))","v":{"$error":"#REF!"}}]
[null,null,{"$f":"IF(Anlagestrategie!H119=TRUE,Anlagestrategie!F119,\"\")","v":""},{"$f":"IF(ROW(A6)>COUNTIF($C:$C,\">*\"),\"\",INDEX(C:C,SMALL(IF(C$144:C$164<>\"\",ROW($144:$164)), ROW(A6))))","v":{"$error":"#NUM!"}},{"$f":"IF(ROW(A6)>COUNTIF($D:$D,\">*\"),\"\",INDEX(D:D,SMALL(IF(#REF!<>\"\",ROW($144:$164)), ROW(A6))))","v":{"$error":"#REF!"}}]
[null,"S (Soziales)",{"$f":"IF(Anlagestrategie!M114=TRUE,Anlagestrategie!K114,\"\")","v":""},{"$f":"IF(ROW(A7)>COUNTIF($C:$C,\">*\"),\"\",INDEX(C:C,SMALL(IF(C$144:C$164<>\"\",ROW($144:$164)), ROW(A7))))","v":{"$error":"#NUM!"}},{"$f":"IF(ROW(A7)>COUNTIF($D:$D,\">*\"),\"\",INDEX(D:D,SMALL(IF(#REF!<>\"\",ROW($144:$164)), ROW(A7))))","v":{"$error":"#REF!"}}]
[null,null,{"$f":"IF(Anlagestrategie!M115=TRUE,Anlagestrategie!K115,\"\")","v":""},{"$f":"IF(ROW(A8)>COUNTIF($C:$C,\">*\"),\"\",INDEX(C:C,SMALL(IF(C$144:C$164<>\"\",ROW($144:$164)), ROW(A8))))","v":{"$error":"#NUM!"}},{"$f":"IF(ROW(A8)>COUNTIF($D:$D,\">*\"),\"\",INDEX(D:D,SMALL(IF(#REF!<>\"\",ROW($144:$164)), ROW(A8))))","v":{"$error":"#REF!"}}]
[null,null,{"$f":"IF(Anlagestrategie!M116=TRUE,Anlagestrategie!K116,\"\")","v":""},{"$f":"IF(ROW(A9)>COUNTIF($C:$C,\">*\"),\"\",INDEX(C:C,SMALL(IF(C$144:C$164<>\"\",ROW($144:$164)), ROW(A9))))","v":{"$error":"#NUM!"}},{"$f":"IF(ROW(A9)>COUNTIF($D:$D,\">*\"),\"\",INDEX(D:D,SMALL(IF(#REF!<>\"\",ROW($144:$164)), ROW(A9))))","v":{"$error":"#REF!"}}]
[null,null,{"$f":"IF(Anlagestrategie!M117=TRUE,Anlagestrategie!K117,\"\")","v":""},{"$f":"IF(ROW(A10)>COUNTIF($C:$C,\">*\"),\"\",INDEX(C:C,SMALL(IF(C$144:C$164<>\"\",ROW($144:$164)), ROW(A10))))","v":{"$error":"#NUM!"}},{"$f":"IF(ROW(A10)>COUNTIF($D:$D,\">*\"),\"\",INDEX(D:D,SMALL(IF(#REF!<>\"\",ROW($144:$164)), ROW(A10))))","v":{"$error":"#REF!"}}]
[null,null,{"$f":"IF(Anlagestrategie!M118=TRUE,Anlagestrategie!K118,\"\")","v":""},{"$f":"IF(ROW(A11)>COUNTIF($C:$C,\">*\"),\"\",INDEX(C:C,SMALL(IF(C$144:C$164<>\"\",ROW($144:$164)), ROW(A11))))","v":{"$error":"#NUM!"}},{"$f":"IF(ROW(A11)>COUNTIF($D:$D,\">*\"),\"\",INDEX(D:D,SMALL(IF(#REF!<>\"\",ROW($144:$164)), ROW(A11))))","v":{"$error":"#REF!"}}]
[null,null,{"$f":"IF(Anlagestrategie!M119=TRUE,Anlagestrategie!K119,\"\")","v":""},{"$f":"IF(ROW(A12)>COUNTIF($C:$C,\">*\"),\"\",INDEX(C:C,SMALL(IF(C$144:C$164<>\"\",ROW($144:$164)), ROW(A12))))","v":{"$error":"#NUM!"}},{"$f":"IF(ROW(A12)>COUNTIF($D:$D,\">*\"),\"\",INDEX(D:D,SMALL(IF(#REF!<>\"\",ROW($144:$164)), ROW(A12))))","v":{"$error":"#REF!"}}]
[null,null,{"$f":"IF(Anlagestrategie!M120=TRUE,Anlagestrategie!K120,\"\")","v":""},{"$f":"IF(ROW(A13)>COUNTIF($C:$C,\">*\"),\"\",INDEX(C:C,SMALL(IF(C$144:C$164<>\"\",ROW($144:$164)), ROW(A13))))","v":{"$error":"#NUM!"}},{"$f":"IF(ROW(A13)>COUNTIF($D:$D,\">*\"),\"\",INDEX(D:D,SMALL(IF(#REF!<>\"\",ROW($144:$164)), ROW(A13))))","v":{"$error":"#REF!"}}]
[null,null,{"$f":"IF(Anlagestrategie!M121=TRUE,Anlagestrategie!K121,\"\")","v":""},{"$f":"IF(ROW(A14)>COUNTIF($C:$C,\">*\"),\"\",INDEX(C:C,SMALL(IF(C$144:C$164<>\"\",ROW($144:$164)), ROW(A14))))","v":{"$error":"#NUM!"}},{"$f":"IF(ROW(A14)>COUNTIF($D:$D,\">*\"),\"\",INDEX(D:D,SMALL(IF(#REF!<>\"\",ROW($144:$164)), ROW(A14))))","v":{"$error":"#REF!"}}]
[null,null,{"$f":"IF(Anlagestrategie!M122=TRUE,Anlagestrategie!K122,\"\")","v":""},{"$f":"IF(ROW(A15)>COUNTIF($C:$C,\">*\"),\"\",INDEX(C:C,SMALL(IF(C$144:C$164<>\"\",ROW($144:$164)), ROW(A15))))","v":{"$error":"#NUM!"}},{"$f":"IF(ROW(A15)>COUNTIF($D:$D,\">*\"),\"\",INDEX(D:D,SMALL(IF(#REF!<>\"\",ROW($144:$164)), ROW(A15))))","v":{"$error":"#REF!"}}]
[null,null,{"$f":"IF(Anlagestrategie!M123=TRUE,Anlagestrategie!K123,\"\")","v":""},{"$f":"IF(ROW(A16)>COUNTIF($C:$C,\">*\"),\"\",INDEX(C:C,SMALL(IF(C$144:C$164<>\"\",ROW($144:$164)), ROW(A16))))","v":{"$error":"#NUM!"}},{"$f":"IF(ROW(A16)>COUNTIF($D:$D,\">*\"),\"\",INDEX(D:D,SMALL(IF(#REF!<>\"\",ROW($144:$164)), ROW(A16))))","v":{"$error":"#REF!"}}]
[null,null,{"$f":"IF(Anlagestrategie!M124=TRUE,Anlagestrategie!K124,\"\")","v":""},{"$f":"IF(ROW(A17)>COUNTIF($C:$C,\">*\"),\"\",INDEX(C:C,SMALL(IF(C$144:C$164<>\"\",ROW($144:$164)), ROW(A17))))","v":{"$error":"#NUM!"}},{"$f":"IF(ROW(#REF!)>COUNTIF($D:$D,\">*\"),\"\",INDEX(D:D,SMALL(IF(#REF!<>\"\",ROW($144:$164)), ROW(#REF!))))","v":{"$error":"#REF!"}}]
[null,null,{"$f":"IF(Anlagestrategie!M125=TRUE,Anlagestrategie!K125,\"\")","v":""},{"$f":"IF(ROW(A18)>COUNTIF($C:$C,\">*\"),\"\",INDEX(C:C,SMALL(IF(C$144:C$164<>\"\",ROW($144:$164)), ROW(A18))))","v":{"$error":"#NUM!"}},{"$f":"IF(ROW(A17)>COUNTIF($D:$D,\">*\"),\"\",INDEX(D:D,SMALL(IF(#REF!<>\"\",ROW($144:$164)), ROW(A17))))","v":{"$error":"#REF!"}}]
[null,"G (Unternehmensführung)",{"$f":"IF(Anlagestrategie!Q114=TRUE,Anlagestrategie!O114,\"\")","v":""},{"$f":"IF(ROW(A19)>COUNTIF($C:$C,\">*\"),\"\",INDEX(C:C,SMALL(IF(C$144:C$164<>\"\",ROW($144:$164)), ROW(A19))))","v":{"$error":"#NUM!"}},{"$f":"IF(ROW(A19)>COUNTIF($D:$D,\">*\"),\"\",INDEX(D:D,SMALL(IF(#REF!<>\"\",ROW($144:$164)), ROW(A19))))","v":{"$error":"#REF!"}}]
[null,null,{"$f":"IF(Anlagestrategie!Q115=TRUE,Anlagestrategie!O115,\"\")","v":""},{"$f":"IF(ROW(A20)>COUNTIF($C:$C,\">*\"),\"\",INDEX(C:C,SMALL(IF(C$144:C$164<>\"\",ROW($144:$164)), ROW(A20))))","v":{"$error":"#NUM!"}},{"$f":"IF(ROW(A21)>COUNTIF($D:$D,\">*\"),\"\",INDEX(D:D,SMALL(IF(#REF!<>\"\",ROW($144:$164)), ROW(A21))))","v":{"$error":"#REF!"}}]
[null,null,{"$f":"IF(Anlagestrategie!Q116=TRUE,Anlagestrategie!O116,\"\")","v":""},{"$f":"IF(ROW(A21)>COUNTIF($C:$C,\">*\"),\"\",INDEX(C:C,SMALL(IF(C$144:C$164<>\"\",ROW($144:$164)), ROW(A21))))","v":{"$error":"#NUM!"}},{"$f":"IF(ROW(A22)>COUNTIF($D:$D,\">*\"),\"\",INDEX(D:D,SMALL(IF(#REF!<>\"\",ROW($144:$164)), ROW(A22))))","v":""}]
[]
[null,null,"Staaten, deren Politik nach Auffassung anerkannter Institutionen im Hinblick auf die folgenden Punkte fragwürdig ist, sollen ebenfalls nicht durch Kreditvergabe unterstützt werden. Die von ihnen emittierten Wertpapiere sind daher nicht zur Investition zugelassen."]
[null,"Staatsanleihen",null,"Komprimiert"]
[null,"E (Umwelt)",{"$f":"IF(Anlagestrategie!H130=TRUE,Anlagestrategie!F130,\"\")","v":""},{"$f":"IF(ROW(A1)>COUNTIF($C:$C,\">*\"),\"\",INDEX(C:C,SMALL(IF(C$168:C$181<>\"\",ROW($168:$181)), ROW(A1))))","v":{"$error":"#NUM!"}}]
[null,null,{"$f":"IF(Anlagestrategie!H131=TRUE,Anlagestrategie!F131,\"\")","v":""},{"$f":"IF(ROW(A2)>COUNTIF($C:$C,\">*\"),\"\",INDEX(C:C,SMALL(IF(C$168:C$181<>\"\",ROW($168:$181)), ROW(A2))))","v":{"$error":"#NUM!"}}]
[null,null,{"$f":"IF(Anlagestrategie!H132=TRUE,Anlagestrategie!F132,\"\")","v":""},{"$f":"IF(ROW(A3)>COUNTIF($C:$C,\">*\"),\"\",INDEX(C:C,SMALL(IF(C$168:C$181<>\"\",ROW($168:$181)), ROW(A3))))","v":{"$error":"#NUM!"}}]
[null,null,{"$f":"IF(Anlagestrategie!H133=TRUE,Anlagestrategie!F133,\"\")","v":""},{"$f":"IF(ROW(A4)>COUNTIF($C:$C,\">*\"),\"\",INDEX(C:C,SMALL(IF(C$168:C$181<>\"\",ROW($168:$181)), ROW(A4))))","v":{"$error":"#NUM!"}}]
[null,"S (Soziales)",{"$f":"IF(Anlagestrategie!M130=TRUE,Anlagestrategie!K130,\"\")","v":""},{"$f":"IF(ROW(A5)>COUNTIF($C:$C,\">*\"),\"\",INDEX(C:C,SMALL(IF(C$168:C$181<>\"\",ROW($168:$181)), ROW(A5))))","v":{"$error":"#NUM!"}}]
[null,null,{"$f":"IF(Anlagestrategie!M131=TRUE,Anlagestrategie!K131,\"\")","v":""},{"$f":"IF(ROW(A6)>COUNTIF($C:$C,\">*\"),\"\",INDEX(C:C,SMALL(IF(C$168:C$181<>\"\",ROW($168:$181)), ROW(A6))))","v":{"$error":"#NUM!"}}]
[null,null,{"$f":"IF(Anlagestrategie!M132=TRUE,Anlagestrategie!K132,\"\")","v":""},{"$f":"IF(ROW(A7)>COUNTIF($C:$C,\">*\"),\"\",INDEX(C:C,SMALL(IF(C$168:C$181<>\"\",ROW($168:$181)), ROW(A7))))","v":{"$error":"#NUM!"}}]
[null,null,{"$f":"IF(Anlagestrategie!M133=TRUE,Anlagestrategie!K133,\"\")","v":""},{"$f":"IF(ROW(A8)>COUNTIF($C:$C,\">*\"),\"\",INDEX(C:C,SMALL(IF(C$168:C$181<>\"\",ROW($168:$181)), ROW(A8))))","v":{"$error":"#NUM!"}}]
[null,null,{"$f":"IF(Anlagestrategie!M134=TRUE,Anlagestrategie!K134,\"\")","v":""},{"$f":"IF(ROW(A9)>COUNTIF($C:$C,\">*\"),\"\",INDEX(C:C,SMALL(IF(C$168:C$181<>\"\",ROW($168:$181)), ROW(A9))))","v":{"$error":"#NUM!"}}]
[null,null,{"$f":"IF(Anlagestrategie!M135=TRUE,Anlagestrategie!K135,\"\")","v":""},{"$f":"IF(ROW(A10)>COUNTIF($C:$C,\">*\"),\"\",INDEX(C:C,SMALL(IF(C$168:C$181<>\"\",ROW($168:$181)), ROW(A10))))","v":{"$error":"#NUM!"}}]
[null,null,{"$f":"IF(Anlagestrategie!M136=TRUE,Anlagestrategie!K136,\"\")","v":""},{"$f":"IF(ROW(A11)>COUNTIF($C:$C,\">*\"),\"\",INDEX(C:C,SMALL(IF(C$168:C$181<>\"\",ROW($168:$181)), ROW(A11))))","v":{"$error":"#NUM!"}}]
[null,null,{"$f":"IF(Anlagestrategie!M137=TRUE,Anlagestrategie!K137,\"\")","v":""},{"$f":"IF(ROW(A12)>COUNTIF($C:$C,\">*\"),\"\",INDEX(C:C,SMALL(IF(C$168:C$181<>\"\",ROW($168:$181)), ROW(A12))))","v":{"$error":"#NUM!"}}]
[null,"G (Unternehmensführung)",{"$f":"IF(Anlagestrategie!Q130=TRUE,Anlagestrategie!O130,\"\")","v":""},{"$f":"IF(ROW(A13)>COUNTIF($C:$C,\">*\"),\"\",INDEX(C:C,SMALL(IF(C$168:C$181<>\"\",ROW($168:$181)), ROW(A13))))","v":{"$error":"#NUM!"}}]
[null,null,{"$f":"IF(Anlagestrategie!Q131=TRUE,Anlagestrategie!O131,\"\")","v":""},{"$f":"IF(ROW(A14)>COUNTIF($C:$C,\">*\"),\"\",INDEX(C:C,SMALL(IF(C$168:C$181<>\"\",ROW($168:$181)), ROW(A14))))","v":{"$error":"#NUM!"}}]
[]
[null,"2. Impact/SDG-Ziele","Einen Teil ihrer Anlagen wählt die Stiftung nach Positivkriterien aus. Dabei stehen die gesellschaftlichen Effekte der Anlagen in ihrer Wichtigkeit mindestens auf gleicher Stufe mit den erwarteten Rendite- und Risikobeiträgen der betreffenden Anlagen.",{"$f":"Anlageziele!$O$33","v":{"v":0,"d":"0.0%"}},{"$f":"Anlageziele!$O$33*Anlageziele!$O$27","v":{"v":0,"d":"0.0%"}}]
[null,"Keine","Von der Nachhaltigkeitsstrategie Impact Investing/SDG's macht die Stiftung derzeit keinen Gebrauch."]
[null,"SDG","Bei der Auswahl nach Positivkriterien orientiert sich die Stiftung an den Sustainable Development Goals der Vereinten Nationen. Dabei zählt ein Unternehmen als positives Investment in diesem Sinne, wenn es mindestens 50% seines Netto-Umsatzes in den betreffenden SDG-Segmenten macht. Folgende SDG's sollen als Auswahlkriterien berücksichtigt werden:"]
[null,"Nicht SDG","Bei der Auswahl der Impact Investments sind Kriterien aus folgendem/folgenden Nachhaltigkeitsbereich/-en zu berücksichtigen:"]
[null,null,{"$f":"IF(#REF!=\"Nur E\",\"Ökologie\",IF(#REF!=\"E und S\",\"Ökologie\",IF(#REF!=\"E und G\",\"Ökologie\",IF(#REF!=\"E, S und G\",\"Ökologie\",\"\"))))","v":{"$error":"#REF!"}}]
[null,null,{"$f":"IF(#REF!=\"Nur S\",\"Soziales\",IF(#REF!=\"E und S\",\"Soziales\",IF(#REF!=\"S und G\",\"Soziales\",IF(#REF!=\"E, S und G\",\"Soziales\",\"\"))))","v":{"$error":"#REF!"}}]
[null,null,{"$f":"IF(#REF!=\"Nur G\",\"Gute Unternehmensführung\",IF(#REF!=\"S und G\",\"Gute Unternehmensführung\",IF(#REF!=\"E und G\",\"Gute Unternehmesführung\",IF(#REF!=\"E, S und G\",\"Gute Unternehmensführung\",\"\"))))","v":{"$error":"#REF!"}}]
[]
[null,"SDG's 50-70%","Folgende SDG's sollen bei der Auswahl der Anlagen berücksichtigt werden. Dabei zählt ein Unternehmen als SDG-konform, wenn 50 bis 70 % des Umsatzes auf mindestens eines der genannten SDG's entfallen."]
[null,"SDG's 70-90%","Folgende SDG's sollen bei der Auswahl der Anlagen berücksichtigt werden. Dabei zählt ein Unternehmen als SDG-konform, wenn mehr als 70 bis einschließlich 90 % des Umsatzes auf mindestens eines der genannten SDG's entfallen."]
[null,"SDG's >90%","Folgende SDG's sollen bei der Auswahl der Anlagen berücksichtigt werden. Dabei zählt ein Unternehmen als SDG-konform, wenn mehr als 90 % des Umsatzes auf mindestens eines der genannten SDG's entfallen."]
[]
[{"$nulls":3},"Komprimiert"]
[{"$nulls":3},"SDG"]
[null,"E",{"$f":"IF(Anlagestrategie!H144=TRUE,Anlagestrategie!F144,\"\")","v":""},{"$f":"IF(ROW(A1)>COUNTIF($C:$C,\">*\"),\"\",INDEX(C:C,SMALL(IF(C$197:C$213<>\"\",ROW($197:$213)), ROW(A1))))","v":{"$error":"#NUM!"}}]
[null,null,{"$f":"IF(Anlagestrategie!H145=TRUE,Anlagestrategie!F145,\"\")","v":""},{"$f":"IF(ROW(A2)>COUNTIF($C:$C,\">*\"),\"\",INDEX(C:C,SMALL(IF(C$197:C$213<>\"\",ROW($197:$213)), ROW(A2))))","v":{"$error":"#NUM!"}}]
[null,null,{"$f":"IF(Anlagestrategie!H146=TRUE,Anlagestrategie!F146,\"\")","v":""},{"$f":"IF(ROW(A3)>COUNTIF($C:$C,\">*\"),\"\",INDEX(C:C,SMALL(IF(C$197:C$213<>\"\",ROW($197:$213)), ROW(A3))))","v":{"$error":"#NUM!"}}]
[null,null,{"$f":"IF(Anlagestrategie!H147=TRUE,Anlagestrategie!F147,\"\")","v":""},{"$f":"IF(ROW(A4)>COUNTIF($C:$C,\">*\"),\"\",INDEX(C:C,SMALL(IF(C$197:C$213<>\"\",ROW($197:$213)), ROW(A4))))","v":{"$error":"#NUM!"}}]
[null,"S",{"$f":"IF(Anlagestrategie!M144=TRUE,Anlagestrategie!K144,\"\")","v":""},{"$f":"IF(ROW(A5)>COUNTIF($C:$C,\">*\"),\"\",INDEX(C:C,SMALL(IF(C$197:C$213<>\"\",ROW($197:$213)), ROW(A5))))","v":{"$error":"#NUM!"}}]
[null,null,{"$f":"IF(Anlagestrategie!M145=TRUE,Anlagestrategie!K145,\"\")","v":""},{"$f":"IF(ROW(A6)>COUNTIF($C:$C,\">*\"),\"\",INDEX(C:C,SMALL(IF(C$197:C$213<>\"\",ROW($197:$213)), ROW(A6))))","v":{"$error":"#NUM!"}}]
[null,null,{"$f":"IF(Anlagestrategie!M146=TRUE,Anlagestrategie!K146,\"\")","v":""},{"$f":"IF(ROW(A7)>COUNTIF($C:$C,\">*\"),\"\",INDEX(C:C,SMALL(IF(C$197:C$213<>\"\",ROW($197:$213)), ROW(A7))))","v":{"$error":"#NUM!"}}]
[null,null,{"$f":"IF(Anlagestrategie!M147=TRUE,Anlagestrategie!K147,\"\")","v":""},{"$f":"IF(ROW(A8)>COUNTIF($C:$C,\">*\"),\"\",INDEX(C:C,SMALL(IF(C$197:C$213<>\"\",ROW($197:$213)), ROW(A8))))","v":{"$error":"#NUM!"}}]
[null,null,{"$f":"IF(Anlagestrategie!M148=TRUE,Anlagestrategie!K148,\"\")","v":""},{"$f":"IF(ROW(A9)>COUNTIF($C:$C,\">*\"),\"\",INDEX(C:C,SMALL(IF(C$197:C$213<>\"\",ROW($197:$213)), ROW(A9))))","v":{"$error":"#NUM!"}}]
[null,null,{"$f":"IF(Anlagestrategie!M149=TRUE,Anlagestrategie!K149,\"\")","v":""},{"$f":"IF(ROW(A10)>COUNTIF($C:$C,\">*\"),\"\",INDEX(C:C,SMALL(IF(C$197:C$213<>\"\",ROW($197:$213)), ROW(A10))))","v":{"$error":"#NUM!"}}]
[null,null,{"$f":"IF(Anlagestrategie!M150=TRUE,Anlagestrategie!K150,\"\")","v":""},{"$f":"IF(ROW(A11)>COUNTIF($C:$C,\">*\"),\"\",INDEX(C:C,SMALL(IF(C$197:C$213<>\"\",ROW($197:$213)), ROW(A11))))","v":{"$error":"#NUM!"}}]
[null,null,{"$f":"IF(Anlagestrategie!M151=TRUE,Anlagestrategie!K151,\"\")","v":""},{"$f":"IF(ROW(A12)>COUNTIF($C:$C,\">*\"),\"\",INDEX(C:C,SMALL(IF(C$197:C$213<>\"\",ROW($197:$213)), ROW(A12))))","v":{"$error":"#NUM!"}}]
[null,"G",{"$f":"IF(Anlagestrategie!Q144=TRUE,Anlagestrategie!O144,\"\")","v":""},{"$f":"IF(ROW(A13)>COUNTIF($C:$C,\">*\"),\"\",INDEX(C:C,SMALL(IF(C$197:C$213<>\"\",ROW($197:$213)), ROW(A13))))","v":{"$error":"#NUM!"}}]
[null,null,{"$f":"IF(Anlagestrategie!Q145=TRUE,Anlagestrategie!O145,\"\")","v":""},{"$f":"IF(ROW(A14)>COUNTIF($C:$C,\">*\"),\"\",INDEX(C:C,SMALL(IF(C$197:C$213<>\"\",ROW($197:$213)), ROW(A14))))","v":{"$error":"#NUM!"}}]
[null,null,{"$f":"IF(Anlagestrategie!Q146=TRUE,Anlagestrategie!O146,\"\")","v":""},{"$f":"IF(ROW(A15)>COUNTIF($C:$C,\">*\"),\"\",INDEX(C:C,SMALL(IF(C$197:C$213<>\"\",ROW($197:$213)), ROW(A15))))","v":{"$error":"#NUM!"}}]
[null,null,{"$f":"IF(Anlagestrategie!Q147=TRUE,Anlagestrategie!O147,\"\")","v":""},{"$f":"IF(ROW(A16)>COUNTIF($C:$C,\">*\"),\"\",INDEX(C:C,SMALL(IF(C$197:C$213<>\"\",ROW($197:$213)), ROW(A16))))","v":{"$error":"#NUM!"}}]
[null,null,{"$f":"IF(Anlagestrategie!Q148=TRUE,Anlagestrategie!O148,\"\")","v":""},{"$f":"IF(ROW(A17)>COUNTIF($C:$C,\">*\"),\"\",INDEX(C:C,SMALL(IF(C$197:C$213<>\"\",ROW($197:$213)), ROW(A17))))","v":{"$error":"#NUM!"}}]
[]
[null,"3. ESG Messmethode","In den Bereichen Aktien und Unternehmensanleihen greift die Stiftung (auch) auf die Messung von ESG-Kriterien (Scoring) zurück. Dabei werden die einzelnen Titel nach einem festgelegten Schema von einem externen Dienstleister mittels eines Punktesystems nach den Kriterien Ökologie, Soziales und Unternehmensführung bewertet.",{"$f":"Anlageziele!$O$34","v":{"v":0,"d":"0.0%"}},{"$f":"Anlageziele!$O$34*Anlageziele!$O$27","v":{"v":0,"d":"0.0%"}}]
[null,"aggreg. o. Mindestscore","Die Ergebnisse in den Bereichen Ökologie, Soziales und Unternehmensführung werden ohne ein Mindestscoring aggregiert.",{"$f":"IF(Anlagestrategie!H161=Daten_Anlagerichtlinie!AA7,1,0)","v":0}]
[null,"aggreg. m. Mindestscore","Die Ergebnisse in den Bereichen Ökologie, Soziales und Unternehmensführung werden aggregiert. Jeder Titel muss in der Summe folgenden Mindestscore erreichen, um für die Stiftung investierbar zu sein.",{"$f":"IF(Anlagestrategie!H161=Daten_Anlagerichtlinie!AA8,1,0)","v":0}]
[null,"E, S, G separat m. Mindestscore","Ein Titel muss in jedem der Bereiche Ökologie, Soziales und Unternehmensführung folgenden Mindestscore erreichen, um für die Stiftung investierbar zu sein.",{"$f":"IF(Anlagestrategie!H161=Daten_Anlagerichtlinie!AA9,1,0)","v":0}]
[null,"Mindestscore",{"$f":"Anlagestrategie!H162","v":"A"}]
[null,"Keine","Die Nachhaltigkeitsstrategie \"ESG-Messung\" wird derzeit nicht eingesetzt."]
[]
[null,"4. Best of Universe / Best in Class",null,{"$f":"Anlageziele!$O$35","v":{"v":0,"d":"0.0%"}},{"$f":"IF(Anlagestrategie!H166=Daten_Anlagerichtlinie!AB6,0,Anlageziele!$O$35*Anlageziele!$O$27)","v":{"v":0,"d":"0.0%"}}]
[null,"Nur Best-in-Class","Bei der Selektion ihrer Anlagen nach Nachhaltigkeitskriterien greift die Stiftung (auch) auf die Strategie \"Best in Class\" (BiC) zurück. Bei BiC werden jeweils in unter ESG-Gesichtspunkten besten Titel einer Branche ausgewählt. Dabei können auch ESG-kritische Branchen zur Anwendung kommen. BiC führt in der Regel zu Abweichungen von den gängigen Indices, allerdings in geringerem Maße als bei der Strategie \"Best of Universe\".",{"$f":"IF(Anlagestrategie!H166=Daten_Anlagerichtlinie!AB7,1,0)","v":0}]
[null,"Mischung aus BiC/BoU","Bei der Selektion ihrer Anlagen nach Nachhaltigkeitskriterien greift die Stiftung (auch) auf die Strategie \"Best of Universe\" (BoU) zurück. Dies bedeutet, dass nur die im Hinblick auf Nachhaltigkeitskriterien besten Titel aus dem gesamten Anlageuniversum investiert werden dürfen. ESG-kritische Branchen können ganz entfallen. Dadurch kann die Zusammensetzung des Portfolios erheblich von den gebräuchlichen Indices abweichen. Daneben kommt auch die Strategie \"Best in Class\" (BiC) zur Anwendung. Bei BiC werden jeweils in unter ESG-Gesichtspunkten besten Titel einer Branche ausgewählt. Dabei können auch ESG-kritische Branchen zur Anwendung kommen. BiC führt in der Regel zu Abweichungen von den gängigen Indices, allerdings in geringerem Maße als bei der Strategie \"Best of Universe\".",{"$f":"IF(Anlagestrategie!H166=Daten_Anlagerichtlinie!AB8,1,0)","v":0}]
[null,"Nur Best of Universe","Bei der Selektion ihrer Anlagen nach Nachhaltigkeitskriterien greift die Stiftung (auch) auf die Strategie \"Best of Universe\" (BoU) zurück. Dies bedeutet, dass nur die im Hinblick auf Nachhaltigkeitskriterien besten Titel aus dem gesamten Anlageuniversum investiert werden dürfen. ESG-kritische Branchen können ganz entfallen. Dadurch kann die Zusammensetzung des Portfolios erheblich von den gebräuchlichen Indices abweichen. ",{"$f":"IF(Anlagestrategie!H166=AB9,1,0)","v":0}]
[null,"Keine","Die Nachhaltigkeitsstrategien \"Best of Universe\" / \"Best in Class\" werden derzeit von der Stiftung nicht eingesetzt."]
[]
[null,"5. ESG Top %","Zur Erfüllung ihrer Nachhaltigkeitsziele setzt die Stiftung auch die Strategie der besten Nachhaltigkeitstitel ein. Dabei werden nur die besten der durch einen externen ESG-Datenanbieter gerateten Titel zur Investition zugelassen. Aus dem verfügbaren Anlageuniversum ist der nachfolgend genannte Prozentsatz der nach ESG-Kriterien am schlechtesten bewerteten Titel ausgeschlossen.",{"$f":"Anlageziele!O36","v":{"v":0,"d":"0.0%"}},{"$f":"Anlageziele!O36*Anlageziele!O27","v":{"v":0,"d":"0.0%"}}]
[null,"Quote",{"$f":"Anlagestrategie!H170","v":{"v":0,"d":"0.0%"}}]
[null,"Keine","Die Strategie der besten Nachhaltigkeitstitel (\"ESG-Top %\") wird von der Stiftung derzeit nicht eingesetzt."]
[]
[null,"6. ESG Frequenz","Mit der Häufigkeitsdimension wird abgefragt, wie oft „verantwortlichkeitsrelevante“ Daten aktualisiert werden. Mit häufigeren Abfragen kann schneller auf negative Veränderungen reagiert werden. ",{"$f":"Anlageziele!O37","v":{"v":0,"d":"0.0%"}},{"$f":"Anlageziele!O37*Anlageziele!O27","v":{"v":0,"d":"0.0%"}}]
[null,">monatlich","Die ESG-Daten werden regelmäßig aktualisiert.",{"$f":"IF(Anlagestrategie!H174=Daten_Anlagerichtlinie!AD7,1,0)","v":0}]
[null,"monatlich","Die ESG-Daten werden mindestens monatlich aktualisiert.",{"$f":"IF(Anlagestrategie!H174=Daten_Anlagerichtlinie!AD8,1,0)","v":0}]
[null,"< monatlich","Die ESG-Daten werden laufend, mehrfach im Monat aktualisiert.",{"$f":"IF(Anlagestrategie!H174=Daten_Anlagerichtlinie!AD9,1,0)","v":0}]
[null,"Keine","Das Nachhaltigkeitskriterium \"ESG-Frequenz\" wird von der Stiftung derzeit nicht umgesetzt."]
[]
[null,"7. Stimmrechtsausübung","In den Anlagesegmenten Aktien und Unternehmensbeteiligungen wird die Stiftung von ihren Stimmrechten Gebrauch machen, um die Unternehmenspolitik im Sinne ihrer Nachhaltigkeitsziele positiv zu beeinflussen. Dabei deckt die Stimmrechtsausübung folgenden Anteil der betreffenden Vermögenswerte ab:",{"$f":"Anlageziele!O38","v":{"v":0,"d":"0.0%"}},{"$f":"Anlageziele!O38*Anlageziele!O27","v":{"v":0,"d":"0.0%"}}]
[null,"<20%","Weniger als 20 %",{"$f":"IF(Anlagestrategie!H181=Daten_Anlagerichtlinie!AE7,1,0)","v":0}]
[null,"20-50%","20 bis 50%",{"$f":"IF(Anlagestrategie!H181=Daten_Anlagerichtlinie!AE8,1,0)","v":0}]
[null,">50%","Mehr als 50%",{"$f":"IF(Anlagestrategie!H181=Daten_Anlagerichtlinie!AE9,1,0)","v":0}]
[null,"Keine","Die Nachhaltigkeitsstrategie Stimmrechtsausübung wird von der Stiftung derzeit nicht eingesetzt."]
[]
[null,"8. Engagement","Im Bereich der Aktien und Beteiligungen sucht die Stiftung den aktiven Dialog mit den Führungsorganen der Unternehmen, um die Unternehmenspolitik im Sinne ihrer Nachhaltigkeitsziele positiv zu beeinflussen.",{"$f":"Anlageziele!O39","v":{"v":0,"d":"0.0%"}},{"$f":"Anlageziele!O39*Anlageziele!O27","v":{"v":0,"d":"0.0%"}}]
[null,"Mgt. o. AR o. HV-Rede","Dabei spricht die Stiftung entweder das Management oder den Aufsichtsrat an, oder macht alternativ von ihrem Rederecht auf der Hautversammlung Gebrauch.",{"$f":"IF(Anlagestrategie!H188=Daten_Anlagerichtlinie!AF7,1,0)","v":0}]
[null,"2 von Mgt/AR/HV-Rede","Dabei spricht die Stiftung zwei von drei Ebenen an: Management und/oder Aufsichtsrat und/oder Hauptversammlung.",{"$f":"IF(Anlagestrategie!H188=Daten_Anlagerichtlinie!AF8,1,0)","v":0}]
[null,"Mgt. u. AR u. HV-Rede","Dabei spricht die Stiftung das Management, den Aufsichtsrat und die Hauptversammlung an.",{"$f":"IF(Anlagestrategie!H188=Daten_Anlagerichtlinie!AF9,1,0)","v":0}]
[null,"Keine","Die Nachhaltigkeitsstrategie Engagement wird von der Stiftung derzeit nicht eingesetzt."]
[]
[]
["IV. Delegation"]
[]
["Nein","Einleitung","Die Anlage des Vermögens erfolgt ausschließlich durch die Geschäftsführung der Stiftung."]
["Ja","Einleitung","Die Anlage des Vermögens kann ganz oder teilweise durch beauftragte Dritte (Vermögensverwalter) erfolgen. In diesem Fall hat die Geschäftsführung der Stiftung für die Einhaltung folgender Obliegenheiten Sorge zu tragen."]
[null,"1. Auswahl","Der Vermögensverwalter muss deutschem Recht und der Aufsicht durch die BaFin unterliegen. Bei der Vergabe eines Mandats müssen mindestens drei Angebote aus mindestens zwei Anbieterkreisen (Großbank, Privatbank, Privater Vermögensverwalter) eingeholt und verglichen werden."]
[null,"2. Instruktion","Der jeweils einschlägige Inhalt dieser Anlagerichtlinien muss in angemessener Weise Gegenstand des Vermögensverwaltungsvertrags werden."]
[null,"3. Überwachung","Der Vermögensverwalter muss mindestens in folgendem Turnus über die Erreichung der Anlageziele und die Einhaltung der Anlagerichtlinien berichten:"]
[null,"Berichtsturnus",{"$f":"Anlagestrategie!M15","v":"Bitte ausw."}]
[null,"Transparenzbericht","Der Vermögensverwalter hat mittels Transparenzbericht zu berichten."]
[]
[]
["V. Kosten"]
[null,"Mit Kostenziel","Die Summe aller laufenden Aufwendungen für die Vermögensverwaltung (z.B. Konto-/Depotgebühren, Management-Fees, Fondsgebühren, Hausverwalterhonorare etc.) pro Jahr soll folgenden Anteil gemessen am gesamten investierbaren Vermögen nicht übersteigen.",{"$f":"Anlagestrategie!H16","v":{"v":0,"d":"0.0%"}}]
[null,"Ohne Kostenziel","Die verantwortlichen Stellen haben dafür Sorge zu tragen, dass die Kosten der Vermögensverwaltung  (z.B. Konto-/Depotgebühren, Management-Fees, Fondsgebühren, Hausverwalterhonorare etc.) angemessen sind und den marktüblichen Rahmen nicht überschreiten."]
[]
["VI. Berichtswesen"]
[null,"Gremienverantwortung","Das finanzverantwortliche Gremium legt der Kontrollinstanz in folgendem Turnus einen schriftlichen Vermögensbericht vor."]
[null,"Einzelverantwortung","Die finanzverantwortliche Person legt der Kontrollinstanz in folgendem Turnus einen schriftlichen Finanzbericht vor."]
[null,null,"Finanzverantwortlich:",{"$f":"Anlagestrategie!M12","v":"Bitte ausw."}]
[null,null,"Kontrollinstanz:",{"$f":"Anlagestrategie!M13","v":"Bitte ausw."}]
[null,null,"Berichtsturnus:",{"$f":"Anlagestrategie!H15","v":"Bitte ausw."}]
[null,null,"Der Finanzbericht geht mindestens auf folgende Punkte ein:"]
[null,null,"- Vermögensstruktur"]
[null,null,"- Erreichung der Anlageziele (status quo)"]
[null,null,"- Einhaltung der Zielallokation und der Restriktionen"]
[null,null,"- Kostensituation"]
[null,null,"- Künftige Erreichung der Anlageziele (Projektion)"]
[]
[]
[]
["ZÄHLER"]
[]
["Anlagerichtlinie vorhanden",{"$f":"IF(Anlagestrategie!H11=\"Ja\",1,0)","v":0}]
["Strategische Allokation",{"$f":"IF(Anlagestrategie!H34=1,1,0)","v":0}]
["Summe",{"$f":"SUM(B283:B284)","v":0}]
["Freischaltung",{"$f":"IF(B285=2,1,0)","v":0}]

{"sheet":"Anlagerichtlinien","index":21,"n_rows":291,"n_cols":8,"rows_kept":291,"merged":[[0,0,0,2],[2,2,2,3],[6,1,6,6],[17,1,17,6],[21,1,21,6],[25,1,25,6],[38,1,38,6],[41,1,41,6],[44,1,44,6],[45,1,45,6],[58,1,58,6],[68,1,68,6],[71,1,71,6],[77,1,77,6],[131,1,131,6],[156,1,156,6],[183,1,183,6],[184,1,184,6],[205,1,205,6],[206,1,206,6],[211,1,211,6],[221,1,221,6],[222,1,222,6],[225,1,225,6],[226,1,226,6],[230,1,230,6],[231,1,231,6],[234,1,234,6],[235,1,235,6],[236,1,236,6],[241,1,241,6],[243,2,243,6],[244,2,244,6],[245,2,245,6],[248,2,248,6],[252,1,252,6],[257,1,257,6],[261,1,261,6]]}
[{"$f":"Einstellungen!G11","v":0}]
[]
["        ","Stand:",{"$f":"Anlagestrategie!H12","v":"00:00:00"},null,null,"Nächste Revision:",{"$f":"Daten_Anlagerichtlinie!G8","v":{"$error":"#VALUE!"}}]
[]
["Präambel"]
[]
[null,{"$f":"Daten_Anlagerichtlinie!C5","v":"Aufgabe dieser Anlagerichtlinien ist es, den Gestaltungsspielraum, den Stiftungsgesetz und Satzung im Vermögensmanagement gewähren, dahingehend zu konkretisieren, dass für das verantwortliche Stiftungsgremium ein praktikabler und haftungsfreier Handlungsrahmen entsteht. Gleichzeitig sollen sie das Stiftungshandeln in diesem Bereich für Dritte nachvollziehbar machen und somit für Kontrollgremien und Stiftungsaufsicht die nötige Transparenz schaffen. Mit dem Beschluss dieser Anlagrerichtlinien verlieren alle früheren Anlagerichtlinien ihre Gültigkeit. Die Verantwortlichkeiten und Fristen für die vorliegenden Anlagerichtlinien regeln sich wie folgt. "}]
[null,"Erstellung und Pflege:",null,null,{"$f":"Anlagestrategie!M11","v":"Bitte ausw."}]
[null,"Anwendung/Umsetzung:",null,null,{"$f":"Anlagestrategie!M12","v":"Bitte ausw."}]
[null,"Kontrolle der Einhaltung:",null,null,{"$f":"Anlagestrategie!M13","v":"Bitte ausw."}]
[null,"Gültigkeit ab \"Stand\" (s.o.):",null,null,{"$f":"Anlagestrategie!H13","v":"Bitte ausw."}]
[null,"Revisionsturnus:",null,null,{"$f":"Daten_Anlagerichtlinie!C9","v":"Bitte ausw."}]
[]
["I. Anlageziele"]
[]
[null,"1. Vermögenserhaltung",{"$nulls":4},"Gewichtung:",{"$f":"Daten_Anlagerichtlinie!D13","v":{"v":0.25,"d":"25.0%"}}]
[]
[null,{"$f":"IF(Anlageziele!$H$14=\"Nominal\",Daten_Anlagerichtlinie!C17,IF(Anlageziele!$H$14=\"Substanz\",Daten_Anlagerichtlinie!C19,IF(Anlageziele!$H$14=\"Verbrauch\",Daten_Anlagerichtlinie!C21,Daten_Anlagerichtlinie!C14)))","v":"Das Grundstockvermögen ist auf unbestimmte Zeit in seinem realen Wert zu erhalten. Dieses Anlageziel ist erreicht, wenn das zur Anlage bestimmte Investitionsvermögen nach Verkehrswerten mindestens so hoch ist wie das in der Rechnungslegung ausgewiesene Grundstockvermögen zuzüglich der im Zeitraum seit Zufluss gemessenen allgemeinen Geldentwertung. Die Zielrendite Vermögen entspricht somit im Geltungszeitraum der Anlagerichtlinie erwarteten durchschnittlichen Geldentwertung nach Kosten der Vermögensverwaltung. Sofern Wertaufholungsbedarf besteht, kann die Zielrendite auch darüber liegen."}]
[null,{"$f":"IF(Anlageziele!$H$14=\"Real\",\"Maßstab für die Geldentwertung:\",IF(Anlageziele!H14=\"Verbrauch\",Daten_Anlagerichtlinie!C22,\"\"))","v":"Maßstab für die Geldentwertung:"},null,null,{"$f":"IF(Anlageziele!$H$14=\"Real\",Daten_Anlagerichtlinie!D15,IF(Anlageziele!H14=\"Verbrauch\",Daten_Anlagerichtlinie!D22,\"\"))","v":"Verbraucherpreise (VPI)"},null,{"$f":"IF(Anlageziele!H14=\"Verbrauch\",Daten_Anlagerichtlinie!D23,\"\")","v":""}]
[null,{"$f":"IF(Anlageziele!H14=\"Verbrauch\",\"\",\"Zielrendite Vermögenserhaltung:\")","v":"Zielrendite Vermögenserhaltung:"},null,null,{"$f":"IF(Anlageziele!$H$14=\"Real\",Daten_Anlagerichtlinie!D16,IF(Anlageziele!H14=\"Nominal\",Daten_Anlagerichtlinie!D18,IF(Anlageziele!H14=\"Substanz\",Daten_Anlagerichtlinie!D20,\"\")))","v":{"v":0,"d":"0.00%"}}]
[]
[null,{"$f":"IF(COUNTIF(Vermögen!G11:G60,\"Ja\")>0,Daten_Anlagerichtlinie!C25,Daten_Anlagerichtlinie!C24)","v":"Die Satzung schränkt die Umschichtung vorhandener Vermögenswerte nicht ein."}]
[]
[null,"2. Erträge",{"$nulls":4},"Gewichtung:",{"$f":"Anlageziele!O12","v":{"v":0.25,"d":"25.0%"}}]
[]
[null,{"$f":"IF(Anlageziele!O14=\"Überschuss\",Daten_Anlagerichtlinie!C27,IF(Anlageziele!O14=\"Zielbetrag\",Daten_Anlagerichtlinie!C31,Daten_Anlagerichtlinie!C34))","v":"Die Stiftung schüttet pro Jahr mindestens einen Betrag aus, dessen Höhe dem nachfolgend genannten Prozentsatz vom Investitionsvermögen entspricht. Die Zielrendite gibt den entsprechenden Ausschüttungsertrag aus dem Investitionsvermögen nach Kosten der Vermögensverwaltung an."}]
[null,{"$f":"IF(Anlageziele!$O$14=\"Überschuss\",\"Verwaltungskostenfaktor:\",\"\")","v":""},null,null,{"$f":"IF(Anlageziele!$O$14=\"Überschuss\",Daten_Anlagerichtlinie!D28,\"\")","v":""}]
[null,{"$f":"IF(Anlageziele!$O$14=\"Überschuss\",\"Ausschüttungssumme:\",IF(Anlageziele!$O$14=\"Zielbetrag\",\"Zielausschüttung\",\"Ausschüttungssumme:\"))","v":"Ausschüttungssumme:"},null,null,{"$f":"IF(Anlageziele!$O$14=\"Überschuss\",Daten_Anlagerichtlinie!D29,IF(Anlageziele!$O$14=\"Zielbetrag\",Daten_Anlagerichtlinie!D32,Daten_Anlagerichtlinie!D36))","v":0},"EUR"]
[null,{"$f":"IF(Anlageziele!$O$14=\"Überschuss\",\"Ausschüttungsrendite:\",IF(Anlageziele!$O$14=\"Zielbetrag\",\"Ausschüttungsrendite\",\"Zielrendite Ausschüttung:\"))","v":"Zielrendite Ausschüttung:"},null,null,{"$f":"IF(Anlageziele!$O$14=\"Überschuss\",Daten_Anlagerichtlinie!D30,IF(Anlageziele!$O$14=\"Zielbetrag\",Daten_Anlagerichtlinie!D33,Daten_Anlagerichtlinie!D35))","v":{"v":0,"d":"0.0%"}}]
{"$rows_empty":7}
[null,"3. Risiko",{"$nulls":4},"Gewichtung:",{"$f":"Anlageziele!H27","v":{"v":0.25,"d":"25.0%"}}]
[]
[null,{"$f":"Daten_Anlagerichtlinie!C38","v":"Der Gesamtwert des zur Anlage bestimmten Vermögens darf sich im schlechtesten mit bestimmter Wahrscheinlichkeit anzunehmenden Fall in einem Kalenderjahr maximal um den nachfolgend genannten Prozentsatz reduzieren. "}]
[null,{"$f":"Daten_Anlagerichtlinie!C39","v":"Maximalverlust Investitionsverm.:"},null,null,{"$f":"Daten_Anlagerichtlinie!D39","v":{"v":0,"d":"0.0%"}}]
[null,"Erholungszeitraum (Kalenderj.):",null,null,{"$f":"Daten_Anlagerichtlinie!D40","v":0}]
[]
[null,"4. Nachhaltigkeit",{"$nulls":4},"Gewichtung:",{"$f":"Daten_Anlagerichtlinie!D42","v":{"v":0.25,"d":"25.0%"}}]
[]
[null,{"$f":"Daten_Anlagerichtlinie!C43","v":"Die gesellschaftlichen Wirkungen der Vermögensanlage dürfen den mit dem Stiftungszweck angestrebten Wirkungen nicht zuwiderlaufen. Darüber hinaus finden ökologische und soziale Kriterien sowie die Art der Unternehmensführung bei den Investitionsentscheidungen im Rahmen des Erkennbaren und wirtschaftlich Vernünftigen Berücksichtigung. Dem liegt die Überzeugung zu Grunde, dass die Berücksichtigung von Nachhaltigkeitsaspekten insbesondere bei langfristigen Investitionen zur Reduzierung von Wertschwankungs- und Ausfallrisiken beitragen kann. "}]
[null,{"$f":"IF(Anlageziele!O31=\"PRISC\",Daten_Anlagerichtlinie!C55,Daten_Anlagerichtlinie!C45)","v":"Dieses Anlageziel ist erreicht, wenn die Summe der mit Nachhaltigkeitsstrategien ausgestatteten Vermögensgegenstände nach Verkehrswerten den folgenden Anteil am Volumen des Investitionsvermögens ausmacht:"}]
[null,"Angestrebte Nachhaltigkeitsquote:",null,null,{"$f":"Anlageziele!N29","v":{"v":0,"d":"0.0%"}}]
{"$rows_empty":9}
["II. Strategische Allokation"]
[]
[null,{"$f":"Daten_Anlagerichtlinie!C61","v":"Zur Erreichung der vorgenannten Anlageziele erscheint der Stiftung folgende strategische Aufteilung des Vermögens auf einzelne Anlageklassen geeignet. Bezugsgröße ist stets das Gesamtvermögen."}]
[null,{"$f":"Daten_Anlagerichtlinie!C62","v":"Aktien"},null,null,{"$f":"Daten_Anlagerichtlinie!D62","v":{"v":0,"d":"0.0%"}}]
[null,{"$f":"Daten_Anlagerichtlinie!C63","v":"Anleihen"},null,null,{"$f":"Daten_Anlagerichtlinie!D63","v":{"v":0,"d":"0.0%"}}]
[null,{"$f":"Daten_Anlagerichtlinie!C64","v":"Alternative Inv."},null,null,{"$f":"Daten_Anlagerichtlinie!D64","v":{"v":0,"d":"0.0%"}}]
[null,{"$f":"Daten_Anlagerichtlinie!C65","v":"Rohstoffe"},null,null,{"$f":"Daten_Anlagerichtlinie!D65","v":{"v":0,"d":"0.0%"}}]
[null,{"$f":"Daten_Anlagerichtlinie!C66","v":"Liquidität"},null,null,{"$f":"Daten_Anlagerichtlinie!D66","v":{"v":0,"d":"0.0%"}}]
[null,{"$f":"Daten_Anlagerichtlinie!C67","v":"Immobilien"},null,null,{"$f":"Daten_Anlagerichtlinie!D67","v":{"v":0,"d":"0.0%"}}]
[null,{"$f":"Daten_Anlagerichtlinie!C68","v":"Beteiligungen"},null,null,{"$f":"Daten_Anlagerichtlinie!D68","v":{"v":0,"d":"0.0%"}}]
[null,{"$f":"Daten_Anlagerichtlinie!C69","v":"Sonst. Verm."},null,null,{"$f":"Daten_Anlagerichtlinie!D69","v":{"v":0,"d":"0.0%"}}]
[]
[null,{"$f":"Daten_Anlagerichtlinie!C72","v":"Die tatsächliche darf von der Zielallokation maximal im folgenden Umfang nach oben oder unten abweichen (Toleranz bezogen auf den jeweiligen Zielwert der einzelnen Anlageklasse):"}]
[null,"Toleranz:",null,null,{"$f":"Daten_Anlagerichtlinie!D72","v":{"v":0,"d":"0.0%"}}]
[]
[null,{"$f":"Daten_Anlagerichtlinie!C73","v":"Weicht die tatsächliche von der Zielquote stärker als im genannten Toleranzumfang ab, ist eine Anpassung innerhalb des folgenden Überziehungszeitraums durch Umschichtung vorzunehmen, es sei denn, die Stiftung verlängert die Überziehung durch begründeten Beschluss des zuständigen Gremiums für einen definierten Zeitraum."}]
[null,"Überziehungszeitraum (Monate):",null,null,{"$f":"Daten_Anlagerichtlinie!D74","v":0}]
[]
[]
["III. Restriktionen"]
[]
[null,{"$f":"Daten_Anlagerichtlinie!C80","v":"Die nachfolgend aufgeführten Restriktionen dienen der Reduzierung möglicher Risiken bei der operativen Umsetzung der Zielallokation. Die ausgeschlossenen Anlageinstrumente werden als nicht geeignet, zu riskant oder zu schwer handhabbar eingestuft. Die weiteren Restriktionen dienen in erster Linie der Vermeidung von Währungs- oder Klumpenrisiken. Mögliche weitere Ausschlüsse aus ethischen oder sozialen Erwägungen oder Gründen der Unternehmensführung sind im Abschnitt \"ESG\" beschrieben."}]
[]
[null,"1. Restriktionen Aktien"]
[]
[null,"Ausgeschlossene Anlageinstrumente:",{"$nulls":3},"Weitere Restriktionen"]
[null,{"$f":"IFERROR(Daten_Anlagerichtlinie!D83,\"\")","v":""},{"$nulls":3},{"$f":"Anlagestrategie!K47","v":"Maxquote pro Einzelwert"},null,{"$f":"Daten_Anlagerichtlinie!D92","v":{"v":1,"d":"100.0%"}}]
[null,{"$f":"IFERROR(Daten_Anlagerichtlinie!D84,\"\")","v":""},{"$nulls":3},{"$f":"Anlagestrategie!K48","v":"Maxquote Fremdwährungsanlagen"},null,{"$f":"Daten_Anlagerichtlinie!D93","v":{"v":1,"d":"100.0%"}}]
[null,{"$f":"IFERROR(Daten_Anlagerichtlinie!D85,\"\")","v":""}]
[null,{"$f":"IFERROR(Daten_Anlagerichtlinie!D86,\"\")","v":""}]
[null,{"$f":"IFERROR(Daten_Anlagerichtlinie!D87,\"\")","v":""}]
[null,{"$f":"IFERROR(Daten_Anlagerichtlinie!D88,\"\")","v":""}]
[null,{"$f":"IFERROR(Daten_Anlagerichtlinie!D89,\"\")","v":""}]
[null,{"$f":"IFERROR(Daten_Anlagerichtlinie!D90,\"\")","v":""}]
[null,{"$f":"IFERROR(Daten_Anlagerichtlinie!D91,\"\")","v":""}]
[]
[null,"2. Restriktionen Renten"]
[]
[null,"Ausgeschlossene Anlageinstrumente:",{"$nulls":3},"Weitere Restriktionen"]
[null,{"$f":"IFERROR(Daten_Anlagerichtlinie!D96,\"\")","v":""},{"$nulls":3},{"$f":"Anlagestrategie!K62","v":"Maxquote pro Einzelwert"},null,{"$f":"Daten_Anlagerichtlinie!D105","v":{"v":1,"d":"100.0%"}}]
[null,{"$f":"IFERROR(Daten_Anlagerichtlinie!D97,\"\")","v":""},{"$nulls":3},{"$f":"Anlagestrategie!K63","v":"Maxquote Fremdwährungsanlagen"},null,{"$f":"Daten_Anlagerichtlinie!D106","v":{"v":1,"d":"100.0%"}}]
[null,{"$f":"IFERROR(Daten_Anlagerichtlinie!D98,\"\")","v":""},{"$nulls":3},{"$f":"Anlagestrategie!K64","v":"Mindestbonität"},null,{"$f":"Daten_Anlagerichtlinie!D107","v":"Bitte ausw."}]
[null,{"$f":"IFERROR(Daten_Anlagerichtlinie!D99,\"\")","v":""},{"$nulls":3},{"$f":"Anlagestrategie!K65","v":"Durchschnittsbonität"},null,{"$f":"Daten_Anlagerichtlinie!D108","v":"Bitte ausw."}]
[null,{"$f":"IFERROR(Daten_Anlagerichtlinie!D100,\"\")","v":""},{"$nulls":3},{"$f":"Anlagestrategie!K66","v":"Käufe über Pari"},null,{"$f":"Daten_Anlagerichtlinie!D109","v":"Bitte ausw."}]
[null,{"$f":"IFERROR(Daten_Anlagerichtlinie!D101,\"\")","v":""}]
[null,{"$f":"IFERROR(Daten_Anlagerichtlinie!D102,\"\")","v":""}]
[]
[null,"3. Restriktionen Immobilien"]
[]
[null,"Ausgeschlossene Anlageinstrumente:",{"$nulls":3},"Weitere Restriktionen"]
[null,{"$f":"IFERROR(Daten_Anlagerichtlinie!D112,\"\")","v":""},{"$nulls":3},{"$f":"Daten_Anlagerichtlinie!C117","v":"Maxquote pro Objekt"},null,{"$f":"Daten_Anlagerichtlinie!D117","v":{"v":1,"d":"100.0%"}}]
[null,{"$f":"IFERROR(Daten_Anlagerichtlinie!D113,\"\")","v":""},{"$nulls":3},{"$f":"Daten_Anlagerichtlinie!C118","v":"Maxquote Fremdwährungsanlagen"},null,{"$f":"Daten_Anlagerichtlinie!D118","v":{"v":1,"d":"100.0%"}}]
[null,{"$f":"IFERROR(Daten_Anlagerichtlinie!D114,\"\")","v":""},{"$nulls":3},{"$f":"Daten_Anlagerichtlinie!C119","v":"Max. Fremdfinanzierung pro Objekt"},null,{"$f":"Daten_Anlagerichtlinie!D119","v":{"v":1,"d":"100.0%"}}]
[null,{"$f":"IFERROR(Daten_Anlagerichtlinie!D115,\"\")","v":""}]
[null,{"$f":"IFERROR(Daten_Anlagerichtlinie!D116,\"\")","v":""}]
[null,"4. Restriktionen Alternative Investments"]
[]
[null,"Ausgeschlossene Anlageinstrumente:",{"$nulls":3},"Weitere Restriktionen"]
[null,{"$f":"IFERROR(Daten_Anlagerichtlinie!D122,\"\")","v":""},{"$nulls":3},{"$f":"Daten_Anlagerichtlinie!C127","v":"Maxquote pro Instrument"},null,{"$f":"Daten_Anlagerichtlinie!D127","v":{"v":0,"d":"0.0%"}}]
[null,{"$f":"IFERROR(Daten_Anlagerichtlinie!D123,\"\")","v":""},{"$nulls":3},{"$f":"Daten_Anlagerichtlinie!C128","v":"Maxquote Fremdwährungsanlagen"},null,{"$f":"Daten_Anlagerichtlinie!D128","v":{"v":0,"d":"0.0%"}}]
[null,{"$f":"IFERROR(Daten_Anlagerichtlinie!D124,\"\")","v":""}]
[null,{"$f":"IFERROR(Daten_Anlagerichtlinie!D125,\"\")","v":""}]
[null,{"$f":"IFERROR(Daten_Anlagerichtlinie!D126,\"\")","v":""},{"$nulls":3}," "]
[null,"5. Restriktionen Liquidität"]
[]
[null,"Ausgeschlossene Anlageinstrumente:",{"$nulls":3},"Weitere Restriktionen"]
[null,{"$f":"IFERROR(Daten_Anlagerichtlinie!D131,\"\")","v":""},{"$nulls":3},{"$f":"Daten_Anlagerichtlinie!C133","v":"Einlagensicherung"},null,{"$f":"Daten_Anlagerichtlinie!D133","v":"Nur inländische"}]
[null,{"$f":"IFERROR(Daten_Anlagerichtlinie!D132,\"\")","v":""},{"$nulls":3},{"$f":"Daten_Anlagerichtlinie!C134","v":"Max. Guthaben pro Sicherungssystem"},null,{"$f":"Daten_Anlagerichtlinie!D134","v":0}]
[{"$nulls":5},{"$f":"Daten_Anlagerichtlinie!C135","v":"Max. Guthaben pro Institut"},null,{"$f":"Daten_Anlagerichtlinie!D135","v":0}]
[{"$nulls":5},{"$f":"Daten_Anlagerichtlinie!C136","v":"Max. Fremdwährungsguthaben"},null,{"$f":"Daten_Anlagerichtlinie!D136","v":0}]
[]
["IV. Nachhaltigkeit"]
[]
[null,"1. AUSSCHLUSSKATEGORIEN",{"$nulls":4},"Zielquote:",{"$f":"Daten_Anlagerichtlinie!D140","v":{"v":0,"d":"0.0%"}}]
[]
[null,{"$f":"Daten_Anlagerichtlinie!C140","v":"Folgende Branchen und Geschäftspraktiken sollen im Rahmen des Erkennbaren von jeglicher Investitionstätigkeit der Stiftung ausgeschlossen werden, sofern diese die jeweils genannte Umsatzanteile überschreiten."}]
[]
[null,"Aktien/Unternehmensanleihen",{"$nulls":3},"Umsatzschwelle:",{"$f":"Anlagestrategie!I111","v":{"v":0,"d":"0.0%"}}]
[null,{"$f":"IFERROR(Daten_Anlagerichtlinie!D144,\"\")","v":""}]
[null,{"$f":"IFERROR(Daten_Anlagerichtlinie!D145,\"\")","v":""}]
[null,{"$f":"IFERROR(Daten_Anlagerichtlinie!D146,\"\")","v":""}]
[null,{"$f":"IFERROR(Daten_Anlagerichtlinie!D147,\"\")","v":""}]
[null,{"$f":"IFERROR(Daten_Anlagerichtlinie!D148,\"\")","v":""}]
[null,{"$f":"IFERROR(Daten_Anlagerichtlinie!D149,\"\")","v":""}]
[null,{"$f":"IFERROR(Daten_Anlagerichtlinie!D150,\"\")","v":""}]
[null,{"$f":"IFERROR(Daten_Anlagerichtlinie!D151,\"\")","v":""}]
[null,{"$f":"IFERROR(Daten_Anlagerichtlinie!D152,\"\")","v":""}]
[null,{"$f":"IFERROR(Daten_Anlagerichtlinie!D153,\"\")","v":""}]
[null,{"$f":"IFERROR(Daten_Anlagerichtlinie!D154,\"\")","v":""}]
[null,{"$f":"IFERROR(Daten_Anlagerichtlinie!D155,\"\")","v":""}]
[null,{"$f":"IFERROR(Daten_Anlagerichtlinie!D156,\"\")","v":""}]
[null,{"$f":"IFERROR(Daten_Anlagerichtlinie!D157,\"\")","v":""}]
[null,{"$f":"IFERROR(Daten_Anlagerichtlinie!D158,\"\")","v":""}]
[null,{"$f":"IFERROR(Daten_Anlagerichtlinie!D159,\"\")","v":""}]
[null,{"$f":"IFERROR(Daten_Anlagerichtlinie!D160,\"\")","v":""}]
[null,{"$f":"IFERROR(Daten_Anlagerichtlinie!D161,\"\")","v":""}]
[null,{"$f":"IFERROR(Daten_Anlagerichtlinie!D162,\"\")","v":""}]
[null,{"$f":"IFERROR(Daten_Anlagerichtlinie!D163,\"\")","v":""}]
[null,{"$f":"IFERROR(Daten_Anlagerichtlinie!D164,\"\")","v":""}]
[]
[null,{"$f":"Daten_Anlagerichtlinie!C166","v":"Staaten, deren Politik nach Auffassung anerkannter Institutionen im Hinblick auf die folgenden Punkte fragwürdig ist, sollen ebenfalls nicht durch Kreditvergabe unterstützt werden. Die von ihnen emittierten Wertpapiere sind daher nicht zur Investition zugelassen."}]
[]
[null,"Staatsanleihen"]
[null,{"$f":"IFERROR(Daten_Anlagerichtlinie!D168,\"\")","v":""}]
[null,{"$f":"IFERROR(Daten_Anlagerichtlinie!D169,\"\")","v":""}]
[null,{"$f":"IFERROR(Daten_Anlagerichtlinie!D170,\"\")","v":""}]
[null,{"$f":"IFERROR(Daten_Anlagerichtlinie!D171,\"\")","v":""}]
[null,{"$f":"IFERROR(Daten_Anlagerichtlinie!D172,\"\")","v":""}]
[null,{"$f":"IFERROR(Daten_Anlagerichtlinie!D173,\"\")","v":""}]
[null,{"$f":"IFERROR(Daten_Anlagerichtlinie!D174,\"\")","v":""}]
[null,{"$f":"IFERROR(Daten_Anlagerichtlinie!D175,\"\")","v":""}]
[null,{"$f":"IFERROR(Daten_Anlagerichtlinie!D176,\"\")","v":""}]
[null,{"$f":"IFERROR(Daten_Anlagerichtlinie!D177,\"\")","v":""}]
[null,{"$f":"IFERROR(Daten_Anlagerichtlinie!D178,\"\")","v":""}]
[null,{"$f":"IFERROR(Daten_Anlagerichtlinie!D179,\"\")","v":""}]
[null,{"$f":"IFERROR(Daten_Anlagerichtlinie!D180,\"\")","v":""}]
[null,{"$f":"IFERROR(Daten_Anlagerichtlinie!D181,\"\")","v":""}]
{"$rows_empty":8}
[{"$f":"Daten_Anlagerichtlinie!B183","v":"2. Impact/SDG-Ziele"},{"$nulls":5},"Zielquote:",{"$f":"Daten_Anlagerichtlinie!D183","v":{"v":0,"d":"0.0%"}}]
[]
[null,{"$f":"IF(Daten_Anlagerichtlinie!D183>0,Daten_Anlagerichtlinie!C183,Daten_Anlagerichtlinie!C184)","v":"Von der Nachhaltigkeitsstrategie Impact Investing/SDG's macht die Stiftung derzeit keinen Gebrauch."}]
[null,{"$f":"IF(Daten_Anlagerichtlinie!D183<=0,\"\",IF(Anlagestrategie!H152=\"ja\",Daten_Anlagerichtlinie!C185,Daten_Anlagerichtlinie!C186))","v":""}]
[null,{"$f":"IF(Daten_Anlagerichtlinie!$D$183=0,\"\",IF(Anlagestrategie!$H$152=\"Nein\",\"\",IFERROR(Daten_Anlagerichtlinie!D197,\"\")))","v":""},{"$nulls":3},{"$f":"IF(Daten_Anlagerichtlinie!$D$183<=0,\"\",IF(Anlagestrategie!H152=\"Ja\",\"\",Daten_Anlagerichtlinie!C187))","v":""},{"$f":"IF(Daten_Anlagerichtlinie!D183=0,\"\",IF(Anlagestrategie!H152=\"Ja\",\"Umsatz SDG's:\",\"Umsatz ESG\"))","v":""},{"$f":"IF(Daten_Anlagerichtlinie!D183=0,\"\",Anlagestrategie!H154)","v":""}]
[null,{"$f":"IF(Daten_Anlagerichtlinie!$D$183=0,\"\",IF(Anlagestrategie!$H$152=\"Nein\",\"\",IFERROR(Daten_Anlagerichtlinie!D198,\"\")))","v":""},{"$nulls":3},{"$f":"IF(Daten_Anlagerichtlinie!$D$183<=0,\"\",IF(Anlagestrategie!H152=\"Ja\",\"\",Daten_Anlagerichtlinie!C188))","v":""}]
[null,{"$f":"IF(Daten_Anlagerichtlinie!$D$183=0,\"\",IF(Anlagestrategie!$H$152=\"Nein\",\"\",IFERROR(Daten_Anlagerichtlinie!D199,\"\")))","v":""},{"$nulls":3},{"$f":"IF(Daten_Anlagerichtlinie!$D$183<=0,\"\",IF(Anlagestrategie!H152=\"Ja\",\"\",Daten_Anlagerichtlinie!C189))","v":""}]
[null,{"$f":"IF(Daten_Anlagerichtlinie!$D$183=0,\"\",IF(Anlagestrategie!$H$152=\"Nein\",\"\",IFERROR(Daten_Anlagerichtlinie!D200,\"\")))","v":""}]
[null,{"$f":"IF(Daten_Anlagerichtlinie!$D$183=0,\"\",IF(Anlagestrategie!$H$152=\"Nein\",\"\",IFERROR(Daten_Anlagerichtlinie!D201,\"\")))","v":""}]
[null,{"$f":"IF(Daten_Anlagerichtlinie!$D$183=0,\"\",IF(Anlagestrategie!$H$152=\"Nein\",\"\",IFERROR(Daten_Anlagerichtlinie!D202,\"\")))","v":""}]
[null,{"$f":"IF(Daten_Anlagerichtlinie!$D$183=0,\"\",IF(Anlagestrategie!$H$152=\"Nein\",\"\",IFERROR(Daten_Anlagerichtlinie!D203,\"\")))","v":""}]
[null,{"$f":"IF(Daten_Anlagerichtlinie!$D$183=0,\"\",IF(Anlagestrategie!$H$152=\"Nein\",\"\",IFERROR(Daten_Anlagerichtlinie!D204,\"\")))","v":""}]
[null,{"$f":"IF(Daten_Anlagerichtlinie!$D$183=0,\"\",IF(Anlagestrategie!$H$152=\"Nein\",\"\",IFERROR(Daten_Anlagerichtlinie!D205,\"\")))","v":""}]
[null,{"$f":"IF(Daten_Anlagerichtlinie!$D$183=0,\"\",IF(Anlagestrategie!$H$152=\"Nein\",\"\",IFERROR(Daten_Anlagerichtlinie!D206,\"\")))","v":""}]
[null,{"$f":"IF(Daten_Anlagerichtlinie!$D$183=0,\"\",IF(Anlagestrategie!$H$152=\"Nein\",\"\",IFERROR(Daten_Anlagerichtlinie!D207,\"\")))","v":""}]
[null,{"$f":"IF(Daten_Anlagerichtlinie!$D$183=0,\"\",IF(Anlagestrategie!$H$152=\"Nein\",\"\",IFERROR(Daten_Anlagerichtlinie!D208,\"\")))","v":""}]
[null,{"$f":"IF(Daten_Anlagerichtlinie!$D$183=0,\"\",IF(Anlagestrategie!$H$152=\"Nein\",\"\",IFERROR(Daten_Anlagerichtlinie!D209,\"\")))","v":""}]
[null,{"$f":"IF(Daten_Anlagerichtlinie!$D$183=0,\"\",IF(Anlagestrategie!$H$152=\"Nein\",\"\",IFERROR(Daten_Anlagerichtlinie!D210,\"\")))","v":""}]
[null,{"$f":"IF(Daten_Anlagerichtlinie!$D$183=0,\"\",IF(Anlagestrategie!$H$152=\"Nein\",\"\",IFERROR(Daten_Anlagerichtlinie!D211,\"\")))","v":""}]
[null,{"$f":"IF(Daten_Anlagerichtlinie!$D$183=0,\"\",IF(Anlagestrategie!$H$152=\"Nein\",\"\",IFERROR(Daten_Anlagerichtlinie!D212,\"\")))","v":""}]
[null,{"$f":"IF(Daten_Anlagerichtlinie!$D$183=0,\"\",IF(Anlagestrategie!$H$152=\"Nein\",\"\",IFERROR(Daten_Anlagerichtlinie!D213,\"\")))","v":""}]
[]
["3. ESG-Messmethode",{"$nulls":5},"Zielquote:",{"$f":"Daten_Anlagerichtlinie!D215","v":{"v":0,"d":"0.0%"}}]
[]
[null,{"$f":"IF(Daten_Anlagerichtlinie!E215>0,Daten_Anlagerichtlinie!C215,Daten_Anlagerichtlinie!C220)","v":"Die Nachhaltigkeitsstrategie \"ESG-Messung\" wird derzeit nicht eingesetzt."}]
[null,{"$f":"IF(Daten_Anlagerichtlinie!D215=0,\"\",INDEX(Daten_Anlagerichtlinie!C216:D218,MATCH(1,Daten_Anlagerichtlinie!D216:D218,0),1))","v":""}]
[null,{"$f":"IF(Daten_Anlagerichtlinie!D215=0,\"\",IF(Anlagestrategie!H161=Daten_Anlagerichtlinie!AA7,\"\",\"Mindestscore:\"))","v":""},{"$f":"IF(Daten_Anlagerichtlinie!D215=0,\"\",IF(Anlagestrategie!H161=\"Aggregiert\",\"\",Daten_Anlagerichtlinie!C219))","v":""}]
[]
[{"$f":"Daten_Anlagerichtlinie!B222","v":"4. Best of Universe / Best in Class"},{"$nulls":5},"Zielquote:",{"$f":"Daten_Anlagerichtlinie!D222","v":{"v":0,"d":"0.0%"}}]
[]
[null,{"$f":"IF(Daten_Anlagerichtlinie!E222=0,Daten_Anlagerichtlinie!C226,INDEX(Daten_Anlagerichtlinie!C223:D225,MATCH(1,Daten_Anlagerichtlinie!D223:D225,0),1))","v":"Die Nachhaltigkeitsstrategien \"Best of Universe\" / \"Best in Class\" werden derzeit von der Stiftung nicht eingesetzt."}]
{"$rows_empty":7}
[{"$f":"Daten_Anlagerichtlinie!B228","v":"5. ESG Top %"},{"$nulls":5},"Zielquote",{"$f":"Daten_Anlagerichtlinie!D228","v":{"v":0,"d":"0.0%"}}]
[]
[null,{"$f":"IF(Daten_Anlagerichtlinie!E228>0,Daten_Anlagerichtlinie!C228,Daten_Anlagerichtlinie!C230)","v":"Die Strategie der besten Nachhaltigkeitstitel (\"ESG-Top %\") wird von der Stiftung derzeit nicht eingesetzt."},{"$nulls":5},{"$f":"IF(Daten_Anlagerichtlinie!E228=0,\"\",Daten_Anlagerichtlinie!C229)","v":""}]
[]
[{"$f":"Daten_Anlagerichtlinie!B232","v":"6. ESG Frequenz"},{"$nulls":5},"Zielquote",{"$f":"Daten_Anlagerichtlinie!D232","v":{"v":0,"d":"0.0%"}}]
[]
[null,{"$f":"IF(Daten_Anlagerichtlinie!E232>0,Daten_Anlagerichtlinie!C232,Daten_Anlagerichtlinie!C236)","v":"Das Nachhaltigkeitskriterium \"ESG-Frequenz\" wird von der Stiftung derzeit nicht umgesetzt."}]
[null,{"$f":"IFERROR(IF(Daten_Anlagerichtlinie!E232=0,\"\",INDEX(Daten_Anlagerichtlinie!C233:D235,MATCH(1,Daten_Anlagerichtlinie!D233:D235,0),1)),\"\")","v":""}]
[]
[{"$f":"Daten_Anlagerichtlinie!B238","v":"7. Stimmrechtsausübung"},{"$nulls":5},"Zielquote",{"$f":"Daten_Anlagerichtlinie!D238","v":{"v":0,"d":"0.0%"}}]
[]
[null,{"$f":"IF(Daten_Anlagerichtlinie!E238>0,Daten_Anlagerichtlinie!C238,Daten_Anlagerichtlinie!C242)","v":"Die Nachhaltigkeitsstrategie Stimmrechtsausübung wird von der Stiftung derzeit nicht eingesetzt."}]
[null,{"$f":"IF(Daten_Anlagerichtlinie!E238=0,\"\",INDEX(Daten_Anlagerichtlinie!C239:D241,MATCH(1,Daten_Anlagerichtlinie!D239:D241,0),1))","v":""}]
[]
[{"$f":"Daten_Anlagerichtlinie!B244","v":"8. Engagement"},{"$nulls":5},"Zielquote",{"$f":"Daten_Anlagerichtlinie!D244","v":{"v":0,"d":"0.0%"}}]
[]
[null,{"$f":"IF(Daten_Anlagerichtlinie!E244>0,Daten_Anlagerichtlinie!C244,Daten_Anlagerichtlinie!C248)","v":"Die Nachhaltigkeitsstrategie Engagement wird von der Stiftung derzeit nicht eingesetzt."}]
[null,{"$f":"IF(Daten_Anlagerichtlinie!E244=0,\"\",INDEX(Daten_Anlagerichtlinie!C245:D247,MATCH(1,Daten_Anlagerichtlinie!D245:D247,0),1))","v":""}]
[]
[]
["V. Delegation"]
[]
[null,{"$f":"IF(Anlagestrategie!M14=\"Ja\",Daten_Anlagerichtlinie!C254,Daten_Anlagerichtlinie!C253)","v":"Die Anlage des Vermögens erfolgt ausschließlich durch die Geschäftsführung der Stiftung."}]
[]
[null,{"$f":"IF(Anlagestrategie!M14=\"JA\",\"1. Auswahl\",\"\")","v":""},{"$f":"IF(Anlagestrategie!$M$14=\"JA\",Daten_Anlagerichtlinie!C255,\"\")","v":""}]
[null,{"$f":"IF(Anlagestrategie!$M$14=\"JA\",\"2. Instruktion\",\"\")","v":""},{"$f":"IF(Anlagestrategie!$M$14=\"JA\",Daten_Anlagerichtlinie!C256,\"\")","v":""}]
[null,{"$f":"IF(Anlagestrategie!$M$14=\"JA\",\"3. Kontrolle\",\"\")","v":""},{"$f":"IF(Anlagestrategie!$M$14=\"JA\",Daten_Anlagerichtlinie!C257,\"\")","v":""},{"$nulls":4},{"$f":"Daten_Anlagerichtlinie!C258","v":"Bitte ausw."}]
[]
[]
[null,null,{"$f":"IF(Anlagestrategie!$M$14=\"JA\",IF(Anlagestrategie!M16=\"JA\",Daten_Anlagerichtlinie!C259,\"\"))","v":false}]
[]
["VI. Kosten"]
[]
[null,{"$f":"IF(Anlagestrategie!G16=\"Ja\",Daten_Anlagerichtlinie!C263,Daten_Anlagerichtlinie!C264)","v":"Die verantwortlichen Stellen haben dafür Sorge zu tragen, dass die Kosten der Vermögensverwaltung  (z.B. Konto-/Depotgebühren, Management-Fees, Fondsgebühren, Hausverwalterhonorare etc.) angemessen sind und den marktüblichen Rahmen nicht überschreiten."},{"$nulls":5},{"$f":"IF(Anlagestrategie!G16=\"Ja\",Daten_Anlagerichtlinie!D263,\"\")","v":""}]
[]
[]
["VII. Berichterstattung"]
[]
[null,{"$f":"Daten_Anlagerichtlinie!C267","v":"Das finanzverantwortliche Gremium legt der Kontrollinstanz in folgendem Turnus einen schriftlichen Vermögensbericht vor."}]
[null,{"$f":"Daten_Anlagerichtlinie!C269","v":"Finanzverantwortlich:"},null,null,{"$f":"Daten_Anlagerichtlinie!D269","v":"Bitte ausw."}]
[null,{"$f":"Daten_Anlagerichtlinie!C270","v":"Kontrollinstanz:"},null,null,{"$f":"Daten_Anlagerichtlinie!D270","v":"Bitte ausw."}]
[null,{"$f":"Daten_Anlagerichtlinie!C271","v":"Berichtsturnus:"},null,null,{"$f":"Daten_Anlagerichtlinie!D271","v":"Bitte ausw."}]
[null,{"$f":"Daten_Anlagerichtlinie!C272","v":"Der Finanzbericht geht mindestens auf folgende Punkte ein:"}]
[null,{"$f":"Daten_Anlagerichtlinie!C273","v":"- Vermögensstruktur"}]
[null,{"$f":"Daten_Anlagerichtlinie!C274","v":"- Erreichung der Anlageziele (status quo)"}]
[null,{"$f":"Daten_Anlagerichtlinie!C275","v":"- Einhaltung der Zielallokation und der Restriktionen"}]
[null,{"$f":"Daten_Anlagerichtlinie!C276","v":"- Kostensituation"}]
[null,{"$f":"Daten_Anlagerichtlinie!C277","v":"- Künftige Erreichung der Anlageziele (Projektion)"}]
{"$rows_empty":10}
[null,"Ort, Datum"]
[]
[]
[]
[null,"Unterschriften Mitglieder ",null,{"$f":"Einstellungen!P16","v":"Bitte auswählen"}]
[]
[]
[]
[]
[null,"Ort, Datum"]
[]
[]
[]
[null,{"$f":"IF(Einstellungen!P30=\"Keines\",\"\",\"Unterschriften Mitglieder\")","v":""},null,{"$f":"IF(Einstellungen!P30=\"Keines\",\"\",Einstellungen!P30)","v":""}]

{"sheet":"Wirtschaftsplan","index":22,"n_rows":54,"n_cols":16,"rows_kept":54}
{"$rows_empty":9}
[null,"Legende"]
[{"$nulls":6},{"$f":"Einstellungen!G13-1","v":2023},{"$f":"Einstellungen!G13","v":2024}]
[null,"Pflichteingabe",{"$nulls":3},"Laufend","EUR","EUR","Fälligkeit",null,"Einmalig",null,{"$f":"H11+1","v":2025},{"$f":"M12+1","v":2026},{"$f":"N12+1","v":2027},{"$f":"O12+1","v":2028}]
[null,"Optionale Eingabe",{"$nulls":3},"Spenden",null,null,"Bitte auswählen",null,{"$f":"F13","v":"Spenden"},null,0,0,0,{"$f":"O13","v":0}]
[null,"Systemeingabe überschreibbar",{"$nulls":3},"Zuschüsse",null,null,"Bitte auswählen",null,{"$f":"F14","v":"Zuschüsse"},null,0,0,0,0]
[null,"Systemeingabe nicht überschreibbar",{"$nulls":3},"Vermögensverwaltung",{"$f":"Daten_Vermögen!D94","v":0},{"$f":"'Daten Projektion'!O145","v":0},"Diverse",null,"Vermögensverwaltung",null,{"$f":"'Daten Projektion'!P134","v":0},{"$f":"'Daten Projektion'!Q134","v":0},{"$f":"'Daten Projektion'!R134","v":0},{"$f":"'Daten Projektion'!S134","v":0}]
[null,"Weitere Infos im Hintergrund",{"$nulls":3},"Zweckbetrieb",null,null,"Bitte auswählen",null,"Zweckbetrieb",null,0,0,{"$f":"N16","v":0},0]
[{"$nulls":5},"Wirtschaftlicher Geschäftsbetrieb",null,null,"Bitte auswählen",null,"Wirtschaftlicher Geschäftsbetrieb",null,0,0,0,0]
[{"$nulls":5},"Sonstige Einnahmen",null,null,"Bitte auswählen",null,"Sonstige Einnahmen",null,0,{"$f":"M18","v":0},0,0]
[{"$nulls":5},"Zuwendungen in Rücklagen",null,null,"Bitte auswählen",null,"Zuwendungen in Rücklagen",null,0,{"$f":"M19","v":0},0,0]
[{"$nulls":5},"Aus Abgängen von Finanzanlagen",null,null,"Bitte auswählen",null,"Aus Abgängen von Finanzanlagen",null,0,{"$f":"M20","v":0},0,0]
[{"$nulls":5},"Zustiftungen",null,null,"Bitte auswählen",null,"Zustiftungen","Liquidität",0,0,0,0]
[null,"Aktuelle Verwaltungskostenquote 1:",{"$nulls":3},"Summe",{"$f":"SUM(G13:G21)","v":0},{"$f":"SUM(H13:H21)","v":0},null,null,"Summe",null,{"$f":"SUM(M13:M21)","v":0},{"$f":"SUM(N13:N21)","v":0},{"$f":"SUM(O13:O21)","v":0},{"$f":"SUM(P13:P21)","v":0}]
[null,{"$f":"IFERROR(H54/H22,\"\")","v":""}]
[]
[null,"Aktuelle Verwaltungskostenquote 2",{"$nulls":4},{"$f":"G11","v":2023},{"$f":"H11","v":2024}]
[null,{"$f":"IFERROR(H54/(H22-H52-H53),\"\")","v":""},{"$nulls":3},"Laufend","EUR","EUR","Fälligkeit",null,"Einmalig",null,{"$f":"M12","v":2025},{"$f":"N12","v":2026},{"$f":"O12","v":2027},{"$f":"P12","v":2028}]
[{"$nulls":5},"Entgelte für Gremienmitglieder",null,null,"Bitte auswählen",null,{"$f":"F27","v":"Entgelte für Gremienmitglieder"},null,{"$f":"IF(Einstellungen!$H$31=Daten_Einstellg_Ziele!$E$20,H27,Wirtschaftsplan!H27+Wirtschaftsplan!H27*Szenarien!I$21)","v":0},{"$f":"IF(Einstellungen!$H$31=Daten_Einstellg_Ziele!$E$20,Wirtschaftsplan!M27,Wirtschaftsplan!M27+Wirtschaftsplan!M27*Szenarien!J$21)","v":0},{"$f":"IF(Einstellungen!$H$31=Daten_Einstellg_Ziele!$E$20,Wirtschaftsplan!N27,Wirtschaftsplan!N27+Wirtschaftsplan!N27*Szenarien!K$21)","v":0},{"$f":"IF(Einstellungen!$H$31=Daten_Einstellg_Ziele!$E$20,Wirtschaftsplan!O27,Wirtschaftsplan!O27+Wirtschaftsplan!O27*Szenarien!L$21)","v":0}]
[{"$nulls":5},"Löhne und Gehälter",null,null,"Bitte auswählen",null,{"$f":"F28","v":"Löhne und Gehälter"},null,{"$f":"IF(Einstellungen!$H$31=Daten_Einstellg_Ziele!$E$20,H28,Wirtschaftsplan!H28+Wirtschaftsplan!H28*Szenarien!I$21)","v":0},{"$f":"IF(Einstellungen!$H$31=Daten_Einstellg_Ziele!$E$20,Wirtschaftsplan!M28,Wirtschaftsplan!M28+Wirtschaftsplan!M28*Szenarien!J$21)","v":0},{"$f":"IF(Einstellungen!$H$31=Daten_Einstellg_Ziele!$E$20,Wirtschaftsplan!N28,Wirtschaftsplan!N28+Wirtschaftsplan!N28*Szenarien!K$21)","v":0},{"$f":"IF(Einstellungen!$H$31=Daten_Einstellg_Ziele!$E$20,Wirtschaftsplan!O28,Wirtschaftsplan!O28+Wirtschaftsplan!O28*Szenarien!L$21)","v":0}]
[{"$nulls":5},"Zusatzleistungen für Personal",null,null,"Bitte auswählen",null,"Zusatzleistungen für Personal",null,{"$f":"IF(Einstellungen!$H$31=Daten_Einstellg_Ziele!$E$20,H29,Wirtschaftsplan!H29+Wirtschaftsplan!H29*Szenarien!I$21)","v":0},{"$f":"IF(Einstellungen!$H$31=Daten_Einstellg_Ziele!$E$20,Wirtschaftsplan!M29,Wirtschaftsplan!M29+Wirtschaftsplan!M29*Szenarien!J$21)","v":0},{"$f":"IF(Einstellungen!$H$31=Daten_Einstellg_Ziele!$E$20,Wirtschaftsplan!N29,Wirtschaftsplan!N29+Wirtschaftsplan!N29*Szenarien!K$21)","v":0},{"$f":"IF(Einstellungen!$H$31=Daten_Einstellg_Ziele!$E$20,Wirtschaftsplan!O29,Wirtschaftsplan!O29+Wirtschaftsplan!O29*Szenarien!L$21)","v":0}]
[{"$nulls":5},"Mieten",null,null,"Bitte auswählen",null,"Mieten",null,{"$f":"IF(Einstellungen!$H$31=Daten_Einstellg_Ziele!$E$20,H30,Wirtschaftsplan!H30+Wirtschaftsplan!H30*Szenarien!I$21)","v":0},{"$f":"IF(Einstellungen!$H$31=Daten_Einstellg_Ziele!$E$20,Wirtschaftsplan!M30,Wirtschaftsplan!M30+Wirtschaftsplan!M30*Szenarien!J$21)","v":0},{"$f":"IF(Einstellungen!$H$31=Daten_Einstellg_Ziele!$E$20,Wirtschaftsplan!N30,Wirtschaftsplan!N30+Wirtschaftsplan!N30*Szenarien!K$21)","v":0},{"$f":"IF(Einstellungen!$H$31=Daten_Einstellg_Ziele!$E$20,Wirtschaftsplan!O30,Wirtschaftsplan!O30+Wirtschaftsplan!O30*Szenarien!L$21)","v":0}]
[{"$nulls":5},"Beiträge/Mitgliedschaften",null,null,"Bitte auswählen",null,"Beiträge/Mitgliedschaften",null,{"$f":"IF(Einstellungen!$H$31=Daten_Einstellg_Ziele!$E$20,H31,Wirtschaftsplan!H31+Wirtschaftsplan!H31*Szenarien!I$21)","v":0},{"$f":"IF(Einstellungen!$H$31=Daten_Einstellg_Ziele!$E$20,Wirtschaftsplan!M31,Wirtschaftsplan!M31+Wirtschaftsplan!M31*Szenarien!J$21)","v":0},{"$f":"IF(Einstellungen!$H$31=Daten_Einstellg_Ziele!$E$20,Wirtschaftsplan!N31,Wirtschaftsplan!N31+Wirtschaftsplan!N31*Szenarien!K$21)","v":0},{"$f":"IF(Einstellungen!$H$31=Daten_Einstellg_Ziele!$E$20,Wirtschaftsplan!O31,Wirtschaftsplan!O31+Wirtschaftsplan!O31*Szenarien!L$21)","v":0}]
[{"$nulls":5},"Versicherungen",null,null,"Bitte auswählen",null,"Versicherungen",null,{"$f":"IF(Einstellungen!$H$31=Daten_Einstellg_Ziele!$E$20,H32,Wirtschaftsplan!H32+Wirtschaftsplan!H32*Szenarien!I$21)","v":0},{"$f":"IF(Einstellungen!$H$31=Daten_Einstellg_Ziele!$E$20,Wirtschaftsplan!M32,Wirtschaftsplan!M32+Wirtschaftsplan!M32*Szenarien!J$21)","v":0},{"$f":"IF(Einstellungen!$H$31=Daten_Einstellg_Ziele!$E$20,Wirtschaftsplan!N32,Wirtschaftsplan!N32+Wirtschaftsplan!N32*Szenarien!K$21)","v":0},{"$f":"IF(Einstellungen!$H$31=Daten_Einstellg_Ziele!$E$20,Wirtschaftsplan!O32,Wirtschaftsplan!O32+Wirtschaftsplan!O32*Szenarien!L$21)","v":0}]
[{"$nulls":5},"Gebühren",null,null,"Bitte auswählen",null,"Gebühren",null,{"$f":"IF(Einstellungen!$H$31=Daten_Einstellg_Ziele!$E$20,H33,Wirtschaftsplan!H33+Wirtschaftsplan!H33*Szenarien!I$21)","v":0},{"$f":"IF(Einstellungen!$H$31=Daten_Einstellg_Ziele!$E$20,Wirtschaftsplan!M33,Wirtschaftsplan!M33+Wirtschaftsplan!M33*Szenarien!J$21)","v":0},{"$f":"IF(Einstellungen!$H$31=Daten_Einstellg_Ziele!$E$20,Wirtschaftsplan!N33,Wirtschaftsplan!N33+Wirtschaftsplan!N33*Szenarien!K$21)","v":0},{"$f":"IF(Einstellungen!$H$31=Daten_Einstellg_Ziele!$E$20,Wirtschaftsplan!O33,Wirtschaftsplan!O33+Wirtschaftsplan!O33*Szenarien!L$21)","v":0}]
[null,"Weiter zu",{"$nulls":3},"Steuern",null,null,"Bitte auswählen",null,"Steuern",null,{"$f":"IF(Einstellungen!$H$31=Daten_Einstellg_Ziele!$E$20,H34,Wirtschaftsplan!H34+Wirtschaftsplan!H34*Szenarien!I$21)","v":0},{"$f":"IF(Einstellungen!$H$31=Daten_Einstellg_Ziele!$E$20,Wirtschaftsplan!M34,Wirtschaftsplan!M34+Wirtschaftsplan!M34*Szenarien!J$21)","v":0},{"$f":"IF(Einstellungen!$H$31=Daten_Einstellg_Ziele!$E$20,Wirtschaftsplan!N34,Wirtschaftsplan!N34+Wirtschaftsplan!N34*Szenarien!K$21)","v":0},{"$f":"IF(Einstellungen!$H$31=Daten_Einstellg_Ziele!$E$20,Wirtschaftsplan!O34,Wirtschaftsplan!O34+Wirtschaftsplan!O34*Szenarien!L$21)","v":0}]
[{"$nulls":5},"Werbung/Öffentlichkeit",null,null,"Bitte auswählen",null,"Werbung/Öffentlichkeit",null,{"$f":"IF(Einstellungen!$H$31=Daten_Einstellg_Ziele!$E$20,H35,Wirtschaftsplan!H35+Wirtschaftsplan!H35*Szenarien!I$21)","v":0},{"$f":"IF(Einstellungen!$H$31=Daten_Einstellg_Ziele!$E$20,Wirtschaftsplan!M35,Wirtschaftsplan!M35+Wirtschaftsplan!M35*Szenarien!J$21)","v":0},{"$f":"IF(Einstellungen!$H$31=Daten_Einstellg_Ziele!$E$20,Wirtschaftsplan!N35,Wirtschaftsplan!N35+Wirtschaftsplan!N35*Szenarien!K$21)","v":0},{"$f":"IF(Einstellungen!$H$31=Daten_Einstellg_Ziele!$E$20,Wirtschaftsplan!O35,Wirtschaftsplan!O35+Wirtschaftsplan!O35*Szenarien!L$21)","v":0}]
[{"$nulls":5},"Fundraising",null,null,"Bitte auswählen",null,"Fundraising",null,{"$f":"IF(Einstellungen!$H$31=Daten_Einstellg_Ziele!$E$20,H36,Wirtschaftsplan!H36+Wirtschaftsplan!H36*Szenarien!I$21)","v":0},{"$f":"IF(Einstellungen!$H$31=Daten_Einstellg_Ziele!$E$20,Wirtschaftsplan!M36,Wirtschaftsplan!M36+Wirtschaftsplan!M36*Szenarien!J$21)","v":0},{"$f":"IF(Einstellungen!$H$31=Daten_Einstellg_Ziele!$E$20,Wirtschaftsplan!N36,Wirtschaftsplan!N36+Wirtschaftsplan!N36*Szenarien!K$21)","v":0},{"$f":"IF(Einstellungen!$H$31=Daten_Einstellg_Ziele!$E$20,Wirtschaftsplan!O36,Wirtschaftsplan!O36+Wirtschaftsplan!O36*Szenarien!L$21)","v":0}]
[{"$nulls":5},"Reisekosten",null,null,"Bitte auswählen",null,"Reisekosten",null,{"$f":"IF(Einstellungen!$H$31=Daten_Einstellg_Ziele!$E$20,H37,Wirtschaftsplan!H37+Wirtschaftsplan!H37*Szenarien!I$21)","v":0},{"$f":"IF(Einstellungen!$H$31=Daten_Einstellg_Ziele!$E$20,Wirtschaftsplan!M37,Wirtschaftsplan!M37+Wirtschaftsplan!M37*Szenarien!J$21)","v":0},{"$f":"IF(Einstellungen!$H$31=Daten_Einstellg_Ziele!$E$20,Wirtschaftsplan!N37,Wirtschaftsplan!N37+Wirtschaftsplan!N37*Szenarien!K$21)","v":0},{"$f":"IF(Einstellungen!$H$31=Daten_Einstellg_Ziele!$E$20,Wirtschaftsplan!O37,Wirtschaftsplan!O37+Wirtschaftsplan!O37*Szenarien!L$21)","v":0}]
[{"$nulls":5},"Qualifizierung",null,null,"Bitte auswählen",null,"Qualifizierung",null,{"$f":"IF(Einstellungen!$H$31=Daten_Einstellg_Ziele!$E$20,H38,Wirtschaftsplan!H38+Wirtschaftsplan!H38*Szenarien!I$21)","v":0},{"$f":"IF(Einstellungen!$H$31=Daten_Einstellg_Ziele!$E$20,Wirtschaftsplan!M38,Wirtschaftsplan!M38+Wirtschaftsplan!M38*Szenarien!J$21)","v":0},{"$f":"IF(Einstellungen!$H$31=Daten_Einstellg_Ziele!$E$20,Wirtschaftsplan!N38,Wirtschaftsplan!N38+Wirtschaftsplan!N38*Szenarien!K$21)","v":0},{"$f":"IF(Einstellungen!$H$31=Daten_Einstellg_Ziele!$E$20,Wirtschaftsplan!O38,Wirtschaftsplan!O38+Wirtschaftsplan!O38*Szenarien!L$21)","v":0}]
[{"$nulls":5},"Bürobedarf",null,null,"Bitte auswählen",null,"Bürobedarf",null,{"$f":"IF(Einstellungen!$H$31=Daten_Einstellg_Ziele!$E$20,H39,Wirtschaftsplan!H39+Wirtschaftsplan!H39*Szenarien!I$21)","v":0},{"$f":"IF(Einstellungen!$H$31=Daten_Einstellg_Ziele!$E$20,Wirtschaftsplan!M39,Wirtschaftsplan!M39+Wirtschaftsplan!M39*Szenarien!J$21)","v":0},{"$f":"IF(Einstellungen!$H$31=Daten_Einstellg_Ziele!$E$20,Wirtschaftsplan!N39,Wirtschaftsplan!N39+Wirtschaftsplan!N39*Szenarien!K$21)","v":0},{"$f":"IF(Einstellungen!$H$31=Daten_Einstellg_Ziele!$E$20,Wirtschaftsplan!O39,Wirtschaftsplan!O39+Wirtschaftsplan!O39*Szenarien!L$21)","v":0}]
[{"$nulls":5},"Büroausstattung",null,null,"Bitte auswählen",null,"Büroausstattung",null,{"$f":"IF(Einstellungen!$H$31=Daten_Einstellg_Ziele!$E$20,H40,Wirtschaftsplan!H40+Wirtschaftsplan!H40*Szenarien!I$21)","v":0},{"$f":"IF(Einstellungen!$H$31=Daten_Einstellg_Ziele!$E$20,Wirtschaftsplan!M40,Wirtschaftsplan!M40+Wirtschaftsplan!M40*Szenarien!J$21)","v":0},{"$f":"IF(Einstellungen!$H$31=Daten_Einstellg_Ziele!$E$20,Wirtschaftsplan!N40,Wirtschaftsplan!N40+Wirtschaftsplan!N40*Szenarien!K$21)","v":0},{"$f":"IF(Einstellungen!$H$31=Daten_Einstellg_Ziele!$E$20,Wirtschaftsplan!O40,Wirtschaftsplan!O40+Wirtschaftsplan!O40*Szenarien!L$21)","v":0}]
[{"$nulls":5},"Porto",null,null,"Bitte auswählen",null,"Porto",null,{"$f":"IF(Einstellungen!$H$31=Daten_Einstellg_Ziele!$E$20,H41,Wirtschaftsplan!H41+Wirtschaftsplan!H41*Szenarien!I$21)","v":0},{"$f":"IF(Einstellungen!$H$31=Daten_Einstellg_Ziele!$E$20,Wirtschaftsplan!M41,Wirtschaftsplan!M41+Wirtschaftsplan!M41*Szenarien!J$21)","v":0},{"$f":"IF(Einstellungen!$H$31=Daten_Einstellg_Ziele!$E$20,Wirtschaftsplan!N41,Wirtschaftsplan!N41+Wirtschaftsplan!N41*Szenarien!K$21)","v":0},{"$f":"IF(Einstellungen!$H$31=Daten_Einstellg_Ziele!$E$20,Wirtschaftsplan!O41,Wirtschaftsplan!O41+Wirtschaftsplan!O41*Szenarien!L$21)","v":0}]
[{"$nulls":5},"Telekommunikation",null,null,"Bitte auswählen",null,"Telekommunikation",null,{"$f":"IF(Einstellungen!$H$31=Daten_Einstellg_Ziele!$E$20,H42,Wirtschaftsplan!H42+Wirtschaftsplan!H42*Szenarien!I$21)","v":0},{"$f":"IF(Einstellungen!$H$31=Daten_Einstellg_Ziele!$E$20,Wirtschaftsplan!M42,Wirtschaftsplan!M42+Wirtschaftsplan!M42*Szenarien!J$21)","v":0},{"$f":"IF(Einstellungen!$H$31=Daten_Einstellg_Ziele!$E$20,Wirtschaftsplan!N42,Wirtschaftsplan!N42+Wirtschaftsplan!N42*Szenarien!K$21)","v":0},{"$f":"IF(Einstellungen!$H$31=Daten_Einstellg_Ziele!$E$20,Wirtschaftsplan!O42,Wirtschaftsplan!O42+Wirtschaftsplan!O42*Szenarien!L$21)","v":0}]
[{"$nulls":5},"IT (Hard- und Software)",null,null,"Bitte auswählen",null,"IT (Hard- und Software)",null,{"$f":"IF(Einstellungen!$H$31=Daten_Einstellg_Ziele!$E$20,H43,Wirtschaftsplan!H43+Wirtschaftsplan!H43*Szenarien!I$21)","v":0},{"$f":"IF(Einstellungen!$H$31=Daten_Einstellg_Ziele!$E$20,Wirtschaftsplan!M43,Wirtschaftsplan!M43+Wirtschaftsplan!M43*Szenarien!J$21)","v":0},{"$f":"IF(Einstellungen!$H$31=Daten_Einstellg_Ziele!$E$20,Wirtschaftsplan!N43,Wirtschaftsplan!N43+Wirtschaftsplan!N43*Szenarien!K$21)","v":0},{"$f":"IF(Einstellungen!$H$31=Daten_Einstellg_Ziele!$E$20,Wirtschaftsplan!O43,Wirtschaftsplan!O43+Wirtschaftsplan!O43*Szenarien!L$21)","v":0}]
[{"$nulls":5},"Zeitschriften, Bücher",null,null,"Bitte auswählen",null,"Zeitschriften, Bücher",null,{"$f":"IF(Einstellungen!$H$31=Daten_Einstellg_Ziele!$E$20,H44,Wirtschaftsplan!H44+Wirtschaftsplan!H44*Szenarien!I$21)","v":0},{"$f":"IF(Einstellungen!$H$31=Daten_Einstellg_Ziele!$E$20,Wirtschaftsplan!M44,Wirtschaftsplan!M44+Wirtschaftsplan!M44*Szenarien!J$21)","v":0},{"$f":"IF(Einstellungen!$H$31=Daten_Einstellg_Ziele!$E$20,Wirtschaftsplan!N44,Wirtschaftsplan!N44+Wirtschaftsplan!N44*Szenarien!K$21)","v":0},{"$f":"IF(Einstellungen!$H$31=Daten_Einstellg_Ziele!$E$20,Wirtschaftsplan!O44,Wirtschaftsplan!O44+Wirtschaftsplan!O44*Szenarien!L$21)","v":0}]
[{"$nulls":5},"Rechtsberatung",null,null,"Bitte auswählen",null,"Rechtsberatung",null,{"$f":"IF(Einstellungen!$H$31=Daten_Einstellg_Ziele!$E$20,H45,Wirtschaftsplan!H45+Wirtschaftsplan!H45*Szenarien!I$21)","v":0},{"$f":"IF(Einstellungen!$H$31=Daten_Einstellg_Ziele!$E$20,Wirtschaftsplan!M45,Wirtschaftsplan!M45+Wirtschaftsplan!M45*Szenarien!J$21)","v":0},{"$f":"IF(Einstellungen!$H$31=Daten_Einstellg_Ziele!$E$20,Wirtschaftsplan!N45,Wirtschaftsplan!N45+Wirtschaftsplan!N45*Szenarien!K$21)","v":0},{"$f":"IF(Einstellungen!$H$31=Daten_Einstellg_Ziele!$E$20,Wirtschaftsplan!O45,Wirtschaftsplan!O45+Wirtschaftsplan!O45*Szenarien!L$21)","v":0}]
[{"$nulls":5},"Steuerberatung",null,null,"Bitte auswählen",null,"Steuerberatung",null,{"$f":"IF(Einstellungen!$H$31=Daten_Einstellg_Ziele!$E$20,H46,Wirtschaftsplan!H46+Wirtschaftsplan!H46*Szenarien!I$21)","v":0},{"$f":"IF(Einstellungen!$H$31=Daten_Einstellg_Ziele!$E$20,Wirtschaftsplan!M46,Wirtschaftsplan!M46+Wirtschaftsplan!M46*Szenarien!J$21)","v":0},{"$f":"IF(Einstellungen!$H$31=Daten_Einstellg_Ziele!$E$20,Wirtschaftsplan!N46,Wirtschaftsplan!N46+Wirtschaftsplan!N46*Szenarien!K$21)","v":0},{"$f":"IF(Einstellungen!$H$31=Daten_Einstellg_Ziele!$E$20,Wirtschaftsplan!O46,Wirtschaftsplan!O46+Wirtschaftsplan!O46*Szenarien!L$21)","v":0}]
[{"$nulls":5},"Sonstige Beratung",null,null,"Bitte auswählen",null,"Sonstige Beratung",null,{"$f":"IF(Einstellungen!$H$31=Daten_Einstellg_Ziele!$E$20,H47,Wirtschaftsplan!H47+Wirtschaftsplan!H47*Szenarien!I$21)","v":0},{"$f":"IF(Einstellungen!$H$31=Daten_Einstellg_Ziele!$E$20,Wirtschaftsplan!M47,Wirtschaftsplan!M47+Wirtschaftsplan!M47*Szenarien!J$21)","v":0},{"$f":"IF(Einstellungen!$H$31=Daten_Einstellg_Ziele!$E$20,Wirtschaftsplan!N47,Wirtschaftsplan!N47+Wirtschaftsplan!N47*Szenarien!K$21)","v":0},{"$f":"IF(Einstellungen!$H$31=Daten_Einstellg_Ziele!$E$20,Wirtschaftsplan!O47,Wirtschaftsplan!O47+Wirtschaftsplan!O47*Szenarien!L$21)","v":0}]
[{"$nulls":5},"Abschluss-/Prüfungskosten",null,null,"Bitte auswählen",null,"Abschluss-/Prüfungskosten",null,{"$f":"IF(Einstellungen!$H$31=Daten_Einstellg_Ziele!$E$20,H48,Wirtschaftsplan!H48+Wirtschaftsplan!H48*Szenarien!I$21)","v":0},{"$f":"IF(Einstellungen!$H$31=Daten_Einstellg_Ziele!$E$20,Wirtschaftsplan!M48,Wirtschaftsplan!M48+Wirtschaftsplan!M48*Szenarien!J$21)","v":0},{"$f":"IF(Einstellungen!$H$31=Daten_Einstellg_Ziele!$E$20,Wirtschaftsplan!N48,Wirtschaftsplan!N48+Wirtschaftsplan!N48*Szenarien!K$21)","v":0},{"$f":"IF(Einstellungen!$H$31=Daten_Einstellg_Ziele!$E$20,Wirtschaftsplan!O48,Wirtschaftsplan!O48+Wirtschaftsplan!O48*Szenarien!L$21)","v":0}]
[{"$nulls":5},"Buchführung",null,null,"Bitte auswählen",null,"Buchführung",null,{"$f":"IF(Einstellungen!$H$31=Daten_Einstellg_Ziele!$E$20,H49,Wirtschaftsplan!H49+Wirtschaftsplan!H49*Szenarien!I$21)","v":0},{"$f":"IF(Einstellungen!$H$31=Daten_Einstellg_Ziele!$E$20,Wirtschaftsplan!M49,Wirtschaftsplan!M49+Wirtschaftsplan!M49*Szenarien!J$21)","v":0},{"$f":"IF(Einstellungen!$H$31=Daten_Einstellg_Ziele!$E$20,Wirtschaftsplan!N49,Wirtschaftsplan!N49+Wirtschaftsplan!N49*Szenarien!K$21)","v":0},{"$f":"IF(Einstellungen!$H$31=Daten_Einstellg_Ziele!$E$20,Wirtschaftsplan!O49,Wirtschaftsplan!O49+Wirtschaftsplan!O49*Szenarien!L$21)","v":0}]
[{"$nulls":5},"Nebenkosten des Geldverkehrs",null,null,"Bitte auswählen",null,"Nebenkosten des Geldverkehrs",null,{"$f":"IF(Einstellungen!$H$31=Daten_Einstellg_Ziele!$E$20,H50,Wirtschaftsplan!H50+Wirtschaftsplan!H50*Szenarien!I$21)","v":0},{"$f":"IF(Einstellungen!$H$31=Daten_Einstellg_Ziele!$E$20,Wirtschaftsplan!M50,Wirtschaftsplan!M50+Wirtschaftsplan!M50*Szenarien!J$21)","v":0},{"$f":"IF(Einstellungen!$H$31=Daten_Einstellg_Ziele!$E$20,Wirtschaftsplan!N50,Wirtschaftsplan!N50+Wirtschaftsplan!N50*Szenarien!K$21)","v":0},{"$f":"IF(Einstellungen!$H$31=Daten_Einstellg_Ziele!$E$20,Wirtschaftsplan!O50,Wirtschaftsplan!O50+Wirtschaftsplan!O50*Szenarien!L$21)","v":0}]
[{"$nulls":5},"Sonstiger Betriebsbedarf",null,null,"Bitte auswählen",null,"Sonstiger Betriebsbedarf",null,{"$f":"IF(Einstellungen!$H$31=Daten_Einstellg_Ziele!$E$20,H51,Wirtschaftsplan!H51+Wirtschaftsplan!H51*Szenarien!I$21)","v":0},{"$f":"IF(Einstellungen!$H$31=Daten_Einstellg_Ziele!$E$20,Wirtschaftsplan!M51,Wirtschaftsplan!M51+Wirtschaftsplan!M51*Szenarien!J$21)","v":0},{"$f":"IF(Einstellungen!$H$31=Daten_Einstellg_Ziele!$E$20,Wirtschaftsplan!N51,Wirtschaftsplan!N51+Wirtschaftsplan!N51*Szenarien!K$21)","v":0},{"$f":"IF(Einstellungen!$H$31=Daten_Einstellg_Ziele!$E$20,Wirtschaftsplan!O51,Wirtschaftsplan!O51+Wirtschaftsplan!O51*Szenarien!L$21)","v":0}]
[{"$nulls":5},"Fixkosten Vermögensverwaltung",null,null,"Bitte auswählen",null,"Fixkosten Vermögensverwaltung",null,{"$f":"IF(Einstellungen!$H$31=Daten_Einstellg_Ziele!$E$20,H52,Wirtschaftsplan!H52+Wirtschaftsplan!H52*Szenarien!I$21)","v":0},{"$f":"IF(Einstellungen!$H$31=Daten_Einstellg_Ziele!$E$20,Wirtschaftsplan!M52,Wirtschaftsplan!M52+Wirtschaftsplan!M52*Szenarien!J$21)","v":0},{"$f":"IF(Einstellungen!$H$31=Daten_Einstellg_Ziele!$E$20,Wirtschaftsplan!N52,Wirtschaftsplan!N52+Wirtschaftsplan!N52*Szenarien!K$21)","v":0},{"$f":"IF(Einstellungen!$H$31=Daten_Einstellg_Ziele!$E$20,Wirtschaftsplan!O52,Wirtschaftsplan!O52+Wirtschaftsplan!O52*Szenarien!L$21)","v":0}]
[{"$nulls":5},"Variable Kosten Vermögensverwaltung",{"$f":"'Daten Projektion'!N201","v":0},{"$f":"'Daten Projektion'!O201","v":0},"Diverse",null,"Variable Kosten Vermögensverwaltung",null,{"$f":"'Daten Projektion'!P201","v":0},{"$f":"'Daten Projektion'!Q201","v":0},{"$f":"'Daten Projektion'!R201","v":0},{"$f":"'Daten Projektion'!S201","v":0}]
[{"$nulls":5},"Summe",{"$f":"SUM(G27:G53)","v":0},{"$f":"SUM(H27:H53)","v":0},null,null,"Summe",null,{"$f":"SUM(M27:M53)","v":0},{"$f":"SUM(N27:N53)","v":0},{"$f":"SUM(O27:O53)","v":0},{"$f":"SUM(P27:P53)","v":0}]

{"sheet":"Umschichtung","index":23,"n_rows":40,"n_cols":18,"rows_kept":40}
{"$rows_empty":10}
[{"$nulls":9},"Anschaffung",{"$nulls":3},"Projektion Umschichtung",{"$nulls":3},"Lfd. Kosten"]
[null,"Legende",{"$nulls":3},"Nr.","Vermögensgegenstand neu","Anlageklasse","Umschichung gegen Bestand","Jahr","Wert EUR","Einmalige Kosten %","Kosten EUR","Wertverände-rung % p.a.","Nettoertrag % p.a.","Maxverlust % p.a.","Nachhaltigkeit/ EU-Taxonomie","% p.a."]
[null,"Pflichteingabe",{"$nulls":3},"U1",null,"Bitte auswählen",null,"Bitte auswählen",null,{"v":0,"d":"0.0%"},{"$f":"K13*L13","v":0},{"v":0,"d":"0.0%"},{"v":0,"d":"0.0%"},{"v":0,"d":"0.0%"},"Keine",{"v":0,"d":"0.0%"}]
[null,"Optionale Eingabe",{"$nulls":3},"U2",null,"Bitte auswählen",null,"Bitte auswählen",null,{"v":0,"d":"0.0%"},0,{"v":0,"d":"0.0%"},{"v":0,"d":"0.0%"},{"v":0,"d":"0.0%"},"Keine",{"v":0,"d":"0.0%"}]
[null,"Systemeingabe überschreibbar",{"$nulls":3},"U3",null,"Bitte auswählen",null,"Bitte auswählen",null,{"v":0,"d":"0.0%"},0,{"v":0,"d":"0.0%"},{"v":0,"d":"0.0%"},{"v":0,"d":"0.0%"},"Keine",{"v":0,"d":"0.0%"}]
[null,"Systemeingabe nicht überschreibbar",{"$nulls":3},"U4",null,"Bitte auswählen",null,"Bitte auswählen",null,{"v":0,"d":"0.0%"},0,{"v":0,"d":"0.0%"},{"v":0,"d":"0.0%"},{"v":0,"d":"0.0%"},"Keine",{"v":0,"d":"0.0%"}]
[null,"Weitere Infos im Hintergrund",{"$nulls":3},"U5",null,"Bitte auswählen",null,"Bitte auswählen",null,{"v":0,"d":"0.0%"},0,{"v":0,"d":"0.0%"},{"v":0,"d":"0.0%"},{"v":0,"d":"0.0%"},"Keine",{"v":0,"d":"0.0%"}]
[{"$nulls":5},"U6",null,"Bitte auswählen",null,"Bitte auswählen",null,{"v":0,"d":"0.0%"},0,{"v":0,"d":"0.0%"},{"v":0,"d":"0.0%"},{"v":0,"d":"0.0%"},"Keine",{"v":0,"d":"0.0%"}]
[{"$nulls":6},"Summe",{"$nulls":3},{"$f":"SUM(K13:K18)","v":0}]
[]
[]
[]
[]
[{"$nulls":6},"Zielerreichung im Jahr","Bitte auswählen",{"$nulls":3},"Abweichung"]
[null,"Gesamtvolumen Umschichtungen:",{"$nulls":4},"Datum des Umschichtungsbeschlusses",{"$nulls":4},"von "]
[null,{"$f":"SUM(K13:K18)","v":0},{"$nulls":4},"Der Umschichtungsbeschluss erfolgt","Bitte auswählen",{"$nulls":3},"Zielallokation"]
[null,"Dies entspricht"]
[null,{"$f":"B26/Vermögen!S61","v":{"$error":"#DIV/0!"}},{"$nulls":4},"Informationsgrundlagen","Typ","Bezeichnung","Datum"]
[null,"des Investitionsvermögens.",{"$nulls":5},"Bitte auswählen"]
[{"$nulls":7},"Bitte auswählen"]
[{"$nulls":7},"Bitte auswählen"]
[null,{"$f":"IF(Daten_Umschichtung!AA63>0,\"Umschichtungen > Bestand!\",\"\")","v":""},{"$nulls":5},"Bitte auswählen"]
[null,{"$f":"IF(Daten_Umschichtung!AA63>0,\"Eingaben in Spalte J prüfen.\",\"\")","v":""},{"$nulls":5},"Bitte auswählen"]
[{"$nulls":7},"Bitte auswählen"]
[{"$nulls":7},"Bitte auswählen"]
[{"$nulls":7},"Bitte auswählen"]
[]
[]
[]
[null,"Weiter zu"]

{"sheet":"Daten_Umschichtung","index":24,"n_rows":389,"n_cols":29,"rows_kept":389,"hidden":true}
["Datenblatt Umschichtung"]
[]
[null,null,"Vermögen Umschichtung",{"$nulls":17},"Umschichtgen. ges."]
[]
[null,"Nr.","Vermögensgegenstand","Anlageklasse",{"$f":"'Daten Projektion'!E12","v":"Aktien"},{"$f":"'Daten Projektion'!F12","v":"Anleihen"},{"$f":"'Daten Projektion'!G12","v":"Alternative Inv."},{"$f":"'Daten Projektion'!H12","v":"Rohstoffe"},{"$f":"'Daten Projektion'!I12","v":"Liquidität"},{"$f":"'Daten Projektion'!J12","v":"Immobilien"},{"$f":"'Daten Projektion'!K12","v":"Beteiligungen"},{"$f":"'Daten Projektion'!L12","v":"Sonst. Verm."},{"$f":"'Daten Projektion'!M12","v":"Verbindlichkeiten"},{"$f":"O5-1","v":2023},{"$f":"Einstellungen!G13","v":2024},{"$f":"O5+1","v":2025},{"$f":"P5+1","v":2026},{"$f":"Q5+1","v":2027},{"$f":"R5+1","v":2028},{"$nulls":3},"Umschichtungsverbot","Beschlussfassung","Informationsgrundlagen","Anschaffungsjahr"]
[null,{"$f":"Daten_Vermögen!A44","v":"1."},{"$f":"Daten_Vermögen!B44","v":0},{"$f":"Vermögen!I11","v":"Bitte auswählen"},{"$f":"'Daten Projektion'!E13","v":{"v":0,"d":"0.0%"}},{"$f":"'Daten Projektion'!F13","v":{"v":0,"d":"0.0%"}},{"$f":"'Daten Projektion'!G13","v":{"v":0,"d":"0.0%"}},{"$f":"'Daten Projektion'!H13","v":{"v":0,"d":"0.0%"}},{"$f":"'Daten Projektion'!I13","v":{"v":0,"d":"0.0%"}},{"$f":"'Daten Projektion'!J13","v":{"v":0,"d":"0.0%"}},{"$f":"'Daten Projektion'!K13","v":{"v":0,"d":"0.0%"}},{"$f":"'Daten Projektion'!L13","v":{"v":0,"d":"0.0%"}},{"$f":"'Daten Projektion'!M13","v":{"v":0,"d":"0.0%"}},{"$f":"'Daten Projektion'!N13-SUMIFS(Umschichtung!$K$13:$K$18,Umschichtung!$I$13:$I$18,Daten_Umschichtung!$C6,Umschichtung!$J$13:$J$18,Daten_Umschichtung!N$5)-SUMIFS(Umschichtung!$M$13:$M$18,Umschichtung!$I$13:$I$18,Daten_Umschichtung!$C6,Umschichtung!$J$13:$J$18,Daten_Umschichtung!N$5)","v":0},{"$f":"N6+N6*Vermögen!$V11-SUMIFS(Umschichtung!$K$13:$K$18,Umschichtung!$I$13:$I$18,Daten_Umschichtung!$C6,Umschichtung!$J$13:$J$18,Daten_Umschichtung!O$5)-SUMIFS(Umschichtung!$M$13:$M$18,Umschichtung!$I$13:$I$18,Daten_Umschichtung!$C6,Umschichtung!$J$13:$J$18,Daten_Umschichtung!O$5)","v":0},{"$f":"O6+O6*Vermögen!$V11-SUMIFS(Umschichtung!$K$13:$K$18,Umschichtung!$I$13:$I$18,Daten_Umschichtung!$C6,Umschichtung!$J$13:$J$18,Daten_Umschichtung!P$5)-SUMIFS(Umschichtung!$M$13:$M$18,Umschichtung!$I$13:$I$18,Daten_Umschichtung!$C6,Umschichtung!$J$13:$J$18,Daten_Umschichtung!P$5)","v":0},{"$f":"P6+P6*Vermögen!$V11-SUMIFS(Umschichtung!$K$13:$K$18,Umschichtung!$I$13:$I$18,Daten_Umschichtung!$C6,Umschichtung!$J$13:$J$18,Daten_Umschichtung!Q$5)-SUMIFS(Umschichtung!$M$13:$M$18,Umschichtung!$I$13:$I$18,Daten_Umschichtung!$C6,Umschichtung!$J$13:$J$18,Daten_Umschichtung!Q$5)","v":0},{"$f":"Q6+Q6*Vermögen!$V11-SUMIFS(Umschichtung!$K$13:$K$18,Umschichtung!$I$13:$I$18,Daten_Umschichtung!$C6,Umschichtung!$J$13:$J$18,Daten_Umschichtung!R$5)-SUMIFS(Umschichtung!$M$13:$M$18,Umschichtung!$I$13:$I$18,Daten_Umschichtung!$C6,Umschichtung!$J$13:$J$18,Daten_Umschichtung!R$5)","v":0},{"$f":"R6+R6*Vermögen!$V11-SUMIFS(Umschichtung!$K$13:$K$18,Umschichtung!$I$13:$I$18,Daten_Umschichtung!$C6,Umschichtung!$J$13:$J$18,Daten_Umschichtung!S$5)-SUMIFS(Umschichtung!$M$13:$M$18,Umschichtung!$I$13:$I$18,Daten_Umschichtung!$C6,Umschichtung!$J$13:$J$18,Daten_Umschichtung!S$5)","v":0},null,{"$f":"SUMIF(Umschichtung!$I$13:$I$18,Daten_Umschichtung!C6,Umschichtung!$K$13:$K$18)","v":0},null,{"$f":"IF(Vermögen!G11=\"Ja\",\"\",Vermögen!F11)","v":0},"Bitte auswählen","Bitte auswählen","Bitte auswählen"]
[null,{"$f":"Daten_Vermögen!A45","v":"2."},{"$f":"Daten_Vermögen!B45","v":0},{"$f":"Vermögen!I12","v":"Bitte auswählen"},{"$f":"'Daten Projektion'!E14","v":{"v":0,"d":"0.0%"}},{"$f":"'Daten Projektion'!F14","v":{"v":0,"d":"0.0%"}},{"$f":"'Daten Projektion'!G14","v":{"v":0,"d":"0.0%"}},{"$f":"'Daten Projektion'!H14","v":{"v":0,"d":"0.0%"}},{"$f":"'Daten Projektion'!I14","v":{"v":0,"d":"0.0%"}},{"$f":"'Daten Projektion'!J14","v":{"v":0,"d":"0.0%"}},{"$f":"'Daten Projektion'!K14","v":{"v":0,"d":"0.0%"}},{"$f":"'Daten Projektion'!L14","v":{"v":0,"d":"0.0%"}},{"$f":"'Daten Projektion'!M14","v":{"v":0,"d":"0.0%"}},{"$f":"'Daten Projektion'!N14-SUMIFS(Umschichtung!$K$13:$K$18,Umschichtung!$I$13:$I$18,Daten_Umschichtung!$C7,Umschichtung!$J$13:$J$18,Daten_Umschichtung!N$5)-SUMIFS(Umschichtung!$M$13:$M$18,Umschichtung!$I$13:$I$18,Daten_Umschichtung!$C7,Umschichtung!$J$13:$J$18,Daten_Umschichtung!N$5)","v":0},{"$f":"N7+N7*Vermögen!$V12-SUMIFS(Umschichtung!$K$13:$K$18,Umschichtung!$I$13:$I$18,Daten_Umschichtung!$C7,Umschichtung!$J$13:$J$18,Daten_Umschichtung!O$5)-SUMIFS(Umschichtung!$M$13:$M$18,Umschichtung!$I$13:$I$18,Daten_Umschichtung!$C7,Umschichtung!$J$13:$J$18,Daten_Umschichtung!O$5)","v":0},{"$f":"O7+O7*Vermögen!$V12-SUMIFS(Umschichtung!$K$13:$K$18,Umschichtung!$I$13:$I$18,Daten_Umschichtung!$C7,Umschichtung!$J$13:$J$18,Daten_Umschichtung!P$5)-SUMIFS(Umschichtung!$M$13:$M$18,Umschichtung!$I$13:$I$18,Daten_Umschichtung!$C7,Umschichtung!$J$13:$J$18,Daten_Umschichtung!P$5)","v":0},{"$f":"P7+P7*Vermögen!$V12-SUMIFS(Umschichtung!$K$13:$K$18,Umschichtung!$I$13:$I$18,Daten_Umschichtung!$C7,Umschichtung!$J$13:$J$18,Daten_Umschichtung!Q$5)-SUMIFS(Umschichtung!$M$13:$M$18,Umschichtung!$I$13:$I$18,Daten_Umschichtung!$C7,Umschichtung!$J$13:$J$18,Daten_Umschichtung!Q$5)","v":0},{"$f":"Q7+Q7*Vermögen!$V12-SUMIFS(Umschichtung!$K$13:$K$18,Umschichtung!$I$13:$I$18,Daten_Umschichtung!$C7,Umschichtung!$J$13:$J$18,Daten_Umschichtung!R$5)-SUMIFS(Umschichtung!$M$13:$M$18,Umschichtung!$I$13:$I$18,Daten_Umschichtung!$C7,Umschichtung!$J$13:$J$18,Daten_Umschichtung!R$5)","v":0},{"$f":"R7+R7*Vermögen!$V12-SUMIFS(Umschichtung!$K$13:$K$18,Umschichtung!$I$13:$I$18,Daten_Umschichtung!$C7,Umschichtung!$J$13:$J$18,Daten_Umschichtung!S$5)-SUMIFS(Umschichtung!$M$13:$M$18,Umschichtung!$I$13:$I$18,Daten_Umschichtung!$C7,Umschichtung!$J$13:$J$18,Daten_Umschichtung!S$5)","v":0},null,{"$f":"SUMIF(Umschichtung!$I$13:$I$18,Daten_Umschichtung!C7,Umschichtung!$K$13:$K$18)","v":0},null,{"$f":"IF(Vermögen!G12=\"Ja\",\"\",Vermögen!F12)","v":0},"in persönlicher Abstimmung","Beratungsgespräch",{"$f":"N5","v":2023}]
[null,{"$f":"Daten_Vermögen!A46","v":"3."},{"$f":"Daten_Vermögen!B46","v":0},{"$f":"Vermögen!I13","v":"Bitte auswählen"},{"$f":"'Daten Projektion'!E15","v":{"v":0,"d":"0.0%"}},{"$f":"'Daten Projektion'!F15","v":{"v":0,"d":"0.0%"}},{"$f":"'Daten Projektion'!G15","v":{"v":0,"d":"0.0%"}},{"$f":"'Daten Projektion'!H15","v":{"v":0,"d":"0.0%"}},{"$f":"'Daten Projektion'!I15","v":{"v":0,"d":"0.0%"}},{"$f":"'Daten Projektion'!J15","v":{"v":0,"d":"0.0%"}},{"$f":"'Daten Projektion'!K15","v":{"v":0,"d":"0.0%"}},{"$f":"'Daten Projektion'!L15","v":{"v":0,"d":"0.0%"}},{"$f":"'Daten Projektion'!M15","v":{"v":0,"d":"0.0%"}},{"$f":"'Daten Projektion'!N15-SUMIFS(Umschichtung!$K$13:$K$18,Umschichtung!$I$13:$I$18,Daten_Umschichtung!$C8,Umschichtung!$J$13:$J$18,Daten_Umschichtung!N$5)-SUMIFS(Umschichtung!$M$13:$M$18,Umschichtung!$I$13:$I$18,Daten_Umschichtung!$C8,Umschichtung!$J$13:$J$18,Daten_Umschichtung!N$5)","v":0},{"$f":"N8+N8*Vermögen!$V13-SUMIFS(Umschichtung!$K$13:$K$18,Umschichtung!$I$13:$I$18,Daten_Umschichtung!$C8,Umschichtung!$J$13:$J$18,Daten_Umschichtung!O$5)-SUMIFS(Umschichtung!$M$13:$M$18,Umschichtung!$I$13:$I$18,Daten_Umschichtung!$C8,Umschichtung!$J$13:$J$18,Daten_Umschichtung!O$5)","v":0},{"$f":"O8+O8*Vermögen!$V13-SUMIFS(Umschichtung!$K$13:$K$18,Umschichtung!$I$13:$I$18,Daten_Umschichtung!$C8,Umschichtung!$J$13:$J$18,Daten_Umschichtung!P$5)-SUMIFS(Umschichtung!$M$13:$M$18,Umschichtung!$I$13:$I$18,Daten_Umschichtung!$C8,Umschichtung!$J$13:$J$18,Daten_Umschichtung!P$5)","v":0},{"$f":"P8+P8*Vermögen!$V13-SUMIFS(Umschichtung!$K$13:$K$18,Umschichtung!$I$13:$I$18,Daten_Umschichtung!$C8,Umschichtung!$J$13:$J$18,Daten_Umschichtung!Q$5)-SUMIFS(Umschichtung!$M$13:$M$18,Umschichtung!$I$13:$I$18,Daten_Umschichtung!$C8,Umschichtung!$J$13:$J$18,Daten_Umschichtung!Q$5)","v":0},{"$f":"Q8+Q8*Vermögen!$V13-SUMIFS(Umschichtung!$K$13:$K$18,Umschichtung!$I$13:$I$18,Daten_Umschichtung!$C8,Umschichtung!$J$13:$J$18,Daten_Umschichtung!R$5)-SUMIFS(Umschichtung!$M$13:$M$18,Umschichtung!$I$13:$I$18,Daten_Umschichtung!$C8,Umschichtung!$J$13:$J$18,Daten_Umschichtung!R$5)","v":0},{"$f":"R8+R8*Vermögen!$V13-SUMIFS(Umschichtung!$K$13:$K$18,Umschichtung!$I$13:$I$18,Daten_Umschichtung!$C8,Umschichtung!$J$13:$J$18,Daten_Umschichtung!S$5)-SUMIFS(Umschichtung!$M$13:$M$18,Umschichtung!$I$13:$I$18,Daten_Umschichtung!$C8,Umschichtung!$J$13:$J$18,Daten_Umschichtung!S$5)","v":0},null,{"$f":"SUMIF(Umschichtung!$I$13:$I$18,Daten_Umschichtung!C8,Umschichtung!$K$13:$K$18)","v":0},null,{"$f":"IF(Vermögen!G13=\"Ja\",\"\",Vermögen!F13)","v":0},"im Umlaufverfahren","Geeignetheitserklärung",{"$f":"O5","v":2024}]
[null,{"$f":"Daten_Vermögen!A47","v":"4."},{"$f":"Daten_Vermögen!B47","v":0},{"$f":"Vermögen!I14","v":"Bitte auswählen"},{"$f":"'Daten Projektion'!E16","v":{"v":0,"d":"0.0%"}},{"$f":"'Daten Projektion'!F16","v":{"v":0,"d":"0.0%"}},{"$f":"'Daten Projektion'!G16","v":{"v":0,"d":"0.0%"}},{"$f":"'Daten Projektion'!H16","v":{"v":0,"d":"0.0%"}},{"$f":"'Daten Projektion'!I16","v":{"v":0,"d":"0.0%"}},{"$f":"'Daten Projektion'!J16","v":{"v":0,"d":"0.0%"}},{"$f":"'Daten Projektion'!K16","v":{"v":0,"d":"0.0%"}},{"$f":"'Daten Projektion'!L16","v":{"v":0,"d":"0.0%"}},{"$f":"'Daten Projektion'!M16","v":{"v":0,"d":"0.0%"}},{"$f":"'Daten Projektion'!N16-SUMIFS(Umschichtung!$K$13:$K$18,Umschichtung!$I$13:$I$18,Daten_Umschichtung!$C9,Umschichtung!$J$13:$J$18,Daten_Umschichtung!N$5)-SUMIFS(Umschichtung!$M$13:$M$18,Umschichtung!$I$13:$I$18,Daten_Umschichtung!$C9,Umschichtung!$J$13:$J$18,Daten_Umschichtung!N$5)","v":0},{"$f":"N9+N9*Vermögen!$V14-SUMIFS(Umschichtung!$K$13:$K$18,Umschichtung!$I$13:$I$18,Daten_Umschichtung!$C9,Umschichtung!$J$13:$J$18,Daten_Umschichtung!O$5)-SUMIFS(Umschichtung!$M$13:$M$18,Umschichtung!$I$13:$I$18,Daten_Umschichtung!$C9,Umschichtung!$J$13:$J$18,Daten_Umschichtung!O$5)","v":0},{"$f":"O9+O9*Vermögen!$V14-SUMIFS(Umschichtung!$K$13:$K$18,Umschichtung!$I$13:$I$18,Daten_Umschichtung!$C9,Umschichtung!$J$13:$J$18,Daten_Umschichtung!P$5)-SUMIFS(Umschichtung!$M$13:$M$18,Umschichtung!$I$13:$I$18,Daten_Umschichtung!$C9,Umschichtung!$J$13:$J$18,Daten_Umschichtung!P$5)","v":0},{"$f":"P9+P9*Vermögen!$V14-SUMIFS(Umschichtung!$K$13:$K$18,Umschichtung!$I$13:$I$18,Daten_Umschichtung!$C9,Umschichtung!$J$13:$J$18,Daten_Umschichtung!Q$5)-SUMIFS(Umschichtung!$M$13:$M$18,Umschichtung!$I$13:$I$18,Daten_Umschichtung!$C9,Umschichtung!$J$13:$J$18,Daten_Umschichtung!Q$5)","v":0},{"$f":"Q9+Q9*Vermögen!$V14-SUMIFS(Umschichtung!$K$13:$K$18,Umschichtung!$I$13:$I$18,Daten_Umschichtung!$C9,Umschichtung!$J$13:$J$18,Daten_Umschichtung!R$5)-SUMIFS(Umschichtung!$M$13:$M$18,Umschichtung!$I$13:$I$18,Daten_Umschichtung!$C9,Umschichtung!$J$13:$J$18,Daten_Umschichtung!R$5)","v":0},{"$f":"R9+R9*Vermögen!$V14-SUMIFS(Umschichtung!$K$13:$K$18,Umschichtung!$I$13:$I$18,Daten_Umschichtung!$C9,Umschichtung!$J$13:$J$18,Daten_Umschichtung!S$5)-SUMIFS(Umschichtung!$M$13:$M$18,Umschichtung!$I$13:$I$18,Daten_Umschichtung!$C9,Umschichtung!$J$13:$J$18,Daten_Umschichtung!S$5)","v":0},null,{"$f":"SUMIF(Umschichtung!$I$13:$I$18,Daten_Umschichtung!C9,Umschichtung!$K$13:$K$18)","v":0},null,{"$f":"IF(Vermögen!G14=\"Ja\",\"\",Vermögen!F14)","v":0},null,"Produktinformationsblatt",{"$f":"P5","v":2025}]
[null,{"$f":"Daten_Vermögen!A48","v":"5."},{"$f":"Daten_Vermögen!B48","v":0},{"$f":"Vermögen!I15","v":"Bitte auswählen"},{"$f":"'Daten Projektion'!E17","v":{"v":0,"d":"0.0%"}},{"$f":"'Daten Projektion'!F17","v":{"v":0,"d":"0.0%"}},{"$f":"'Daten Projektion'!G17","v":{"v":0,"d":"0.0%"}},{"$f":"'Daten Projektion'!H17","v":{"v":0,"d":"0.0%"}},{"$f":"'Daten Projektion'!I17","v":{"v":0,"d":"0.0%"}},{"$f":"'Daten Projektion'!J17","v":{"v":0,"d":"0.0%"}},{"$f":"'Daten Projektion'!K17","v":{"v":0,"d":"0.0%"}},{"$f":"'Daten Projektion'!L17","v":{"v":0,"d":"0.0%"}},{"$f":"'Daten Projektion'!M17","v":{"v":0,"d":"0.0%"}},{"$f":"'Daten Projektion'!N17-SUMIFS(Umschichtung!$K$13:$K$18,Umschichtung!$I$13:$I$18,Daten_Umschichtung!$C10,Umschichtung!$J$13:$J$18,Daten_Umschichtung!N$5)-SUMIFS(Umschichtung!$M$13:$M$18,Umschichtung!$I$13:$I$18,Daten_Umschichtung!$C10,Umschichtung!$J$13:$J$18,Daten_Umschichtung!N$5)","v":0},{"$f":"N10+N10*Vermögen!$V15-SUMIFS(Umschichtung!$K$13:$K$18,Umschichtung!$I$13:$I$18,Daten_Umschichtung!$C10,Umschichtung!$J$13:$J$18,Daten_Umschichtung!O$5)-SUMIFS(Umschichtung!$M$13:$M$18,Umschichtung!$I$13:$I$18,Daten_Umschichtung!$C10,Umschichtung!$J$13:$J$18,Daten_Umschichtung!O$5)","v":0},{"$f":"O10+O10*Vermögen!$V15-SUMIFS(Umschichtung!$K$13:$K$18,Umschichtung!$I$13:$I$18,Daten_Umschichtung!$C10,Umschichtung!$J$13:$J$18,Daten_Umschichtung!P$5)-SUMIFS(Umschichtung!$M$13:$M$18,Umschichtung!$I$13:$I$18,Daten_Umschichtung!$C10,Umschichtung!$J$13:$J$18,Daten_Umschichtung!P$5)","v":0},{"$f":"P10+P10*Vermögen!$V15-SUMIFS(Umschichtung!$K$13:$K$18,Umschichtung!$I$13:$I$18,Daten_Umschichtung!$C10,Umschichtung!$J$13:$J$18,Daten_Umschichtung!Q$5)-SUMIFS(Umschichtung!$M$13:$M$18,Umschichtung!$I$13:$I$18,Daten_Umschichtung!$C10,Umschichtung!$J$13:$J$18,Daten_Umschichtung!Q$5)","v":0},{"$f":"Q10+Q10*Vermögen!$V15-SUMIFS(Umschichtung!$K$13:$K$18,Umschichtung!$I$13:$I$18,Daten_Umschichtung!$C10,Umschichtung!$J$13:$J$18,Daten_Umschichtung!R$5)-SUMIFS(Umschichtung!$M$13:$M$18,Umschichtung!$I$13:$I$18,Daten_Umschichtung!$C10,Umschichtung!$J$13:$J$18,Daten_Umschichtung!R$5)","v":0},{"$f":"R10+R10*Vermögen!$V15-SUMIFS(Umschichtung!$K$13:$K$18,Umschichtung!$I$13:$I$18,Daten_Umschichtung!$C10,Umschichtung!$J$13:$J$18,Daten_Umschichtung!S$5)-SUMIFS(Umschichtung!$M$13:$M$18,Umschichtung!$I$13:$I$18,Daten_Umschichtung!$C10,Umschichtung!$J$13:$J$18,Daten_Umschichtung!S$5)","v":0},null,{"$f":"SUMIF(Umschichtung!$I$13:$I$18,Daten_Umschichtung!C10,Umschichtung!$K$13:$K$18)","v":0},null,{"$f":"IF(Vermögen!G15=\"Ja\",\"\",Vermögen!F15)","v":0},null,"Verkaufsprospekt",{"$f":"Q5","v":2026}]
[null,{"$f":"Daten_Vermögen!A49","v":"6."},{"$f":"Daten_Vermögen!B49","v":0},{"$f":"Vermögen!I16","v":"Bitte auswählen"},{"$f":"'Daten Projektion'!E18","v":{"v":0,"d":"0.0%"}},{"$f":"'Daten Projektion'!F18","v":{"v":0,"d":"0.0%"}},{"$f":"'Daten Projektion'!G18","v":{"v":0,"d":"0.0%"}},{"$f":"'Daten Projektion'!H18","v":{"v":0,"d":"0.0%"}},{"$f":"'Daten Projektion'!I18","v":{"v":0,"d":"0.0%"}},{"$f":"'Daten Projektion'!J18","v":{"v":0,"d":"0.0%"}},{"$f":"'Daten Projektion'!K18","v":{"v":0,"d":"0.0%"}},{"$f":"'Daten Projektion'!L18","v":{"v":0,"d":"0.0%"}},{"$f":"'Daten Projektion'!M18","v":{"v":0,"d":"0.0%"}},{"$f":"'Daten Projektion'!N18-SUMIFS(Umschichtung!$K$13:$K$18,Umschichtung!$I$13:$I$18,Daten_Umschichtung!$C11,Umschichtung!$J$13:$J$18,Daten_Umschichtung!N$5)-SUMIFS(Umschichtung!$M$13:$M$18,Umschichtung!$I$13:$I$18,Daten_Umschichtung!$C11,Umschichtung!$J$13:$J$18,Daten_Umschichtung!N$5)","v":0},{"$f":"N11+N11*Vermögen!$V16-SUMIFS(Umschichtung!$K$13:$K$18,Umschichtung!$I$13:$I$18,Daten_Umschichtung!$C11,Umschichtung!$J$13:$J$18,Daten_Umschichtung!O$5)-SUMIFS(Umschichtung!$M$13:$M$18,Umschichtung!$I$13:$I$18,Daten_Umschichtung!$C11,Umschichtung!$J$13:$J$18,Daten_Umschichtung!O$5)","v":0},{"$f":"O11+O11*Vermögen!$V16-SUMIFS(Umschichtung!$K$13:$K$18,Umschichtung!$I$13:$I$18,Daten_Umschichtung!$C11,Umschichtung!$J$13:$J$18,Daten_Umschichtung!P$5)-SUMIFS(Umschichtung!$M$13:$M$18,Umschichtung!$I$13:$I$18,Daten_Umschichtung!$C11,Umschichtung!$J$13:$J$18,Daten_Umschichtung!P$5)","v":0},{"$f":"P11+P11*Vermögen!$V16-SUMIFS(Umschichtung!$K$13:$K$18,Umschichtung!$I$13:$I$18,Daten_Umschichtung!$C11,Umschichtung!$J$13:$J$18,Daten_Umschichtung!Q$5)-SUMIFS(Umschichtung!$M$13:$M$18,Umschichtung!$I$13:$I$18,Daten_Umschichtung!$C11,Umschichtung!$J$13:$J$18,Daten_Umschichtung!Q$5)","v":0},{"$f":"Q11+Q11*Vermögen!$V16-SUMIFS(Umschichtung!$K$13:$K$18,Umschichtung!$I$13:$I$18,Daten_Umschichtung!$C11,Umschichtung!$J$13:$J$18,Daten_Umschichtung!R$5)-SUMIFS(Umschichtung!$M$13:$M$18,Umschichtung!$I$13:$I$18,Daten_Umschichtung!$C11,Umschichtung!$J$13:$J$18,Daten_Umschichtung!R$5)","v":0},{"$f":"R11+R11*Vermögen!$V16-SUMIFS(Umschichtung!$K$13:$K$18,Umschichtung!$I$13:$I$18,Daten_Umschichtung!$C11,Umschichtung!$J$13:$J$18,Daten_Umschichtung!S$5)-SUMIFS(Umschichtung!$M$13:$M$18,Umschichtung!$I$13:$I$18,Daten_Umschichtung!$C11,Umschichtung!$J$13:$J$18,Daten_Umschichtung!S$5)","v":0},null,{"$f":"SUMIF(Umschichtung!$I$13:$I$18,Daten_Umschichtung!C11,Umschichtung!$K$13:$K$18)","v":0},null,{"$f":"IF(Vermögen!G16=\"Ja\",\"\",Vermögen!F16)","v":0},null,"Informationsveranstaltung vom",{"$f":"R5","v":2027}]
[null,{"$f":"Daten_Vermögen!A50","v":"7."},{"$f":"Daten_Vermögen!B50","v":0},{"$f":"Vermögen!I17","v":"Bitte auswählen"},{"$f":"'Daten Projektion'!E19","v":{"v":0,"d":"0.0%"}},{"$f":"'Daten Projektion'!F19","v":{"v":0,"d":"0.0%"}},{"$f":"'Daten Projektion'!G19","v":{"v":0,"d":"0.0%"}},{"$f":"'Daten Projektion'!H19","v":{"v":0,"d":"0.0%"}},{"$f":"'Daten Projektion'!I19","v":{"v":0,"d":"0.0%"}},{"$f":"'Daten Projektion'!J19","v":{"v":0,"d":"0.0%"}},{"$f":"'Daten Projektion'!K19","v":{"v":0,"d":"0.0%"}},{"$f":"'Daten Projektion'!L19","v":{"v":0,"d":"0.0%"}},{"$f":"'Daten Projektion'!M19","v":{"v":0,"d":"0.0%"}},{"$f":"'Daten Projektion'!N19-SUMIFS(Umschichtung!$K$13:$K$18,Umschichtung!$I$13:$I$18,Daten_Umschichtung!$C12,Umschichtung!$J$13:$J$18,Daten_Umschichtung!N$5)-SUMIFS(Umschichtung!$M$13:$M$18,Umschichtung!$I$13:$I$18,Daten_Umschichtung!$C12,Umschichtung!$J$13:$J$18,Daten_Umschichtung!N$5)","v":0},{"$f":"N12+N12*Vermögen!$V17-SUMIFS(Umschichtung!$K$13:$K$18,Umschichtung!$I$13:$I$18,Daten_Umschichtung!$C12,Umschichtung!$J$13:$J$18,Daten_Umschichtung!O$5)-SUMIFS(Umschichtung!$M$13:$M$18,Umschichtung!$I$13:$I$18,Daten_Umschichtung!$C12,Umschichtung!$J$13:$J$18,Daten_Umschichtung!O$5)","v":0},{"$f":"O12+O12*Vermögen!$V17-SUMIFS(Umschichtung!$K$13:$K$18,Umschichtung!$I$13:$I$18,Daten_Umschichtung!$C12,Umschichtung!$J$13:$J$18,Daten_Umschichtung!P$5)-SUMIFS(Umschichtung!$M$13:$M$18,Umschichtung!$I$13:$I$18,Daten_Umschichtung!$C12,Umschichtung!$J$13:$J$18,Daten_Umschichtung!P$5)","v":0},{"$f":"P12+P12*Vermögen!$V17-SUMIFS(Umschichtung!$K$13:$K$18,Umschichtung!$I$13:$I$18,Daten_Umschichtung!$C12,Umschichtung!$J$13:$J$18,Daten_Umschichtung!Q$5)-SUMIFS(Umschichtung!$M$13:$M$18,Umschichtung!$I$13:$I$18,Daten_Umschichtung!$C12,Umschichtung!$J$13:$J$18,Daten_Umschichtung!Q$5)","v":0},{"$f":"Q12+Q12*Vermögen!$V17-SUMIFS(Umschichtung!$K$13:$K$18,Umschichtung!$I$13:$I$18,Daten_Umschichtung!$C12,Umschichtung!$J$13:$J$18,Daten_Umschichtung!R$5)-SUMIFS(Umschichtung!$M$13:$M$18,Umschichtung!$I$13:$I$18,Daten_Umschichtung!$C12,Umschichtung!$J$13:$J$18,Daten_Umschichtung!R$5)","v":0},{"$f":"R12+R12*Vermögen!$V17-SUMIFS(Umschichtung!$K$13:$K$18,Umschichtung!$I$13:$I$18,Daten_Umschichtung!$C12,Umschichtung!$J$13:$J$18,Daten_Umschichtung!S$5)-SUMIFS(Umschichtung!$M$13:$M$18,Umschichtung!$I$13:$I$18,Daten_Umschichtung!$C12,Umschichtung!$J$13:$J$18,Daten_Umschichtung!S$5)","v":0},null,{"$f":"SUMIF(Umschichtung!$I$13:$I$18,Daten_Umschichtung!C12,Umschichtung!$K$13:$K$18)","v":0},null,{"$f":"IF(Vermögen!G17=\"Ja\",\"\",Vermögen!F17)","v":0},null,"Presseartikel",{"$f":"S5","v":2028}]
[null,{"$f":"Daten_Vermögen!A51","v":"8."},{"$f":"Daten_Vermögen!B51","v":0},{"$f":"Vermögen!I18","v":"Bitte auswählen"},{"$f":"'Daten Projektion'!E20","v":{"v":0,"d":"0.0%"}},{"$f":"'Daten Projektion'!F20","v":{"v":0,"d":"0.0%"}},{"$f":"'Daten Projektion'!G20","v":{"v":0,"d":"0.0%"}},{"$f":"'Daten Projektion'!H20","v":{"v":0,"d":"0.0%"}},{"$f":"'Daten Projektion'!I20","v":{"v":0,"d":"0.0%"}},{"$f":"'Daten Projektion'!J20","v":{"v":0,"d":"0.0%"}},{"$f":"'Daten Projektion'!K20","v":{"v":0,"d":"0.0%"}},{"$f":"'Daten Projektion'!L20","v":{"v":0,"d":"0.0%"}},{"$f":"'Daten Projektion'!M20","v":{"v":0,"d":"0.0%"}},{"$f":"'Daten Projektion'!N20-SUMIFS(Umschichtung!$K$13:$K$18,Umschichtung!$I$13:$I$18,Daten_Umschichtung!$C13,Umschichtung!$J$13:$J$18,Daten_Umschichtung!N$5)-SUMIFS(Umschichtung!$M$13:$M$18,Umschichtung!$I$13:$I$18,Daten_Umschichtung!$C13,Umschichtung!$J$13:$J$18,Daten_Umschichtung!N$5)","v":0},{"$f":"N13+N13*Vermögen!$V18-SUMIFS(Umschichtung!$K$13:$K$18,Umschichtung!$I$13:$I$18,Daten_Umschichtung!$C13,Umschichtung!$J$13:$J$18,Daten_Umschichtung!O$5)-SUMIFS(Umschichtung!$M$13:$M$18,Umschichtung!$I$13:$I$18,Daten_Umschichtung!$C13,Umschichtung!$J$13:$J$18,Daten_Umschichtung!O$5)","v":0},{"$f":"O13+O13*Vermögen!$V18-SUMIFS(Umschichtung!$K$13:$K$18,Umschichtung!$I$13:$I$18,Daten_Umschichtung!$C13,Umschichtung!$J$13:$J$18,Daten_Umschichtung!P$5)-SUMIFS(Umschichtung!$M$13:$M$18,Umschichtung!$I$13:$I$18,Daten_Umschichtung!$C13,Umschichtung!$J$13:$J$18,Daten_Umschichtung!P$5)","v":0},{"$f":"P13+P13*Vermögen!$V18-SUMIFS(Umschichtung!$K$13:$K$18,Umschichtung!$I$13:$I$18,Daten_Umschichtung!$C13,Umschichtung!$J$13:$J$18,Daten_Umschichtung!Q$5)-SUMIFS(Umschichtung!$M$13:$M$18,Umschichtung!$I$13:$I$18,Daten_Umschichtung!$C13,Umschichtung!$J$13:$J$18,Daten_Umschichtung!Q$5)","v":0},{"$f":"Q13+Q13*Vermögen!$V18-SUMIFS(Umschichtung!$K$13:$K$18,Umschichtung!$I$13:$I$18,Daten_Umschichtung!$C13,Umschichtung!$J$13:$J$18,Daten_Umschichtung!R$5)-SUMIFS(Umschichtung!$M$13:$M$18,Umschichtung!$I$13:$I$18,Daten_Umschichtung!$C13,Umschichtung!$J$13:$J$18,Daten_Umschichtung!R$5)","v":0},{"$f":"R13+R13*Vermögen!$V18-SUMIFS(Umschichtung!$K$13:$K$18,Umschichtung!$I$13:$I$18,Daten_Umschichtung!$C13,Umschichtung!$J$13:$J$18,Daten_Umschichtung!S$5)-SUMIFS(Umschichtung!$M$13:$M$18,Umschichtung!$I$13:$I$18,Daten_Umschichtung!$C13,Umschichtung!$J$13:$J$18,Daten_Umschichtung!S$5)","v":0},null,{"$f":"SUMIF(Umschichtung!$I$13:$I$18,Daten_Umschichtung!C13,Umschichtung!$K$13:$K$18)","v":0},null,{"$f":"IF(Vermögen!G18=\"Ja\",\"\",Vermögen!F18)","v":0},null,"Fachmedium"]
[null,{"$f":"Daten_Vermögen!A52","v":"9."},{"$f":"Daten_Vermögen!B52","v":0},{"$f":"Vermögen!I19","v":"Bitte auswählen"},{"$f":"'Daten Projektion'!E21","v":{"v":0,"d":"0.0%"}},{"$f":"'Daten Projektion'!F21","v":{"v":0,"d":"0.0%"}},{"$f":"'Daten Projektion'!G21","v":{"v":0,"d":"0.0%"}},{"$f":"'Daten Projektion'!H21","v":{"v":0,"d":"0.0%"}},{"$f":"'Daten Projektion'!I21","v":{"v":0,"d":"0.0%"}},{"$f":"'Daten Projektion'!J21","v":{"v":0,"d":"0.0%"}},{"$f":"'Daten Projektion'!K21","v":{"v":0,"d":"0.0%"}},{"$f":"'Daten Projektion'!L21","v":{"v":0,"d":"0.0%"}},{"$f":"'Daten Projektion'!M21","v":{"v":0,"d":"0.0%"}},{"$f":"'Daten Projektion'!N21-SUMIFS(Umschichtung!$K$13:$K$18,Umschichtung!$I$13:$I$18,Daten_Umschichtung!$C14,Umschichtung!$J$13:$J$18,Daten_Umschichtung!N$5)-SUMIFS(Umschichtung!$M$13:$M$18,Umschichtung!$I$13:$I$18,Daten_Umschichtung!$C14,Umschichtung!$J$13:$J$18,Daten_Umschichtung!N$5)","v":0},{"$f":"N14+N14*Vermögen!$V19-SUMIFS(Umschichtung!$K$13:$K$18,Umschichtung!$I$13:$I$18,Daten_Umschichtung!$C14,Umschichtung!$J$13:$J$18,Daten_Umschichtung!O$5)-SUMIFS(Umschichtung!$M$13:$M$18,Umschichtung!$I$13:$I$18,Daten_Umschichtung!$C14,Umschichtung!$J$13:$J$18,Daten_Umschichtung!O$5)","v":0},{"$f":"O14+O14*Vermögen!$V19-SUMIFS(Umschichtung!$K$13:$K$18,Umschichtung!$I$13:$I$18,Daten_Umschichtung!$C14,Umschichtung!$J$13:$J$18,Daten_Umschichtung!P$5)-SUMIFS(Umschichtung!$M$13:$M$18,Umschichtung!$I$13:$I$18,Daten_Umschichtung!$C14,Umschichtung!$J$13:$J$18,Daten_Umschichtung!P$5)","v":0},{"$f":"P14+P14*Vermögen!$V19-SUMIFS(Umschichtung!$K$13:$K$18,Umschichtung!$I$13:$I$18,Daten_Umschichtung!$C14,Umschichtung!$J$13:$J$18,Daten_Umschichtung!Q$5)-SUMIFS(Umschichtung!$M$13:$M$18,Umschichtung!$I$13:$I$18,Daten_Umschichtung!$C14,Umschichtung!$J$13:$J$18,Daten_Umschichtung!Q$5)","v":0},{"$f":"Q14+Q14*Vermögen!$V19-SUMIFS(Umschichtung!$K$13:$K$18,Umschichtung!$I$13:$I$18,Daten_Umschichtung!$C14,Umschichtung!$J$13:$J$18,Daten_Umschichtung!R$5)-SUMIFS(Umschichtung!$M$13:$M$18,Umschichtung!$I$13:$I$18,Daten_Umschichtung!$C14,Umschichtung!$J$13:$J$18,Daten_Umschichtung!R$5)","v":0},{"$f":"R14+R14*Vermögen!$V19-SUMIFS(Umschichtung!$K$13:$K$18,Umschichtung!$I$13:$I$18,Daten_Umschichtung!$C14,Umschichtung!$J$13:$J$18,Daten_Umschichtung!S$5)-SUMIFS(Umschichtung!$M$13:$M$18,Umschichtung!$I$13:$I$18,Daten_Umschichtung!$C14,Umschichtung!$J$13:$J$18,Daten_Umschichtung!S$5)","v":0},null,{"$f":"SUMIF(Umschichtung!$I$13:$I$18,Daten_Umschichtung!C14,Umschichtung!$K$13:$K$18)","v":0},null,{"$f":"IF(Vermögen!G19=\"Ja\",\"\",Vermögen!F19)","v":0},null,"Sonstiges"]
[null,{"$f":"Daten_Vermögen!A53","v":"10."},{"$f":"Daten_Vermögen!B53","v":0},{"$f":"Vermögen!I20","v":"Bitte auswählen"},{"$f":"'Daten Projektion'!E22","v":{"v":0,"d":"0.0%"}},{"$f":"'Daten Projektion'!F22","v":{"v":0,"d":"0.0%"}},{"$f":"'Daten Projektion'!G22","v":{"v":0,"d":"0.0%"}},{"$f":"'Daten Projektion'!H22","v":{"v":0,"d":"0.0%"}},{"$f":"'Daten Projektion'!I22","v":{"v":0,"d":"0.0%"}},{"$f":"'Daten Projektion'!J22","v":{"v":0,"d":"0.0%"}},{"$f":"'Daten Projektion'!K22","v":{"v":0,"d":"0.0%"}},{"$f":"'Daten Projektion'!L22","v":{"v":0,"d":"0.0%"}},{"$f":"'Daten Projektion'!M22","v":{"v":0,"d":"0.0%"}},{"$f":"'Daten Projektion'!N22-SUMIFS(Umschichtung!$K$13:$K$18,Umschichtung!$I$13:$I$18,Daten_Umschichtung!$C15,Umschichtung!$J$13:$J$18,Daten_Umschichtung!N$5)-SUMIFS(Umschichtung!$M$13:$M$18,Umschichtung!$I$13:$I$18,Daten_Umschichtung!$C15,Umschichtung!$J$13:$J$18,Daten_Umschichtung!N$5)","v":0},{"$f":"N15+N15*Vermögen!$V20-SUMIFS(Umschichtung!$K$13:$K$18,Umschichtung!$I$13:$I$18,Daten_Umschichtung!$C15,Umschichtung!$J$13:$J$18,Daten_Umschichtung!O$5)-SUMIFS(Umschichtung!$M$13:$M$18,Umschichtung!$I$13:$I$18,Daten_Umschichtung!$C15,Umschichtung!$J$13:$J$18,Daten_Umschichtung!O$5)","v":0},{"$f":"O15+O15*Vermögen!$V20-SUMIFS(Umschichtung!$K$13:$K$18,Umschichtung!$I$13:$I$18,Daten_Umschichtung!$C15,Umschichtung!$J$13:$J$18,Daten_Umschichtung!P$5)-SUMIFS(Umschichtung!$M$13:$M$18,Umschichtung!$I$13:$I$18,Daten_Umschichtung!$C15,Umschichtung!$J$13:$J$18,Daten_Umschichtung!P$5)","v":0},{"$f":"P15+P15*Vermögen!$V20-SUMIFS(Umschichtung!$K$13:$K$18,Umschichtung!$I$13:$I$18,Daten_Umschichtung!$C15,Umschichtung!$J$13:$J$18,Daten_Umschichtung!Q$5)-SUMIFS(Umschichtung!$M$13:$M$18,Umschichtung!$I$13:$I$18,Daten_Umschichtung!$C15,Umschichtung!$J$13:$J$18,Daten_Umschichtung!Q$5)","v":0},{"$f":"Q15+Q15*Vermögen!$V20-SUMIFS(Umschichtung!$K$13:$K$18,Umschichtung!$I$13:$I$18,Daten_Umschichtung!$C15,Umschichtung!$J$13:$J$18,Daten_Umschichtung!R$5)-SUMIFS(Umschichtung!$M$13:$M$18,Umschichtung!$I$13:$I$18,Daten_Umschichtung!$C15,Umschichtung!$J$13:$J$18,Daten_Umschichtung!R$5)","v":0},{"$f":"R15+R15*Vermögen!$V20-SUMIFS(Umschichtung!$K$13:$K$18,Umschichtung!$I$13:$I$18,Daten_Umschichtung!$C15,Umschichtung!$J$13:$J$18,Daten_Umschichtung!S$5)-SUMIFS(Umschichtung!$M$13:$M$18,Umschichtung!$I$13:$I$18,Daten_Umschichtung!$C15,Umschichtung!$J$13:$J$18,Daten_Umschichtung!S$5)","v":0},null,{"$f":"SUMIF(Umschichtung!$I$13:$I$18,Daten_Umschichtung!C15,Umschichtung!$K$13:$K$18)","v":0},null,{"$f":"IF(Vermögen!G20=\"Ja\",\"\",Vermögen!F20)","v":0}]
[null,{"$f":"Daten_Vermögen!A54","v":"11."},{"$f":"Daten_Vermögen!B54","v":0},{"$f":"Vermögen!I21","v":"Bitte auswählen"},{"$f":"'Daten Projektion'!E23","v":{"v":0,"d":"0.0%"}},{"$f":"'Daten Projektion'!F23","v":{"v":0,"d":"0.0%"}},{"$f":"'Daten Projektion'!G23","v":{"v":0,"d":"0.0%"}},{"$f":"'Daten Projektion'!H23","v":{"v":0,"d":"0.0%"}},{"$f":"'Daten Projektion'!I23","v":{"v":0,"d":"0.0%"}},{"$f":"'Daten Projektion'!J23","v":{"v":0,"d":"0.0%"}},{"$f":"'Daten Projektion'!K23","v":{"v":0,"d":"0.0%"}},{"$f":"'Daten Projektion'!L23","v":{"v":0,"d":"0.0%"}},{"$f":"'Daten Projektion'!M23","v":{"v":0,"d":"0.0%"}},{"$f":"'Daten Projektion'!N23-SUMIFS(Umschichtung!$K$13:$K$18,Umschichtung!$I$13:$I$18,Daten_Umschichtung!$C16,Umschichtung!$J$13:$J$18,Daten_Umschichtung!N$5)-SUMIFS(Umschichtung!$M$13:$M$18,Umschichtung!$I$13:$I$18,Daten_Umschichtung!$C16,Umschichtung!$J$13:$J$18,Daten_Umschichtung!N$5)","v":0},{"$f":"N16+N16*Vermögen!$V21-SUMIFS(Umschichtung!$K$13:$K$18,Umschichtung!$I$13:$I$18,Daten_Umschichtung!$C16,Umschichtung!$J$13:$J$18,Daten_Umschichtung!O$5)-SUMIFS(Umschichtung!$M$13:$M$18,Umschichtung!$I$13:$I$18,Daten_Umschichtung!$C16,Umschichtung!$J$13:$J$18,Daten_Umschichtung!O$5)","v":0},{"$f":"O16+O16*Vermögen!$V21-SUMIFS(Umschichtung!$K$13:$K$18,Umschichtung!$I$13:$I$18,Daten_Umschichtung!$C16,Umschichtung!$J$13:$J$18,Daten_Umschichtung!P$5)-SUMIFS(Umschichtung!$M$13:$M$18,Umschichtung!$I$13:$I$18,Daten_Umschichtung!$C16,Umschichtung!$J$13:$J$18,Daten_Umschichtung!P$5)","v":0},{"$f":"P16+P16*Vermögen!$V21-SUMIFS(Umschichtung!$K$13:$K$18,Umschichtung!$I$13:$I$18,Daten_Umschichtung!$C16,Umschichtung!$J$13:$J$18,Daten_Umschichtung!Q$5)-SUMIFS(Umschichtung!$M$13:$M$18,Umschichtung!$I$13:$I$18,Daten_Umschichtung!$C16,Umschichtung!$J$13:$J$18,Daten_Umschichtung!Q$5)","v":0},{"$f":"Q16+Q16*Vermögen!$V21-SUMIFS(Umschichtung!$K$13:$K$18,Umschichtung!$I$13:$I$18,Daten_Umschichtung!$C16,Umschichtung!$J$13:$J$18,Daten_Umschichtung!R$5)-SUMIFS(Umschichtung!$M$13:$M$18,Umschichtung!$I$13:$I$18,Daten_Umschichtung!$C16,Umschichtung!$J$13:$J$18,Daten_Umschichtung!R$5)","v":0},{"$f":"R16+R16*Vermögen!$V21-SUMIFS(Umschichtung!$K$13:$K$18,Umschichtung!$I$13:$I$18,Daten_Umschichtung!$C16,Umschichtung!$J$13:$J$18,Daten_Umschichtung!S$5)-SUMIFS(Umschichtung!$M$13:$M$18,Umschichtung!$I$13:$I$18,Daten_Umschichtung!$C16,Umschichtung!$J$13:$J$18,Daten_Umschichtung!S$5)","v":0},null,{"$f":"SUMIF(Umschichtung!$I$13:$I$18,Daten_Umschichtung!C16,Umschichtung!$K$13:$K$18)","v":0},null,{"$f":"IF(Vermögen!G21=\"Ja\",\"\",Vermögen!F21)","v":0}]
[null,{"$f":"Daten_Vermögen!A55","v":"12."},{"$f":"Daten_Vermögen!B55","v":0},{"$f":"Vermögen!I22","v":"Bitte auswählen"},{"$f":"'Daten Projektion'!E24","v":{"v":0,"d":"0.0%"}},{"$f":"'Daten Projektion'!F24","v":{"v":0,"d":"0.0%"}},{"$f":"'Daten Projektion'!G24","v":{"v":0,"d":"0.0%"}},{"$f":"'Daten Projektion'!H24","v":{"v":0,"d":"0.0%"}},{"$f":"'Daten Projektion'!I24","v":{"v":0,"d":"0.0%"}},{"$f":"'Daten Projektion'!J24","v":{"v":0,"d":"0.0%"}},{"$f":"'Daten Projektion'!K24","v":{"v":0,"d":"0.0%"}},{"$f":"'Daten Projektion'!L24","v":{"v":0,"d":"0.0%"}},{"$f":"'Daten Projektion'!M24","v":{"v":0,"d":"0.0%"}},{"$f":"'Daten Projektion'!N24-SUMIFS(Umschichtung!$K$13:$K$18,Umschichtung!$I$13:$I$18,Daten_Umschichtung!$C17,Umschichtung!$J$13:$J$18,Daten_Umschichtung!N$5)-SUMIFS(Umschichtung!$M$13:$M$18,Umschichtung!$I$13:$I$18,Daten_Umschichtung!$C17,Umschichtung!$J$13:$J$18,Daten_Umschichtung!N$5)","v":0},{"$f":"N17+N17*Vermögen!$V22-SUMIFS(Umschichtung!$K$13:$K$18,Umschichtung!$I$13:$I$18,Daten_Umschichtung!$C17,Umschichtung!$J$13:$J$18,Daten_Umschichtung!O$5)-SUMIFS(Umschichtung!$M$13:$M$18,Umschichtung!$I$13:$I$18,Daten_Umschichtung!$C17,Umschichtung!$J$13:$J$18,Daten_Umschichtung!O$5)","v":0},{"$f":"O17+O17*Vermögen!$V22-SUMIFS(Umschichtung!$K$13:$K$18,Umschichtung!$I$13:$I$18,Daten_Umschichtung!$C17,Umschichtung!$J$13:$J$18,Daten_Umschichtung!P$5)-SUMIFS(Umschichtung!$M$13:$M$18,Umschichtung!$I$13:$I$18,Daten_Umschichtung!$C17,Umschichtung!$J$13:$J$18,Daten_Umschichtung!P$5)","v":0},{"$f":"P17+P17*Vermögen!$V22-SUMIFS(Umschichtung!$K$13:$K$18,Umschichtung!$I$13:$I$18,Daten_Umschichtung!$C17,Umschichtung!$J$13:$J$18,Daten_Umschichtung!Q$5)-SUMIFS(Umschichtung!$M$13:$M$18,Umschichtung!$I$13:$I$18,Daten_Umschichtung!$C17,Umschichtung!$J$13:$J$18,Daten_Umschichtung!Q$5)","v":0},{"$f":"Q17+Q17*Vermögen!$V22-SUMIFS(Umschichtung!$K$13:$K$18,Umschichtung!$I$13:$I$18,Daten_Umschichtung!$C17,Umschichtung!$J$13:$J$18,Daten_Umschichtung!R$5)-SUMIFS(Umschichtung!$M$13:$M$18,Umschichtung!$I$13:$I$18,Daten_Umschichtung!$C17,Umschichtung!$J$13:$J$18,Daten_Umschichtung!R$5)","v":0},{"$f":"R17+R17*Vermögen!$V22-SUMIFS(Umschichtung!$K$13:$K$18,Umschichtung!$I$13:$I$18,Daten_Umschichtung!$C17,Umschichtung!$J$13:$J$18,Daten_Umschichtung!S$5)-SUMIFS(Umschichtung!$M$13:$M$18,Umschichtung!$I$13:$I$18,Daten_Umschichtung!$C17,Umschichtung!$J$13:$J$18,Daten_Umschichtung!S$5)","v":0},null,{"$f":"SUMIF(Umschichtung!$I$13:$I$18,Daten_Umschichtung!C17,Umschichtung!$K$13:$K$18)","v":0},null,{"$f":"IF(Vermögen!G22=\"Ja\",\"\",Vermögen!F22)","v":0}]
[null,{"$f":"Daten_Vermögen!A56","v":"13."},{"$f":"Daten_Vermögen!B56","v":0},{"$f":"Vermögen!I23","v":"Bitte auswählen"},{"$f":"'Daten Projektion'!E25","v":{"v":0,"d":"0.0%"}},{"$f":"'Daten Projektion'!F25","v":{"v":0,"d":"0.0%"}},{"$f":"'Daten Projektion'!G25","v":{"v":0,"d":"0.0%"}},{"$f":"'Daten Projektion'!H25","v":{"v":0,"d":"0.0%"}},{"$f":"'Daten Projektion'!I25","v":{"v":0,"d":"0.0%"}},{"$f":"'Daten Projektion'!J25","v":{"v":0,"d":"0.0%"}},{"$f":"'Daten Projektion'!K25","v":{"v":0,"d":"0.0%"}},{"$f":"'Daten Projektion'!L25","v":{"v":0,"d":"0.0%"}},{"$f":"'Daten Projektion'!M25","v":{"v":0,"d":"0.0%"}},{"$f":"'Daten Projektion'!N25-SUMIFS(Umschichtung!$K$13:$K$18,Umschichtung!$I$13:$I$18,Daten_Umschichtung!$C18,Umschichtung!$J$13:$J$18,Daten_Umschichtung!N$5)-SUMIFS(Umschichtung!$M$13:$M$18,Umschichtung!$I$13:$I$18,Daten_Umschichtung!$C18,Umschichtung!$J$13:$J$18,Daten_Umschichtung!N$5)","v":0},{"$f":"N18+N18*Vermögen!$V23-SUMIFS(Umschichtung!$K$13:$K$18,Umschichtung!$I$13:$I$18,Daten_Umschichtung!$C18,Umschichtung!$J$13:$J$18,Daten_Umschichtung!O$5)-SUMIFS(Umschichtung!$M$13:$M$18,Umschichtung!$I$13:$I$18,Daten_Umschichtung!$C18,Umschichtung!$J$13:$J$18,Daten_Umschichtung!O$5)","v":0},{"$f":"O18+O18*Vermögen!$V23-SUMIFS(Umschichtung!$K$13:$K$18,Umschichtung!$I$13:$I$18,Daten_Umschichtung!$C18,Umschichtung!$J$13:$J$18,Daten_Umschichtung!P$5)-SUMIFS(Umschichtung!$M$13:$M$18,Umschichtung!$I$13:$I$18,Daten_Umschichtung!$C18,Umschichtung!$J$13:$J$18,Daten_Umschichtung!P$5)","v":0},{"$f":"P18+P18*Vermögen!$V23-SUMIFS(Umschichtung!$K$13:$K$18,Umschichtung!$I$13:$I$18,Daten_Umschichtung!$C18,Umschichtung!$J$13:$J$18,Daten_Umschichtung!Q$5)-SUMIFS(Umschichtung!$M$13:$M$18,Umschichtung!$I$13:$I$18,Daten_Umschichtung!$C18,Umschichtung!$J$13:$J$18,Daten_Umschichtung!Q$5)","v":0},{"$f":"Q18+Q18*Vermögen!$V23-SUMIFS(Umschichtung!$K$13:$K$18,Umschichtung!$I$13:$I$18,Daten_Umschichtung!$C18,Umschichtung!$J$13:$J$18,Daten_Umschichtung!R$5)-SUMIFS(Umschichtung!$M$13:$M$18,Umschichtung!$I$13:$I$18,Daten_Umschichtung!$C18,Umschichtung!$J$13:$J$18,Daten_Umschichtung!R$5)","v":0},{"$f":"R18+R18*Vermögen!$V23-SUMIFS(Umschichtung!$K$13:$K$18,Umschichtung!$I$13:$I$18,Daten_Umschichtung!$C18,Umschichtung!$J$13:$J$18,Daten_Umschichtung!S$5)-SUMIFS(Umschichtung!$M$13:$M$18,Umschichtung!$I$13:$I$18,Daten_Umschichtung!$C18,Umschichtung!$J$13:$J$18,Daten_Umschichtung!S$5)","v":0},null,{"$f":"SUMIF(Umschichtung!$I$13:$I$18,Daten_Umschichtung!C18,Umschichtung!$K$13:$K$18)","v":0},null,{"$f":"IF(Vermögen!G23=\"Ja\",\"\",Vermögen!F23)","v":0}]
[null,{"$f":"Daten_Vermögen!A57","v":"14."},{"$f":"Daten_Vermögen!B57","v":0},{"$f":"Vermögen!I24","v":"Bitte auswählen"},{"$f":"'Daten Projektion'!E26","v":{"v":0,"d":"0.0%"}},{"$f":"'Daten Projektion'!F26","v":{"v":0,"d":"0.0%"}},{"$f":"'Daten Projektion'!G26","v":{"v":0,"d":"0.0%"}},{"$f":"'Daten Projektion'!H26","v":{"v":0,"d":"0.0%"}},{"$f":"'Daten Projektion'!I26","v":{"v":0,"d":"0.0%"}},{"$f":"'Daten Projektion'!J26","v":{"v":0,"d":"0.0%"}},{"$f":"'Daten Projektion'!K26","v":{"v":0,"d":"0.0%"}},{"$f":"'Daten Projektion'!L26","v":{"v":0,"d":"0.0%"}},{"$f":"'Daten Projektion'!M26","v":{"v":0,"d":"0.0%"}},{"$f":"'Daten Projektion'!N26-SUMIFS(Umschichtung!$K$13:$K$18,Umschichtung!$I$13:$I$18,Daten_Umschichtung!$C19,Umschichtung!$J$13:$J$18,Daten_Umschichtung!N$5)-SUMIFS(Umschichtung!$M$13:$M$18,Umschichtung!$I$13:$I$18,Daten_Umschichtung!$C19,Umschichtung!$J$13:$J$18,Daten_Umschichtung!N$5)","v":0},{"$f":"N19+N19*Vermögen!$V24-SUMIFS(Umschichtung!$K$13:$K$18,Umschichtung!$I$13:$I$18,Daten_Umschichtung!$C19,Umschichtung!$J$13:$J$18,Daten_Umschichtung!O$5)-SUMIFS(Umschichtung!$M$13:$M$18,Umschichtung!$I$13:$I$18,Daten_Umschichtung!$C19,Umschichtung!$J$13:$J$18,Daten_Umschichtung!O$5)","v":0},{"$f":"O19+O19*Vermögen!$V24-SUMIFS(Umschichtung!$K$13:$K$18,Umschichtung!$I$13:$I$18,Daten_Umschichtung!$C19,Umschichtung!$J$13:$J$18,Daten_Umschichtung!P$5)-SUMIFS(Umschichtung!$M$13:$M$18,Umschichtung!$I$13:$I$18,Daten_Umschichtung!$C19,Umschichtung!$J$13:$J$18,Daten_Umschichtung!P$5)","v":0},{"$f":"P19+P19*Vermögen!$V24-SUMIFS(Umschichtung!$K$13:$K$18,Umschichtung!$I$13:$I$18,Daten_Umschichtung!$C19,Umschichtung!$J$13:$J$18,Daten_Umschichtung!Q$5)-SUMIFS(Umschichtung!$M$13:$M$18,Umschichtung!$I$13:$I$18,Daten_Umschichtung!$C19,Umschichtung!$J$13:$J$18,Daten_Umschichtung!Q$5)","v":0},{"$f":"Q19+Q19*Vermögen!$V24-SUMIFS(Umschichtung!$K$13:$K$18,Umschichtung!$I$13:$I$18,Daten_Umschichtung!$C19,Umschichtung!$J$13:$J$18,Daten_Umschichtung!R$5)-SUMIFS(Umschichtung!$M$13:$M$18,Umschichtung!$I$13:$I$18,Daten_Umschichtung!$C19,Umschichtung!$J$13:$J$18,Daten_Umschichtung!R$5)","v":0},{"$f":"R19+R19*Vermögen!$V24-SUMIFS(Umschichtung!$K$13:$K$18,Umschichtung!$I$13:$I$18,Daten_Umschichtung!$C19,Umschichtung!$J$13:$J$18,Daten_Umschichtung!S$5)-SUMIFS(Umschichtung!$M$13:$M$18,Umschichtung!$I$13:$I$18,Daten_Umschichtung!$C19,Umschichtung!$J$13:$J$18,Daten_Umschichtung!S$5)","v":0},null,{"$f":"SUMIF(Umschichtung!$I$13:$I$18,Daten_Umschichtung!C19,Umschichtung!$K$13:$K$18)","v":0},null,{"$f":"IF(Vermögen!G24=\"Ja\",\"\",Vermögen!F24)","v":0}]
[null,{"$f":"Daten_Vermögen!A58","v":"15."},{"$f":"Daten_Vermögen!B58","v":0},{"$f":"Vermögen!I25","v":"Bitte auswählen"},{"$f":"'Daten Projektion'!E27","v":{"v":0,"d":"0.0%"}},{"$f":"'Daten Projektion'!F27","v":{"v":0,"d":"0.0%"}},{"$f":"'Daten Projektion'!G27","v":{"v":0,"d":"0.0%"}},{"$f":"'Daten Projektion'!H27","v":{"v":0,"d":"0.0%"}},{"$f":"'Daten Projektion'!I27","v":{"v":0,"d":"0.0%"}},{"$f":"'Daten Projektion'!J27","v":{"v":0,"d":"0.0%"}},{"$f":"'Daten Projektion'!K27","v":{"v":0,"d":"0.0%"}},{"$f":"'Daten Projektion'!L27","v":{"v":0,"d":"0.0%"}},{"$f":"'Daten Projektion'!M27","v":{"v":0,"d":"0.0%"}},{"$f":"'Daten Projektion'!N27-SUMIFS(Umschichtung!$K$13:$K$18,Umschichtung!$I$13:$I$18,Daten_Umschichtung!$C20,Umschichtung!$J$13:$J$18,Daten_Umschichtung!N$5)-SUMIFS(Umschichtung!$M$13:$M$18,Umschichtung!$I$13:$I$18,Daten_Umschichtung!$C20,Umschichtung!$J$13:$J$18,Daten_Umschichtung!N$5)","v":0},{"$f":"N20+N20*Vermögen!$V25-SUMIFS(Umschichtung!$K$13:$K$18,Umschichtung!$I$13:$I$18,Daten_Umschichtung!$C20,Umschichtung!$J$13:$J$18,Daten_Umschichtung!O$5)-SUMIFS(Umschichtung!$M$13:$M$18,Umschichtung!$I$13:$I$18,Daten_Umschichtung!$C20,Umschichtung!$J$13:$J$18,Daten_Umschichtung!O$5)","v":0},{"$f":"O20+O20*Vermögen!$V25-SUMIFS(Umschichtung!$K$13:$K$18,Umschichtung!$I$13:$I$18,Daten_Umschichtung!$C20,Umschichtung!$J$13:$J$18,Daten_Umschichtung!P$5)-SUMIFS(Umschichtung!$M$13:$M$18,Umschichtung!$I$13:$I$18,Daten_Umschichtung!$C20,Umschichtung!$J$13:$J$18,Daten_Umschichtung!P$5)","v":0},{"$f":"P20+P20*Vermögen!$V25-SUMIFS(Umschichtung!$K$13:$K$18,Umschichtung!$I$13:$I$18,Daten_Umschichtung!$C20,Umschichtung!$J$13:$J$18,Daten_Umschichtung!Q$5)-SUMIFS(Umschichtung!$M$13:$M$18,Umschichtung!$I$13:$I$18,Daten_Umschichtung!$C20,Umschichtung!$J$13:$J$18,Daten_Umschichtung!Q$5)","v":0},{"$f":"Q20+Q20*Vermögen!$V25-SUMIFS(Umschichtung!$K$13:$K$18,Umschichtung!$I$13:$I$18,Daten_Umschichtung!$C20,Umschichtung!$J$13:$J$18,Daten_Umschichtung!R$5)-SUMIFS(Umschichtung!$M$13:$M$18,Umschichtung!$I$13:$I$18,Daten_Umschichtung!$C20,Umschichtung!$J$13:$J$18,Daten_Umschichtung!R$5)","v":0},{"$f":"R20+R20*Vermögen!$V25-SUMIFS(Umschichtung!$K$13:$K$18,Umschichtung!$I$13:$I$18,Daten_Umschichtung!$C20,Umschichtung!$J$13:$J$18,Daten_Umschichtung!S$5)-SUMIFS(Umschichtung!$M$13:$M$18,Umschichtung!$I$13:$I$18,Daten_Umschichtung!$C20,Umschichtung!$J$13:$J$18,Daten_Umschichtung!S$5)","v":0},null,{"$f":"SUMIF(Umschichtung!$I$13:$I$18,Daten_Umschichtung!C20,Umschichtung!$K$13:$K$18)","v":0},null,{"$f":"IF(Vermögen!G25=\"Ja\",\"\",Vermögen!F25)","v":0}]
[null,{"$f":"Daten_Vermögen!A59","v":"16."},{"$f":"Daten_Vermögen!B59","v":0},{"$f":"Vermögen!I26","v":"Bitte auswählen"},{"$f":"'Daten Projektion'!E28","v":{"v":0,"d":"0.0%"}},{"$f":"'Daten Projektion'!F28","v":{"v":0,"d":"0.0%"}},{"$f":"'Daten Projektion'!G28","v":{"v":0,"d":"0.0%"}},{"$f":"'Daten Projektion'!H28","v":{"v":0,"d":"0.0%"}},{"$f":"'Daten Projektion'!I28","v":{"v":0,"d":"0.0%"}},{"$f":"'Daten Projektion'!J28","v":{"v":0,"d":"0.0%"}},{"$f":"'Daten Projektion'!K28","v":{"v":0,"d":"0.0%"}},{"$f":"'Daten Projektion'!L28","v":{"v":0,"d":"0.0%"}},{"$f":"'Daten Projektion'!M28","v":{"v":0,"d":"0.0%"}},{"$f":"'Daten Projektion'!N28-SUMIFS(Umschichtung!$K$13:$K$18,Umschichtung!$I$13:$I$18,Daten_Umschichtung!$C21,Umschichtung!$J$13:$J$18,Daten_Umschichtung!N$5)-SUMIFS(Umschichtung!$M$13:$M$18,Umschichtung!$I$13:$I$18,Daten_Umschichtung!$C21,Umschichtung!$J$13:$J$18,Daten_Umschichtung!N$5)","v":0},{"$f":"N21+N21*Vermögen!$V26-SUMIFS(Umschichtung!$K$13:$K$18,Umschichtung!$I$13:$I$18,Daten_Umschichtung!$C21,Umschichtung!$J$13:$J$18,Daten_Umschichtung!O$5)-SUMIFS(Umschichtung!$M$13:$M$18,Umschichtung!$I$13:$I$18,Daten_Umschichtung!$C21,Umschichtung!$J$13:$J$18,Daten_Umschichtung!O$5)","v":0},{"$f":"O21+O21*Vermögen!$V26-SUMIFS(Umschichtung!$K$13:$K$18,Umschichtung!$I$13:$I$18,Daten_Umschichtung!$C21,Umschichtung!$J$13:$J$18,Daten_Umschichtung!P$5)-SUMIFS(Umschichtung!$M$13:$M$18,Umschichtung!$I$13:$I$18,Daten_Umschichtung!$C21,Umschichtung!$J$13:$J$18,Daten_Umschichtung!P$5)","v":0},{"$f":"P21+P21*Vermögen!$V26-SUMIFS(Umschichtung!$K$13:$K$18,Umschichtung!$I$13:$I$18,Daten_Umschichtung!$C21,Umschichtung!$J$13:$J$18,Daten_Umschichtung!Q$5)-SUMIFS(Umschichtung!$M$13:$M$18,Umschichtung!$I$13:$I$18,Daten_Umschichtung!$C21,Umschichtung!$J$13:$J$18,Daten_Umschichtung!Q$5)","v":0},{"$f":"Q21+Q21*Vermögen!$V26-SUMIFS(Umschichtung!$K$13:$K$18,Umschichtung!$I$13:$I$18,Daten_Umschichtung!$C21,Umschichtung!$J$13:$J$18,Daten_Umschichtung!R$5)-SUMIFS(Umschichtung!$M$13:$M$18,Umschichtung!$I$13:$I$18,Daten_Umschichtung!$C21,Umschichtung!$J$13:$J$18,Daten_Umschichtung!R$5)","v":0},{"$f":"R21+R21*Vermögen!$V26-SUMIFS(Umschichtung!$K$13:$K$18,Umschichtung!$I$13:$I$18,Daten_Umschichtung!$C21,Umschichtung!$J$13:$J$18,Daten_Umschichtung!S$5)-SUMIFS(Umschichtung!$M$13:$M$18,Umschichtung!$I$13:$I$18,Daten_Umschichtung!$C21,Umschichtung!$J$13:$J$18,Daten_Umschichtung!S$5)","v":0},null,{"$f":"SUMIF(Umschichtung!$I$13:$I$18,Daten_Umschichtung!C21,Umschichtung!$K$13:$K$18)","v":0},null,{"$f":"IF(Vermögen!G26=\"Ja\",\"\",Vermögen!F26)","v":0}]
[null,{"$f":"Daten_Vermögen!A60","v":"17."},{"$f":"Daten_Vermögen!B60","v":0},{"$f":"Vermögen!I27","v":"Bitte auswählen"},{"$f":"'Daten Projektion'!E29","v":{"v":0,"d":"0.0%"}},{"$f":"'Daten Projektion'!F29","v":{"v":0,"d":"0.0%"}},{"$f":"'Daten Projektion'!G29","v":{"v":0,"d":"0.0%"}},{"$f":"'Daten Projektion'!H29","v":{"v":0,"d":"0.0%"}},{"$f":"'Daten Projektion'!I29","v":{"v":0,"d":"0.0%"}},{"$f":"'Daten Projektion'!J29","v":{"v":0,"d":"0.0%"}},{"$f":"'Daten Projektion'!K29","v":{"v":0,"d":"0.0%"}},{"$f":"'Daten Projektion'!L29","v":{"v":0,"d":"0.0%"}},{"$f":"'Daten Projektion'!M29","v":{"v":0,"d":"0.0%"}},{"$f":"'Daten Projektion'!N29-SUMIFS(Umschichtung!$K$13:$K$18,Umschichtung!$I$13:$I$18,Daten_Umschichtung!$C22,Umschichtung!$J$13:$J$18,Daten_Umschichtung!N$5)-SUMIFS(Umschichtung!$M$13:$M$18,Umschichtung!$I$13:$I$18,Daten_Umschichtung!$C22,Umschichtung!$J$13:$J$18,Daten_Umschichtung!N$5)","v":0},{"$f":"N22+N22*Vermögen!$V27-SUMIFS(Umschichtung!$K$13:$K$18,Umschichtung!$I$13:$I$18,Daten_Umschichtung!$C22,Umschichtung!$J$13:$J$18,Daten_Umschichtung!O$5)-SUMIFS(Umschichtung!$M$13:$M$18,Umschichtung!$I$13:$I$18,Daten_Umschichtung!$C22,Umschichtung!$J$13:$J$18,Daten_Umschichtung!O$5)","v":0},{"$f":"O22+O22*Vermögen!$V27-SUMIFS(Umschichtung!$K$13:$K$18,Umschichtung!$I$13:$I$18,Daten_Umschichtung!$C22,Umschichtung!$J$13:$J$18,Daten_Umschichtung!P$5)-SUMIFS(Umschichtung!$M$13:$M$18,Umschichtung!$I$13:$I$18,Daten_Umschichtung!$C22,Umschichtung!$J$13:$J$18,Daten_Umschichtung!P$5)","v":0},{"$f":"P22+P22*Vermögen!$V27-SUMIFS(Umschichtung!$K$13:$K$18,Umschichtung!$I$13:$I$18,Daten_Umschichtung!$C22,Umschichtung!$J$13:$J$18,Daten_Umschichtung!Q$5)-SUMIFS(Umschichtung!$M$13:$M$18,Umschichtung!$I$13:$I$18,Daten_Umschichtung!$C22,Umschichtung!$J$13:$J$18,Daten_Umschichtung!Q$5)","v":0},{"$f":"Q22+Q22*Vermögen!$V27-SUMIFS(Umschichtung!$K$13:$K$18,Umschichtung!$I$13:$I$18,Daten_Umschichtung!$C22,Umschichtung!$J$13:$J$18,Daten_Umschichtung!R$5)-SUMIFS(Umschichtung!$M$13:$M$18,Umschichtung!$I$13:$I$18,Daten_Umschichtung!$C22,Umschichtung!$J$13:$J$18,Daten_Umschichtung!R$5)","v":0},{"$f":"R22+R22*Vermögen!$V27-SUMIFS(Umschichtung!$K$13:$K$18,Umschichtung!$I$13:$I$18,Daten_Umschichtung!$C22,Umschichtung!$J$13:$J$18,Daten_Umschichtung!S$5)-SUMIFS(Umschichtung!$M$13:$M$18,Umschichtung!$I$13:$I$18,Daten_Umschichtung!$C22,Umschichtung!$J$13:$J$18,Daten_Umschichtung!S$5)","v":0},null,{"$f":"SUMIF(Umschichtung!$I$13:$I$18,Daten_Umschichtung!C22,Umschichtung!$K$13:$K$18)","v":0},null,{"$f":"IF(Vermögen!G27=\"Ja\",\"\",Vermögen!F27)","v":0}]
[null,{"$f":"Daten_Vermögen!A61","v":"18."},{"$f":"Daten_Vermögen!B61","v":0},{"$f":"Vermögen!I28","v":"Bitte auswählen"},{"$f":"'Daten Projektion'!E30","v":{"v":0,"d":"0.0%"}},{"$f":"'Daten Projektion'!F30","v":{"v":0,"d":"0.0%"}},{"$f":"'Daten Projektion'!G30","v":{"v":0,"d":"0.0%"}},{"$f":"'Daten Projektion'!H30","v":{"v":0,"d":"0.0%"}},{"$f":"'Daten Projektion'!I30","v":{"v":0,"d":"0.0%"}},{"$f":"'Daten Projektion'!J30","v":{"v":0,"d":"0.0%"}},{"$f":"'Daten Projektion'!K30","v":{"v":0,"d":"0.0%"}},{"$f":"'Daten Projektion'!L30","v":{"v":0,"d":"0.0%"}},{"$f":"'Daten Projektion'!M30","v":{"v":0,"d":"0.0%"}},{"$f":"'Daten Projektion'!N30-SUMIFS(Umschichtung!$K$13:$K$18,Umschichtung!$I$13:$I$18,Daten_Umschichtung!$C23,Umschichtung!$J$13:$J$18,Daten_Umschichtung!N$5)-SUMIFS(Umschichtung!$M$13:$M$18,Umschichtung!$I$13:$I$18,Daten_Umschichtung!$C23,Umschichtung!$J$13:$J$18,Daten_Umschichtung!N$5)","v":0},{"$f":"N23+N23*Vermögen!$V28-SUMIFS(Umschichtung!$K$13:$K$18,Umschichtung!$I$13:$I$18,Daten_Umschichtung!$C23,Umschichtung!$J$13:$J$18,Daten_Umschichtung!O$5)-SUMIFS(Umschichtung!$M$13:$M$18,Umschichtung!$I$13:$I$18,Daten_Umschichtung!$C23,Umschichtung!$J$13:$J$18,Daten_Umschichtung!O$5)","v":0},{"$f":"O23+O23*Vermögen!$V28-SUMIFS(Umschichtung!$K$13:$K$18,Umschichtung!$I$13:$I$18,Daten_Umschichtung!$C23,Umschichtung!$J$13:$J$18,Daten_Umschichtung!P$5)-SUMIFS(Umschichtung!$M$13:$M$18,Umschichtung!$I$13:$I$18,Daten_Umschichtung!$C23,Umschichtung!$J$13:$J$18,Daten_Umschichtung!P$5)","v":0},{"$f":"P23+P23*Vermögen!$V28-SUMIFS(Umschichtung!$K$13:$K$18,Umschichtung!$I$13:$I$18,Daten_Umschichtung!$C23,Umschichtung!$J$13:$J$18,Daten_Umschichtung!Q$5)-SUMIFS(Umschichtung!$M$13:$M$18,Umschichtung!$I$13:$I$18,Daten_Umschichtung!$C23,Umschichtung!$J$13:$J$18,Daten_Umschichtung!Q$5)","v":0},{"$f":"Q23+Q23*Vermögen!$V28-SUMIFS(Umschichtung!$K$13:$K$18,Umschichtung!$I$13:$I$18,Daten_Umschichtung!$C23,Umschichtung!$J$13:$J$18,Daten_Umschichtung!R$5)-SUMIFS(Umschichtung!$M$13:$M$18,Umschichtung!$I$13:$I$18,Daten_Umschichtung!$C23,Umschichtung!$J$13:$J$18,Daten_Umschichtung!R$5)","v":0},{"$f":"R23+R23*Vermögen!$V28-SUMIFS(Umschichtung!$K$13:$K$18,Umschichtung!$I$13:$I$18,Daten_Umschichtung!$C23,Umschichtung!$J$13:$J$18,Daten_Umschichtung!S$5)-SUMIFS(Umschichtung!$M$13:$M$18,Umschichtung!$I$13:$I$18,Daten_Umschichtung!$C23,Umschichtung!$J$13:$J$18,Daten_Umschichtung!S$5)","v":0},null,{"$f":"SUMIF(Umschichtung!$I$13:$I$18,Daten_Umschichtung!C23,Umschichtung!$K$13:$K$18)","v":0},null,{"$f":"IF(Vermögen!G28=\"Ja\",\"\",Vermögen!F28)","v":0}]
[null,{"$f":"Daten_Vermögen!A62","v":"19."},{"$f":"Daten_Vermögen!B62","v":0},{"$f":"Vermögen!I29","v":"Bitte auswählen"},{"$f":"'Daten Projektion'!E31","v":{"v":0,"d":"0.0%"}},{"$f":"'Daten Projektion'!F31","v":{"v":0,"d":"0.0%"}},{"$f":"'Daten Projektion'!G31","v":{"v":0,"d":"0.0%"}},{"$f":"'Daten Projektion'!H31","v":{"v":0,"d":"0.0%"}},{"$f":"'Daten Projektion'!I31","v":{"v":0,"d":"0.0%"}},{"$f":"'Daten Projektion'!J31","v":{"v":0,"d":"0.0%"}},{"$f":"'Daten Projektion'!K31","v":{"v":0,"d":"0.0%"}},{"$f":"'Daten Projektion'!L31","v":{"v":0,"d":"0.0%"}},{"$f":"'Daten Projektion'!M31","v":{"v":0,"d":"0.0%"}},{"$f":"'Daten Projektion'!N31-SUMIFS(Umschichtung!$K$13:$K$18,Umschichtung!$I$13:$I$18,Daten_Umschichtung!$C24,Umschichtung!$J$13:$J$18,Daten_Umschichtung!N$5)-SUMIFS(Umschichtung!$M$13:$M$18,Umschichtung!$I$13:$I$18,Daten_Umschichtung!$C24,Umschichtung!$J$13:$J$18,Daten_Umschichtung!N$5)","v":0},{"$f":"N24+N24*Vermögen!$V29-SUMIFS(Umschichtung!$K$13:$K$18,Umschichtung!$I$13:$I$18,Daten_Umschichtung!$C24,Umschichtung!$J$13:$J$18,Daten_Umschichtung!O$5)-SUMIFS(Umschichtung!$M$13:$M$18,Umschichtung!$I$13:$I$18,Daten_Umschichtung!$C24,Umschichtung!$J$13:$J$18,Daten_Umschichtung!O$5)","v":0},{"$f":"O24+O24*Vermögen!$V29-SUMIFS(Umschichtung!$K$13:$K$18,Umschichtung!$I$13:$I$18,Daten_Umschichtung!$C24,Umschichtung!$J$13:$J$18,Daten_Umschichtung!P$5)-SUMIFS(Umschichtung!$M$13:$M$18,Umschichtung!$I$13:$I$18,Daten_Umschichtung!$C24,Umschichtung!$J$13:$J$18,Daten_Umschichtung!P$5)","v":0},{"$f":"P24+P24*Vermögen!$V29-SUMIFS(Umschichtung!$K$13:$K$18,Umschichtung!$I$13:$I$18,Daten_Umschichtung!$C24,Umschichtung!$J$13:$J$18,Daten_Umschichtung!Q$5)-SUMIFS(Umschichtung!$M$13:$M$18,Umschichtung!$I$13:$I$18,Daten_Umschichtung!$C24,Umschichtung!$J$13:$J$18,Daten_Umschichtung!Q$5)","v":0},{"$f":"Q24+Q24*Vermögen!$V29-SUMIFS(Umschichtung!$K$13:$K$18,Umschichtung!$I$13:$I$18,Daten_Umschichtung!$C24,Umschichtung!$J$13:$J$18,Daten_Umschichtung!R$5)-SUMIFS(Umschichtung!$M$13:$M$18,Umschichtung!$I$13:$I$18,Daten_Umschichtung!$C24,Umschichtung!$J$13:$J$18,Daten_Umschichtung!R$5)","v":0},{"$f":"R24+R24*Vermögen!$V29-SUMIFS(Umschichtung!$K$13:$K$18,Umschichtung!$I$13:$I$18,Daten_Umschichtung!$C24,Umschichtung!$J$13:$J$18,Daten_Umschichtung!S$5)-SUMIFS(Umschichtung!$M$13:$M$18,Umschichtung!$I$13:$I$18,Daten_Umschichtung!$C24,Umschichtung!$J$13:$J$18,Daten_Umschichtung!S$5)","v":0},null,{"$f":"SUMIF(Umschichtung!$I$13:$I$18,Daten_Umschichtung!C24,Umschichtung!$K$13:$K$18)","v":0},null,{"$f":"IF(Vermögen!G29=\"Ja\",\"\",Vermögen!F29)","v":0}]
[null,{"$f":"Daten_Vermögen!A63","v":"20."},{"$f":"Daten_Vermögen!B63","v":0},{"$f":"Vermögen!I30","v":"Bitte auswählen"},{"$f":"'Daten Projektion'!E32","v":{"v":0,"d":"0.0%"}},{"$f":"'Daten Projektion'!F32","v":{"v":0,"d":"0.0%"}},{"$f":"'Daten Projektion'!G32","v":{"v":0,"d":"0.0%"}},{"$f":"'Daten Projektion'!H32","v":{"v":0,"d":"0.0%"}},{"$f":"'Daten Projektion'!I32","v":{"v":0,"d":"0.0%"}},{"$f":"'Daten Projektion'!J32","v":{"v":0,"d":"0.0%"}},{"$f":"'Daten Projektion'!K32","v":{"v":0,"d":"0.0%"}},{"$f":"'Daten Projektion'!L32","v":{"v":0,"d":"0.0%"}},{"$f":"'Daten Projektion'!M32","v":{"v":0,"d":"0.0%"}},{"$f":"'Daten Projektion'!N32-SUMIFS(Umschichtung!$K$13:$K$18,Umschichtung!$I$13:$I$18,Daten_Umschichtung!$C25,Umschichtung!$J$13:$J$18,Daten_Umschichtung!N$5)-SUMIFS(Umschichtung!$M$13:$M$18,Umschichtung!$I$13:$I$18,Daten_Umschichtung!$C25,Umschichtung!$J$13:$J$18,Daten_Umschichtung!N$5)","v":0},{"$f":"N25+N25*Vermögen!$V30-SUMIFS(Umschichtung!$K$13:$K$18,Umschichtung!$I$13:$I$18,Daten_Umschichtung!$C25,Umschichtung!$J$13:$J$18,Daten_Umschichtung!O$5)-SUMIFS(Umschichtung!$M$13:$M$18,Umschichtung!$I$13:$I$18,Daten_Umschichtung!$C25,Umschichtung!$J$13:$J$18,Daten_Umschichtung!O$5)","v":0},{"$f":"O25+O25*Vermögen!$V30-SUMIFS(Umschichtung!$K$13:$K$18,Umschichtung!$I$13:$I$18,Daten_Umschichtung!$C25,Umschichtung!$J$13:$J$18,Daten_Umschichtung!P$5)-SUMIFS(Umschichtung!$M$13:$M$18,Umschichtung!$I$13:$I$18,Daten_Umschichtung!$C25,Umschichtung!$J$13:$J$18,Daten_Umschichtung!P$5)","v":0},{"$f":"P25+P25*Vermögen!$V30-SUMIFS(Umschichtung!$K$13:$K$18,Umschichtung!$I$13:$I$18,Daten_Umschichtung!$C25,Umschichtung!$J$13:$J$18,Daten_Umschichtung!Q$5)-SUMIFS(Umschichtung!$M$13:$M$18,Umschichtung!$I$13:$I$18,Daten_Umschichtung!$C25,Umschichtung!$J$13:$J$18,Daten_Umschichtung!Q$5)","v":0},{"$f":"Q25+Q25*Vermögen!$V30-SUMIFS(Umschichtung!$K$13:$K$18,Umschichtung!$I$13:$I$18,Daten_Umschichtung!$C25,Umschichtung!$J$13:$J$18,Daten_Umschichtung!R$5)-SUMIFS(Umschichtung!$M$13:$M$18,Umschichtung!$I$13:$I$18,Daten_Umschichtung!$C25,Umschichtung!$J$13:$J$18,Daten_Umschichtung!R$5)","v":0},{"$f":"R25+R25*Vermögen!$V30-SUMIFS(Umschichtung!$K$13:$K$18,Umschichtung!$I$13:$I$18,Daten_Umschichtung!$C25,Umschichtung!$J$13:$J$18,Daten_Umschichtung!S$5)-SUMIFS(Umschichtung!$M$13:$M$18,Umschichtung!$I$13:$I$18,Daten_Umschichtung!$C25,Umschichtung!$J$13:$J$18,Daten_Umschichtung!S$5)","v":0},null,{"$f":"SUMIF(Umschichtung!$I$13:$I$18,Daten_Umschichtung!C25,Umschichtung!$K$13:$K$18)","v":0},null,{"$f":"IF(Vermögen!G30=\"Ja\",\"\",Vermögen!F30)","v":0}]
[null,{"$f":"Daten_Vermögen!A64","v":"21."},{"$f":"Daten_Vermögen!B64","v":0},{"$f":"Vermögen!I31","v":"Bitte auswählen"},{"$f":"'Daten Projektion'!E33","v":{"v":0,"d":"0.0%"}},{"$f":"'Daten Projektion'!F33","v":{"v":0,"d":"0.0%"}},{"$f":"'Daten Projektion'!G33","v":{"v":0,"d":"0.0%"}},{"$f":"'Daten Projektion'!H33","v":{"v":0,"d":"0.0%"}},{"$f":"'Daten Projektion'!I33","v":{"v":0,"d":"0.0%"}},{"$f":"'Daten Projektion'!J33","v":{"v":0,"d":"0.0%"}},{"$f":"'Daten Projektion'!K33","v":{"v":0,"d":"0.0%"}},{"$f":"'Daten Projektion'!L33","v":{"v":0,"d":"0.0%"}},{"$f":"'Daten Projektion'!M33","v":{"v":0,"d":"0.0%"}},{"$f":"'Daten Projektion'!N33-SUMIFS(Umschichtung!$K$13:$K$18,Umschichtung!$I$13:$I$18,Daten_Umschichtung!$C26,Umschichtung!$J$13:$J$18,Daten_Umschichtung!N$5)-SUMIFS(Umschichtung!$M$13:$M$18,Umschichtung!$I$13:$I$18,Daten_Umschichtung!$C26,Umschichtung!$J$13:$J$18,Daten_Umschichtung!N$5)","v":0},{"$f":"N26+N26*Vermögen!$V31-SUMIFS(Umschichtung!$K$13:$K$18,Umschichtung!$I$13:$I$18,Daten_Umschichtung!$C26,Umschichtung!$J$13:$J$18,Daten_Umschichtung!O$5)-SUMIFS(Umschichtung!$M$13:$M$18,Umschichtung!$I$13:$I$18,Daten_Umschichtung!$C26,Umschichtung!$J$13:$J$18,Daten_Umschichtung!O$5)","v":0},{"$f":"O26+O26*Vermögen!$V31-SUMIFS(Umschichtung!$K$13:$K$18,Umschichtung!$I$13:$I$18,Daten_Umschichtung!$C26,Umschichtung!$J$13:$J$18,Daten_Umschichtung!P$5)-SUMIFS(Umschichtung!$M$13:$M$18,Umschichtung!$I$13:$I$18,Daten_Umschichtung!$C26,Umschichtung!$J$13:$J$18,Daten_Umschichtung!P$5)","v":0},{"$f":"P26+P26*Vermögen!$V31-SUMIFS(Umschichtung!$K$13:$K$18,Umschichtung!$I$13:$I$18,Daten_Umschichtung!$C26,Umschichtung!$J$13:$J$18,Daten_Umschichtung!Q$5)-SUMIFS(Umschichtung!$M$13:$M$18,Umschichtung!$I$13:$I$18,Daten_Umschichtung!$C26,Umschichtung!$J$13:$J$18,Daten_Umschichtung!Q$5)","v":0},{"$f":"Q26+Q26*Vermögen!$V31-SUMIFS(Umschichtung!$K$13:$K$18,Umschichtung!$I$13:$I$18,Daten_Umschichtung!$C26,Umschichtung!$J$13:$J$18,Daten_Umschichtung!R$5)-SUMIFS(Umschichtung!$M$13:$M$18,Umschichtung!$I$13:$I$18,Daten_Umschichtung!$C26,Umschichtung!$J$13:$J$18,Daten_Umschichtung!R$5)","v":0},{"$f":"R26+R26*Vermögen!$V31-SUMIFS(Umschichtung!$K$13:$K$18,Umschichtung!$I$13:$I$18,Daten_Umschichtung!$C26,Umschichtung!$J$13:$J$18,Daten_Umschichtung!S$5)-SUMIFS(Umschichtung!$M$13:$M$18,Umschichtung!$I$13:$I$18,Daten_Umschichtung!$C26,Umschichtung!$J$13:$J$18,Daten_Umschichtung!S$5)","v":0},null,{"$f":"SUMIF(Umschichtung!$I$13:$I$18,Daten_Umschichtung!C26,Umschichtung!$K$13:$K$18)","v":0},null,{"$f":"IF(Vermögen!G31=\"Ja\",\"\",Vermögen!F31)","v":0}]
[null,{"$f":"Daten_Vermögen!A65","v":"22."},{"$f":"Daten_Vermögen!B65","v":0},{"$f":"Vermögen!I32","v":"Bitte auswählen"},{"$f":"'Daten Projektion'!E34","v":{"v":0,"d":"0.0%"}},{"$f":"'Daten Projektion'!F34","v":{"v":0,"d":"0.0%"}},{"$f":"'Daten Projektion'!G34","v":{"v":0,"d":"0.0%"}},{"$f":"'Daten Projektion'!H34","v":{"v":0,"d":"0.0%"}},{"$f":"'Daten Projektion'!I34","v":{"v":0,"d":"0.0%"}},{"$f":"'Daten Projektion'!J34","v":{"v":0,"d":"0.0%"}},{"$f":"'Daten Projektion'!K34","v":{"v":0,"d":"0.0%"}},{"$f":"'Daten Projektion'!L34","v":{"v":0,"d":"0.0%"}},{"$f":"'Daten Projektion'!M34","v":{"v":0,"d":"0.0%"}},{"$f":"'Daten Projektion'!N34-SUMIFS(Umschichtung!$K$13:$K$18,Umschichtung!$I$13:$I$18,Daten_Umschichtung!$C27,Umschichtung!$J$13:$J$18,Daten_Umschichtung!N$5)-SUMIFS(Umschichtung!$M$13:$M$18,Umschichtung!$I$13:$I$18,Daten_Umschichtung!$C27,Umschichtung!$J$13:$J$18,Daten_Umschichtung!N$5)","v":0},{"$f":"N27+N27*Vermögen!$V32-SUMIFS(Umschichtung!$K$13:$K$18,Umschichtung!$I$13:$I$18,Daten_Umschichtung!$C27,Umschichtung!$J$13:$J$18,Daten_Umschichtung!O$5)-SUMIFS(Umschichtung!$M$13:$M$18,Umschichtung!$I$13:$I$18,Daten_Umschichtung!$C27,Umschichtung!$J$13:$J$18,Daten_Umschichtung!O$5)","v":0},{"$f":"O27+O27*Vermögen!$V32-SUMIFS(Umschichtung!$K$13:$K$18,Umschichtung!$I$13:$I$18,Daten_Umschichtung!$C27,Umschichtung!$J$13:$J$18,Daten_Umschichtung!P$5)-SUMIFS(Umschichtung!$M$13:$M$18,Umschichtung!$I$13:$I$18,Daten_Umschichtung!$C27,Umschichtung!$J$13:$J$18,Daten_Umschichtung!P$5)","v":0},{"$f":"P27+P27*Vermögen!$V32-SUMIFS(Umschichtung!$K$13:$K$18,Umschichtung!$I$13:$I$18,Daten_Umschichtung!$C27,Umschichtung!$J$13:$J$18,Daten_Umschichtung!Q$5)-SUMIFS(Umschichtung!$M$13:$M$18,Umschichtung!$I$13:$I$18,Daten_Umschichtung!$C27,Umschichtung!$J$13:$J$18,Daten_Umschichtung!Q$5)","v":0},{"$f":"Q27+Q27*Vermögen!$V32-SUMIFS(Umschichtung!$K$13:$K$18,Umschichtung!$I$13:$I$18,Daten_Umschichtung!$C27,Umschichtung!$J$13:$J$18,Daten_Umschichtung!R$5)-SUMIFS(Umschichtung!$M$13:$M$18,Umschichtung!$I$13:$I$18,Daten_Umschichtung!$C27,Umschichtung!$J$13:$J$18,Daten_Umschichtung!R$5)","v":0},{"$f":"R27+R27*Vermögen!$V32-SUMIFS(Umschichtung!$K$13:$K$18,Umschichtung!$I$13:$I$18,Daten_Umschichtung!$C27,Umschichtung!$J$13:$J$18,Daten_Umschichtung!S$5)-SUMIFS(Umschichtung!$M$13:$M$18,Umschichtung!$I$13:$I$18,Daten_Umschichtung!$C27,Umschichtung!$J$13:$J$18,Daten_Umschichtung!S$5)","v":0},null,{"$f":"SUMIF(Umschichtung!$I$13:$I$18,Daten_Umschichtung!C27,Umschichtung!$K$13:$K$18)","v":0},null,{"$f":"IF(Vermögen!G32=\"Ja\",\"\",Vermögen!F32)","v":0}]
[null,{"$f":"Daten_Vermögen!A66","v":"23."},{"$f":"Daten_Vermögen!B66","v":0},{"$f":"Vermögen!I33","v":"Bitte auswählen"},{"$f":"'Daten Projektion'!E35","v":{"v":0,"d":"0.0%"}},{"$f":"'Daten Projektion'!F35","v":{"v":0,"d":"0.0%"}},{"$f":"'Daten Projektion'!G35","v":{"v":0,"d":"0.0%"}},{"$f":"'Daten Projektion'!H35","v":{"v":0,"d":"0.0%"}},{"$f":"'Daten Projektion'!I35","v":{"v":0,"d":"0.0%"}},{"$f":"'Daten Projektion'!J35","v":{"v":0,"d":"0.0%"}},{"$f":"'Daten Projektion'!K35","v":{"v":0,"d":"0.0%"}},{"$f":"'Daten Projektion'!L35","v":{"v":0,"d":"0.0%"}},{"$f":"'Daten Projektion'!M35","v":{"v":0,"d":"0.0%"}},{"$f":"'Daten Projektion'!N35-SUMIFS(Umschichtung!$K$13:$K$18,Umschichtung!$I$13:$I$18,Daten_Umschichtung!$C28,Umschichtung!$J$13:$J$18,Daten_Umschichtung!N$5)-SUMIFS(Umschichtung!$M$13:$M$18,Umschichtung!$I$13:$I$18,Daten_Umschichtung!$C28,Umschichtung!$J$13:$J$18,Daten_Umschichtung!N$5)","v":0},{"$f":"N28+N28*Vermögen!$V33-SUMIFS(Umschichtung!$K$13:$K$18,Umschichtung!$I$13:$I$18,Daten_Umschichtung!$C28,Umschichtung!$J$13:$J$18,Daten_Umschichtung!O$5)-SUMIFS(Umschichtung!$M$13:$M$18,Umschichtung!$I$13:$I$18,Daten_Umschichtung!$C28,Umschichtung!$J$13:$J$18,Daten_Umschichtung!O$5)","v":0},{"$f":"O28+O28*Vermögen!$V33-SUMIFS(Umschichtung!$K$13:$K$18,Umschichtung!$I$13:$I$18,Daten_Umschichtung!$C28,Umschichtung!$J$13:$J$18,Daten_Umschichtung!P$5)-SUMIFS(Umschichtung!$M$13:$M$18,Umschichtung!$I$13:$I$18,Daten_Umschichtung!$C28,Umschichtung!$J$13:$J$18,Daten_Umschichtung!P$5)","v":0},{"$f":"P28+P28*Vermögen!$V33-SUMIFS(Umschichtung!$K$13:$K$18,Umschichtung!$I$13:$I$18,Daten_Umschichtung!$C28,Umschichtung!$J$13:$J$18,Daten_Umschichtung!Q$5)-SUMIFS(Umschichtung!$M$13:$M$18,Umschichtung!$I$13:$I$18,Daten_Umschichtung!$C28,Umschichtung!$J$13:$J$18,Daten_Umschichtung!Q$5)","v":0},{"$f":"Q28+Q28*Vermögen!$V33-SUMIFS(Umschichtung!$K$13:$K$18,Umschichtung!$I$13:$I$18,Daten_Umschichtung!$C28,Umschichtung!$J$13:$J$18,Daten_Umschichtung!R$5)-SUMIFS(Umschichtung!$M$13:$M$18,Umschichtung!$I$13:$I$18,Daten_Umschichtung!$C28,Umschichtung!$J$13:$J$18,Daten_Umschichtung!R$5)","v":0},{"$f":"R28+R28*Vermögen!$V33-SUMIFS(Umschichtung!$K$13:$K$18,Umschichtung!$I$13:$I$18,Daten_Umschichtung!$C28,Umschichtung!$J$13:$J$18,Daten_Umschichtung!S$5)-SUMIFS(Umschichtung!$M$13:$M$18,Umschichtung!$I$13:$I$18,Daten_Umschichtung!$C28,Umschichtung!$J$13:$J$18,Daten_Umschichtung!S$5)","v":0},null,{"$f":"SUMIF(Umschichtung!$I$13:$I$18,Daten_Umschichtung!C28,Umschichtung!$K$13:$K$18)","v":0},null,{"$f":"IF(Vermögen!G33=\"Ja\",\"\",Vermögen!F33)","v":0}]
[null,{"$f":"Daten_Vermögen!A67","v":"24."},{"$f":"Daten_Vermögen!B67","v":0},{"$f":"Vermögen!I34","v":"Bitte auswählen"},{"$f":"'Daten Projektion'!E36","v":{"v":0,"d":"0.0%"}},{"$f":"'Daten Projektion'!F36","v":{"v":0,"d":"0.0%"}},{"$f":"'Daten Projektion'!G36","v":{"v":0,"d":"0.0%"}},{"$f":"'Daten Projektion'!H36","v":{"v":0,"d":"0.0%"}},{"$f":"'Daten Projektion'!I36","v":{"v":0,"d":"0.0%"}},{"$f":"'Daten Projektion'!J36","v":{"v":0,"d":"0.0%"}},{"$f":"'Daten Projektion'!K36","v":{"v":0,"d":"0.0%"}},{"$f":"'Daten Projektion'!L36","v":{"v":0,"d":"0.0%"}},{"$f":"'Daten Projektion'!M36","v":{"v":0,"d":"0.0%"}},{"$f":"'Daten Projektion'!N36-SUMIFS(Umschichtung!$K$13:$K$18,Umschichtung!$I$13:$I$18,Daten_Umschichtung!$C29,Umschichtung!$J$13:$J$18,Daten_Umschichtung!N$5)-SUMIFS(Umschichtung!$M$13:$M$18,Umschichtung!$I$13:$I$18,Daten_Umschichtung!$C29,Umschichtung!$J$13:$J$18,Daten_Umschichtung!N$5)","v":0},{"$f":"N29+N29*Vermögen!$V34-SUMIFS(Umschichtung!$K$13:$K$18,Umschichtung!$I$13:$I$18,Daten_Umschichtung!$C29,Umschichtung!$J$13:$J$18,Daten_Umschichtung!O$5)-SUMIFS(Umschichtung!$M$13:$M$18,Umschichtung!$I$13:$I$18,Daten_Umschichtung!$C29,Umschichtung!$J$13:$J$18,Daten_Umschichtung!O$5)","v":0},{"$f":"O29+O29*Vermögen!$V34-SUMIFS(Umschichtung!$K$13:$K$18,Umschichtung!$I$13:$I$18,Daten_Umschichtung!$C29,Umschichtung!$J$13:$J$18,Daten_Umschichtung!P$5)-SUMIFS(Umschichtung!$M$13:$M$18,Umschichtung!$I$13:$I$18,Daten_Umschichtung!$C29,Umschichtung!$J$13:$J$18,Daten_Umschichtung!P$5)","v":0},{"$f":"P29+P29*Vermögen!$V34-SUMIFS(Umschichtung!$K$13:$K$18,Umschichtung!$I$13:$I$18,Daten_Umschichtung!$C29,Umschichtung!$J$13:$J$18,Daten_Umschichtung!Q$5)-SUMIFS(Umschichtung!$M$13:$M$18,Umschichtung!$I$13:$I$18,Daten_Umschichtung!$C29,Umschichtung!$J$13:$J$18,Daten_Umschichtung!Q$5)","v":0},{"$f":"Q29+Q29*Vermögen!$V34-SUMIFS(Umschichtung!$K$13:$K$18,Umschichtung!$I$13:$I$18,Daten_Umschichtung!$C29,Umschichtung!$J$13:$J$18,Daten_Umschichtung!R$5)-SUMIFS(Umschichtung!$M$13:$M$18,Umschichtung!$I$13:$I$18,Daten_Umschichtung!$C29,Umschichtung!$J$13:$J$18,Daten_Umschichtung!R$5)","v":0},{"$f":"R29+R29*Vermögen!$V34-SUMIFS(Umschichtung!$K$13:$K$18,Umschichtung!$I$13:$I$18,Daten_Umschichtung!$C29,Umschichtung!$J$13:$J$18,Daten_Umschichtung!S$5)-SUMIFS(Umschichtung!$M$13:$M$18,Umschichtung!$I$13:$I$18,Daten_Umschichtung!$C29,Umschichtung!$J$13:$J$18,Daten_Umschichtung!S$5)","v":0},null,{"$f":"SUMIF(Umschichtung!$I$13:$I$18,Daten_Umschichtung!C29,Umschichtung!$K$13:$K$18)","v":0},null,{"$f":"IF(Vermögen!G34=\"Ja\",\"\",Vermögen!F34)","v":0}]
[null,{"$f":"Daten_Vermögen!A68","v":"25."},{"$f":"Daten_Vermögen!B68","v":0},{"$f":"Vermögen!I35","v":"Bitte auswählen"},{"$f":"'Daten Projektion'!E37","v":{"v":0,"d":"0.0%"}},{"$f":"'Daten Projektion'!F37","v":{"v":0,"d":"0.0%"}},{"$f":"'Daten Projektion'!G37","v":{"v":0,"d":"0.0%"}},{"$f":"'Daten Projektion'!H37","v":{"v":0,"d":"0.0%"}},{"$f":"'Daten Projektion'!I37","v":{"v":0,"d":"0.0%"}},{"$f":"'Daten Projektion'!J37","v":{"v":0,"d":"0.0%"}},{"$f":"'Daten Projektion'!K37","v":{"v":0,"d":"0.0%"}},{"$f":"'Daten Projektion'!L37","v":{"v":0,"d":"0.0%"}},{"$f":"'Daten Projektion'!M37","v":{"v":0,"d":"0.0%"}},{"$f":"'Daten Projektion'!N37-SUMIFS(Umschichtung!$K$13:$K$18,Umschichtung!$I$13:$I$18,Daten_Umschichtung!$C30,Umschichtung!$J$13:$J$18,Daten_Umschichtung!N$5)-SUMIFS(Umschichtung!$M$13:$M$18,Umschichtung!$I$13:$I$18,Daten_Umschichtung!$C30,Umschichtung!$J$13:$J$18,Daten_Umschichtung!N$5)","v":0},{"$f":"N30+N30*Vermögen!$V35-SUMIFS(Umschichtung!$K$13:$K$18,Umschichtung!$I$13:$I$18,Daten_Umschichtung!$C30,Umschichtung!$J$13:$J$18,Daten_Umschichtung!O$5)-SUMIFS(Umschichtung!$M$13:$M$18,Umschichtung!$I$13:$I$18,Daten_Umschichtung!$C30,Umschichtung!$J$13:$J$18,Daten_Umschichtung!O$5)","v":0},{"$f":"O30+O30*Vermögen!$V35-SUMIFS(Umschichtung!$K$13:$K$18,Umschichtung!$I$13:$I$18,Daten_Umschichtung!$C30,Umschichtung!$J$13:$J$18,Daten_Umschichtung!P$5)-SUMIFS(Umschichtung!$M$13:$M$18,Umschichtung!$I$13:$I$18,Daten_Umschichtung!$C30,Umschichtung!$J$13:$J$18,Daten_Umschichtung!P$5)","v":0},{"$f":"P30+P30*Vermögen!$V35-SUMIFS(Umschichtung!$K$13:$K$18,Umschichtung!$I$13:$I$18,Daten_Umschichtung!$C30,Umschichtung!$J$13:$J$18,Daten_Umschichtung!Q$5)-SUMIFS(Umschichtung!$M$13:$M$18,Umschichtung!$I$13:$I$18,Daten_Umschichtung!$C30,Umschichtung!$J$13:$J$18,Daten_Umschichtung!Q$5)","v":0},{"$f":"Q30+Q30*Vermögen!$V35-SUMIFS(Umschichtung!$K$13:$K$18,Umschichtung!$I$13:$I$18,Daten_Umschichtung!$C30,Umschichtung!$J$13:$J$18,Daten_Umschichtung!R$5)-SUMIFS(Umschichtung!$M$13:$M$18,Umschichtung!$I$13:$I$18,Daten_Umschichtung!$C30,Umschichtung!$J$13:$J$18,Daten_Umschichtung!R$5)","v":0},{"$f":"R30+R30*Vermögen!$V35-SUMIFS(Umschichtung!$K$13:$K$18,Umschichtung!$I$13:$I$18,Daten_Umschichtung!$C30,Umschichtung!$J$13:$J$18,Daten_Umschichtung!S$5)-SUMIFS(Umschichtung!$M$13:$M$18,Umschichtung!$I$13:$I$18,Daten_Umschichtung!$C30,Umschichtung!$J$13:$J$18,Daten_Umschichtung!S$5)","v":0},null,{"$f":"SUMIF(Umschichtung!$I$13:$I$18,Daten_Umschichtung!C30,Umschichtung!$K$13:$K$18)","v":0},null,{"$f":"IF(Vermögen!G35=\"Ja\",\"\",Vermögen!F35)","v":0}]
[null,{"$f":"Daten_Vermögen!A69","v":"26."},{"$f":"Daten_Vermögen!B69","v":0},{"$f":"Vermögen!I36","v":"Bitte auswählen"},{"$f":"'Daten Projektion'!E38","v":{"v":0,"d":"0.0%"}},{"$f":"'Daten Projektion'!F38","v":{"v":0,"d":"0.0%"}},{"$f":"'Daten Projektion'!G38","v":{"v":0,"d":"0.0%"}},{"$f":"'Daten Projektion'!H38","v":{"v":0,"d":"0.0%"}},{"$f":"'Daten Projektion'!I38","v":{"v":0,"d":"0.0%"}},{"$f":"'Daten Projektion'!J38","v":{"v":0,"d":"0.0%"}},{"$f":"'Daten Projektion'!K38","v":{"v":0,"d":"0.0%"}},{"$f":"'Daten Projektion'!L38","v":{"v":0,"d":"0.0%"}},{"$f":"'Daten Projektion'!M38","v":{"v":0,"d":"0.0%"}},{"$f":"'Daten Projektion'!N38-SUMIFS(Umschichtung!$K$13:$K$18,Umschichtung!$I$13:$I$18,Daten_Umschichtung!$C31,Umschichtung!$J$13:$J$18,Daten_Umschichtung!N$5)-SUMIFS(Umschichtung!$M$13:$M$18,Umschichtung!$I$13:$I$18,Daten_Umschichtung!$C31,Umschichtung!$J$13:$J$18,Daten_Umschichtung!N$5)","v":0},{"$f":"N31+N31*Vermögen!$V36-SUMIFS(Umschichtung!$K$13:$K$18,Umschichtung!$I$13:$I$18,Daten_Umschichtung!$C31,Umschichtung!$J$13:$J$18,Daten_Umschichtung!O$5)-SUMIFS(Umschichtung!$M$13:$M$18,Umschichtung!$I$13:$I$18,Daten_Umschichtung!$C31,Umschichtung!$J$13:$J$18,Daten_Umschichtung!O$5)","v":0},{"$f":"O31+O31*Vermögen!$V36-SUMIFS(Umschichtung!$K$13:$K$18,Umschichtung!$I$13:$I$18,Daten_Umschichtung!$C31,Umschichtung!$J$13:$J$18,Daten_Umschichtung!P$5)-SUMIFS(Umschichtung!$M$13:$M$18,Umschichtung!$I$13:$I$18,Daten_Umschichtung!$C31,Umschichtung!$J$13:$J$18,Daten_Umschichtung!P$5)","v":0},{"$f":"P31+P31*Vermögen!$V36-SUMIFS(Umschichtung!$K$13:$K$18,Umschichtung!$I$13:$I$18,Daten_Umschichtung!$C31,Umschichtung!$J$13:$J$18,Daten_Umschichtung!Q$5)-SUMIFS(Umschichtung!$M$13:$M$18,Umschichtung!$I$13:$I$18,Daten_Umschichtung!$C31,Umschichtung!$J$13:$J$18,Daten_Umschichtung!Q$5)","v":0},{"$f":"Q31+Q31*Vermögen!$V36-SUMIFS(Umschichtung!$K$13:$K$18,Umschichtung!$I$13:$I$18,Daten_Umschichtung!$C31,Umschichtung!$J$13:$J$18,Daten_Umschichtung!R$5)-SUMIFS(Umschichtung!$M$13:$M$18,Umschichtung!$I$13:$I$18,Daten_Umschichtung!$C31,Umschichtung!$J$13:$J$18,Daten_Umschichtung!R$5)","v":0},{"$f":"R31+R31*Vermögen!$V36-SUMIFS(Umschichtung!$K$13:$K$18,Umschichtung!$I$13:$I$18,Daten_Umschichtung!$C31,Umschichtung!$J$13:$J$18,Daten_Umschichtung!S$5)-SUMIFS(Umschichtung!$M$13:$M$18,Umschichtung!$I$13:$I$18,Daten_Umschichtung!$C31,Umschichtung!$J$13:$J$18,Daten_Umschichtung!S$5)","v":0},null,{"$f":"SUMIF(Umschichtung!$I$13:$I$18,Daten_Umschichtung!C31,Umschichtung!$K$13:$K$18)","v":0},null,{"$f":"IF(Vermögen!G36=\"Ja\",\"\",Vermögen!F36)","v":0}]
[null,{"$f":"Daten_Vermögen!A70","v":"27."},{"$f":"Daten_Vermögen!B70","v":0},{"$f":"Vermögen!I37","v":"Bitte auswählen"},{"$f":"'Daten Projektion'!E39","v":{"v":0,"d":"0.0%"}},{"$f":"'Daten Projektion'!F39","v":{"v":0,"d":"0.0%"}},{"$f":"'Daten Projektion'!G39","v":{"v":0,"d":"0.0%"}},{"$f":"'Daten Projektion'!H39","v":{"v":0,"d":"0.0%"}},{"$f":"'Daten Projektion'!I39","v":{"v":0,"d":"0.0%"}},{"$f":"'Daten Projektion'!J39","v":{"v":0,"d":"0.0%"}},{"$f":"'Daten Projektion'!K39","v":{"v":0,"d":"0.0%"}},{"$f":"'Daten Projektion'!L39","v":{"v":0,"d":"0.0%"}},{"$f":"'Daten Projektion'!M39","v":{"v":0,"d":"0.0%"}},{"$f":"'Daten Projektion'!N39-SUMIFS(Umschichtung!$K$13:$K$18,Umschichtung!$I$13:$I$18,Daten_Umschichtung!$C32,Umschichtung!$J$13:$J$18,Daten_Umschichtung!N$5)-SUMIFS(Umschichtung!$M$13:$M$18,Umschichtung!$I$13:$I$18,Daten_Umschichtung!$C32,Umschichtung!$J$13:$J$18,Daten_Umschichtung!N$5)","v":0},{"$f":"N32+N32*Vermögen!$V37-SUMIFS(Umschichtung!$K$13:$K$18,Umschichtung!$I$13:$I$18,Daten_Umschichtung!$C32,Umschichtung!$J$13:$J$18,Daten_Umschichtung!O$5)-SUMIFS(Umschichtung!$M$13:$M$18,Umschichtung!$I$13:$I$18,Daten_Umschichtung!$C32,Umschichtung!$J$13:$J$18,Daten_Umschichtung!O$5)","v":0},{"$f":"O32+O32*Vermögen!$V37-SUMIFS(Umschichtung!$K$13:$K$18,Umschichtung!$I$13:$I$18,Daten_Umschichtung!$C32,Umschichtung!$J$13:$J$18,Daten_Umschichtung!P$5)-SUMIFS(Umschichtung!$M$13:$M$18,Umschichtung!$I$13:$I$18,Daten_Umschichtung!$C32,Umschichtung!$J$13:$J$18,Daten_Umschichtung!P$5)","v":0},{"$f":"P32+P32*Vermögen!$V37-SUMIFS(Umschichtung!$K$13:$K$18,Umschichtung!$I$13:$I$18,Daten_Umschichtung!$C32,Umschichtung!$J$13:$J$18,Daten_Umschichtung!Q$5)-SUMIFS(Umschichtung!$M$13:$M$18,Umschichtung!$I$13:$I$18,Daten_Umschichtung!$C32,Umschichtung!$J$13:$J$18,Daten_Umschichtung!Q$5)","v":0},{"$f":"Q32+Q32*Vermögen!$V37-SUMIFS(Umschichtung!$K$13:$K$18,Umschichtung!$I$13:$I$18,Daten_Umschichtung!$C32,Umschichtung!$J$13:$J$18,Daten_Umschichtung!R$5)-SUMIFS(Umschichtung!$M$13:$M$18,Umschichtung!$I$13:$I$18,Daten_Umschichtung!$C32,Umschichtung!$J$13:$J$18,Daten_Umschichtung!R$5)","v":0},{"$f":"R32+R32*Vermögen!$V37-SUMIFS(Umschichtung!$K$13:$K$18,Umschichtung!$I$13:$I$18,Daten_Umschichtung!$C32,Umschichtung!$J$13:$J$18,Daten_Umschichtung!S$5)-SUMIFS(Umschichtung!$M$13:$M$18,Umschichtung!$I$13:$I$18,Daten_Umschichtung!$C32,Umschichtung!$J$13:$J$18,Daten_Umschichtung!S$5)","v":0},null,{"$f":"SUMIF(Umschichtung!$I$13:$I$18,Daten_Umschichtung!C32,Umschichtung!$K$13:$K$18)","v":0},null,{"$f":"IF(Vermögen!G37=\"Ja\",\"\",Vermögen!F37)","v":0}]
[null,{"$f":"Daten_Vermögen!A71","v":"28."},{"$f":"Daten_Vermögen!B71","v":0},{"$f":"Vermögen!I38","v":"Bitte auswählen"},{"$f":"'Daten Projektion'!E40","v":{"v":0,"d":"0.0%"}},{"$f":"'Daten Projektion'!F40","v":{"v":0,"d":"0.0%"}},{"$f":"'Daten Projektion'!G40","v":{"v":0,"d":"0.0%"}},{"$f":"'Daten Projektion'!H40","v":{"v":0,"d":"0.0%"}},{"$f":"'Daten Projektion'!I40","v":{"v":0,"d":"0.0%"}},{"$f":"'Daten Projektion'!J40","v":{"v":0,"d":"0.0%"}},{"$f":"'Daten Projektion'!K40","v":{"v":0,"d":"0.0%"}},{"$f":"'Daten Projektion'!L40","v":{"v":0,"d":"0.0%"}},{"$f":"'Daten Projektion'!M40","v":{"v":0,"d":"0.0%"}},{"$f":"'Daten Projektion'!N40-SUMIFS(Umschichtung!$K$13:$K$18,Umschichtung!$I$13:$I$18,Daten_Umschichtung!$C33,Umschichtung!$J$13:$J$18,Daten_Umschichtung!N$5)-SUMIFS(Umschichtung!$M$13:$M$18,Umschichtung!$I$13:$I$18,Daten_Umschichtung!$C33,Umschichtung!$J$13:$J$18,Daten_Umschichtung!N$5)","v":0},{"$f":"N33+N33*Vermögen!$V38-SUMIFS(Umschichtung!$K$13:$K$18,Umschichtung!$I$13:$I$18,Daten_Umschichtung!$C33,Umschichtung!$J$13:$J$18,Daten_Umschichtung!O$5)-SUMIFS(Umschichtung!$M$13:$M$18,Umschichtung!$I$13:$I$18,Daten_Umschichtung!$C33,Umschichtung!$J$13:$J$18,Daten_Umschichtung!O$5)","v":0},{"$f":"O33+O33*Vermögen!$V38-SUMIFS(Umschichtung!$K$13:$K$18,Umschichtung!$I$13:$I$18,Daten_Umschichtung!$C33,Umschichtung!$J$13:$J$18,Daten_Umschichtung!P$5)-SUMIFS(Umschichtung!$M$13:$M$18,Umschichtung!$I$13:$I$18,Daten_Umschichtung!$C33,Umschichtung!$J$13:$J$18,Daten_Umschichtung!P$5)","v":0},{"$f":"P33+P33*Vermögen!$V38-SUMIFS(Umschichtung!$K$13:$K$18,Umschichtung!$I$13:$I$18,Daten_Umschichtung!$C33,Umschichtung!$J$13:$J$18,Daten_Umschichtung!Q$5)-SUMIFS(Umschichtung!$M$13:$M$18,Umschichtung!$I$13:$I$18,Daten_Umschichtung!$C33,Umschichtung!$J$13:$J$18,Daten_Umschichtung!Q$5)","v":0},{"$f":"Q33+Q33*Vermögen!$V38-SUMIFS(Umschichtung!$K$13:$K$18,Umschichtung!$I$13:$I$18,Daten_Umschichtung!$C33,Umschichtung!$J$13:$J$18,Daten_Umschichtung!R$5)-SUMIFS(Umschichtung!$M$13:$M$18,Umschichtung!$I$13:$I$18,Daten_Umschichtung!$C33,Umschichtung!$J$13:$J$18,Daten_Umschichtung!R$5)","v":0},{"$f":"R33+R33*Vermögen!$V38-SUMIFS(Umschichtung!$K$13:$K$18,Umschichtung!$I$13:$I$18,Daten_Umschichtung!$C33,Umschichtung!$J$13:$J$18,Daten_Umschichtung!S$5)-SUMIFS(Umschichtung!$M$13:$M$18,Umschichtung!$I$13:$I$18,Daten_Umschichtung!$C33,Umschichtung!$J$13:$J$18,Daten_Umschichtung!S$5)","v":0},null,{"$f":"SUMIF(Umschichtung!$I$13:$I$18,Daten_Umschichtung!C33,Umschichtung!$K$13:$K$18)","v":0},null,{"$f":"IF(Vermögen!G38=\"Ja\",\"\",Vermögen!F38)","v":0}]
[null,{"$f":"Daten_Vermögen!A72","v":"29."},{"$f":"Daten_Vermögen!B72","v":0},{"$f":"Vermögen!I39","v":"Bitte auswählen"},{"$f":"'Daten Projektion'!E41","v":{"v":0,"d":"0.0%"}},{"$f":"'Daten Projektion'!F41","v":{"v":0,"d":"0.0%"}},{"$f":"'Daten Projektion'!G41","v":{"v":0,"d":"0.0%"}},{"$f":"'Daten Projektion'!H41","v":{"v":0,"d":"0.0%"}},{"$f":"'Daten Projektion'!I41","v":{"v":0,"d":"0.0%"}},{"$f":"'Daten Projektion'!J41","v":{"v":0,"d":"0.0%"}},{"$f":"'Daten Projektion'!K41","v":{"v":0,"d":"0.0%"}},{"$f":"'Daten Projektion'!L41","v":{"v":0,"d":"0.0%"}},{"$f":"'Daten Projektion'!M41","v":{"v":0,"d":"0.0%"}},{"$f":"'Daten Projektion'!N41-SUMIFS(Umschichtung!$K$13:$K$18,Umschichtung!$I$13:$I$18,Daten_Umschichtung!$C34,Umschichtung!$J$13:$J$18,Daten_Umschichtung!N$5)-SUMIFS(Umschichtung!$M$13:$M$18,Umschichtung!$I$13:$I$18,Daten_Umschichtung!$C34,Umschichtung!$J$13:$J$18,Daten_Umschichtung!N$5)","v":0},{"$f":"N34+N34*Vermögen!$V39-SUMIFS(Umschichtung!$K$13:$K$18,Umschichtung!$I$13:$I$18,Daten_Umschichtung!$C34,Umschichtung!$J$13:$J$18,Daten_Umschichtung!O$5)-SUMIFS(Umschichtung!$M$13:$M$18,Umschichtung!$I$13:$I$18,Daten_Umschichtung!$C34,Umschichtung!$J$13:$J$18,Daten_Umschichtung!O$5)","v":0},{"$f":"O34+O34*Vermögen!$V39-SUMIFS(Umschichtung!$K$13:$K$18,Umschichtung!$I$13:$I$18,Daten_Umschichtung!$C34,Umschichtung!$J$13:$J$18,Daten_Umschichtung!P$5)-SUMIFS(Umschichtung!$M$13:$M$18,Umschichtung!$I$13:$I$18,Daten_Umschichtung!$C34,Umschichtung!$J$13:$J$18,Daten_Umschichtung!P$5)","v":0},{"$f":"P34+P34*Vermögen!$V39-SUMIFS(Umschichtung!$K$13:$K$18,Umschichtung!$I$13:$I$18,Daten_Umschichtung!$C34,Umschichtung!$J$13:$J$18,Daten_Umschichtung!Q$5)-SUMIFS(Umschichtung!$M$13:$M$18,Umschichtung!$I$13:$I$18,Daten_Umschichtung!$C34,Umschichtung!$J$13:$J$18,Daten_Umschichtung!Q$5)","v":0},{"$f":"Q34+Q34*Vermögen!$V39-SUMIFS(Umschichtung!$K$13:$K$18,Umschichtung!$I$13:$I$18,Daten_Umschichtung!$C34,Umschichtung!$J$13:$J$18,Daten_Umschichtung!R$5)-SUMIFS(Umschichtung!$M$13:$M$18,Umschichtung!$I$13:$I$18,Daten_Umschichtung!$C34,Umschichtung!$J$13:$J$18,Daten_Umschichtung!R$5)","v":0},{"$f":"R34+R34*Vermögen!$V39-SUMIFS(Umschichtung!$K$13:$K$18,Umschichtung!$I$13:$I$18,Daten_Umschichtung!$C34,Umschichtung!$J$13:$J$18,Daten_Umschichtung!S$5)-SUMIFS(Umschichtung!$M$13:$M$18,Umschichtung!$I$13:$I$18,Daten_Umschichtung!$C34,Umschichtung!$J$13:$J$18,Daten_Umschichtung!S$5)","v":0},null,{"$f":"SUMIF(Umschichtung!$I$13:$I$18,Daten_Umschichtung!C34,Umschichtung!$K$13:$K$18)","v":0},null,{"$f":"IF(Vermögen!G39=\"Ja\",\"\",Vermögen!F39)","v":0}]
[null,{"$f":"Daten_Vermögen!A73","v":"30."},{"$f":"Daten_Vermögen!B73","v":0},{"$f":"Vermögen!I40","v":"Bitte auswählen"},{"$f":"'Daten Projektion'!E42","v":{"v":0,"d":"0.0%"}},{"$f":"'Daten Projektion'!F42","v":{"v":0,"d":"0.0%"}},{"$f":"'Daten Projektion'!G42","v":{"v":0,"d":"0.0%"}},{"$f":"'Daten Projektion'!H42","v":{"v":0,"d":"0.0%"}},{"$f":"'Daten Projektion'!I42","v":{"v":0,"d":"0.0%"}},{"$f":"'Daten Projektion'!J42","v":{"v":0,"d":"0.0%"}},{"$f":"'Daten Projektion'!K42","v":{"v":0,"d":"0.0%"}},{"$f":"'Daten Projektion'!L42","v":{"v":0,"d":"0.0%"}},{"$f":"'Daten Projektion'!M42","v":{"v":0,"d":"0.0%"}},{"$f":"'Daten Projektion'!N42-SUMIFS(Umschichtung!$K$13:$K$18,Umschichtung!$I$13:$I$18,Daten_Umschichtung!$C35,Umschichtung!$J$13:$J$18,Daten_Umschichtung!N$5)-SUMIFS(Umschichtung!$M$13:$M$18,Umschichtung!$I$13:$I$18,Daten_Umschichtung!$C35,Umschichtung!$J$13:$J$18,Daten_Umschichtung!N$5)","v":0},{"$f":"N35+N35*Vermögen!$V40-SUMIFS(Umschichtung!$K$13:$K$18,Umschichtung!$I$13:$I$18,Daten_Umschichtung!$C35,Umschichtung!$J$13:$J$18,Daten_Umschichtung!O$5)-SUMIFS(Umschichtung!$M$13:$M$18,Umschichtung!$I$13:$I$18,Daten_Umschichtung!$C35,Umschichtung!$J$13:$J$18,Daten_Umschichtung!O$5)","v":0},{"$f":"O35+O35*Vermögen!$V40-SUMIFS(Umschichtung!$K$13:$K$18,Umschichtung!$I$13:$I$18,Daten_Umschichtung!$C35,Umschichtung!$J$13:$J$18,Daten_Umschichtung!P$5)-SUMIFS(Umschichtung!$M$13:$M$18,Umschichtung!$I$13:$I$18,Daten_Umschichtung!$C35,Umschichtung!$J$13:$J$18,Daten_Umschichtung!P$5)","v":0},{"$f":"P35+P35*Vermögen!$V40-SUMIFS(Umschichtung!$K$13:$K$18,Umschichtung!$I$13:$I$18,Daten_Umschichtung!$C35,Umschichtung!$J$13:$J$18,Daten_Umschichtung!Q$5)-SUMIFS(Umschichtung!$M$13:$M$18,Umschichtung!$I$13:$I$18,Daten_Umschichtung!$C35,Umschichtung!$J$13:$J$18,Daten_Umschichtung!Q$5)","v":0},{"$f":"Q35+Q35*Vermögen!$V40-SUMIFS(Umschichtung!$K$13:$K$18,Umschichtung!$I$13:$I$18,Daten_Umschichtung!$C35,Umschichtung!$J$13:$J$18,Daten_Umschichtung!R$5)-SUMIFS(Umschichtung!$M$13:$M$18,Umschichtung!$I$13:$I$18,Daten_Umschichtung!$C35,Umschichtung!$J$13:$J$18,Daten_Umschichtung!R$5)","v":0},{"$f":"R35+R35*Vermögen!$V40-SUMIFS(Umschichtung!$K$13:$K$18,Umschichtung!$I$13:$I$18,Daten_Umschichtung!$C35,Umschichtung!$J$13:$J$18,Daten_Umschichtung!S$5)-SUMIFS(Umschichtung!$M$13:$M$18,Umschichtung!$I$13:$I$18,Daten_Umschichtung!$C35,Umschichtung!$J$13:$J$18,Daten_Umschichtung!S$5)","v":0},null,{"$f":"SUMIF(Umschichtung!$I$13:$I$18,Daten_Umschichtung!C35,Umschichtung!$K$13:$K$18)","v":0},null,{"$f":"IF(Vermögen!G40=\"Ja\",\"\",Vermögen!F40)","v":0}]
[null,{"$f":"Daten_Vermögen!A74","v":"31."},{"$f":"Daten_Vermögen!B74","v":0},{"$f":"Vermögen!I41","v":"Bitte auswählen"},{"$f":"'Daten Projektion'!E43","v":{"v":0,"d":"0.0%"}},{"$f":"'Daten Projektion'!F43","v":{"v":0,"d":"0.0%"}},{"$f":"'Daten Projektion'!G43","v":{"v":0,"d":"0.0%"}},{"$f":"'Daten Projektion'!H43","v":{"v":0,"d":"0.0%"}},{"$f":"'Daten Projektion'!I43","v":{"v":0,"d":"0.0%"}},{"$f":"'Daten Projektion'!J43","v":{"v":0,"d":"0.0%"}},{"$f":"'Daten Projektion'!K43","v":{"v":0,"d":"0.0%"}},{"$f":"'Daten Projektion'!L43","v":{"v":0,"d":"0.0%"}},{"$f":"'Daten Projektion'!M43","v":{"v":0,"d":"0.0%"}},{"$f":"'Daten Projektion'!N43-SUMIFS(Umschichtung!$K$13:$K$18,Umschichtung!$I$13:$I$18,Daten_Umschichtung!$C36,Umschichtung!$J$13:$J$18,Daten_Umschichtung!N$5)-SUMIFS(Umschichtung!$M$13:$M$18,Umschichtung!$I$13:$I$18,Daten_Umschichtung!$C36,Umschichtung!$J$13:$J$18,Daten_Umschichtung!N$5)","v":0},{"$f":"N36+N36*Vermögen!$V41-SUMIFS(Umschichtung!$K$13:$K$18,Umschichtung!$I$13:$I$18,Daten_Umschichtung!$C36,Umschichtung!$J$13:$J$18,Daten_Umschichtung!O$5)-SUMIFS(Umschichtung!$M$13:$M$18,Umschichtung!$I$13:$I$18,Daten_Umschichtung!$C36,Umschichtung!$J$13:$J$18,Daten_Umschichtung!O$5)","v":0},{"$f":"O36+O36*Vermögen!$V41-SUMIFS(Umschichtung!$K$13:$K$18,Umschichtung!$I$13:$I$18,Daten_Umschichtung!$C36,Umschichtung!$J$13:$J$18,Daten_Umschichtung!P$5)-SUMIFS(Umschichtung!$M$13:$M$18,Umschichtung!$I$13:$I$18,Daten_Umschichtung!$C36,Umschichtung!$J$13:$J$18,Daten_Umschichtung!P$5)","v":0},{"$f":"P36+P36*Vermögen!$V41-SUMIFS(Umschichtung!$K$13:$K$18,Umschichtung!$I$13:$I$18,Daten_Umschichtung!$C36,Umschichtung!$J$13:$J$18,Daten_Umschichtung!Q$5)-SUMIFS(Umschichtung!$M$13:$M$18,Umschichtung!$I$13:$I$18,Daten_Umschichtung!$C36,Umschichtung!$J$13:$J$18,Daten_Umschichtung!Q$5)","v":0},{"$f":"Q36+Q36*Vermögen!$V41-SUMIFS(Umschichtung!$K$13:$K$18,Umschichtung!$I$13:$I$18,Daten_Umschichtung!$C36,Umschichtung!$J$13:$J$18,Daten_Umschichtung!R$5)-SUMIFS(Umschichtung!$M$13:$M$18,Umschichtung!$I$13:$I$18,Daten_Umschichtung!$C36,Umschichtung!$J$13:$J$18,Daten_Umschichtung!R$5)","v":0},{"$f":"R36+R36*Vermögen!$V41-SUMIFS(Umschichtung!$K$13:$K$18,Umschichtung!$I$13:$I$18,Daten_Umschichtung!$C36,Umschichtung!$J$13:$J$18,Daten_Umschichtung!S$5)-SUMIFS(Umschichtung!$M$13:$M$18,Umschichtung!$I$13:$I$18,Daten_Umschichtung!$C36,Umschichtung!$J$13:$J$18,Daten_Umschichtung!S$5)","v":0},null,{"$f":"SUMIF(Umschichtung!$I$13:$I$18,Daten_Umschichtung!C36,Umschichtung!$K$13:$K$18)","v":0},null,{"$f":"IF(Vermögen!G41=\"Ja\",\"\",Vermögen!F41)","v":0}]
[null,{"$f":"Daten_Vermögen!A75","v":"32."},{"$f":"Daten_Vermögen!B75","v":0},{"$f":"Vermögen!I42","v":"Bitte auswählen"},{"$f":"'Daten Projektion'!E44","v":{"v":0,"d":"0.0%"}},{"$f":"'Daten Projektion'!F44","v":{"v":0,"d":"0.0%"}},{"$f":"'Daten Projektion'!G44","v":{"v":0,"d":"0.0%"}},{"$f":"'Daten Projektion'!H44","v":{"v":0,"d":"0.0%"}},{"$f":"'Daten Projektion'!I44","v":{"v":0,"d":"0.0%"}},{"$f":"'Daten Projektion'!J44","v":{"v":0,"d":"0.0%"}},{"$f":"'Daten Projektion'!K44","v":{"v":0,"d":"0.0%"}},{"$f":"'Daten Projektion'!L44","v":{"v":0,"d":"0.0%"}},{"$f":"'Daten Projektion'!M44","v":{"v":0,"d":"0.0%"}},{"$f":"'Daten Projektion'!N44-SUMIFS(Umschichtung!$K$13:$K$18,Umschichtung!$I$13:$I$18,Daten_Umschichtung!$C37,Umschichtung!$J$13:$J$18,Daten_Umschichtung!N$5)-SUMIFS(Umschichtung!$M$13:$M$18,Umschichtung!$I$13:$I$18,Daten_Umschichtung!$C37,Umschichtung!$J$13:$J$18,Daten_Umschichtung!N$5)","v":0},{"$f":"N37+N37*Vermögen!$V42-SUMIFS(Umschichtung!$K$13:$K$18,Umschichtung!$I$13:$I$18,Daten_Umschichtung!$C37,Umschichtung!$J$13:$J$18,Daten_Umschichtung!O$5)-SUMIFS(Umschichtung!$M$13:$M$18,Umschichtung!$I$13:$I$18,Daten_Umschichtung!$C37,Umschichtung!$J$13:$J$18,Daten_Umschichtung!O$5)","v":0},{"$f":"O37+O37*Vermögen!$V42-SUMIFS(Umschichtung!$K$13:$K$18,Umschichtung!$I$13:$I$18,Daten_Umschichtung!$C37,Umschichtung!$J$13:$J$18,Daten_Umschichtung!P$5)-SUMIFS(Umschichtung!$M$13:$M$18,Umschichtung!$I$13:$I$18,Daten_Umschichtung!$C37,Umschichtung!$J$13:$J$18,Daten_Umschichtung!P$5)","v":0},{"$f":"P37+P37*Vermögen!$V42-SUMIFS(Umschichtung!$K$13:$K$18,Umschichtung!$I$13:$I$18,Daten_Umschichtung!$C37,Umschichtung!$J$13:$J$18,Daten_Umschichtung!Q$5)-SUMIFS(Umschichtung!$M$13:$M$18,Umschichtung!$I$13:$I$18,Daten_Umschichtung!$C37,Umschichtung!$J$13:$J$18,Daten_Umschichtung!Q$5)","v":0},{"$f":"Q37+Q37*Vermögen!$V42-SUMIFS(Umschichtung!$K$13:$K$18,Umschichtung!$I$13:$I$18,Daten_Umschichtung!$C37,Umschichtung!$J$13:$J$18,Daten_Umschichtung!R$5)-SUMIFS(Umschichtung!$M$13:$M$18,Umschichtung!$I$13:$I$18,Daten_Umschichtung!$C37,Umschichtung!$J$13:$J$18,Daten_Umschichtung!R$5)","v":0},{"$f":"R37+R37*Vermögen!$V42-SUMIFS(Umschichtung!$K$13:$K$18,Umschichtung!$I$13:$I$18,Daten_Umschichtung!$C37,Umschichtung!$J$13:$J$18,Daten_Umschichtung!S$5)-SUMIFS(Umschichtung!$M$13:$M$18,Umschichtung!$I$13:$I$18,Daten_Umschichtung!$C37,Umschichtung!$J$13:$J$18,Daten_Umschichtung!S$5)","v":0},null,{"$f":"SUMIF(Umschichtung!$I$13:$I$18,Daten_Umschichtung!C37,Umschichtung!$K$13:$K$18)","v":0},null,{"$f":"IF(Vermögen!G42=\"Ja\",\"\",Vermögen!F42)","v":0}]
[null,{"$f":"Daten_Vermögen!A76","v":"33."},{"$f":"Daten_Vermögen!B76","v":0},{"$f":"Vermögen!I43","v":"Bitte auswählen"},{"$f":"'Daten Projektion'!E45","v":{"v":0,"d":"0.0%"}},{"$f":"'Daten Projektion'!F45","v":{"v":0,"d":"0.0%"}},{"$f":"'Daten Projektion'!G45","v":{"v":0,"d":"0.0%"}},{"$f":"'Daten Projektion'!H45","v":{"v":0,"d":"0.0%"}},{"$f":"'Daten Projektion'!I45","v":{"v":0,"d":"0.0%"}},{"$f":"'Daten Projektion'!J45","v":{"v":0,"d":"0.0%"}},{"$f":"'Daten Projektion'!K45","v":{"v":0,"d":"0.0%"}},{"$f":"'Daten Projektion'!L45","v":{"v":0,"d":"0.0%"}},{"$f":"'Daten Projektion'!M45","v":{"v":0,"d":"0.0%"}},{"$f":"'Daten Projektion'!N45-SUMIFS(Umschichtung!$K$13:$K$18,Umschichtung!$I$13:$I$18,Daten_Umschichtung!$C38,Umschichtung!$J$13:$J$18,Daten_Umschichtung!N$5)-SUMIFS(Umschichtung!$M$13:$M$18,Umschichtung!$I$13:$I$18,Daten_Umschichtung!$C38,Umschichtung!$J$13:$J$18,Daten_Umschichtung!N$5)","v":0},{"$f":"N38+N38*Vermögen!$V43-SUMIFS(Umschichtung!$K$13:$K$18,Umschichtung!$I$13:$I$18,Daten_Umschichtung!$C38,Umschichtung!$J$13:$J$18,Daten_Umschichtung!O$5)-SUMIFS(Umschichtung!$M$13:$M$18,Umschichtung!$I$13:$I$18,Daten_Umschichtung!$C38,Umschichtung!$J$13:$J$18,Daten_Umschichtung!O$5)","v":0},{"$f":"O38+O38*Vermögen!$V43-SUMIFS(Umschichtung!$K$13:$K$18,Umschichtung!$I$13:$I$18,Daten_Umschichtung!$C38,Umschichtung!$J$13:$J$18,Daten_Umschichtung!P$5)-SUMIFS(Umschichtung!$M$13:$M$18,Umschichtung!$I$13:$I$18,Daten_Umschichtung!$C38,Umschichtung!$J$13:$J$18,Daten_Umschichtung!P$5)","v":0},{"$f":"P38+P38*Vermögen!$V43-SUMIFS(Umschichtung!$K$13:$K$18,Umschichtung!$I$13:$I$18,Daten_Umschichtung!$C38,Umschichtung!$J$13:$J$18,Daten_Umschichtung!Q$5)-SUMIFS(Umschichtung!$M$13:$M$18,Umschichtung!$I$13:$I$18,Daten_Umschichtung!$C38,Umschichtung!$J$13:$J$18,Daten_Umschichtung!Q$5)","v":0},{"$f":"Q38+Q38*Vermögen!$V43-SUMIFS(Umschichtung!$K$13:$K$18,Umschichtung!$I$13:$I$18,Daten_Umschichtung!$C38,Umschichtung!$J$13:$J$18,Daten_Umschichtung!R$5)-SUMIFS(Umschichtung!$M$13:$M$18,Umschichtung!$I$13:$I$18,Daten_Umschichtung!$C38,Umschichtung!$J$13:$J$18,Daten_Umschichtung!R$5)","v":0},{"$f":"R38+R38*Vermögen!$V43-SUMIFS(Umschichtung!$K$13:$K$18,Umschichtung!$I$13:$I$18,Daten_Umschichtung!$C38,Umschichtung!$J$13:$J$18,Daten_Umschichtung!S$5)-SUMIFS(Umschichtung!$M$13:$M$18,Umschichtung!$I$13:$I$18,Daten_Umschichtung!$C38,Umschichtung!$J$13:$J$18,Daten_Umschichtung!S$5)","v":0},null,{"$f":"SUMIF(Umschichtung!$I$13:$I$18,Daten_Umschichtung!C38,Umschichtung!$K$13:$K$18)","v":0},null,{"$f":"IF(Vermögen!G43=\"Ja\",\"\",Vermögen!F43)","v":0}]
[null,{"$f":"Daten_Vermögen!A77","v":"34."},{"$f":"Daten_Vermögen!B77","v":0},{"$f":"Vermögen!I44","v":"Bitte auswählen"},{"$f":"'Daten Projektion'!E46","v":{"v":0,"d":"0.0%"}},{"$f":"'Daten Projektion'!F46","v":{"v":0,"d":"0.0%"}},{"$f":"'Daten Projektion'!G46","v":{"v":0,"d":"0.0%"}},{"$f":"'Daten Projektion'!H46","v":{"v":0,"d":"0.0%"}},{"$f":"'Daten Projektion'!I46","v":{"v":0,"d":"0.0%"}},{"$f":"'Daten Projektion'!J46","v":{"v":0,"d":"0.0%"}},{"$f":"'Daten Projektion'!K46","v":{"v":0,"d":"0.0%"}},{"$f":"'Daten Projektion'!L46","v":{"v":0,"d":"0.0%"}},{"$f":"'Daten Projektion'!M46","v":{"v":0,"d":"0.0%"}},{"$f":"'Daten Projektion'!N46-SUMIFS(Umschichtung!$K$13:$K$18,Umschichtung!$I$13:$I$18,Daten_Umschichtung!$C39,Umschichtung!$J$13:$J$18,Daten_Umschichtung!N$5)-SUMIFS(Umschichtung!$M$13:$M$18,Umschichtung!$I$13:$I$18,Daten_Umschichtung!$C39,Umschichtung!$J$13:$J$18,Daten_Umschichtung!N$5)","v":0},{"$f":"N39+N39*Vermögen!$V44-SUMIFS(Umschichtung!$K$13:$K$18,Umschichtung!$I$13:$I$18,Daten_Umschichtung!$C39,Umschichtung!$J$13:$J$18,Daten_Umschichtung!O$5)-SUMIFS(Umschichtung!$M$13:$M$18,Umschichtung!$I$13:$I$18,Daten_Umschichtung!$C39,Umschichtung!$J$13:$J$18,Daten_Umschichtung!O$5)","v":0},{"$f":"O39+O39*Vermögen!$V44-SUMIFS(Umschichtung!$K$13:$K$18,Umschichtung!$I$13:$I$18,Daten_Umschichtung!$C39,Umschichtung!$J$13:$J$18,Daten_Umschichtung!P$5)-SUMIFS(Umschichtung!$M$13:$M$18,Umschichtung!$I$13:$I$18,Daten_Umschichtung!$C39,Umschichtung!$J$13:$J$18,Daten_Umschichtung!P$5)","v":0},{"$f":"P39+P39*Vermögen!$V44-SUMIFS(Umschichtung!$K$13:$K$18,Umschichtung!$I$13:$I$18,Daten_Umschichtung!$C39,Umschichtung!$J$13:$J$18,Daten_Umschichtung!Q$5)-SUMIFS(Umschichtung!$M$13:$M$18,Umschichtung!$I$13:$I$18,Daten_Umschichtung!$C39,Umschichtung!$J$13:$J$18,Daten_Umschichtung!Q$5)","v":0},{"$f":"Q39+Q39*Vermögen!$V44-SUMIFS(Umschichtung!$K$13:$K$18,Umschichtung!$I$13:$I$18,Daten_Umschichtung!$C39,Umschichtung!$J$13:$J$18,Daten_Umschichtung!R$5)-SUMIFS(Umschichtung!$M$13:$M$18,Umschichtung!$I$13:$I$18,Daten_Umschichtung!$C39,Umschichtung!$J$13:$J$18,Daten_Umschichtung!R$5)","v":0},{"$f":"R39+R39*Vermögen!$V44-SUMIFS(Umschichtung!$K$13:$K$18,Umschichtung!$I$13:$I$18,Daten_Umschichtung!$C39,Umschichtung!$J$13:$J$18,Daten_Umschichtung!S$5)-SUMIFS(Umschichtung!$M$13:$M$18,Umschichtung!$I$13:$I$18,Daten_Umschichtung!$C39,Umschichtung!$J$13:$J$18,Daten_Umschichtung!S$5)","v":0},null,{"$f":"SUMIF(Umschichtung!$I$13:$I$18,Daten_Umschichtung!C39,Umschichtung!$K$13:$K$18)","v":0},null,{"$f":"IF(Vermögen!G44=\"Ja\",\"\",Vermögen!F44)","v":0}]
[null,{"$f":"Daten_Vermögen!A78","v":"35."},{"$f":"Daten_Vermögen!B78","v":0},{"$f":"Vermögen!I45","v":"Bitte auswählen"},{"$f":"'Daten Projektion'!E47","v":{"v":0,"d":"0.0%"}},{"$f":"'Daten Projektion'!F47","v":{"v":0,"d":"0.0%"}},{"$f":"'Daten Projektion'!G47","v":{"v":0,"d":"0.0%"}},{"$f":"'Daten Projektion'!H47","v":{"v":0,"d":"0.0%"}},{"$f":"'Daten Projektion'!I47","v":{"v":0,"d":"0.0%"}},{"$f":"'Daten Projektion'!J47","v":{"v":0,"d":"0.0%"}},{"$f":"'Daten Projektion'!K47","v":{"v":0,"d":"0.0%"}},{"$f":"'Daten Projektion'!L47","v":{"v":0,"d":"0.0%"}},{"$f":"'Daten Projektion'!M47","v":{"v":0,"d":"0.0%"}},{"$f":"'Daten Projektion'!N47-SUMIFS(Umschichtung!$K$13:$K$18,Umschichtung!$I$13:$I$18,Daten_Umschichtung!$C40,Umschichtung!$J$13:$J$18,Daten_Umschichtung!N$5)-SUMIFS(Umschichtung!$M$13:$M$18,Umschichtung!$I$13:$I$18,Daten_Umschichtung!$C40,Umschichtung!$J$13:$J$18,Daten_Umschichtung!N$5)","v":0},{"$f":"N40+N40*Vermögen!$V45-SUMIFS(Umschichtung!$K$13:$K$18,Umschichtung!$I$13:$I$18,Daten_Umschichtung!$C40,Umschichtung!$J$13:$J$18,Daten_Umschichtung!O$5)-SUMIFS(Umschichtung!$M$13:$M$18,Umschichtung!$I$13:$I$18,Daten_Umschichtung!$C40,Umschichtung!$J$13:$J$18,Daten_Umschichtung!O$5)","v":0},{"$f":"O40+O40*Vermögen!$V45-SUMIFS(Umschichtung!$K$13:$K$18,Umschichtung!$I$13:$I$18,Daten_Umschichtung!$C40,Umschichtung!$J$13:$J$18,Daten_Umschichtung!P$5)-SUMIFS(Umschichtung!$M$13:$M$18,Umschichtung!$I$13:$I$18,Daten_Umschichtung!$C40,Umschichtung!$J$13:$J$18,Daten_Umschichtung!P$5)","v":0},{"$f":"P40+P40*Vermögen!$V45-SUMIFS(Umschichtung!$K$13:$K$18,Umschichtung!$I$13:$I$18,Daten_Umschichtung!$C40,Umschichtung!$J$13:$J$18,Daten_Umschichtung!Q$5)-SUMIFS(Umschichtung!$M$13:$M$18,Umschichtung!$I$13:$I$18,Daten_Umschichtung!$C40,Umschichtung!$J$13:$J$18,Daten_Umschichtung!Q$5)","v":0},{"$f":"Q40+Q40*Vermögen!$V45-SUMIFS(Umschichtung!$K$13:$K$18,Umschichtung!$I$13:$I$18,Daten_Umschichtung!$C40,Umschichtung!$J$13:$J$18,Daten_Umschichtung!R$5)-SUMIFS(Umschichtung!$M$13:$M$18,Umschichtung!$I$13:$I$18,Daten_Umschichtung!$C40,Umschichtung!$J$13:$J$18,Daten_Umschichtung!R$5)","v":0},{"$f":"R40+R40*Vermögen!$V45-SUMIFS(Umschichtung!$K$13:$K$18,Umschichtung!$I$13:$I$18,Daten_Umschichtung!$C40,Umschichtung!$J$13:$J$18,Daten_Umschichtung!S$5)-SUMIFS(Umschichtung!$M$13:$M$18,Umschichtung!$I$13:$I$18,Daten_Umschichtung!$C40,Umschichtung!$J$13:$J$18,Daten_Umschichtung!S$5)","v":0},null,{"$f":"SUMIF(Umschichtung!$I$13:$I$18,Daten_Umschichtung!C40,Umschichtung!$K$13:$K$18)","v":0},null,{"$f":"IF(Vermögen!G45=\"Ja\",\"\",Vermögen!F45)","v":0}]
[null,{"$f":"Daten_Vermögen!A79","v":"36."},{"$f":"Daten_Vermögen!B79","v":0},{"$f":"Vermögen!I46","v":"Bitte auswählen"},{"$f":"'Daten Projektion'!E48","v":{"v":0,"d":"0.0%"}},{"$f":"'Daten Projektion'!F48","v":{"v":0,"d":"0.0%"}},{"$f":"'Daten Projektion'!G48","v":{"v":0,"d":"0.0%"}},{"$f":"'Daten Projektion'!H48","v":{"v":0,"d":"0.0%"}},{"$f":"'Daten Projektion'!I48","v":{"v":0,"d":"0.0%"}},{"$f":"'Daten Projektion'!J48","v":{"v":0,"d":"0.0%"}},{"$f":"'Daten Projektion'!K48","v":{"v":0,"d":"0.0%"}},{"$f":"'Daten Projektion'!L48","v":{"v":0,"d":"0.0%"}},{"$f":"'Daten Projektion'!M48","v":{"v":0,"d":"0.0%"}},{"$f":"'Daten Projektion'!N48-SUMIFS(Umschichtung!$K$13:$K$18,Umschichtung!$I$13:$I$18,Daten_Umschichtung!$C41,Umschichtung!$J$13:$J$18,Daten_Umschichtung!N$5)-SUMIFS(Umschichtung!$M$13:$M$18,Umschichtung!$I$13:$I$18,Daten_Umschichtung!$C41,Umschichtung!$J$13:$J$18,Daten_Umschichtung!N$5)","v":0},{"$f":"N41+N41*Vermögen!$V46-SUMIFS(Umschichtung!$K$13:$K$18,Umschichtung!$I$13:$I$18,Daten_Umschichtung!$C41,Umschichtung!$J$13:$J$18,Daten_Umschichtung!O$5)-SUMIFS(Umschichtung!$M$13:$M$18,Umschichtung!$I$13:$I$18,Daten_Umschichtung!$C41,Umschichtung!$J$13:$J$18,Daten_Umschichtung!O$5)","v":0},{"$f":"O41+O41*Vermögen!$V46-SUMIFS(Umschichtung!$K$13:$K$18,Umschichtung!$I$13:$I$18,Daten_Umschichtung!$C41,Umschichtung!$J$13:$J$18,Daten_Umschichtung!P$5)-SUMIFS(Umschichtung!$M$13:$M$18,Umschichtung!$I$13:$I$18,Daten_Umschichtung!$C41,Umschichtung!$J$13:$J$18,Daten_Umschichtung!P$5)","v":0},{"$f":"P41+P41*Vermögen!$V46-SUMIFS(Umschichtung!$K$13:$K$18,Umschichtung!$I$13:$I$18,Daten_Umschichtung!$C41,Umschichtung!$J$13:$J$18,Daten_Umschichtung!Q$5)-SUMIFS(Umschichtung!$M$13:$M$18,Umschichtung!$I$13:$I$18,Daten_Umschichtung!$C41,Umschichtung!$J$13:$J$18,Daten_Umschichtung!Q$5)","v":0},{"$f":"Q41+Q41*Vermögen!$V46-SUMIFS(Umschichtung!$K$13:$K$18,Umschichtung!$I$13:$I$18,Daten_Umschichtung!$C41,Umschichtung!$J$13:$J$18,Daten_Umschichtung!R$5)-SUMIFS(Umschichtung!$M$13:$M$18,Umschichtung!$I$13:$I$18,Daten_Umschichtung!$C41,Umschichtung!$J$13:$J$18,Daten_Umschichtung!R$5)","v":0},{"$f":"R41+R41*Vermögen!$V46-SUMIFS(Umschichtung!$K$13:$K$18,Umschichtung!$I$13:$I$18,Daten_Umschichtung!$C41,Umschichtung!$J$13:$J$18,Daten_Umschichtung!S$5)-SUMIFS(Umschichtung!$M$13:$M$18,Umschichtung!$I$13:$I$18,Daten_Umschichtung!$C41,Umschichtung!$J$13:$J$18,Daten_Umschichtung!S$5)","v":0},null,{"$f":"SUMIF(Umschichtung!$I$13:$I$18,Daten_Umschichtung!C41,Umschichtung!$K$13:$K$18)","v":0},null,{"$f":"IF(Vermögen!G46=\"Ja\",\"\",Vermögen!F46)","v":0}]
[null,{"$f":"Daten_Vermögen!A80","v":"37."},{"$f":"Daten_Vermögen!B80","v":0},{"$f":"Vermögen!I47","v":"Bitte auswählen"},{"$f":"'Daten Projektion'!E49","v":{"v":0,"d":"0.0%"}},{"$f":"'Daten Projektion'!F49","v":{"v":0,"d":"0.0%"}},{"$f":"'Daten Projektion'!G49","v":{"v":0,"d":"0.0%"}},{"$f":"'Daten Projektion'!H49","v":{"v":0,"d":"0.0%"}},{"$f":"'Daten Projektion'!I49","v":{"v":0,"d":"0.0%"}},{"$f":"'Daten Projektion'!J49","v":{"v":0,"d":"0.0%"}},{"$f":"'Daten Projektion'!K49","v":{"v":0,"d":"0.0%"}},{"$f":"'Daten Projektion'!L49","v":{"v":0,"d":"0.0%"}},{"$f":"'Daten Projektion'!M49","v":{"v":0,"d":"0.0%"}},{"$f":"'Daten Projektion'!N49-SUMIFS(Umschichtung!$K$13:$K$18,Umschichtung!$I$13:$I$18,Daten_Umschichtung!$C42,Umschichtung!$J$13:$J$18,Daten_Umschichtung!N$5)-SUMIFS(Umschichtung!$M$13:$M$18,Umschichtung!$I$13:$I$18,Daten_Umschichtung!$C42,Umschichtung!$J$13:$J$18,Daten_Umschichtung!N$5)","v":0},{"$f":"N42+N42*Vermögen!$V47-SUMIFS(Umschichtung!$K$13:$K$18,Umschichtung!$I$13:$I$18,Daten_Umschichtung!$C42,Umschichtung!$J$13:$J$18,Daten_Umschichtung!O$5)-SUMIFS(Umschichtung!$M$13:$M$18,Umschichtung!$I$13:$I$18,Daten_Umschichtung!$C42,Umschichtung!$J$13:$J$18,Daten_Umschichtung!O$5)","v":0},{"$f":"O42+O42*Vermögen!$V47-SUMIFS(Umschichtung!$K$13:$K$18,Umschichtung!$I$13:$I$18,Daten_Umschichtung!$C42,Umschichtung!$J$13:$J$18,Daten_Umschichtung!P$5)-SUMIFS(Umschichtung!$M$13:$M$18,Umschichtung!$I$13:$I$18,Daten_Umschichtung!$C42,Umschichtung!$J$13:$J$18,Daten_Umschichtung!P$5)","v":0},{"$f":"P42+P42*Vermögen!$V47-SUMIFS(Umschichtung!$K$13:$K$18,Umschichtung!$I$13:$I$18,Daten_Umschichtung!$C42,Umschichtung!$J$13:$J$18,Daten_Umschichtung!Q$5)-SUMIFS(Umschichtung!$M$13:$M$18,Umschichtung!$I$13:$I$18,Daten_Umschichtung!$C42,Umschichtung!$J$13:$J$18,Daten_Umschichtung!Q$5)","v":0},{"$f":"Q42+Q42*Vermögen!$V47-SUMIFS(Umschichtung!$K$13:$K$18,Umschichtung!$I$13:$I$18,Daten_Umschichtung!$C42,Umschichtung!$J$13:$J$18,Daten_Umschichtung!R$5)-SUMIFS(Umschichtung!$M$13:$M$18,Umschichtung!$I$13:$I$18,Daten_Umschichtung!$C42,Umschichtung!$J$13:$J$18,Daten_Umschichtung!R$5)","v":0},{"$f":"R42+R42*Vermögen!$V47-SUMIFS(Umschichtung!$K$13:$K$18,Umschichtung!$I$13:$I$18,Daten_Umschichtung!$C42,Umschichtung!$J$13:$J$18,Daten_Umschichtung!S$5)-SUMIFS(Umschichtung!$M$13:$M$18,Umschichtung!$I$13:$I$18,Daten_Umschichtung!$C42,Umschichtung!$J$13:$J$18,Daten_Umschichtung!S$5)","v":0},null,{"$f":"SUMIF(Umschichtung!$I$13:$I$18,Daten_Umschichtung!C42,Umschichtung!$K$13:$K$18)","v":0},null,{"$f":"IF(Vermögen!G47=\"Ja\",\"\",Vermögen!F47)","v":0}]
[null,{"$f":"Daten_Vermögen!A81","v":"38."},{"$f":"Daten_Vermögen!B81","v":0},{"$f":"Vermögen!I48","v":"Bitte auswählen"},{"$f":"'Daten Projektion'!E50","v":{"v":0,"d":"0.0%"}},{"$f":"'Daten Projektion'!F50","v":{"v":0,"d":"0.0%"}},{"$f":"'Daten Projektion'!G50","v":{"v":0,"d":"0.0%"}},{"$f":"'Daten Projektion'!H50","v":{"v":0,"d":"0.0%"}},{"$f":"'Daten Projektion'!I50","v":{"v":0,"d":"0.0%"}},{"$f":"'Daten Projektion'!J50","v":{"v":0,"d":"0.0%"}},{"$f":"'Daten Projektion'!K50","v":{"v":0,"d":"0.0%"}},{"$f":"'Daten Projektion'!L50","v":{"v":0,"d":"0.0%"}},{"$f":"'Daten Projektion'!M50","v":{"v":0,"d":"0.0%"}},{"$f":"'Daten Projektion'!N50-SUMIFS(Umschichtung!$K$13:$K$18,Umschichtung!$I$13:$I$18,Daten_Umschichtung!$C43,Umschichtung!$J$13:$J$18,Daten_Umschichtung!N$5)-SUMIFS(Umschichtung!$M$13:$M$18,Umschichtung!$I$13:$I$18,Daten_Umschichtung!$C43,Umschichtung!$J$13:$J$18,Daten_Umschichtung!N$5)","v":0},{"$f":"N43+N43*Vermögen!$V48-SUMIFS(Umschichtung!$K$13:$K$18,Umschichtung!$I$13:$I$18,Daten_Umschichtung!$C43,Umschichtung!$J$13:$J$18,Daten_Umschichtung!O$5)-SUMIFS(Umschichtung!$M$13:$M$18,Umschichtung!$I$13:$I$18,Daten_Umschichtung!$C43,Umschichtung!$J$13:$J$18,Daten_Umschichtung!O$5)","v":0},{"$f":"O43+O43*Vermögen!$V48-SUMIFS(Umschichtung!$K$13:$K$18,Umschichtung!$I$13:$I$18,Daten_Umschichtung!$C43,Umschichtung!$J$13:$J$18,Daten_Umschichtung!P$5)-SUMIFS(Umschichtung!$M$13:$M$18,Umschichtung!$I$13:$I$18,Daten_Umschichtung!$C43,Umschichtung!$J$13:$J$18,Daten_Umschichtung!P$5)","v":0},{"$f":"P43+P43*Vermögen!$V48-SUMIFS(Umschichtung!$K$13:$K$18,Umschichtung!$I$13:$I$18,Daten_Umschichtung!$C43,Umschichtung!$J$13:$J$18,Daten_Umschichtung!Q$5)-SUMIFS(Umschichtung!$M$13:$M$18,Umschichtung!$I$13:$I$18,Daten_Umschichtung!$C43,Umschichtung!$J$13:$J$18,Daten_Umschichtung!Q$5)","v":0},{"$f":"Q43+Q43*Vermögen!$V48-SUMIFS(Umschichtung!$K$13:$K$18,Umschichtung!$I$13:$I$18,Daten_Umschichtung!$C43,Umschichtung!$J$13:$J$18,Daten_Umschichtung!R$5)-SUMIFS(Umschichtung!$M$13:$M$18,Umschichtung!$I$13:$I$18,Daten_Umschichtung!$C43,Umschichtung!$J$13:$J$18,Daten_Umschichtung!R$5)","v":0},{"$f":"R43+R43*Vermögen!$V48-SUMIFS(Umschichtung!$K$13:$K$18,Umschichtung!$I$13:$I$18,Daten_Umschichtung!$C43,Umschichtung!$J$13:$J$18,Daten_Umschichtung!S$5)-SUMIFS(Umschichtung!$M$13:$M$18,Umschichtung!$I$13:$I$18,Daten_Umschichtung!$C43,Umschichtung!$J$13:$J$18,Daten_Umschichtung!S$5)","v":0},null,{"$f":"SUMIF(Umschichtung!$I$13:$I$18,Daten_Umschichtung!C43,Umschichtung!$K$13:$K$18)","v":0},null,{"$f":"IF(Vermögen!G48=\"Ja\",\"\",Vermögen!F48)","v":0}]
[null,{"$f":"Daten_Vermögen!A82","v":"39."},{"$f":"Daten_Vermögen!B82","v":0},{"$f":"Vermögen!I49","v":"Bitte auswählen"},{"$f":"'Daten Projektion'!E51","v":{"v":0,"d":"0.0%"}},{"$f":"'Daten Projektion'!F51","v":{"v":0,"d":"0.0%"}},{"$f":"'Daten Projektion'!G51","v":{"v":0,"d":"0.0%"}},{"$f":"'Daten Projektion'!H51","v":{"v":0,"d":"0.0%"}},{"$f":"'Daten Projektion'!I51","v":{"v":0,"d":"0.0%"}},{"$f":"'Daten Projektion'!J51","v":{"v":0,"d":"0.0%"}},{"$f":"'Daten Projektion'!K51","v":{"v":0,"d":"0.0%"}},{"$f":"'Daten Projektion'!L51","v":{"v":0,"d":"0.0%"}},{"$f":"'Daten Projektion'!M51","v":{"v":0,"d":"0.0%"}},{"$f":"'Daten Projektion'!N51-SUMIFS(Umschichtung!$K$13:$K$18,Umschichtung!$I$13:$I$18,Daten_Umschichtung!$C44,Umschichtung!$J$13:$J$18,Daten_Umschichtung!N$5)-SUMIFS(Umschichtung!$M$13:$M$18,Umschichtung!$I$13:$I$18,Daten_Umschichtung!$C44,Umschichtung!$J$13:$J$18,Daten_Umschichtung!N$5)","v":0},{"$f":"N44+N44*Vermögen!$V49-SUMIFS(Umschichtung!$K$13:$K$18,Umschichtung!$I$13:$I$18,Daten_Umschichtung!$C44,Umschichtung!$J$13:$J$18,Daten_Umschichtung!O$5)-SUMIFS(Umschichtung!$M$13:$M$18,Umschichtung!$I$13:$I$18,Daten_Umschichtung!$C44,Umschichtung!$J$13:$J$18,Daten_Umschichtung!O$5)","v":0},{"$f":"O44+O44*Vermögen!$V49-SUMIFS(Umschichtung!$K$13:$K$18,Umschichtung!$I$13:$I$18,Daten_Umschichtung!$C44,Umschichtung!$J$13:$J$18,Daten_Umschichtung!P$5)-SUMIFS(Umschichtung!$M$13:$M$18,Umschichtung!$I$13:$I$18,Daten_Umschichtung!$C44,Umschichtung!$J$13:$J$18,Daten_Umschichtung!P$5)","v":0},{"$f":"P44+P44*Vermögen!$V49-SUMIFS(Umschichtung!$K$13:$K$18,Umschichtung!$I$13:$I$18,Daten_Umschichtung!$C44,Umschichtung!$J$13:$J$18,Daten_Umschichtung!Q$5)-SUMIFS(Umschichtung!$M$13:$M$18,Umschichtung!$I$13:$I$18,Daten_Umschichtung!$C44,Umschichtung!$J$13:$J$18,Daten_Umschichtung!Q$5)","v":0},{"$f":"Q44+Q44*Vermögen!$V49-SUMIFS(Umschichtung!$K$13:$K$18,Umschichtung!$I$13:$I$18,Daten_Umschichtung!$C44,Umschichtung!$J$13:$J$18,Daten_Umschichtung!R$5)-SUMIFS(Umschichtung!$M$13:$M$18,Umschichtung!$I$13:$I$18,Daten_Umschichtung!$C44,Umschichtung!$J$13:$J$18,Daten_Umschichtung!R$5)","v":0},{"$f":"R44+R44*Vermögen!$V49-SUMIFS(Umschichtung!$K$13:$K$18,Umschichtung!$I$13:$I$18,Daten_Umschichtung!$C44,Umschichtung!$J$13:$J$18,Daten_Umschichtung!S$5)-SUMIFS(Umschichtung!$M$13:$M$18,Umschichtung!$I$13:$I$18,Daten_Umschichtung!$C44,Umschichtung!$J$13:$J$18,Daten_Umschichtung!S$5)","v":0},null,{"$f":"SUMIF(Umschichtung!$I$13:$I$18,Daten_Umschichtung!C44,Umschichtung!$K$13:$K$18)","v":0},null,{"$f":"IF(Vermögen!G49=\"Ja\",\"\",Vermögen!F49)","v":0}]
[null,{"$f":"Daten_Vermögen!A83","v":"40."},{"$f":"Daten_Vermögen!B83","v":0},{"$f":"Vermögen!I50","v":"Bitte auswählen"},{"$f":"'Daten Projektion'!E52","v":{"v":0,"d":"0.0%"}},{"$f":"'Daten Projektion'!F52","v":{"v":0,"d":"0.0%"}},{"$f":"'Daten Projektion'!G52","v":{"v":0,"d":"0.0%"}},{"$f":"'Daten Projektion'!H52","v":{"v":0,"d":"0.0%"}},{"$f":"'Daten Projektion'!I52","v":{"v":0,"d":"0.0%"}},{"$f":"'Daten Projektion'!J52","v":{"v":0,"d":"0.0%"}},{"$f":"'Daten Projektion'!K52","v":{"v":0,"d":"0.0%"}},{"$f":"'Daten Projektion'!L52","v":{"v":0,"d":"0.0%"}},{"$f":"'Daten Projektion'!M52","v":{"v":0,"d":"0.0%"}},{"$f":"'Daten Projektion'!N52-SUMIFS(Umschichtung!$K$13:$K$18,Umschichtung!$I$13:$I$18,Daten_Umschichtung!$C45,Umschichtung!$J$13:$J$18,Daten_Umschichtung!N$5)-SUMIFS(Umschichtung!$M$13:$M$18,Umschichtung!$I$13:$I$18,Daten_Umschichtung!$C45,Umschichtung!$J$13:$J$18,Daten_Umschichtung!N$5)","v":0},{"$f":"N45+N45*Vermögen!$V50-SUMIFS(Umschichtung!$K$13:$K$18,Umschichtung!$I$13:$I$18,Daten_Umschichtung!$C45,Umschichtung!$J$13:$J$18,Daten_Umschichtung!O$5)-SUMIFS(Umschichtung!$M$13:$M$18,Umschichtung!$I$13:$I$18,Daten_Umschichtung!$C45,Umschichtung!$J$13:$J$18,Daten_Umschichtung!O$5)","v":0},{"$f":"O45+O45*Vermögen!$V50-SUMIFS(Umschichtung!$K$13:$K$18,Umschichtung!$I$13:$I$18,Daten_Umschichtung!$C45,Umschichtung!$J$13:$J$18,Daten_Umschichtung!P$5)-SUMIFS(Umschichtung!$M$13:$M$18,Umschichtung!$I$13:$I$18,Daten_Umschichtung!$C45,Umschichtung!$J$13:$J$18,Daten_Umschichtung!P$5)","v":0},{"$f":"P45+P45*Vermögen!$V50-SUMIFS(Umschichtung!$K$13:$K$18,Umschichtung!$I$13:$I$18,Daten_Umschichtung!$C45,Umschichtung!$J$13:$J$18,Daten_Umschichtung!Q$5)-SUMIFS(Umschichtung!$M$13:$M$18,Umschichtung!$I$13:$I$18,Daten_Umschichtung!$C45,Umschichtung!$J$13:$J$18,Daten_Umschichtung!Q$5)","v":0},{"$f":"Q45+Q45*Vermögen!$V50-SUMIFS(Umschichtung!$K$13:$K$18,Umschichtung!$I$13:$I$18,Daten_Umschichtung!$C45,Umschichtung!$J$13:$J$18,Daten_Umschichtung!R$5)-SUMIFS(Umschichtung!$M$13:$M$18,Umschichtung!$I$13:$I$18,Daten_Umschichtung!$C45,Umschichtung!$J$13:$J$18,Daten_Umschichtung!R$5)","v":0},{"$f":"R45+R45*Vermögen!$V50-SUMIFS(Umschichtung!$K$13:$K$18,Umschichtung!$I$13:$I$18,Daten_Umschichtung!$C45,Umschichtung!$J$13:$J$18,Daten_Umschichtung!S$5)-SUMIFS(Umschichtung!$M$13:$M$18,Umschichtung!$I$13:$I$18,Daten_Umschichtung!$C45,Umschichtung!$J$13:$J$18,Daten_Umschichtung!S$5)","v":0},null,{"$f":"SUMIF(Umschichtung!$I$13:$I$18,Daten_Umschichtung!C45,Umschichtung!$K$13:$K$18)","v":0},null,{"$f":"IF(Vermögen!G50=\"Ja\",\"\",Vermögen!F50)","v":0}]
[null,{"$f":"Daten_Vermögen!A84","v":"41."},{"$f":"Daten_Vermögen!B84","v":0},{"$f":"Vermögen!I51","v":"Bitte auswählen"},{"$f":"'Daten Projektion'!E53","v":{"v":0,"d":"0.0%"}},{"$f":"'Daten Projektion'!F53","v":{"v":0,"d":"0.0%"}},{"$f":"'Daten Projektion'!G53","v":{"v":0,"d":"0.0%"}},{"$f":"'Daten Projektion'!H53","v":{"v":0,"d":"0.0%"}},{"$f":"'Daten Projektion'!I53","v":{"v":0,"d":"0.0%"}},{"$f":"'Daten Projektion'!J53","v":{"v":0,"d":"0.0%"}},{"$f":"'Daten Projektion'!K53","v":{"v":0,"d":"0.0%"}},{"$f":"'Daten Projektion'!L53","v":{"v":0,"d":"0.0%"}},{"$f":"'Daten Projektion'!M53","v":{"v":0,"d":"0.0%"}},{"$f":"'Daten Projektion'!N53-SUMIFS(Umschichtung!$K$13:$K$18,Umschichtung!$I$13:$I$18,Daten_Umschichtung!$C46,Umschichtung!$J$13:$J$18,Daten_Umschichtung!N$5)-SUMIFS(Umschichtung!$M$13:$M$18,Umschichtung!$I$13:$I$18,Daten_Umschichtung!$C46,Umschichtung!$J$13:$J$18,Daten_Umschichtung!N$5)","v":0},{"$f":"N46+N46*Vermögen!$V51-SUMIFS(Umschichtung!$K$13:$K$18,Umschichtung!$I$13:$I$18,Daten_Umschichtung!$C46,Umschichtung!$J$13:$J$18,Daten_Umschichtung!O$5)-SUMIFS(Umschichtung!$M$13:$M$18,Umschichtung!$I$13:$I$18,Daten_Umschichtung!$C46,Umschichtung!$J$13:$J$18,Daten_Umschichtung!O$5)","v":0},{"$f":"O46+O46*Vermögen!$V51-SUMIFS(Umschichtung!$K$13:$K$18,Umschichtung!$I$13:$I$18,Daten_Umschichtung!$C46,Umschichtung!$J$13:$J$18,Daten_Umschichtung!P$5)-SUMIFS(Umschichtung!$M$13:$M$18,Umschichtung!$I$13:$I$18,Daten_Umschichtung!$C46,Umschichtung!$J$13:$J$18,Daten_Umschichtung!P$5)","v":0},{"$f":"P46+P46*Vermögen!$V51-SUMIFS(Umschichtung!$K$13:$K$18,Umschichtung!$I$13:$I$18,Daten_Umschichtung!$C46,Umschichtung!$J$13:$J$18,Daten_Umschichtung!Q$5)-SUMIFS(Umschichtung!$M$13:$M$18,Umschichtung!$I$13:$I$18,Daten_Umschichtung!$C46,Umschichtung!$J$13:$J$18,Daten_Umschichtung!Q$5)","v":0},{"$f":"Q46+Q46*Vermögen!$V51-SUMIFS(Umschichtung!$K$13:$K$18,Umschichtung!$I$13:$I$18,Daten_Umschichtung!$C46,Umschichtung!$J$13:$J$18,Daten_Umschichtung!R$5)-SUMIFS(Umschichtung!$M$13:$M$18,Umschichtung!$I$13:$I$18,Daten_Umschichtung!$C46,Umschichtung!$J$13:$J$18,Daten_Umschichtung!R$5)","v":0},{"$f":"R46+R46*Vermögen!$V51-SUMIFS(Umschichtung!$K$13:$K$18,Umschichtung!$I$13:$I$18,Daten_Umschichtung!$C46,Umschichtung!$J$13:$J$18,Daten_Umschichtung!S$5)-SUMIFS(Umschichtung!$M$13:$M$18,Umschichtung!$I$13:$I$18,Daten_Umschichtung!$C46,Umschichtung!$J$13:$J$18,Daten_Umschichtung!S$5)","v":0},null,{"$f":"SUMIF(Umschichtung!$I$13:$I$18,Daten_Umschichtung!C46,Umschichtung!$K$13:$K$18)","v":0},null,{"$f":"IF(Vermögen!G51=\"Ja\",\"\",Vermögen!F51)","v":0}]
[null,{"$f":"Daten_Vermögen!A85","v":"42."},{"$f":"Daten_Vermögen!B85","v":0},{"$f":"Vermögen!I52","v":"Bitte auswählen"},{"$f":"'Daten Projektion'!E54","v":{"v":0,"d":"0.0%"}},{"$f":"'Daten Projektion'!F54","v":{"v":0,"d":"0.0%"}},{"$f":"'Daten Projektion'!G54","v":{"v":0,"d":"0.0%"}},{"$f":"'Daten Projektion'!H54","v":{"v":0,"d":"0.0%"}},{"$f":"'Daten Projektion'!I54","v":{"v":0,"d":"0.0%"}},{"$f":"'Daten Projektion'!J54","v":{"v":0,"d":"0.0%"}},{"$f":"'Daten Projektion'!K54","v":{"v":0,"d":"0.0%"}},{"$f":"'Daten Projektion'!L54","v":{"v":0,"d":"0.0%"}},{"$f":"'Daten Projektion'!M54","v":{"v":0,"d":"0.0%"}},{"$f":"'Daten Projektion'!N54-SUMIFS(Umschichtung!$K$13:$K$18,Umschichtung!$I$13:$I$18,Daten_Umschichtung!$C47,Umschichtung!$J$13:$J$18,Daten_Umschichtung!N$5)-SUMIFS(Umschichtung!$M$13:$M$18,Umschichtung!$I$13:$I$18,Daten_Umschichtung!$C47,Umschichtung!$J$13:$J$18,Daten_Umschichtung!N$5)","v":0},{"$f":"N47+N47*Vermögen!$V52-SUMIFS(Umschichtung!$K$13:$K$18,Umschichtung!$I$13:$I$18,Daten_Umschichtung!$C47,Umschichtung!$J$13:$J$18,Daten_Umschichtung!O$5)-SUMIFS(Umschichtung!$M$13:$M$18,Umschichtung!$I$13:$I$18,Daten_Umschichtung!$C47,Umschichtung!$J$13:$J$18,Daten_Umschichtung!O$5)","v":0},{"$f":"O47+O47*Vermögen!$V52-SUMIFS(Umschichtung!$K$13:$K$18,Umschichtung!$I$13:$I$18,Daten_Umschichtung!$C47,Umschichtung!$J$13:$J$18,Daten_Umschichtung!P$5)-SUMIFS(Umschichtung!$M$13:$M$18,Umschichtung!$I$13:$I$18,Daten_Umschichtung!$C47,Umschichtung!$J$13:$J$18,Daten_Umschichtung!P$5)","v":0},{"$f":"P47+P47*Vermögen!$V52-SUMIFS(Umschichtung!$K$13:$K$18,Umschichtung!$I$13:$I$18,Daten_Umschichtung!$C47,Umschichtung!$J$13:$J$18,Daten_Umschichtung!Q$5)-SUMIFS(Umschichtung!$M$13:$M$18,Umschichtung!$I$13:$I$18,Daten_Umschichtung!$C47,Umschichtung!$J$13:$J$18,Daten_Umschichtung!Q$5)","v":0},{"$f":"Q47+Q47*Vermögen!$V52-SUMIFS(Umschichtung!$K$13:$K$18,Umschichtung!$I$13:$I$18,Daten_Umschichtung!$C47,Umschichtung!$J$13:$J$18,Daten_Umschichtung!R$5)-SUMIFS(Umschichtung!$M$13:$M$18,Umschichtung!$I$13:$I$18,Daten_Umschichtung!$C47,Umschichtung!$J$13:$J$18,Daten_Umschichtung!R$5)","v":0},{"$f":"R47+R47*Vermögen!$V52-SUMIFS(Umschichtung!$K$13:$K$18,Umschichtung!$I$13:$I$18,Daten_Umschichtung!$C47,Umschichtung!$J$13:$J$18,Daten_Umschichtung!S$5)-SUMIFS(Umschichtung!$M$13:$M$18,Umschichtung!$I$13:$I$18,Daten_Umschichtung!$C47,Umschichtung!$J$13:$J$18,Daten_Umschichtung!S$5)","v":0},null,{"$f":"SUMIF(Umschichtung!$I$13:$I$18,Daten_Umschichtung!C47,Umschichtung!$K$13:$K$18)","v":0},null,{"$f":"IF(Vermögen!G52=\"Ja\",\"\",Vermögen!F52)","v":0}]
[null,{"$f":"Daten_Vermögen!A86","v":"43."},{"$f":"Daten_Vermögen!B86","v":0},{"$f":"Vermögen!I53","v":"Bitte auswählen"},{"$f":"'Daten Projektion'!E55","v":{"v":0,"d":"0.0%"}},{"$f":"'Daten Projektion'!F55","v":{"v":0,"d":"0.0%"}},{"$f":"'Daten Projektion'!G55","v":{"v":0,"d":"0.0%"}},{"$f":"'Daten Projektion'!H55","v":{"v":0,"d":"0.0%"}},{"$f":"'Daten Projektion'!I55","v":{"v":0,"d":"0.0%"}},{"$f":"'Daten Projektion'!J55","v":{"v":0,"d":"0.0%"}},{"$f":"'Daten Projektion'!K55","v":{"v":0,"d":"0.0%"}},{"$f":"'Daten Projektion'!L55","v":{"v":0,"d":"0.0%"}},{"$f":"'Daten Projektion'!M55","v":{"v":0,"d":"0.0%"}},{"$f":"'Daten Projektion'!N55-SUMIFS(Umschichtung!$K$13:$K$18,Umschichtung!$I$13:$I$18,Daten_Umschichtung!$C48,Umschichtung!$J$13:$J$18,Daten_Umschichtung!N$5)-SUMIFS(Umschichtung!$M$13:$M$18,Umschichtung!$I$13:$I$18,Daten_Umschichtung!$C48,Umschichtung!$J$13:$J$18,Daten_Umschichtung!N$5)","v":0},{"$f":"N48+N48*Vermögen!$V53-SUMIFS(Umschichtung!$K$13:$K$18,Umschichtung!$I$13:$I$18,Daten_Umschichtung!$C48,Umschichtung!$J$13:$J$18,Daten_Umschichtung!O$5)-SUMIFS(Umschichtung!$M$13:$M$18,Umschichtung!$I$13:$I$18,Daten_Umschichtung!$C48,Umschichtung!$J$13:$J$18,Daten_Umschichtung!O$5)","v":0},{"$f":"O48+O48*Vermögen!$V53-SUMIFS(Umschichtung!$K$13:$K$18,Umschichtung!$I$13:$I$18,Daten_Umschichtung!$C48,Umschichtung!$J$13:$J$18,Daten_Umschichtung!P$5)-SUMIFS(Umschichtung!$M$13:$M$18,Umschichtung!$I$13:$I$18,Daten_Umschichtung!$C48,Umschichtung!$J$13:$J$18,Daten_Umschichtung!P$5)","v":0},{"$f":"P48+P48*Vermögen!$V53-SUMIFS(Umschichtung!$K$13:$K$18,Umschichtung!$I$13:$I$18,Daten_Umschichtung!$C48,Umschichtung!$J$13:$J$18,Daten_Umschichtung!Q$5)-SUMIFS(Umschichtung!$M$13:$M$18,Umschichtung!$I$13:$I$18,Daten_Umschichtung!$C48,Umschichtung!$J$13:$J$18,Daten_Umschichtung!Q$5)","v":0},{"$f":"Q48+Q48*Vermögen!$V53-SUMIFS(Umschichtung!$K$13:$K$18,Umschichtung!$I$13:$I$18,Daten_Umschichtung!$C48,Umschichtung!$J$13:$J$18,Daten_Umschichtung!R$5)-SUMIFS(Umschichtung!$M$13:$M$18,Umschichtung!$I$13:$I$18,Daten_Umschichtung!$C48,Umschichtung!$J$13:$J$18,Daten_Umschichtung!R$5)","v":0},{"$f":"R48+R48*Vermögen!$V53-SUMIFS(Umschichtung!$K$13:$K$18,Umschichtung!$I$13:$I$18,Daten_Umschichtung!$C48,Umschichtung!$J$13:$J$18,Daten_Umschichtung!S$5)-SUMIFS(Umschichtung!$M$13:$M$18,Umschichtung!$I$13:$I$18,Daten_Umschichtung!$C48,Umschichtung!$J$13:$J$18,Daten_Umschichtung!S$5)","v":0},null,{"$f":"SUMIF(Umschichtung!$I$13:$I$18,Daten_Umschichtung!C48,Umschichtung!$K$13:$K$18)","v":0},null,{"$f":"IF(Vermögen!G53=\"Ja\",\"\",Vermögen!F53)","v":0}]
[null,{"$f":"Daten_Vermögen!A87","v":"44."},{"$f":"Daten_Vermögen!B87","v":0},{"$f":"Vermögen!I54","v":"Bitte auswählen"},{"$f":"'Daten Projektion'!E56","v":{"v":0,"d":"0.0%"}},{"$f":"'Daten Projektion'!F56","v":{"v":0,"d":"0.0%"}},{"$f":"'Daten Projektion'!G56","v":{"v":0,"d":"0.0%"}},{"$f":"'Daten Projektion'!H56","v":{"v":0,"d":"0.0%"}},{"$f":"'Daten Projektion'!I56","v":{"v":0,"d":"0.0%"}},{"$f":"'Daten Projektion'!J56","v":{"v":0,"d":"0.0%"}},{"$f":"'Daten Projektion'!K56","v":{"v":0,"d":"0.0%"}},{"$f":"'Daten Projektion'!L56","v":{"v":0,"d":"0.0%"}},{"$f":"'Daten Projektion'!M56","v":{"v":0,"d":"0.0%"}},{"$f":"'Daten Projektion'!N56-SUMIFS(Umschichtung!$K$13:$K$18,Umschichtung!$I$13:$I$18,Daten_Umschichtung!$C49,Umschichtung!$J$13:$J$18,Daten_Umschichtung!N$5)-SUMIFS(Umschichtung!$M$13:$M$18,Umschichtung!$I$13:$I$18,Daten_Umschichtung!$C49,Umschichtung!$J$13:$J$18,Daten_Umschichtung!N$5)","v":0},{"$f":"N49+N49*Vermögen!$V54-SUMIFS(Umschichtung!$K$13:$K$18,Umschichtung!$I$13:$I$18,Daten_Umschichtung!$C49,Umschichtung!$J$13:$J$18,Daten_Umschichtung!O$5)-SUMIFS(Umschichtung!$M$13:$M$18,Umschichtung!$I$13:$I$18,Daten_Umschichtung!$C49,Umschichtung!$J$13:$J$18,Daten_Umschichtung!O$5)","v":0},{"$f":"O49+O49*Vermögen!$V54-SUMIFS(Umschichtung!$K$13:$K$18,Umschichtung!$I$13:$I$18,Daten_Umschichtung!$C49,Umschichtung!$J$13:$J$18,Daten_Umschichtung!P$5)-SUMIFS(Umschichtung!$M$13:$M$18,Umschichtung!$I$13:$I$18,Daten_Umschichtung!$C49,Umschichtung!$J$13:$J$18,Daten_Umschichtung!P$5)","v":0},{"$f":"P49+P49*Vermögen!$V54-SUMIFS(Umschichtung!$K$13:$K$18,Umschichtung!$I$13:$I$18,Daten_Umschichtung!$C49,Umschichtung!$J$13:$J$18,Daten_Umschichtung!Q$5)-SUMIFS(Umschichtung!$M$13:$M$18,Umschichtung!$I$13:$I$18,Daten_Umschichtung!$C49,Umschichtung!$J$13:$J$18,Daten_Umschichtung!Q$5)","v":0},{"$f":"Q49+Q49*Vermögen!$V54-SUMIFS(Umschichtung!$K$13:$K$18,Umschichtung!$I$13:$I$18,Daten_Umschichtung!$C49,Umschichtung!$J$13:$J$18,Daten_Umschichtung!R$5)-SUMIFS(Umschichtung!$M$13:$M$18,Umschichtung!$I$13:$I$18,Daten_Umschichtung!$C49,Umschichtung!$J$13:$J$18,Daten_Umschichtung!R$5)","v":0},{"$f":"R49+R49*Vermögen!$V54-SUMIFS(Umschichtung!$K$13:$K$18,Umschichtung!$I$13:$I$18,Daten_Umschichtung!$C49,Umschichtung!$J$13:$J$18,Daten_Umschichtung!S$5)-SUMIFS(Umschichtung!$M$13:$M$18,Umschichtung!$I$13:$I$18,Daten_Umschichtung!$C49,Umschichtung!$J$13:$J$18,Daten_Umschichtung!S$5)","v":0},null,{"$f":"SUMIF(Umschichtung!$I$13:$I$18,Daten_Umschichtung!C49,Umschichtung!$K$13:$K$18)","v":0},null,{"$f":"IF(Vermögen!G54=\"Ja\",\"\",Vermögen!F54)","v":0}]
[null,{"$f":"Daten_Vermögen!A88","v":"45."},{"$f":"Daten_Vermögen!B88","v":0},{"$f":"Vermögen!I55","v":"Bitte auswählen"},{"$f":"'Daten Projektion'!E57","v":{"v":0,"d":"0.0%"}},{"$f":"'Daten Projektion'!F57","v":{"v":0,"d":"0.0%"}},{"$f":"'Daten Projektion'!G57","v":{"v":0,"d":"0.0%"}},{"$f":"'Daten Projektion'!H57","v":{"v":0,"d":"0.0%"}},{"$f":"'Daten Projektion'!I57","v":{"v":0,"d":"0.0%"}},{"$f":"'Daten Projektion'!J57","v":{"v":0,"d":"0.0%"}},{"$f":"'Daten Projektion'!K57","v":{"v":0,"d":"0.0%"}},{"$f":"'Daten Projektion'!L57","v":{"v":0,"d":"0.0%"}},{"$f":"'Daten Projektion'!M57","v":{"v":0,"d":"0.0%"}},{"$f":"'Daten Projektion'!N57-SUMIFS(Umschichtung!$K$13:$K$18,Umschichtung!$I$13:$I$18,Daten_Umschichtung!$C50,Umschichtung!$J$13:$J$18,Daten_Umschichtung!N$5)-SUMIFS(Umschichtung!$M$13:$M$18,Umschichtung!$I$13:$I$18,Daten_Umschichtung!$C50,Umschichtung!$J$13:$J$18,Daten_Umschichtung!N$5)","v":0},{"$f":"N50+N50*Vermögen!$V55-SUMIFS(Umschichtung!$K$13:$K$18,Umschichtung!$I$13:$I$18,Daten_Umschichtung!$C50,Umschichtung!$J$13:$J$18,Daten_Umschichtung!O$5)-SUMIFS(Umschichtung!$M$13:$M$18,Umschichtung!$I$13:$I$18,Daten_Umschichtung!$C50,Umschichtung!$J$13:$J$18,Daten_Umschichtung!O$5)","v":0},{"$f":"O50+O50*Vermögen!$V55-SUMIFS(Umschichtung!$K$13:$K$18,Umschichtung!$I$13:$I$18,Daten_Umschichtung!$C50,Umschichtung!$J$13:$J$18,Daten_Umschichtung!P$5)-SUMIFS(Umschichtung!$M$13:$M$18,Umschichtung!$I$13:$I$18,Daten_Umschichtung!$C50,Umschichtung!$J$13:$J$18,Daten_Umschichtung!P$5)","v":0},{"$f":"P50+P50*Vermögen!$V55-SUMIFS(Umschichtung!$K$13:$K$18,Umschichtung!$I$13:$I$18,Daten_Umschichtung!$C50,Umschichtung!$J$13:$J$18,Daten_Umschichtung!Q$5)-SUMIFS(Umschichtung!$M$13:$M$18,Umschichtung!$I$13:$I$18,Daten_Umschichtung!$C50,Umschichtung!$J$13:$J$18,Daten_Umschichtung!Q$5)","v":0},{"$f":"Q50+Q50*Vermögen!$V55-SUMIFS(Umschichtung!$K$13:$K$18,Umschichtung!$I$13:$I$18,Daten_Umschichtung!$C50,Umschichtung!$J$13:$J$18,Daten_Umschichtung!R$5)-SUMIFS(Umschichtung!$M$13:$M$18,Umschichtung!$I$13:$I$18,Daten_Umschichtung!$C50,Umschichtung!$J$13:$J$18,Daten_Umschichtung!R$5)","v":0},{"$f":"R50+R50*Vermögen!$V55-SUMIFS(Umschichtung!$K$13:$K$18,Umschichtung!$I$13:$I$18,Daten_Umschichtung!$C50,Umschichtung!$J$13:$J$18,Daten_Umschichtung!S$5)-SUMIFS(Umschichtung!$M$13:$M$18,Umschichtung!$I$13:$I$18,Daten_Umschichtung!$C50,Umschichtung!$J$13:$J$18,Daten_Umschichtung!S$5)","v":0},null,{"$f":"SUMIF(Umschichtung!$I$13:$I$18,Daten_Umschichtung!C50,Umschichtung!$K$13:$K$18)","v":0},null,{"$f":"IF(Vermögen!G55=\"Ja\",\"\",Vermögen!F55)","v":0}]
[null,{"$f":"Daten_Vermögen!A89","v":"46."},{"$f":"Daten_Vermögen!B89","v":0},{"$f":"Vermögen!I56","v":"Bitte auswählen"},{"$f":"'Daten Projektion'!E58","v":{"v":0,"d":"0.0%"}},{"$f":"'Daten Projektion'!F58","v":{"v":0,"d":"0.0%"}},{"$f":"'Daten Projektion'!G58","v":{"v":0,"d":"0.0%"}},{"$f":"'Daten Projektion'!H58","v":{"v":0,"d":"0.0%"}},{"$f":"'Daten Projektion'!I58","v":{"v":0,"d":"0.0%"}},{"$f":"'Daten Projektion'!J58","v":{"v":0,"d":"0.0%"}},{"$f":"'Daten Projektion'!K58","v":{"v":0,"d":"0.0%"}},{"$f":"'Daten Projektion'!L58","v":{"v":0,"d":"0.0%"}},{"$f":"'Daten Projektion'!M58","v":{"v":0,"d":"0.0%"}},{"$f":"'Daten Projektion'!N58-SUMIFS(Umschichtung!$K$13:$K$18,Umschichtung!$I$13:$I$18,Daten_Umschichtung!$C51,Umschichtung!$J$13:$J$18,Daten_Umschichtung!N$5)-SUMIFS(Umschichtung!$M$13:$M$18,Umschichtung!$I$13:$I$18,Daten_Umschichtung!$C51,Umschichtung!$J$13:$J$18,Daten_Umschichtung!N$5)","v":0},{"$f":"N51+N51*Vermögen!$V56-SUMIFS(Umschichtung!$K$13:$K$18,Umschichtung!$I$13:$I$18,Daten_Umschichtung!$C51,Umschichtung!$J$13:$J$18,Daten_Umschichtung!O$5)-SUMIFS(Umschichtung!$M$13:$M$18,Umschichtung!$I$13:$I$18,Daten_Umschichtung!$C51,Umschichtung!$J$13:$J$18,Daten_Umschichtung!O$5)","v":0},{"$f":"O51+O51*Vermögen!$V56-SUMIFS(Umschichtung!$K$13:$K$18,Umschichtung!$I$13:$I$18,Daten_Umschichtung!$C51,Umschichtung!$J$13:$J$18,Daten_Umschichtung!P$5)-SUMIFS(Umschichtung!$M$13:$M$18,Umschichtung!$I$13:$I$18,Daten_Umschichtung!$C51,Umschichtung!$J$13:$J$18,Daten_Umschichtung!P$5)","v":0},{"$f":"P51+P51*Vermögen!$V56-SUMIFS(Umschichtung!$K$13:$K$18,Umschichtung!$I$13:$I$18,Daten_Umschichtung!$C51,Umschichtung!$J$13:$J$18,Daten_Umschichtung!Q$5)-SUMIFS(Umschichtung!$M$13:$M$18,Umschichtung!$I$13:$I$18,Daten_Umschichtung!$C51,Umschichtung!$J$13:$J$18,Daten_Umschichtung!Q$5)","v":0},{"$f":"Q51+Q51*Vermögen!$V56-SUMIFS(Umschichtung!$K$13:$K$18,Umschichtung!$I$13:$I$18,Daten_Umschichtung!$C51,Umschichtung!$J$13:$J$18,Daten_Umschichtung!R$5)-SUMIFS(Umschichtung!$M$13:$M$18,Umschichtung!$I$13:$I$18,Daten_Umschichtung!$C51,Umschichtung!$J$13:$J$18,Daten_Umschichtung!R$5)","v":0},{"$f":"R51+R51*Vermögen!$V56-SUMIFS(Umschichtung!$K$13:$K$18,Umschichtung!$I$13:$I$18,Daten_Umschichtung!$C51,Umschichtung!$J$13:$J$18,Daten_Umschichtung!S$5)-SUMIFS(Umschichtung!$M$13:$M$18,Umschichtung!$I$13:$I$18,Daten_Umschichtung!$C51,Umschichtung!$J$13:$J$18,Daten_Umschichtung!S$5)","v":0},null,{"$f":"SUMIF(Umschichtung!$I$13:$I$18,Daten_Umschichtung!C51,Umschichtung!$K$13:$K$18)","v":0},null,{"$f":"IF(Vermögen!G56=\"Ja\",\"\",Vermögen!F56)","v":0}]
[null,{"$f":"Daten_Vermögen!A90","v":"47."},{"$f":"Daten_Vermögen!B90","v":0},{"$f":"Vermögen!I57","v":"Bitte auswählen"},{"$f":"'Daten Projektion'!E59","v":{"v":0,"d":"0.0%"}},{"$f":"'Daten Projektion'!F59","v":{"v":0,"d":"0.0%"}},{"$f":"'Daten Projektion'!G59","v":{"v":0,"d":"0.0%"}},{"$f":"'Daten Projektion'!H59","v":{"v":0,"d":"0.0%"}},{"$f":"'Daten Projektion'!I59","v":{"v":0,"d":"0.0%"}},{"$f":"'Daten Projektion'!J59","v":{"v":0,"d":"0.0%"}},{"$f":"'Daten Projektion'!K59","v":{"v":0,"d":"0.0%"}},{"$f":"'Daten Projektion'!L59","v":{"v":0,"d":"0.0%"}},{"$f":"'Daten Projektion'!M59","v":{"v":0,"d":"0.0%"}},{"$f":"'Daten Projektion'!N59-SUMIFS(Umschichtung!$K$13:$K$18,Umschichtung!$I$13:$I$18,Daten_Umschichtung!$C52,Umschichtung!$J$13:$J$18,Daten_Umschichtung!N$5)-SUMIFS(Umschichtung!$M$13:$M$18,Umschichtung!$I$13:$I$18,Daten_Umschichtung!$C52,Umschichtung!$J$13:$J$18,Daten_Umschichtung!N$5)","v":0},{"$f":"N52+N52*Vermögen!$V57-SUMIFS(Umschichtung!$K$13:$K$18,Umschichtung!$I$13:$I$18,Daten_Umschichtung!$C52,Umschichtung!$J$13:$J$18,Daten_Umschichtung!O$5)-SUMIFS(Umschichtung!$M$13:$M$18,Umschichtung!$I$13:$I$18,Daten_Umschichtung!$C52,Umschichtung!$J$13:$J$18,Daten_Umschichtung!O$5)","v":0},{"$f":"O52+O52*Vermögen!$V57-SUMIFS(Umschichtung!$K$13:$K$18,Umschichtung!$I$13:$I$18,Daten_Umschichtung!$C52,Umschichtung!$J$13:$J$18,Daten_Umschichtung!P$5)-SUMIFS(Umschichtung!$M$13:$M$18,Umschichtung!$I$13:$I$18,Daten_Umschichtung!$C52,Umschichtung!$J$13:$J$18,Daten_Umschichtung!P$5)","v":0},{"$f":"P52+P52*Vermögen!$V57-SUMIFS(Umschichtung!$K$13:$K$18,Umschichtung!$I$13:$I$18,Daten_Umschichtung!$C52,Umschichtung!$J$13:$J$18,Daten_Umschichtung!Q$5)-SUMIFS(Umschichtung!$M$13:$M$18,Umschichtung!$I$13:$I$18,Daten_Umschichtung!$C52,Umschichtung!$J$13:$J$18,Daten_Umschichtung!Q$5)","v":0},{"$f":"Q52+Q52*Vermögen!$V57-SUMIFS(Umschichtung!$K$13:$K$18,Umschichtung!$I$13:$I$18,Daten_Umschichtung!$C52,Umschichtung!$J$13:$J$18,Daten_Umschichtung!R$5)-SUMIFS(Umschichtung!$M$13:$M$18,Umschichtung!$I$13:$I$18,Daten_Umschichtung!$C52,Umschichtung!$J$13:$J$18,Daten_Umschichtung!R$5)","v":0},{"$f":"R52+R52*Vermögen!$V57-SUMIFS(Umschichtung!$K$13:$K$18,Umschichtung!$I$13:$I$18,Daten_Umschichtung!$C52,Umschichtung!$J$13:$J$18,Daten_Umschichtung!S$5)-SUMIFS(Umschichtung!$M$13:$M$18,Umschichtung!$I$13:$I$18,Daten_Umschichtung!$C52,Umschichtung!$J$13:$J$18,Daten_Umschichtung!S$5)","v":0},null,{"$f":"SUMIF(Umschichtung!$I$13:$I$18,Daten_Umschichtung!C52,Umschichtung!$K$13:$K$18)","v":0},null,{"$f":"IF(Vermögen!G57=\"Ja\",\"\",Vermögen!F57)","v":0}]
[null,{"$f":"Daten_Vermögen!A91","v":"48."},{"$f":"Daten_Vermögen!B91","v":0},{"$f":"Vermögen!I58","v":"Bitte auswählen"},{"$f":"'Daten Projektion'!E60","v":{"v":0,"d":"0.0%"}},{"$f":"'Daten Projektion'!F60","v":{"v":0,"d":"0.0%"}},{"$f":"'Daten Projektion'!G60","v":{"v":0,"d":"0.0%"}},{"$f":"'Daten Projektion'!H60","v":{"v":0,"d":"0.0%"}},{"$f":"'Daten Projektion'!I60","v":{"v":0,"d":"0.0%"}},{"$f":"'Daten Projektion'!J60","v":{"v":0,"d":"0.0%"}},{"$f":"'Daten Projektion'!K60","v":{"v":0,"d":"0.0%"}},{"$f":"'Daten Projektion'!L60","v":{"v":0,"d":"0.0%"}},{"$f":"'Daten Projektion'!M60","v":{"v":0,"d":"0.0%"}},{"$f":"'Daten Projektion'!N60-SUMIFS(Umschichtung!$K$13:$K$18,Umschichtung!$I$13:$I$18,Daten_Umschichtung!$C53,Umschichtung!$J$13:$J$18,Daten_Umschichtung!N$5)-SUMIFS(Umschichtung!$M$13:$M$18,Umschichtung!$I$13:$I$18,Daten_Umschichtung!$C53,Umschichtung!$J$13:$J$18,Daten_Umschichtung!N$5)","v":0},{"$f":"N53+N53*Vermögen!$V58-SUMIFS(Umschichtung!$K$13:$K$18,Umschichtung!$I$13:$I$18,Daten_Umschichtung!$C53,Umschichtung!$J$13:$J$18,Daten_Umschichtung!O$5)-SUMIFS(Umschichtung!$M$13:$M$18,Umschichtung!$I$13:$I$18,Daten_Umschichtung!$C53,Umschichtung!$J$13:$J$18,Daten_Umschichtung!O$5)","v":0},{"$f":"O53+O53*Vermögen!$V58-SUMIFS(Umschichtung!$K$13:$K$18,Umschichtung!$I$13:$I$18,Daten_Umschichtung!$C53,Umschichtung!$J$13:$J$18,Daten_Umschichtung!P$5)-SUMIFS(Umschichtung!$M$13:$M$18,Umschichtung!$I$13:$I$18,Daten_Umschichtung!$C53,Umschichtung!$J$13:$J$18,Daten_Umschichtung!P$5)","v":0},{"$f":"P53+P53*Vermögen!$V58-SUMIFS(Umschichtung!$K$13:$K$18,Umschichtung!$I$13:$I$18,Daten_Umschichtung!$C53,Umschichtung!$J$13:$J$18,Daten_Umschichtung!Q$5)-SUMIFS(Umschichtung!$M$13:$M$18,Umschichtung!$I$13:$I$18,Daten_Umschichtung!$C53,Umschichtung!$J$13:$J$18,Daten_Umschichtung!Q$5)","v":0},{"$f":"Q53+Q53*Vermögen!$V58-SUMIFS(Umschichtung!$K$13:$K$18,Umschichtung!$I$13:$I$18,Daten_Umschichtung!$C53,Umschichtung!$J$13:$J$18,Daten_Umschichtung!R$5)-SUMIFS(Umschichtung!$M$13:$M$18,Umschichtung!$I$13:$I$18,Daten_Umschichtung!$C53,Umschichtung!$J$13:$J$18,Daten_Umschichtung!R$5)","v":0},{"$f":"R53+R53*Vermögen!$V58-SUMIFS(Umschichtung!$K$13:$K$18,Umschichtung!$I$13:$I$18,Daten_Umschichtung!$C53,Umschichtung!$J$13:$J$18,Daten_Umschichtung!S$5)-SUMIFS(Umschichtung!$M$13:$M$18,Umschichtung!$I$13:$I$18,Daten_Umschichtung!$C53,Umschichtung!$J$13:$J$18,Daten_Umschichtung!S$5)","v":0},null,{"$f":"SUMIF(Umschichtung!$I$13:$I$18,Daten_Umschichtung!C53,Umschichtung!$K$13:$K$18)","v":0},null,{"$f":"IF(Vermögen!G58=\"Ja\",\"\",Vermögen!F58)","v":0}]
[null,{"$f":"Daten_Vermögen!A92","v":"49."},{"$f":"Daten_Vermögen!B92","v":0},{"$f":"Vermögen!I59","v":"Bitte auswählen"},{"$f":"'Daten Projektion'!E61","v":{"v":0,"d":"0.0%"}},{"$f":"'Daten Projektion'!F61","v":{"v":0,"d":"0.0%"}},{"$f":"'Daten Projektion'!G61","v":{"v":0,"d":"0.0%"}},{"$f":"'Daten Projektion'!H61","v":{"v":0,"d":"0.0%"}},{"$f":"'Daten Projektion'!I61","v":{"v":0,"d":"0.0%"}},{"$f":"'Daten Projektion'!J61","v":{"v":0,"d":"0.0%"}},{"$f":"'Daten Projektion'!K61","v":{"v":0,"d":"0.0%"}},{"$f":"'Daten Projektion'!L61","v":{"v":0,"d":"0.0%"}},{"$f":"'Daten Projektion'!M61","v":{"v":0,"d":"0.0%"}},{"$f":"'Daten Projektion'!N61-SUMIFS(Umschichtung!$K$13:$K$18,Umschichtung!$I$13:$I$18,Daten_Umschichtung!$C54,Umschichtung!$J$13:$J$18,Daten_Umschichtung!N$5)-SUMIFS(Umschichtung!$M$13:$M$18,Umschichtung!$I$13:$I$18,Daten_Umschichtung!$C54,Umschichtung!$J$13:$J$18,Daten_Umschichtung!N$5)","v":0},{"$f":"N54+N54*Vermögen!$V59-SUMIFS(Umschichtung!$K$13:$K$18,Umschichtung!$I$13:$I$18,Daten_Umschichtung!$C54,Umschichtung!$J$13:$J$18,Daten_Umschichtung!O$5)-SUMIFS(Umschichtung!$M$13:$M$18,Umschichtung!$I$13:$I$18,Daten_Umschichtung!$C54,Umschichtung!$J$13:$J$18,Daten_Umschichtung!O$5)","v":0},{"$f":"O54+O54*Vermögen!$V59-SUMIFS(Umschichtung!$K$13:$K$18,Umschichtung!$I$13:$I$18,Daten_Umschichtung!$C54,Umschichtung!$J$13:$J$18,Daten_Umschichtung!P$5)-SUMIFS(Umschichtung!$M$13:$M$18,Umschichtung!$I$13:$I$18,Daten_Umschichtung!$C54,Umschichtung!$J$13:$J$18,Daten_Umschichtung!P$5)","v":0},{"$f":"P54+P54*Vermögen!$V59-SUMIFS(Umschichtung!$K$13:$K$18,Umschichtung!$I$13:$I$18,Daten_Umschichtung!$C54,Umschichtung!$J$13:$J$18,Daten_Umschichtung!Q$5)-SUMIFS(Umschichtung!$M$13:$M$18,Umschichtung!$I$13:$I$18,Daten_Umschichtung!$C54,Umschichtung!$J$13:$J$18,Daten_Umschichtung!Q$5)","v":0},{"$f":"Q54+Q54*Vermögen!$V59-SUMIFS(Umschichtung!$K$13:$K$18,Umschichtung!$I$13:$I$18,Daten_Umschichtung!$C54,Umschichtung!$J$13:$J$18,Daten_Umschichtung!R$5)-SUMIFS(Umschichtung!$M$13:$M$18,Umschichtung!$I$13:$I$18,Daten_Umschichtung!$C54,Umschichtung!$J$13:$J$18,Daten_Umschichtung!R$5)","v":0},{"$f":"R54+R54*Vermögen!$V59-SUMIFS(Umschichtung!$K$13:$K$18,Umschichtung!$I$13:$I$18,Daten_Umschichtung!$C54,Umschichtung!$J$13:$J$18,Daten_Umschichtung!S$5)-SUMIFS(Umschichtung!$M$13:$M$18,Umschichtung!$I$13:$I$18,Daten_Umschichtung!$C54,Umschichtung!$J$13:$J$18,Daten_Umschichtung!S$5)","v":0},null,{"$f":"SUMIF(Umschichtung!$I$13:$I$18,Daten_Umschichtung!C54,Umschichtung!$K$13:$K$18)","v":0},null,{"$f":"IF(Vermögen!G59=\"Ja\",\"\",Vermögen!F59)","v":0}]
[null,{"$f":"Daten_Vermögen!A93","v":"50."},{"$f":"Daten_Vermögen!B93","v":0},{"$f":"Vermögen!I60","v":"Bitte auswählen"},{"$f":"'Daten Projektion'!E62","v":{"v":0,"d":"0.0%"}},{"$f":"'Daten Projektion'!F62","v":{"v":0,"d":"0.0%"}},{"$f":"'Daten Projektion'!G62","v":{"v":0,"d":"0.0%"}},{"$f":"'Daten Projektion'!H62","v":{"v":0,"d":"0.0%"}},{"$f":"'Daten Projektion'!I62","v":{"v":0,"d":"0.0%"}},{"$f":"'Daten Projektion'!J62","v":{"v":0,"d":"0.0%"}},{"$f":"'Daten Projektion'!K62","v":{"v":0,"d":"0.0%"}},{"$f":"'Daten Projektion'!L62","v":{"v":0,"d":"0.0%"}},{"$f":"'Daten Projektion'!M62","v":{"v":0,"d":"0.0%"}},{"$f":"'Daten Projektion'!N62-SUMIFS(Umschichtung!$K$13:$K$18,Umschichtung!$I$13:$I$18,Daten_Umschichtung!$C55,Umschichtung!$J$13:$J$18,Daten_Umschichtung!N$5)-SUMIFS(Umschichtung!$M$13:$M$18,Umschichtung!$I$13:$I$18,Daten_Umschichtung!$C55,Umschichtung!$J$13:$J$18,Daten_Umschichtung!N$5)","v":0},{"$f":"N55+N55*Vermögen!$V60-SUMIFS(Umschichtung!$K$13:$K$18,Umschichtung!$I$13:$I$18,Daten_Umschichtung!$C55,Umschichtung!$J$13:$J$18,Daten_Umschichtung!O$5)-SUMIFS(Umschichtung!$M$13:$M$18,Umschichtung!$I$13:$I$18,Daten_Umschichtung!$C55,Umschichtung!$J$13:$J$18,Daten_Umschichtung!O$5)","v":0},{"$f":"O55+O55*Vermögen!$V60-SUMIFS(Umschichtung!$K$13:$K$18,Umschichtung!$I$13:$I$18,Daten_Umschichtung!$C55,Umschichtung!$J$13:$J$18,Daten_Umschichtung!P$5)-SUMIFS(Umschichtung!$M$13:$M$18,Umschichtung!$I$13:$I$18,Daten_Umschichtung!$C55,Umschichtung!$J$13:$J$18,Daten_Umschichtung!P$5)","v":0},{"$f":"P55+P55*Vermögen!$V60-SUMIFS(Umschichtung!$K$13:$K$18,Umschichtung!$I$13:$I$18,Daten_Umschichtung!$C55,Umschichtung!$J$13:$J$18,Daten_Umschichtung!Q$5)-SUMIFS(Umschichtung!$M$13:$M$18,Umschichtung!$I$13:$I$18,Daten_Umschichtung!$C55,Umschichtung!$J$13:$J$18,Daten_Umschichtung!Q$5)","v":0},{"$f":"Q55+Q55*Vermögen!$V60-SUMIFS(Umschichtung!$K$13:$K$18,Umschichtung!$I$13:$I$18,Daten_Umschichtung!$C55,Umschichtung!$J$13:$J$18,Daten_Umschichtung!R$5)-SUMIFS(Umschichtung!$M$13:$M$18,Umschichtung!$I$13:$I$18,Daten_Umschichtung!$C55,Umschichtung!$J$13:$J$18,Daten_Umschichtung!R$5)","v":0},{"$f":"R55+R55*Vermögen!$V60-SUMIFS(Umschichtung!$K$13:$K$18,Umschichtung!$I$13:$I$18,Daten_Umschichtung!$C55,Umschichtung!$J$13:$J$18,Daten_Umschichtung!S$5)-SUMIFS(Umschichtung!$M$13:$M$18,Umschichtung!$I$13:$I$18,Daten_Umschichtung!$C55,Umschichtung!$J$13:$J$18,Daten_Umschichtung!S$5)","v":0},null,{"$f":"SUMIF(Umschichtung!$I$13:$I$18,Daten_Umschichtung!C55,Umschichtung!$K$13:$K$18)","v":0},null,{"$f":"IF(Vermögen!G60=\"Ja\",\"\",Vermögen!F60)","v":0}]
[null,null,"Zustiftungen",null,{"$f":"'Daten Projektion'!E63","v":{"v":0,"d":"0.0%"}},{"$f":"'Daten Projektion'!F63","v":{"v":0,"d":"0.0%"}},{"$f":"'Daten Projektion'!G63","v":{"v":0,"d":"0.0%"}},{"$f":"'Daten Projektion'!H63","v":{"v":0,"d":"0.0%"}},{"$f":"'Daten Projektion'!I63","v":{"v":1,"d":"100.0%"}},{"$f":"'Daten Projektion'!J63","v":{"v":0,"d":"0.0%"}},{"$f":"'Daten Projektion'!K63","v":{"v":0,"d":"0.0%"}},{"$f":"'Daten Projektion'!L63","v":{"v":0,"d":"0.0%"}},{"$f":"'Daten Projektion'!M63","v":{"v":0,"d":"0.0%"}},{"$f":"'Daten Projektion'!N63","v":0},{"$f":"N56+Wirtschaftsplan!H21","v":0},{"$f":"O56+Wirtschaftsplan!M21","v":0},{"$f":"P56+Wirtschaftsplan!N21","v":0},{"$f":"Q56+Wirtschaftsplan!O21","v":0},{"$f":"R56+Wirtschaftsplan!P21","v":0},null,{"$f":"SUMIF(Umschichtung!$I$13:$I$18,Daten_Umschichtung!C56,Umschichtung!$K$13:$K$18)","v":0},null,null,"Bestandswert EUR","Summe Umschichtungen","Differenz","Für Info"]
[null,{"$f":"Umschichtung!F13","v":"U1"},{"$f":"Umschichtung!G13","v":0},{"$f":"Umschichtung!I13","v":0},{"$f":"IF(Umschichtung!$H13=Daten_Umschichtung!E$5,1,0)","v":{"v":0,"d":"0.0%"}},{"$f":"IF(Umschichtung!$H13=Daten_Umschichtung!F$5,1,0)","v":{"v":0,"d":"0.0%"}},{"$f":"IF(Umschichtung!$H13=Daten_Umschichtung!G$5,1,0)","v":{"v":0,"d":"0.0%"}},{"$f":"IF(Umschichtung!$H13=Daten_Umschichtung!H$5,1,0)","v":{"v":0,"d":"0.0%"}},{"$f":"IF(Umschichtung!$H13=Daten_Umschichtung!I$5,1,0)","v":{"v":0,"d":"0.0%"}},{"$f":"IF(Umschichtung!$H13=Daten_Umschichtung!J$5,1,0)","v":{"v":0,"d":"0.0%"}},{"$f":"IF(Umschichtung!$H13=Daten_Umschichtung!K$5,1,0)","v":{"v":0,"d":"0.0%"}},{"$f":"IF(Umschichtung!$H13=Daten_Umschichtung!L$5,1,0)","v":{"v":0,"d":"0.0%"}},{"$f":"IF(Umschichtung!$H13=Daten_Umschichtung!M$5,1,0)","v":{"v":0,"d":"0.0%"}},{"$f":"IF(Umschichtung!$J13=Daten_Umschichtung!N$5,Umschichtung!$K13,0)","v":0},{"$f":"N57+N57*Umschichtung!$N$13+IF(Umschichtung!$J13=Daten_Umschichtung!O$5,Umschichtung!$K13,0)","v":0},{"$f":"O57+O57*Umschichtung!$N$13+IF(Umschichtung!$J13=Daten_Umschichtung!P$5,Umschichtung!$K13,0)","v":0},{"$f":"P57+P57*Umschichtung!$N$13+IF(Umschichtung!$J13=Daten_Umschichtung!Q$5,Umschichtung!$K13,0)","v":0},{"$f":"Q57+Q57*Umschichtung!$N$13+IF(Umschichtung!$J13=Daten_Umschichtung!R$5,Umschichtung!$K13,0)","v":0},{"$f":"R57+R57*Umschichtung!$N$13+IF(Umschichtung!$J13=Daten_Umschichtung!S$5,Umschichtung!$K13,0)","v":0},null,{"$f":"SUMIF(Umschichtung!$I$13:$I$18,Daten_Umschichtung!C57,Umschichtung!$K$13:$K$18)","v":0},null,null,{"$f":"SUMIF(Daten_Vermögen!$B$44:$B$93,Daten_Umschichtung!D57,Daten_Vermögen!$C$44:$C$93)","v":0},{"$f":"SUMIF(Umschichtung!$I$13:$I$18,Daten_Umschichtung!D57,Umschichtung!$K$13:$K$18)","v":0},{"$f":"X57-Y57","v":0},{"$f":"IF(Z57<0,1,0)","v":0}]
[null,{"$f":"Umschichtung!F14","v":"U2"},{"$f":"Umschichtung!G14","v":0},{"$f":"Umschichtung!I14","v":0},{"$f":"IF(Umschichtung!$H14=Daten_Umschichtung!E$5,1,0)","v":{"v":0,"d":"0.0%"}},{"$f":"IF(Umschichtung!$H14=Daten_Umschichtung!F$5,1,0)","v":{"v":0,"d":"0.0%"}},{"$f":"IF(Umschichtung!$H14=Daten_Umschichtung!G$5,1,0)","v":{"v":0,"d":"0.0%"}},{"$f":"IF(Umschichtung!$H14=Daten_Umschichtung!H$5,1,0)","v":{"v":0,"d":"0.0%"}},{"$f":"IF(Umschichtung!$H14=Daten_Umschichtung!I$5,1,0)","v":{"v":0,"d":"0.0%"}},{"$f":"IF(Umschichtung!$H14=Daten_Umschichtung!J$5,1,0)","v":{"v":0,"d":"0.0%"}},{"$f":"IF(Umschichtung!$H14=Daten_Umschichtung!K$5,1,0)","v":{"v":0,"d":"0.0%"}},{"$f":"IF(Umschichtung!$H14=Daten_Umschichtung!L$5,1,0)","v":{"v":0,"d":"0.0%"}},{"$f":"IF(Umschichtung!$H14=Daten_Umschichtung!M$5,1,0)","v":{"v":0,"d":"0.0%"}},{"$f":"IF(Umschichtung!$J14=Daten_Umschichtung!N$5,Umschichtung!$K14,0)","v":0},{"$f":"N58+N58*Umschichtung!$N$13+IF(Umschichtung!$J14=Daten_Umschichtung!O$5,Umschichtung!$K14,0)","v":0},{"$f":"O58+O58*Umschichtung!$N$13+IF(Umschichtung!$J14=Daten_Umschichtung!P$5,Umschichtung!$K14,0)","v":0},{"$f":"P58+P58*Umschichtung!$N$13+IF(Umschichtung!$J14=Daten_Umschichtung!Q$5,Umschichtung!$K14,0)","v":0},{"$f":"Q58+Q58*Umschichtung!$N$13+IF(Umschichtung!$J14=Daten_Umschichtung!R$5,Umschichtung!$K14,0)","v":0},{"$f":"R58+R58*Umschichtung!$N$13+IF(Umschichtung!$J14=Daten_Umschichtung!S$5,Umschichtung!$K14,0)","v":0},null,{"$f":"SUMIF(Umschichtung!$I$13:$I$18,Daten_Umschichtung!C58,Umschichtung!$K$13:$K$18)","v":0},null,null,{"$f":"SUMIF(Daten_Vermögen!$B$44:$B$93,Daten_Umschichtung!D58,Daten_Vermögen!$C$44:$C$93)","v":0},{"$f":"SUMIF(Umschichtung!$I$13:$I$18,Daten_Umschichtung!D58,Umschichtung!$K$13:$K$18)","v":0},{"$f":"X58-Y58","v":0},{"$f":"IF(Z58<0,1,0)","v":0}]
[null,{"$f":"Umschichtung!F15","v":"U3"},{"$f":"Umschichtung!G15","v":0},{"$f":"Umschichtung!I15","v":0},{"$f":"IF(Umschichtung!$H15=Daten_Umschichtung!E$5,1,0)","v":{"v":0,"d":"0.0%"}},{"$f":"IF(Umschichtung!$H15=Daten_Umschichtung!F$5,1,0)","v":{"v":0,"d":"0.0%"}},{"$f":"IF(Umschichtung!$H15=Daten_Umschichtung!G$5,1,0)","v":{"v":0,"d":"0.0%"}},{"$f":"IF(Umschichtung!$H15=Daten_Umschichtung!H$5,1,0)","v":{"v":0,"d":"0.0%"}},{"$f":"IF(Umschichtung!$H15=Daten_Umschichtung!I$5,1,0)","v":{"v":0,"d":"0.0%"}},{"$f":"IF(Umschichtung!$H15=Daten_Umschichtung!J$5,1,0)","v":{"v":0,"d":"0.0%"}},{"$f":"IF(Umschichtung!$H15=Daten_Umschichtung!K$5,1,0)","v":{"v":0,"d":"0.0%"}},{"$f":"IF(Umschichtung!$H15=Daten_Umschichtung!L$5,1,0)","v":{"v":0,"d":"0.0%"}},{"$f":"IF(Umschichtung!$H15=Daten_Umschichtung!M$5,1,0)","v":{"v":0,"d":"0.0%"}},{"$f":"IF(Umschichtung!$J15=Daten_Umschichtung!N$5,Umschichtung!$K15,0)","v":0},{"$f":"N59+N59*Umschichtung!$N$13+IF(Umschichtung!$J15=Daten_Umschichtung!O$5,Umschichtung!$K15,0)","v":0},{"$f":"O59+O59*Umschichtung!$N$13+IF(Umschichtung!$J15=Daten_Umschichtung!P$5,Umschichtung!$K15,0)","v":0},{"$f":"P59+P59*Umschichtung!$N$13+IF(Umschichtung!$J15=Daten_Umschichtung!Q$5,Umschichtung!$K15,0)","v":0},{"$f":"Q59+Q59*Umschichtung!$N$13+IF(Umschichtung!$J15=Daten_Umschichtung!R$5,Umschichtung!$K15,0)","v":0},{"$f":"R59+R59*Umschichtung!$N$13+IF(Umschichtung!$J15=Daten_Umschichtung!S$5,Umschichtung!$K15,0)","v":0},null,{"$f":"SUMIF(Umschichtung!$I$13:$I$18,Daten_Umschichtung!C59,Umschichtung!$K$13:$K$18)","v":0},null,null,{"$f":"SUMIF(Daten_Vermögen!$B$44:$B$93,Daten_Umschichtung!D59,Daten_Vermögen!$C$44:$C$93)","v":0},{"$f":"SUMIF(Umschichtung!$I$13:$I$18,Daten_Umschichtung!D59,Umschichtung!$K$13:$K$18)","v":0},0,0]
[null,{"$f":"Umschichtung!F16","v":"U4"},{"$f":"Umschichtung!G16","v":0},{"$f":"Umschichtung!I16","v":0},{"$f":"IF(Umschichtung!$H16=Daten_Umschichtung!E$5,1,0)","v":{"v":0,"d":"0.0%"}},{"$f":"IF(Umschichtung!$H16=Daten_Umschichtung!F$5,1,0)","v":{"v":0,"d":"0.0%"}},{"$f":"IF(Umschichtung!$H16=Daten_Umschichtung!G$5,1,0)","v":{"v":0,"d":"0.0%"}},{"$f":"IF(Umschichtung!$H16=Daten_Umschichtung!H$5,1,0)","v":{"v":0,"d":"0.0%"}},{"$f":"IF(Umschichtung!$H16=Daten_Umschichtung!I$5,1,0)","v":{"v":0,"d":"0.0%"}},{"$f":"IF(Umschichtung!$H16=Daten_Umschichtung!J$5,1,0)","v":{"v":0,"d":"0.0%"}},{"$f":"IF(Umschichtung!$H16=Daten_Umschichtung!K$5,1,0)","v":{"v":0,"d":"0.0%"}},{"$f":"IF(Umschichtung!$H16=Daten_Umschichtung!L$5,1,0)","v":{"v":0,"d":"0.0%"}},{"$f":"IF(Umschichtung!$H16=Daten_Umschichtung!M$5,1,0)","v":{"v":0,"d":"0.0%"}},{"$f":"IF(Umschichtung!$J16=Daten_Umschichtung!N$5,Umschichtung!$K16,0)","v":0},{"$f":"N60+N60*Umschichtung!$N$13+IF(Umschichtung!$J16=Daten_Umschichtung!O$5,Umschichtung!$K16,0)","v":0},{"$f":"O60+O60*Umschichtung!$N$13+IF(Umschichtung!$J16=Daten_Umschichtung!P$5,Umschichtung!$K16,0)","v":0},{"$f":"P60+P60*Umschichtung!$N$13+IF(Umschichtung!$J16=Daten_Umschichtung!Q$5,Umschichtung!$K16,0)","v":0},{"$f":"Q60+Q60*Umschichtung!$N$13+IF(Umschichtung!$J16=Daten_Umschichtung!R$5,Umschichtung!$K16,0)","v":0},{"$f":"R60+R60*Umschichtung!$N$13+IF(Umschichtung!$J16=Daten_Umschichtung!S$5,Umschichtung!$K16,0)","v":0},null,{"$f":"SUMIF(Umschichtung!$I$13:$I$18,Daten_Umschichtung!C60,Umschichtung!$K$13:$K$18)","v":0},null,null,{"$f":"SUMIF(Daten_Vermögen!$B$44:$B$93,Daten_Umschichtung!D60,Daten_Vermögen!$C$44:$C$93)","v":0},{"$f":"SUMIF(Umschichtung!$I$13:$I$18,Daten_Umschichtung!D60,Umschichtung!$K$13:$K$18)","v":0},0,0]
[null,{"$f":"Umschichtung!F17","v":"U5"},{"$f":"Umschichtung!G17","v":0},{"$f":"Umschichtung!I17","v":0},{"$f":"IF(Umschichtung!$H17=Daten_Umschichtung!E$5,1,0)","v":{"v":0,"d":"0.0%"}},{"$f":"IF(Umschichtung!$H17=Daten_Umschichtung!F$5,1,0)","v":{"v":0,"d":"0.0%"}},{"$f":"IF(Umschichtung!$H17=Daten_Umschichtung!G$5,1,0)","v":{"v":0,"d":"0.0%"}},{"$f":"IF(Umschichtung!$H17=Daten_Umschichtung!H$5,1,0)","v":{"v":0,"d":"0.0%"}},{"$f":"IF(Umschichtung!$H17=Daten_Umschichtung!I$5,1,0)","v":{"v":0,"d":"0.0%"}},{"$f":"IF(Umschichtung!$H17=Daten_Umschichtung!J$5,1,0)","v":{"v":0,"d":"0.0%"}},{"$f":"IF(Umschichtung!$H17=Daten_Umschichtung!K$5,1,0)","v":{"v":0,"d":"0.0%"}},{"$f":"IF(Umschichtung!$H17=Daten_Umschichtung!L$5,1,0)","v":{"v":0,"d":"0.0%"}},{"$f":"IF(Umschichtung!$H17=Daten_Umschichtung!M$5,1,0)","v":{"v":0,"d":"0.0%"}},{"$f":"IF(Umschichtung!$J17=Daten_Umschichtung!N$5,Umschichtung!$K17,0)","v":0},{"$f":"N61+N61*Umschichtung!$N$13+IF(Umschichtung!$J17=Daten_Umschichtung!O$5,Umschichtung!$K17,0)","v":0},{"$f":"O61+O61*Umschichtung!$N$13+IF(Umschichtung!$J17=Daten_Umschichtung!P$5,Umschichtung!$K17,0)","v":0},{"$f":"P61+P61*Umschichtung!$N$13+IF(Umschichtung!$J17=Daten_Umschichtung!Q$5,Umschichtung!$K17,0)","v":0},{"$f":"Q61+Q61*Umschichtung!$N$13+IF(Umschichtung!$J17=Daten_Umschichtung!R$5,Umschichtung!$K17,0)","v":0},{"$f":"R61+R61*Umschichtung!$N$13+IF(Umschichtung!$J17=Daten_Umschichtung!S$5,Umschichtung!$K17,0)","v":0},null,{"$f":"SUMIF(Umschichtung!$I$13:$I$18,Daten_Umschichtung!C61,Umschichtung!$K$13:$K$18)","v":0},null,null,{"$f":"SUMIF(Daten_Vermögen!$B$44:$B$93,Daten_Umschichtung!D61,Daten_Vermögen!$C$44:$C$93)","v":0},{"$f":"SUMIF(Umschichtung!$I$13:$I$18,Daten_Umschichtung!D61,Umschichtung!$K$13:$K$18)","v":0},0,0]
[null,{"$f":"Umschichtung!F18","v":"U6"},{"$f":"Umschichtung!G18","v":0},{"$f":"Umschichtung!I18","v":0},{"$f":"IF(Umschichtung!$H18=Daten_Umschichtung!E$5,1,0)","v":{"v":0,"d":"0.0%"}},{"$f":"IF(Umschichtung!$H18=Daten_Umschichtung!F$5,1,0)","v":{"v":0,"d":"0.0%"}},{"$f":"IF(Umschichtung!$H18=Daten_Umschichtung!G$5,1,0)","v":{"v":0,"d":"0.0%"}},{"$f":"IF(Umschichtung!$H18=Daten_Umschichtung!H$5,1,0)","v":{"v":0,"d":"0.0%"}},{"$f":"IF(Umschichtung!$H18=Daten_Umschichtung!I$5,1,0)","v":{"v":0,"d":"0.0%"}},{"$f":"IF(Umschichtung!$H18=Daten_Umschichtung!J$5,1,0)","v":{"v":0,"d":"0.0%"}},{"$f":"IF(Umschichtung!$H18=Daten_Umschichtung!K$5,1,0)","v":{"v":0,"d":"0.0%"}},{"$f":"IF(Umschichtung!$H18=Daten_Umschichtung!L$5,1,0)","v":{"v":0,"d":"0.0%"}},{"$f":"IF(Umschichtung!$H18=Daten_Umschichtung!M$5,1,0)","v":{"v":0,"d":"0.0%"}},{"$f":"IF(Umschichtung!$J18=Daten_Umschichtung!N$5,Umschichtung!$K18,0)","v":0},{"$f":"N62+N62*Umschichtung!$N$13+IF(Umschichtung!$J18=Daten_Umschichtung!O$5,Umschichtung!$K18,0)","v":0},{"$f":"O62+O62*Umschichtung!$N$13+IF(Umschichtung!$J18=Daten_Umschichtung!P$5,Umschichtung!$K18,0)","v":0},{"$f":"P62+P62*Umschichtung!$N$13+IF(Umschichtung!$J18=Daten_Umschichtung!Q$5,Umschichtung!$K18,0)","v":0},{"$f":"Q62+Q62*Umschichtung!$N$13+IF(Umschichtung!$J18=Daten_Umschichtung!R$5,Umschichtung!$K18,0)","v":0},{"$f":"R62+R62*Umschichtung!$N$13+IF(Umschichtung!$J18=Daten_Umschichtung!S$5,Umschichtung!$K18,0)","v":0},null,{"$f":"SUMIF(Umschichtung!$I$13:$I$18,Daten_Umschichtung!C62,Umschichtung!$K$13:$K$18)","v":0},null,null,{"$f":"SUMIF(Daten_Vermögen!$B$44:$B$93,Daten_Umschichtung!D62,Daten_Vermögen!$C$44:$C$93)","v":0},{"$f":"SUMIF(Umschichtung!$I$13:$I$18,Daten_Umschichtung!D62,Umschichtung!$K$13:$K$18)","v":0},0,0]
[null,null,"Summe",null,{"$f":"E5","v":"Aktien"},{"$f":"F5","v":"Anleihen"},"Alternative Inv.","Rohstoffe","Liquidität","Immobilien","Beteiligungen","Sonst. Verm.","Verbindlichkeiten",{"$f":"SUM(N6:N62)","v":0},0,0,0,0,0,null,{"$f":"SUM(U6:U56)","v":0},null,null,{"$f":"SUM(X57:X62)","v":0},{"$f":"SUM(Y57:Y62)","v":0},null,{"$f":"SUM(AA57:AA62)","v":0}]
[{"$nulls":13},{"$f":"N5","v":2023},{"$f":"O5","v":2024},2025,2026,2027,2028,{"$nulls":4},"Zielallokation","Allokation vor Umschichtung","Allokation nach Umschichtung",null,"Abw. vor U.","Abw. nach U."]
[null,null,"Vermögen Umschichtung nach Assetkl.",{"$f":"'Daten Projektion'!D66","v":"Aktien"},{"$nulls":9},{"$f":"SUM($E$6:$E$62*N$6:N$62)","v":0},{"$f":"SUM($E$6:$E$62*O$6:O$62)","v":0},{"$f":"SUM($E$6:$E$62*P$6:P$62)","v":0},{"$f":"SUM($E$6:$E$62*Q$6:Q$62)","v":0},{"$f":"SUM($E$6:$E$62*R$6:R$62)","v":0},{"$f":"SUM($E$6:$E$62*S$6:S$62)","v":0},{"$f":"D65","v":"Aktien"},null,null,"Allokationsvergleich",{"$f":"Anlagestrategie!H23","v":{"v":0,"d":"0.0%"}},{"$f":"SUMIF('Daten Projektion'!$N$65:$S$65,Umschichtung!$H$24,'Daten Projektion'!$N66:$S66)/(SUMIF('Daten Projektion'!$N$65:$S$65,Umschichtung!$H$24,'Daten Projektion'!$N$75:$S$75)-SUMIF('Daten Projektion'!$N$65:$S$65,Umschichtung!$H$24,'Daten Projektion'!$N$74:$S$74))","v":{"$error":"#DIV/0!"}},{"$f":"SUMIF($N$64:$S$64,Umschichtung!$H$24,Daten_Umschichtung!$N65:$S65)/(SUMIF(Daten_Umschichtung!$N$64:$S$64,Umschichtung!$H$24,Daten_Umschichtung!$N$74:$S$74)-SUMIF(Daten_Umschichtung!$N$64:$S$64,Umschichtung!$H$24,Daten_Umschichtung!$N$73:$S$73))","v":{"$error":"#DIV/0!"}},null,{"$f":"Y65-X65","v":{"$error":"#DIV/0!"}},{"$f":"Z65-X65","v":{"$error":"#DIV/0!"}}]
[{"$nulls":3},{"$f":"'Daten Projektion'!D67","v":"Anleihen"},{"$nulls":9},{"$f":"SUM($F$6:$F$62*N$6:N$62)","v":0},{"$f":"SUM($F$6:$F$62*O$6:O$62)","v":0},{"$f":"SUM($F$6:$F$62*P$6:P$62)","v":0},{"$f":"SUM($F$6:$F$62*Q$6:Q$62)","v":0},{"$f":"SUM($F$6:$F$62*R$6:R$62)","v":0},{"$f":"SUM($F$6:$F$62*S$6:S$62)","v":0},{"$f":"D66","v":"Anleihen"},{"$nulls":3},{"$f":"Anlagestrategie!H24","v":{"v":0,"d":"0.0%"}},{"$f":"SUMIF('Daten Projektion'!$N$65:$S$65,Umschichtung!$H$24,'Daten Projektion'!$N67:$S67)/(SUMIF('Daten Projektion'!$N$65:$S$65,Umschichtung!$H$24,'Daten Projektion'!$N$75:$S$75)-SUMIF('Daten Projektion'!$N$65:$S$65,Umschichtung!$H$24,'Daten Projektion'!$N$74:$S$74))","v":{"$error":"#DIV/0!"}},{"$f":"SUMIF($N$64:$S$64,Umschichtung!$H$24,Daten_Umschichtung!$N66:$S66)/(SUMIF(Daten_Umschichtung!$N$64:$S$64,Umschichtung!$H$24,Daten_Umschichtung!$N$74:$S$74)-SUMIF(Daten_Umschichtung!$N$64:$S$64,Umschichtung!$H$24,Daten_Umschichtung!$N$73:$S$73))","v":{"$error":"#DIV/0!"}},null,{"$f":"Y66-X66","v":{"$error":"#DIV/0!"}},{"$f":"Z66-X66","v":{"$error":"#DIV/0!"}}]
[{"$nulls":3},{"$f":"'Daten Projektion'!D68","v":"Alternative Inv."},{"$nulls":9},{"$f":"SUM($G$6:$G$62*N$6:N$62)","v":0},{"$f":"SUM($G$6:$G$62*O$6:O$62)","v":0},{"$f":"SUM($G$6:$G$62*P$6:P$62)","v":0},{"$f":"SUM($G$6:$G$62*Q$6:Q$62)","v":0},{"$f":"SUM($G$6:$G$62*R$6:R$62)","v":0},{"$f":"SUM($G$6:$G$62*S$6:S$62)","v":0},"Alternative Inv.",{"$nulls":3},{"$f":"Anlagestrategie!H28","v":{"v":0,"d":"0.0%"}},{"$f":"SUMIF('Daten Projektion'!$N$65:$S$65,Umschichtung!$H$24,'Daten Projektion'!$N68:$S68)/(SUMIF('Daten Projektion'!$N$65:$S$65,Umschichtung!$H$24,'Daten Projektion'!$N$75:$S$75)-SUMIF('Daten Projektion'!$N$65:$S$65,Umschichtung!$H$24,'Daten Projektion'!$N$74:$S$74))","v":{"$error":"#DIV/0!"}},{"$f":"SUMIF($N$64:$S$64,Umschichtung!$H$24,Daten_Umschichtung!$N67:$S67)/(SUMIF(Daten_Umschichtung!$N$64:$S$64,Umschichtung!$H$24,Daten_Umschichtung!$N$74:$S$74)-SUMIF(Daten_Umschichtung!$N$64:$S$64,Umschichtung!$H$24,Daten_Umschichtung!$N$73:$S$73))","v":{"$error":"#DIV/0!"}},null,{"$error":"#DIV/0!"},{"$error":"#DIV/0!"}]
[{"$nulls":3},{"$f":"'Daten Projektion'!D69","v":"Rohstoffe"},{"$nulls":9},{"$f":"SUM($H$6:$H$62*N$6:N$62)","v":0},{"$f":"SUM($H$6:$H$62*O$6:O$62)","v":0},{"$f":"SUM($H$6:$H$62*P$6:P$62)","v":0},{"$f":"SUM($H$6:$H$62*Q$6:Q$62)","v":0},{"$f":"SUM($H$6:$H$62*R$6:R$62)","v":0},{"$f":"SUM($H$6:$H$62*S$6:S$62)","v":0},"Rohstoffe",{"$nulls":3},{"$f":"Anlagestrategie!H29","v":{"v":0,"d":"0.0%"}},{"$f":"SUMIF('Daten Projektion'!$N$65:$S$65,Umschichtung!$H$24,'Daten Projektion'!$N69:$S69)/(SUMIF('Daten Projektion'!$N$65:$S$65,Umschichtung!$H$24,'Daten Projektion'!$N$75:$S$75)-SUMIF('Daten Projektion'!$N$65:$S$65,Umschichtung!$H$24,'Daten Projektion'!$N$74:$S$74))","v":{"$error":"#DIV/0!"}},{"$f":"SUMIF($N$64:$S$64,Umschichtung!$H$24,Daten_Umschichtung!$N68:$S68)/(SUMIF(Daten_Umschichtung!$N$64:$S$64,Umschichtung!$H$24,Daten_Umschichtung!$N$74:$S$74)-SUMIF(Daten_Umschichtung!$N$64:$S$64,Umschichtung!$H$24,Daten_Umschichtung!$N$73:$S$73))","v":{"$error":"#DIV/0!"}},null,{"$error":"#DIV/0!"},{"$error":"#DIV/0!"}]
[{"$nulls":3},{"$f":"'Daten Projektion'!D70","v":"Liquidität"},{"$nulls":9},{"$f":"SUM($I$6:$I$62*N$6:N$62)","v":0},{"$f":"SUM($I$6:$I$62*O$6:O$62)","v":0},{"$f":"SUM($I$6:$I$62*P$6:P$62)","v":0},{"$f":"SUM($I$6:$I$62*Q$6:Q$62)","v":0},{"$f":"SUM($I$6:$I$62*R$6:R$62)","v":0},{"$f":"SUM($I$6:$I$62*S$6:S$62)","v":0},"Liquidität",{"$nulls":3},{"$f":"Anlagestrategie!H30","v":{"v":0,"d":"0.0%"}},{"$f":"SUMIF('Daten Projektion'!$N$65:$S$65,Umschichtung!$H$24,'Daten Projektion'!$N70:$S70)/(SUMIF('Daten Projektion'!$N$65:$S$65,Umschichtung!$H$24,'Daten Projektion'!$N$75:$S$75)-SUMIF('Daten Projektion'!$N$65:$S$65,Umschichtung!$H$24,'Daten Projektion'!$N$74:$S$74))","v":{"$error":"#DIV/0!"}},{"$f":"SUMIF($N$64:$S$64,Umschichtung!$H$24,Daten_Umschichtung!$N69:$S69)/(SUMIF(Daten_Umschichtung!$N$64:$S$64,Umschichtung!$H$24,Daten_Umschichtung!$N$74:$S$74)-SUMIF(Daten_Umschichtung!$N$64:$S$64,Umschichtung!$H$24,Daten_Umschichtung!$N$73:$S$73))","v":{"$error":"#DIV/0!"}},null,{"$error":"#DIV/0!"},{"$error":"#DIV/0!"}]
[{"$nulls":3},{"$f":"'Daten Projektion'!D71","v":"Immobilien"},{"$nulls":9},{"$f":"SUM($J$6:$J$62*N$6:N$62)","v":0},{"$f":"SUM($J$6:$J$62*O$6:O$62)","v":0},{"$f":"SUM($J$6:$J$62*P$6:P$62)","v":0},{"$f":"SUM($J$6:$J$62*Q$6:Q$62)","v":0},{"$f":"SUM($J$6:$J$62*R$6:R$62)","v":0},{"$f":"SUM($J$6:$J$62*S$6:S$62)","v":0},"Immobilien",{"$nulls":3},{"$f":"Anlagestrategie!H31","v":{"v":0,"d":"0.0%"}},{"$f":"SUMIF('Daten Projektion'!$N$65:$S$65,Umschichtung!$H$24,'Daten Projektion'!$N71:$S71)/(SUMIF('Daten Projektion'!$N$65:$S$65,Umschichtung!$H$24,'Daten Projektion'!$N$75:$S$75)-SUMIF('Daten Projektion'!$N$65:$S$65,Umschichtung!$H$24,'Daten Projektion'!$N$74:$S$74))","v":{"$error":"#DIV/0!"}},{"$f":"SUMIF($N$64:$S$64,Umschichtung!$H$24,Daten_Umschichtung!$N70:$S70)/(SUMIF(Daten_Umschichtung!$N$64:$S$64,Umschichtung!$H$24,Daten_Umschichtung!$N$74:$S$74)-SUMIF(Daten_Umschichtung!$N$64:$S$64,Umschichtung!$H$24,Daten_Umschichtung!$N$73:$S$73))","v":{"$error":"#DIV/0!"}},null,{"$error":"#DIV/0!"},{"$error":"#DIV/0!"}]
[{"$nulls":3},{"$f":"'Daten Projektion'!D72","v":"Beteiligungen"},{"$nulls":9},{"$f":"SUM($K$6:$K$62*N$6:N$62)","v":0},{"$f":"SUM($K$6:$K$62*O$6:O$62)","v":0},{"$f":"SUM($K$6:$K$62*P$6:P$62)","v":0},{"$f":"SUM($K$6:$K$62*Q$6:Q$62)","v":0},{"$f":"SUM($K$6:$K$62*R$6:R$62)","v":0},{"$f":"SUM($K$6:$K$62*S$6:S$62)","v":0},"Beteiligungen",{"$nulls":3},{"$f":"Anlagestrategie!H32","v":{"v":0,"d":"0.0%"}},{"$f":"SUMIF('Daten Projektion'!$N$65:$S$65,Umschichtung!$H$24,'Daten Projektion'!$N72:$S72)/(SUMIF('Daten Projektion'!$N$65:$S$65,Umschichtung!$H$24,'Daten Projektion'!$N$75:$S$75)-SUMIF('Daten Projektion'!$N$65:$S$65,Umschichtung!$H$24,'Daten Projektion'!$N$74:$S$74))","v":{"$error":"#DIV/0!"}},{"$f":"SUMIF($N$64:$S$64,Umschichtung!$H$24,Daten_Umschichtung!$N71:$S71)/(SUMIF(Daten_Umschichtung!$N$64:$S$64,Umschichtung!$H$24,Daten_Umschichtung!$N$74:$S$74)-SUMIF(Daten_Umschichtung!$N$64:$S$64,Umschichtung!$H$24,Daten_Umschichtung!$N$73:$S$73))","v":{"$error":"#DIV/0!"}},null,{"$error":"#DIV/0!"},{"$error":"#DIV/0!"}]
[{"$nulls":3},{"$f":"'Daten Projektion'!D73","v":"Sonst. Verm."},{"$nulls":9},{"$f":"SUM($L$6:$L$62*N$6:N$62)","v":0},{"$f":"SUM($L$6:$L$62*O$6:O$62)","v":0},{"$f":"SUM($L$6:$L$62*P$6:P$62)","v":0},{"$f":"SUM($L$6:$L$62*Q$6:Q$62)","v":0},{"$f":"SUM($L$6:$L$62*R$6:R$62)","v":0},{"$f":"SUM($L$6:$L$62*S$6:S$62)","v":0},"Sonst. Verm.",{"$nulls":3},{"$f":"Anlagestrategie!H33","v":{"v":0,"d":"0.0%"}},{"$f":"SUMIF('Daten Projektion'!$N$65:$S$65,Umschichtung!$H$24,'Daten Projektion'!$N73:$S73)/(SUMIF('Daten Projektion'!$N$65:$S$65,Umschichtung!$H$24,'Daten Projektion'!$N$75:$S$75)-SUMIF('Daten Projektion'!$N$65:$S$65,Umschichtung!$H$24,'Daten Projektion'!$N$74:$S$74))","v":{"$error":"#DIV/0!"}},{"$f":"SUMIF($N$64:$S$64,Umschichtung!$H$24,Daten_Umschichtung!$N72:$S72)/(SUMIF(Daten_Umschichtung!$N$64:$S$64,Umschichtung!$H$24,Daten_Umschichtung!$N$74:$S$74)-SUMIF(Daten_Umschichtung!$N$64:$S$64,Umschichtung!$H$24,Daten_Umschichtung!$N$73:$S$73))","v":{"$error":"#DIV/0!"}},null,{"$error":"#DIV/0!"},{"$error":"#DIV/0!"}]
[{"$nulls":3},{"$f":"'Daten Projektion'!D74","v":"Verbindlichkeiten"},{"$nulls":9},{"$f":"SUM($M$6:$M$62*N$6:N$62)","v":0},{"$f":"SUM($M$6:$M$62*O$6:O$62)","v":0},{"$f":"SUM($M$6:$M$62*P$6:P$62)","v":0},{"$f":"SUM($M$6:$M$62*Q$6:Q$62)","v":0},{"$f":"SUM($M$6:$M$62*R$6:R$62)","v":0},{"$f":"SUM($M$6:$M$62*S$6:S$62)","v":0},"Verbindlichkeiten",{"$nulls":3},{"$f":"Anlagestrategie!H34","v":{"v":0,"d":"0.0%"}},{"$f":"SUM(Y65:Y72)","v":{"$error":"#DIV/0!"}},{"$f":"SUM(Z65:Z72)","v":{"$error":"#DIV/0!"}}]
[{"$nulls":3},"Summe",{"$nulls":9},{"$f":"SUM(N65:N73)","v":0},{"$f":"SUM(O65:O73)","v":0},0,0,0,0]
[]
[null,null,"Zielerreichung Vermögen",{"$nulls":10},{"$f":"N5","v":2023},{"$f":"O5","v":2024},2025,2026,2027,2028]
[{"$nulls":3},"Vermögenserhaltungsziel",{"$nulls":9},{"$f":"Daten_Vermögenserhaltung!H70","v":0},{"$f":"Daten_Vermögenserhaltung!I70","v":0},{"$f":"Daten_Vermögenserhaltung!J70","v":0},{"$f":"Daten_Vermögenserhaltung!K70","v":0},{"$f":"Daten_Vermögenserhaltung!L70","v":0},{"$f":"Daten_Vermögenserhaltung!M70","v":0}]
[{"$nulls":3},"Vermögen Basisszenario",{"$nulls":9},{"$f":"'Daten Projektion'!N75","v":0},{"$f":"'Daten Projektion'!O75","v":0},{"$f":"'Daten Projektion'!P75","v":0},{"$f":"'Daten Projektion'!Q75","v":0},{"$f":"'Daten Projektion'!R75","v":0},{"$f":"'Daten Projektion'!S75","v":0}]
[{"$nulls":3},"Vermögen Umschichtung",{"$nulls":9},{"$f":"N74","v":0},0,0,0,0,0]
[{"$nulls":3},"Zielerreichung Vermögen Basisszenario",{"$nulls":9},{"$f":"N78/N77","v":{"$error":"#DIV/0!"}},{"$f":"O78/O77","v":{"$error":"#DIV/0!"}},{"$error":"#DIV/0!"},{"$error":"#DIV/0!"},{"$error":"#DIV/0!"},{"$f":"S78/S77","v":{"$error":"#DIV/0!"}}]
[{"$nulls":3},"Zielerrreichung Vermögen Umschichtung",{"$nulls":9},{"$f":"N79/N77","v":{"$error":"#DIV/0!"}},{"$f":"O79/O77","v":{"$error":"#DIV/0!"}},{"$error":"#DIV/0!"},{"$error":"#DIV/0!"},{"$error":"#DIV/0!"},{"$f":"S79/S77","v":{"$error":"#DIV/0!"}}]
[]
[null,null,"Erträge Umschichtung"]
[]
[null,{"$f":"B5","v":"Nr."},{"$f":"C5","v":"Vermögensgegenstand"},"Anlageklasse",{"$f":"E5","v":"Aktien"},{"$f":"F5","v":"Anleihen"},"Alternative Inv.","Rohstoffe","Liquidität","Immobilien","Beteiligungen","Sonst. Verm.","Verbindlichkeiten",{"$f":"N5","v":2023},{"$f":"O76","v":2024},{"$f":"P76","v":2025},{"$f":"Q76","v":2026},{"$f":"R76","v":2027},{"$f":"S76","v":2028}]
[null,{"$f":"B6","v":"1."},{"$f":"C6","v":0},{"$f":"D6","v":"Bitte auswählen"},{"$f":"E6","v":{"v":0,"d":"0.0%"}},{"$f":"F6","v":{"v":0,"d":"0.0%"}},{"v":0,"d":"0.0%"},{"v":0,"d":"0.0%"},{"v":0,"d":"0.0%"},{"v":0,"d":"0.0%"},{"v":0,"d":"0.0%"},{"v":0,"d":"0.0%"},{"v":0,"d":"0.0%"},{"$f":"N6*Daten_Vermögen!$I44","v":0},{"$f":"O6*Daten_Vermögen!$I44","v":0},{"$f":"P6*Daten_Vermögen!$I44","v":0},{"$f":"Q6*Daten_Vermögen!$I44","v":0},{"$f":"R6*Daten_Vermögen!$I44","v":0},{"$f":"S6*Daten_Vermögen!$I44","v":0}]
[null,"2.",0,"Bitte auswählen",{"v":0,"d":"0.0%"},{"v":0,"d":"0.0%"},{"v":0,"d":"0.0%"},{"v":0,"d":"0.0%"},{"v":0,"d":"0.0%"},{"v":0,"d":"0.0%"},{"v":0,"d":"0.0%"},{"v":0,"d":"0.0%"},{"v":0,"d":"0.0%"},{"$f":"N7*Daten_Vermögen!$I45","v":0},{"$f":"O7*Daten_Vermögen!$I45","v":0},{"$f":"P7*Daten_Vermögen!$I45","v":0},{"$f":"Q7*Daten_Vermögen!$I45","v":0},{"$f":"R7*Daten_Vermögen!$I45","v":0},{"$f":"S7*Daten_Vermögen!$I45","v":0}]
[null,"3.",0,"Bitte auswählen",{"v":0,"d":"0.0%"},{"v":0,"d":"0.0%"},{"v":0,"d":"0.0%"},{"v":0,"d":"0.0%"},{"v":0,"d":"0.0%"},{"v":0,"d":"0.0%"},{"v":0,"d":"0.0%"},{"v":0,"d":"0.0%"},{"v":0,"d":"0.0%"},{"$f":"N8*Daten_Vermögen!$I46","v":0},{"$f":"O8*Daten_Vermögen!$I46","v":0},{"$f":"P8*Daten_Vermögen!$I46","v":0},{"$f":"Q8*Daten_Vermögen!$I46","v":0},{"$f":"R8*Daten_Vermögen!$I46","v":0},{"$f":"S8*Daten_Vermögen!$I46","v":0}]
[null,"4.",0,"Bitte auswählen",{"v":0,"d":"0.0%"},{"v":0,"d":"0.0%"},{"v":0,"d":"0.0%"},{"v":0,"d":"0.0%"},{"v":0,"d":"0.0%"},{"v":0,"d":"0.0%"},{"v":0,"d":"0.0%"},{"v":0,"d":"0.0%"},{"v":0,"d":"0.0%"},{"$f":"N9*Daten_Vermögen!$I47","v":0},{"$f":"O9*Daten_Vermögen!$I47","v":0},{"$f":"P9*Daten_Vermögen!$I47","v":0},{"$f":"Q9*Daten_Vermögen!$I47","v":0},{"$f":"R9*Daten_Vermögen!$I47","v":0},{"$f":"S9*Daten_Vermögen!$I47","v":0}]
[null,"5.",0,"Bitte auswählen",{"v":0,"d":"0.0%"},{"v":0,"d":"0.0%"},{"v":0,"d":"0.0%"},{"v":0,"d":"0.0%"},{"v":0,"d":"0.0%"},{"v":0,"d":"0.0%"},{"v":0,"d":"0.0%"},{"v":0,"d":"0.0%"},{"v":0,"d":"0.0%"},{"$f":"N10*Daten_Vermögen!$I48","v":0},{"$f":"O10*Daten_Vermögen!$I48","v":0},{"$f":"P10*Daten_Vermögen!$I48","v":0},{"$f":"Q10*Daten_Vermögen!$I48","v":0},{"$f":"R10*Daten_Vermögen!$I48","v":0},{"$f":"S10*Daten_Vermögen!$I48","v":0}]
[null,"6.",0,"Bitte auswählen",{"v":0,"d":"0.0%"},{"v":0,"d":"0.0%"},{"v":0,"d":"0.0%"},{"v":0,"d":"0.0%"},{"v":0,"d":"0.0%"},{"v":0,"d":"0.0%"},{"v":0,"d":"0.0%"},{"v":0,"d":"0.0%"},{"v":0,"d":"0.0%"},{"$f":"N11*Daten_Vermögen!$I49","v":0},{"$f":"O11*Daten_Vermögen!$I49","v":0},{"$f":"P11*Daten_Vermögen!$I49","v":0},{"$f":"Q11*Daten_Vermögen!$I49","v":0},{"$f":"R11*Daten_Vermögen!$I49","v":0},{"$f":"S11*Daten_Vermögen!$I49","v":0}]
[null,"7.",0,"Bitte auswählen",{"v":0,"d":"0.0%"},{"v":0,"d":"0.0%"},{"v":0,"d":"0.0%"},{"v":0,"d":"0.0%"},{"v":0,"d":"0.0%"},{"v":0,"d":"0.0%"},{"v":0,"d":"0.0%"},{"v":0,"d":"0.0%"},{"v":0,"d":"0.0%"},{"$f":"N12*Daten_Vermögen!$I50","v":0},{"$f":"O12*Daten_Vermögen!$I50","v":0},{"$f":"P12*Daten_Vermögen!$I50","v":0},{"$f":"Q12*Daten_Vermögen!$I50","v":0},{"$f":"R12*Daten_Vermögen!$I50","v":0},{"$f":"S12*Daten_Vermögen!$I50","v":0}]
[null,"8.",0,"Bitte auswählen",{"v":0,"d":"0.0%"},{"v":0,"d":"0.0%"},{"v":0,"d":"0.0%"},{"v":0,"d":"0.0%"},{"v":0,"d":"0.0%"},{"v":0,"d":"0.0%"},{"v":0,"d":"0.0%"},{"v":0,"d":"0.0%"},{"v":0,"d":"0.0%"},{"$f":"N13*Daten_Vermögen!$I51","v":0},{"$f":"O13*Daten_Vermögen!$I51","v":0},{"$f":"P13*Daten_Vermögen!$I51","v":0},{"$f":"Q13*Daten_Vermögen!$I51","v":0},{"$f":"R13*Daten_Vermögen!$I51","v":0},{"$f":"S13*Daten_Vermögen!$I51","v":0}]
[null,"9.",0,"Bitte auswählen",{"v":0,"d":"0.0%"},{"v":0,"d":"0.0%"},{"v":0,"d":"0.0%"},{"v":0,"d":"0.0%"},{"v":0,"d":"0.0%"},{"v":0,"d":"0.0%"},{"v":0,"d":"0.0%"},{"v":0,"d":"0.0%"},{"v":0,"d":"0.0%"},{"$f":"N14*Daten_Vermögen!$I52","v":0},{"$f":"O14*Daten_Vermögen!$I52","v":0},{"$f":"P14*Daten_Vermögen!$I52","v":0},{"$f":"Q14*Daten_Vermögen!$I52","v":0},{"$f":"R14*Daten_Vermögen!$I52","v":0},{"$f":"S14*Daten_Vermögen!$I52","v":0}]
[null,"10.",0,"Bitte auswählen",{"v":0,"d":"0.0%"},{"v":0,"d":"0.0%"},{"v":0,"d":"0.0%"},{"v":0,"d":"0.0%"},{"v":0,"d":"0.0%"},{"v":0,"d":"0.0%"},{"v":0,"d":"0.0%"},{"v":0,"d":"0.0%"},{"v":0,"d":"0.0%"},{"$f":"N15*Daten_Vermögen!$I53","v":0},{"$f":"O15*Daten_Vermögen!$I53","v":0},{"$f":"P15*Daten_Vermögen!$I53","v":0},{"$f":"Q15*Daten_Vermögen!$I53","v":0},{"$f":"R15*Daten_Vermögen!$I53","v":0},{"$f":"S15*Daten_Vermögen!$I53","v":0}]
[null,"11.",0,"Bitte auswählen",{"v":0,"d":"0.0%"},{"v":0,"d":"0.0%"},{"v":0,"d":"0.0%"},{"v":0,"d":"0.0%"},{"v":0,"d":"0.0%"},{"v":0,"d":"0.0%"},{"v":0,"d":"0.0%"},{"v":0,"d":"0.0%"},{"v":0,"d":"0.0%"},{"$f":"N16*Daten_Vermögen!$I54","v":0},{"$f":"O16*Daten_Vermögen!$I54","v":0},{"$f":"P16*Daten_Vermögen!$I54","v":0},{"$f":"Q16*Daten_Vermögen!$I54","v":0},{"$f":"R16*Daten_Vermögen!$I54","v":0},{"$f":"S16*Daten_Vermögen!$I54","v":0}]
[null,"12.",0,"Bitte auswählen",{"v":0,"d":"0.0%"},{"v":0,"d":"0.0%"},{"v":0,"d":"0.0%"},{"v":0,"d":"0.0%"},{"v":0,"d":"0.0%"},{"v":0,"d":"0.0%"},{"v":0,"d":"0.0%"},{"v":0,"d":"0.0%"},{"v":0,"d":"0.0%"},{"$f":"N17*Daten_Vermögen!$I55","v":0},{"$f":"O17*Daten_Vermögen!$I55","v":0},{"$f":"P17*Daten_Vermögen!$I55","v":0},{"$f":"Q17*Daten_Vermögen!$I55","v":0},{"$f":"R17*Daten_Vermögen!$I55","v":0},{"$f":"S17*Daten_Vermögen!$I55","v":0}]
[null,"13.",0,"Bitte auswählen",{"v":0,"d":"0.0%"},{"v":0,"d":"0.0%"},{"v":0,"d":"0.0%"},{"v":0,"d":"0.0%"},{"v":0,"d":"0.0%"},{"v":0,"d":"0.0%"},{"v":0,"d":"0.0%"},{"v":0,"d":"0.0%"},{"$f":"M18","v":{"v":0,"d":"0.0%"}},{"$f":"N18*Daten_Vermögen!$I56","v":0},{"$f":"O18*Daten_Vermögen!$I56","v":0},{"$f":"P18*Daten_Vermögen!$I56","v":0},{"$f":"Q18*Daten_Vermögen!$I56","v":0},{"$f":"R18*Daten_Vermögen!$I56","v":0},{"$f":"S18*Daten_Vermögen!$I56","v":0}]
[null,"14.",0,"Bitte auswählen",{"$f":"E19","v":{"v":0,"d":"0.0%"}},{"v":0,"d":"0.0%"},{"v":0,"d":"0.0%"},{"v":0,"d":"0.0%"},{"v":0,"d":"0.0%"},{"v":0,"d":"0.0%"},{"v":0,"d":"0.0%"},{"v":0,"d":"0.0%"},{"v":0,"d":"0.0%"},{"$f":"N19*Daten_Vermögen!$I57","v":0},{"$f":"O19*Daten_Vermögen!$I57","v":0},{"$f":"P19*Daten_Vermögen!$I57","v":0},{"$f":"Q19*Daten_Vermögen!$I57","v":0},{"$f":"R19*Daten_Vermögen!$I57","v":0},{"$f":"S19*Daten_Vermögen!$I57","v":0}]
[null,"15.",0,"Bitte auswählen",{"$f":"E20","v":{"v":0,"d":"0.0%"}},{"v":0,"d":"0.0%"},{"v":0,"d":"0.0%"},{"v":0,"d":"0.0%"},{"v":0,"d":"0.0%"},{"v":0,"d":"0.0%"},{"v":0,"d":"0.0%"},{"v":0,"d":"0.0%"},{"v":0,"d":"0.0%"},{"$f":"N20*Daten_Vermögen!$I58","v":0},{"$f":"O20*Daten_Vermögen!$I58","v":0},{"$f":"P20*Daten_Vermögen!$I58","v":0},{"$f":"Q20*Daten_Vermögen!$I58","v":0},{"$f":"R20*Daten_Vermögen!$I58","v":0},{"$f":"S20*Daten_Vermögen!$I58","v":0}]
[null,"16.",0,"Bitte auswählen",{"$f":"E21","v":{"v":0,"d":"0.0%"}},{"v":0,"d":"0.0%"},{"v":0,"d":"0.0%"},{"v":0,"d":"0.0%"},{"v":0,"d":"0.0%"},{"v":0,"d":"0.0%"},{"v":0,"d":"0.0%"},{"v":0,"d":"0.0%"},{"v":0,"d":"0.0%"},{"$f":"N21*Daten_Vermögen!$I59","v":0},{"$f":"O21*Daten_Vermögen!$I59","v":0},{"$f":"P21*Daten_Vermögen!$I59","v":0},{"$f":"Q21*Daten_Vermögen!$I59","v":0},{"$f":"R21*Daten_Vermögen!$I59","v":0},{"$f":"S21*Daten_Vermögen!$I59","v":0}]
[null,"17.",0,"Bitte auswählen",{"$f":"E22","v":{"v":0,"d":"0.0%"}},{"v":0,"d":"0.0%"},{"v":0,"d":"0.0%"},{"v":0,"d":"0.0%"},{"v":0,"d":"0.0%"},{"v":0,"d":"0.0%"},{"v":0,"d":"0.0%"},{"v":0,"d":"0.0%"},{"v":0,"d":"0.0%"},{"$f":"N22*Daten_Vermögen!$I60","v":0},{"$f":"O22*Daten_Vermögen!$I60","v":0},{"$f":"P22*Daten_Vermögen!$I60","v":0},{"$f":"Q22*Daten_Vermögen!$I60","v":0},{"$f":"R22*Daten_Vermögen!$I60","v":0},{"$f":"S22*Daten_Vermögen!$I60","v":0}]
[null,"18.",0,"Bitte auswählen",{"$f":"E23","v":{"v":0,"d":"0.0%"}},{"v":0,"d":"0.0%"},{"v":0,"d":"0.0%"},{"v":0,"d":"0.0%"},{"v":0,"d":"0.0%"},{"v":0,"d":"0.0%"},{"v":0,"d":"0.0%"},{"v":0,"d":"0.0%"},{"v":0,"d":"0.0%"},{"$f":"N23*Daten_Vermögen!$I61","v":0},{"$f":"O23*Daten_Vermögen!$I61","v":0},{"$f":"P23*Daten_Vermögen!$I61","v":0},{"$f":"Q23*Daten_Vermögen!$I61","v":0},{"$f":"R23*Daten_Vermögen!$I61","v":0},{"$f":"S23*Daten_Vermögen!$I61","v":0}]
[null,"19.",0,"Bitte auswählen",{"$f":"E24","v":{"v":0,"d":"0.0%"}},{"v":0,"d":"0.0%"},{"v":0,"d":"0.0%"},{"v":0,"d":"0.0%"},{"v":0,"d":"0.0%"},{"v":0,"d":"0.0%"},{"v":0,"d":"0.0%"},{"v":0,"d":"0.0%"},{"v":0,"d":"0.0%"},{"$f":"N24*Daten_Vermögen!$I62","v":0},{"$f":"O24*Daten_Vermögen!$I62","v":0},{"$f":"P24*Daten_Vermögen!$I62","v":0},{"$f":"Q24*Daten_Vermögen!$I62","v":0},{"$f":"R24*Daten_Vermögen!$I62","v":0},{"$f":"S24*Daten_Vermögen!$I62","v":0}]
[null,"20.",0,"Bitte auswählen",{"$f":"E25","v":{"v":0,"d":"0.0%"}},{"v":0,"d":"0.0%"},{"v":0,"d":"0.0%"},{"v":0,"d":"0.0%"},{"v":0,"d":"0.0%"},{"v":0,"d":"0.0%"},{"v":0,"d":"0.0%"},{"v":0,"d":"0.0%"},{"v":0,"d":"0.0%"},{"$f":"N25*Daten_Vermögen!$I63","v":0},{"$f":"O25*Daten_Vermögen!$I63","v":0},{"$f":"P25*Daten_Vermögen!$I63","v":0},{"$f":"Q25*Daten_Vermögen!$I63","v":0},{"$f":"R25*Daten_Vermögen!$I63","v":0},{"$f":"S25*Daten_Vermögen!$I63","v":0}]
[null,"21.",0,"Bitte auswählen",{"$f":"E26","v":{"v":0,"d":"0.0%"}},{"v":0,"d":"0.0%"},{"v":0,"d":"0.0%"},{"v":0,"d":"0.0%"},{"v":0,"d":"0.0%"},{"v":0,"d":"0.0%"},{"v":0,"d":"0.0%"},{"v":0,"d":"0.0%"},{"v":0,"d":"0.0%"},{"$f":"N26*Daten_Vermögen!$I64","v":0},{"$f":"O26*Daten_Vermögen!$I64","v":0},{"$f":"P26*Daten_Vermögen!$I64","v":0},{"$f":"Q26*Daten_Vermögen!$I64","v":0},{"$f":"R26*Daten_Vermögen!$I64","v":0},{"$f":"S26*Daten_Vermögen!$I64","v":0}]
[null,"22.",0,"Bitte auswählen",{"$f":"E27","v":{"v":0,"d":"0.0%"}},{"v":0,"d":"0.0%"},{"v":0,"d":"0.0%"},{"v":0,"d":"0.0%"},{"v":0,"d":"0.0%"},{"v":0,"d":"0.0%"},{"v":0,"d":"0.0%"},{"v":0,"d":"0.0%"},{"v":0,"d":"0.0%"},{"$f":"N27*Daten_Vermögen!$I65","v":0},{"$f":"O27*Daten_Vermögen!$I65","v":0},{"$f":"P27*Daten_Vermögen!$I65","v":0},{"$f":"Q27*Daten_Vermögen!$I65","v":0},{"$f":"R27*Daten_Vermögen!$I65","v":0},{"$f":"S27*Daten_Vermögen!$I65","v":0}]
[null,"23.",0,"Bitte auswählen",{"$f":"E28","v":{"v":0,"d":"0.0%"}},{"v":0,"d":"0.0%"},{"v":0,"d":"0.0%"},{"v":0,"d":"0.0%"},{"v":0,"d":"0.0%"},{"v":0,"d":"0.0%"},{"v":0,"d":"0.0%"},{"v":0,"d":"0.0%"},{"v":0,"d":"0.0%"},{"$f":"N28*Daten_Vermögen!$I66","v":0},{"$f":"O28*Daten_Vermögen!$I66","v":0},{"$f":"P28*Daten_Vermögen!$I66","v":0},{"$f":"Q28*Daten_Vermögen!$I66","v":0},{"$f":"R28*Daten_Vermögen!$I66","v":0},{"$f":"S28*Daten_Vermögen!$I66","v":0}]
[null,"24.",0,"Bitte auswählen",{"$f":"E29","v":{"v":0,"d":"0.0%"}},{"v":0,"d":"0.0%"},{"v":0,"d":"0.0%"},{"v":0,"d":"0.0%"},{"v":0,"d":"0.0%"},{"v":0,"d":"0.0%"},{"v":0,"d":"0.0%"},{"v":0,"d":"0.0%"},{"v":0,"d":"0.0%"},{"$f":"N29*Daten_Vermögen!$I67","v":0},{"$f":"O29*Daten_Vermögen!$I67","v":0},{"$f":"P29*Daten_Vermögen!$I67","v":0},{"$f":"Q29*Daten_Vermögen!$I67","v":0},{"$f":"R29*Daten_Vermögen!$I67","v":0},{"$f":"S29*Daten_Vermögen!$I67","v":0}]
[null,"25.",0,"Bitte auswählen",{"$f":"E30","v":{"v":0,"d":"0.0%"}},{"v":0,"d":"0.0%"},{"v":0,"d":"0.0%"},{"v":0,"d":"0.0%"},{"v":0,"d":"0.0%"},{"v":0,"d":"0.0%"},{"v":0,"d":"0.0%"},{"v":0,"d":"0.0%"},{"v":0,"d":"0.0%"},{"$f":"N30*Daten_Vermögen!$I68","v":0},{"$f":"O30*Daten_Vermögen!$I68","v":0},{"$f":"P30*Daten_Vermögen!$I68","v":0},{"$f":"Q30*Daten_Vermögen!$I68","v":0},{"$f":"R30*Daten_Vermögen!$I68","v":0},{"$f":"S30*Daten_Vermögen!$I68","v":0}]
[null,"26.",0,"Bitte auswählen",{"$f":"E31","v":{"v":0,"d":"0.0%"}},{"v":0,"d":"0.0%"},{"v":0,"d":"0.0%"},{"v":0,"d":"0.0%"},{"v":0,"d":"0.0%"},{"v":0,"d":"0.0%"},{"v":0,"d":"0.0%"},{"v":0,"d":"0.0%"},{"v":0,"d":"0.0%"},{"$f":"N31*Daten_Vermögen!$I69","v":0},{"$f":"O31*Daten_Vermögen!$I69","v":0},{"$f":"P31*Daten_Vermögen!$I69","v":0},{"$f":"Q31*Daten_Vermögen!$I69","v":0},{"$f":"R31*Daten_Vermögen!$I69","v":0},{"$f":"S31*Daten_Vermögen!$I69","v":0}]
[null,"27.",0,"Bitte auswählen",{"$f":"E32","v":{"v":0,"d":"0.0%"}},{"v":0,"d":"0.0%"},{"v":0,"d":"0.0%"},{"v":0,"d":"0.0%"},{"v":0,"d":"0.0%"},{"v":0,"d":"0.0%"},{"v":0,"d":"0.0%"},{"v":0,"d":"0.0%"},{"v":0,"d":"0.0%"},{"$f":"N32*Daten_Vermögen!$I70","v":0},{"$f":"O32*Daten_Vermögen!$I70","v":0},{"$f":"P32*Daten_Vermögen!$I70","v":0},{"$f":"Q32*Daten_Vermögen!$I70","v":0},{"$f":"R32*Daten_Vermögen!$I70","v":0},{"$f":"S32*Daten_Vermögen!$I70","v":0}]
[null,"28.",0,"Bitte auswählen",{"$f":"E33","v":{"v":0,"d":"0.0%"}},{"v":0,"d":"0.0%"},{"v":0,"d":"0.0%"},{"v":0,"d":"0.0%"},{"v":0,"d":"0.0%"},{"v":0,"d":"0.0%"},{"v":0,"d":"0.0%"},{"v":0,"d":"0.0%"},{"v":0,"d":"0.0%"},{"$f":"N33*Daten_Vermögen!$I71","v":0},{"$f":"O33*Daten_Vermögen!$I71","v":0},{"$f":"P33*Daten_Vermögen!$I71","v":0},{"$f":"Q33*Daten_Vermögen!$I71","v":0},{"$f":"R33*Daten_Vermögen!$I71","v":0},{"$f":"S33*Daten_Vermögen!$I71","v":0}]
[null,"29.",0,"Bitte auswählen",{"$f":"E34","v":{"v":0,"d":"0.0%"}},{"v":0,"d":"0.0%"},{"v":0,"d":"0.0%"},{"v":0,"d":"0.0%"},{"v":0,"d":"0.0%"},{"v":0,"d":"0.0%"},{"v":0,"d":"0.0%"},{"v":0,"d":"0.0%"},{"v":0,"d":"0.0%"},{"$f":"N34*Daten_Vermögen!$I72","v":0},{"$f":"O34*Daten_Vermögen!$I72","v":0},{"$f":"P34*Daten_Vermögen!$I72","v":0},{"$f":"Q34*Daten_Vermögen!$I72","v":0},{"$f":"R34*Daten_Vermögen!$I72","v":0},{"$f":"S34*Daten_Vermögen!$I72","v":0}]
[null,"30.",0,"Bitte auswählen",{"$f":"E35","v":{"v":0,"d":"0.0%"}},{"v":0,"d":"0.0%"},{"v":0,"d":"0.0%"},{"v":0,"d":"0.0%"},{"v":0,"d":"0.0%"},{"v":0,"d":"0.0%"},{"v":0,"d":"0.0%"},{"v":0,"d":"0.0%"},{"v":0,"d":"0.0%"},{"$f":"N35*Daten_Vermögen!$I73","v":0},{"$f":"O35*Daten_Vermögen!$I73","v":0},{"$f":"P35*Daten_Vermögen!$I73","v":0},{"$f":"Q35*Daten_Vermögen!$I73","v":0},{"$f":"R35*Daten_Vermögen!$I73","v":0},{"$f":"S35*Daten_Vermögen!$I73","v":0}]
[null,"31.",0,"Bitte auswählen",{"$f":"E36","v":{"v":0,"d":"0.0%"}},{"v":0,"d":"0.0%"},{"v":0,"d":"0.0%"},{"v":0,"d":"0.0%"},{"v":0,"d":"0.0%"},{"v":0,"d":"0.0%"},{"v":0,"d":"0.0%"},{"v":0,"d":"0.0%"},{"v":0,"d":"0.0%"},{"$f":"N36*Daten_Vermögen!$I74","v":0},{"$f":"O36*Daten_Vermögen!$I74","v":0},{"$f":"P36*Daten_Vermögen!$I74","v":0},{"$f":"Q36*Daten_Vermögen!$I74","v":0},{"$f":"R36*Daten_Vermögen!$I74","v":0},{"$f":"S36*Daten_Vermögen!$I74","v":0}]
[null,"32.",0,"Bitte auswählen",{"$f":"E37","v":{"v":0,"d":"0.0%"}},{"v":0,"d":"0.0%"},{"v":0,"d":"0.0%"},{"v":0,"d":"0.0%"},{"v":0,"d":"0.0%"},{"v":0,"d":"0.0%"},{"v":0,"d":"0.0%"},{"v":0,"d":"0.0%"},{"v":0,"d":"0.0%"},{"$f":"N37*Daten_Vermögen!$I75","v":0},{"$f":"O37*Daten_Vermögen!$I75","v":0},{"$f":"P37*Daten_Vermögen!$I75","v":0},{"$f":"Q37*Daten_Vermögen!$I75","v":0},{"$f":"R37*Daten_Vermögen!$I75","v":0},{"$f":"S37*Daten_Vermögen!$I75","v":0}]
[null,"33.",0,"Bitte auswählen",{"$f":"E38","v":{"v":0,"d":"0.0%"}},{"v":0,"d":"0.0%"},{"v":0,"d":"0.0%"},{"v":0,"d":"0.0%"},{"v":0,"d":"0.0%"},{"v":0,"d":"0.0%"},{"v":0,"d":"0.0%"},{"v":0,"d":"0.0%"},{"v":0,"d":"0.0%"},{"$f":"N38*Daten_Vermögen!$I76","v":0},{"$f":"O38*Daten_Vermögen!$I76","v":0},{"$f":"P38*Daten_Vermögen!$I76","v":0},{"$f":"Q38*Daten_Vermögen!$I76","v":0},{"$f":"R38*Daten_Vermögen!$I76","v":0},{"$f":"S38*Daten_Vermögen!$I76","v":0}]
[null,"34.",0,"Bitte auswählen",{"$f":"E39","v":{"v":0,"d":"0.0%"}},{"v":0,"d":"0.0%"},{"v":0,"d":"0.0%"},{"v":0,"d":"0.0%"},{"v":0,"d":"0.0%"},{"v":0,"d":"0.0%"},{"v":0,"d":"0.0%"},{"v":0,"d":"0.0%"},{"v":0,"d":"0.0%"},{"$f":"N39*Daten_Vermögen!$I77","v":0},{"$f":"O39*Daten_Vermögen!$I77","v":0},{"$f":"P39*Daten_Vermögen!$I77","v":0},{"$f":"Q39*Daten_Vermögen!$I77","v":0},{"$f":"R39*Daten_Vermögen!$I77","v":0},{"$f":"S39*Daten_Vermögen!$I77","v":0}]
[null,"35.",0,"Bitte auswählen",{"$f":"E40","v":{"v":0,"d":"0.0%"}},{"v":0,"d":"0.0%"},{"v":0,"d":"0.0%"},{"v":0,"d":"0.0%"},{"v":0,"d":"0.0%"},{"v":0,"d":"0.0%"},{"v":0,"d":"0.0%"},{"v":0,"d":"0.0%"},{"v":0,"d":"0.0%"},{"$f":"N40*Daten_Vermögen!$I78","v":0},{"$f":"O40*Daten_Vermögen!$I78","v":0},{"$f":"P40*Daten_Vermögen!$I78","v":0},{"$f":"Q40*Daten_Vermögen!$I78","v":0},{"$f":"R40*Daten_Vermögen!$I78","v":0},{"$f":"S40*Daten_Vermögen!$I78","v":0}]
[null,"36.",0,"Bitte auswählen",{"$f":"E41","v":{"v":0,"d":"0.0%"}},{"v":0,"d":"0.0%"},{"v":0,"d":"0.0%"},{"v":0,"d":"0.0%"},{"v":0,"d":"0.0%"},{"v":0,"d":"0.0%"},{"v":0,"d":"0.0%"},{"v":0,"d":"0.0%"},{"v":0,"d":"0.0%"},{"$f":"N41*Daten_Vermögen!$I79","v":0},{"$f":"O41*Daten_Vermögen!$I79","v":0},{"$f":"P41*Daten_Vermögen!$I79","v":0},{"$f":"Q41*Daten_Vermögen!$I79","v":0},{"$f":"R41*Daten_Vermögen!$I79","v":0},{"$f":"S41*Daten_Vermögen!$I79","v":0}]
[null,"37.",0,"Bitte auswählen",{"$f":"E42","v":{"v":0,"d":"0.0%"}},{"v":0,"d":"0.0%"},{"v":0,"d":"0.0%"},{"v":0,"d":"0.0%"},{"v":0,"d":"0.0%"},{"v":0,"d":"0.0%"},{"v":0,"d":"0.0%"},{"v":0,"d":"0.0%"},{"v":0,"d":"0.0%"},{"$f":"N42*Daten_Vermögen!$I80","v":0},{"$f":"O42*Daten_Vermögen!$I80","v":0},{"$f":"P42*Daten_Vermögen!$I80","v":0},{"$f":"Q42*Daten_Vermögen!$I80","v":0},{"$f":"R42*Daten_Vermögen!$I80","v":0},{"$f":"S42*Daten_Vermögen!$I80","v":0}]
[null,"38.",0,"Bitte auswählen",{"$f":"E43","v":{"v":0,"d":"0.0%"}},{"v":0,"d":"0.0%"},{"v":0,"d":"0.0%"},{"v":0,"d":"0.0%"},{"v":0,"d":"0.0%"},{"v":0,"d":"0.0%"},{"v":0,"d":"0.0%"},{"v":0,"d":"0.0%"},{"v":0,"d":"0.0%"},{"$f":"N43*Daten_Vermögen!$I81","v":0},{"$f":"O43*Daten_Vermögen!$I81","v":0},{"$f":"P43*Daten_Vermögen!$I81","v":0},{"$f":"Q43*Daten_Vermögen!$I81","v":0},{"$f":"R43*Daten_Vermögen!$I81","v":0},{"$f":"S43*Daten_Vermögen!$I81","v":0}]
[null,"39.",0,"Bitte auswählen",{"$f":"E44","v":{"v":0,"d":"0.0%"}},{"v":0,"d":"0.0%"},{"v":0,"d":"0.0%"},{"v":0,"d":"0.0%"},{"v":0,"d":"0.0%"},{"v":0,"d":"0.0%"},{"v":0,"d":"0.0%"},{"v":0,"d":"0.0%"},{"v":0,"d":"0.0%"},{"$f":"N44*Daten_Vermögen!$I82","v":0},{"$f":"O44*Daten_Vermögen!$I82","v":0},{"$f":"P44*Daten_Vermögen!$I82","v":0},{"$f":"Q44*Daten_Vermögen!$I82","v":0},{"$f":"R44*Daten_Vermögen!$I82","v":0},{"$f":"S44*Daten_Vermögen!$I82","v":0}]
[null,"40.",0,"Bitte auswählen",{"$f":"E45","v":{"v":0,"d":"0.0%"}},{"v":0,"d":"0.0%"},{"v":0,"d":"0.0%"},{"v":0,"d":"0.0%"},{"v":0,"d":"0.0%"},{"v":0,"d":"0.0%"},{"v":0,"d":"0.0%"},{"v":0,"d":"0.0%"},{"v":0,"d":"0.0%"},{"$f":"N45*Daten_Vermögen!$I83","v":0},{"$f":"O45*Daten_Vermögen!$I83","v":0},{"$f":"P45*Daten_Vermögen!$I83","v":0},{"$f":"Q45*Daten_Vermögen!$I83","v":0},{"$f":"R45*Daten_Vermögen!$I83","v":0},{"$f":"S45*Daten_Vermögen!$I83","v":0}]
[null,"41.",0,"Bitte auswählen",{"$f":"E46","v":{"v":0,"d":"0.0%"}},{"v":0,"d":"0.0%"},{"v":0,"d":"0.0%"},{"v":0,"d":"0.0%"},{"v":0,"d":"0.0%"},{"v":0,"d":"0.0%"},{"v":0,"d":"0.0%"},{"v":0,"d":"0.0%"},{"v":0,"d":"0.0%"},{"$f":"N46*Daten_Vermögen!$I84","v":0},{"$f":"O46*Daten_Vermögen!$I84","v":0},{"$f":"P46*Daten_Vermögen!$I84","v":0},{"$f":"Q46*Daten_Vermögen!$I84","v":0},{"$f":"R46*Daten_Vermögen!$I84","v":0},{"$f":"S46*Daten_Vermögen!$I84","v":0}]
[null,"42.",0,"Bitte auswählen",{"$f":"E47","v":{"v":0,"d":"0.0%"}},{"v":0,"d":"0.0%"},{"v":0,"d":"0.0%"},{"v":0,"d":"0.0%"},{"v":0,"d":"0.0%"},{"v":0,"d":"0.0%"},{"v":0,"d":"0.0%"},{"v":0,"d":"0.0%"},{"v":0,"d":"0.0%"},{"$f":"N47*Daten_Vermögen!$I85","v":0},{"$f":"O47*Daten_Vermögen!$I85","v":0},{"$f":"P47*Daten_Vermögen!$I85","v":0},{"$f":"Q47*Daten_Vermögen!$I85","v":0},{"$f":"R47*Daten_Vermögen!$I85","v":0},{"$f":"S47*Daten_Vermögen!$I85","v":0}]
[null,"43.",0,"Bitte auswählen",{"$f":"E48","v":{"v":0,"d":"0.0%"}},{"v":0,"d":"0.0%"},{"v":0,"d":"0.0%"},{"v":0,"d":"0.0%"},{"v":0,"d":"0.0%"},{"v":0,"d":"0.0%"},{"v":0,"d":"0.0%"},{"v":0,"d":"0.0%"},{"v":0,"d":"0.0%"},{"$f":"N48*Daten_Vermögen!$I86","v":0},{"$f":"O48*Daten_Vermögen!$I86","v":0},{"$f":"P48*Daten_Vermögen!$I86","v":0},{"$f":"Q48*Daten_Vermögen!$I86","v":0},{"$f":"R48*Daten_Vermögen!$I86","v":0},{"$f":"S48*Daten_Vermögen!$I86","v":0}]
[null,"44.",0,"Bitte auswählen",{"$f":"E49","v":{"v":0,"d":"0.0%"}},{"v":0,"d":"0.0%"},{"v":0,"d":"0.0%"},{"v":0,"d":"0.0%"},{"v":0,"d":"0.0%"},{"v":0,"d":"0.0%"},{"v":0,"d":"0.0%"},{"v":0,"d":"0.0%"},{"v":0,"d":"0.0%"},{"$f":"N49*Daten_Vermögen!$I87","v":0},{"$f":"O49*Daten_Vermögen!$I87","v":0},{"$f":"P49*Daten_Vermögen!$I87","v":0},{"$f":"Q49*Daten_Vermögen!$I87","v":0},{"$f":"R49*Daten_Vermögen!$I87","v":0},{"$f":"S49*Daten_Vermögen!$I87","v":0}]
[null,"45.",0,"Bitte auswählen",{"$f":"E50","v":{"v":0,"d":"0.0%"}},{"v":0,"d":"0.0%"},{"v":0,"d":"0.0%"},{"v":0,"d":"0.0%"},{"v":0,"d":"0.0%"},{"v":0,"d":"0.0%"},{"v":0,"d":"0.0%"},{"v":0,"d":"0.0%"},{"v":0,"d":"0.0%"},{"$f":"N50*Daten_Vermögen!$I88","v":0},{"$f":"O50*Daten_Vermögen!$I88","v":0},{"$f":"P50*Daten_Vermögen!$I88","v":0},{"$f":"Q50*Daten_Vermögen!$I88","v":0},{"$f":"R50*Daten_Vermögen!$I88","v":0},{"$f":"S50*Daten_Vermögen!$I88","v":0}]
[null,"46.",0,"Bitte auswählen",{"$f":"E51","v":{"v":0,"d":"0.0%"}},{"v":0,"d":"0.0%"},{"v":0,"d":"0.0%"},{"v":0,"d":"0.0%"},{"v":0,"d":"0.0%"},{"v":0,"d":"0.0%"},{"v":0,"d":"0.0%"},{"v":0,"d":"0.0%"},{"v":0,"d":"0.0%"},{"$f":"N51*Daten_Vermögen!$I89","v":0},{"$f":"O51*Daten_Vermögen!$I89","v":0},{"$f":"P51*Daten_Vermögen!$I89","v":0},{"$f":"Q51*Daten_Vermögen!$I89","v":0},{"$f":"R51*Daten_Vermögen!$I89","v":0},{"$f":"S51*Daten_Vermögen!$I89","v":0}]
[null,"47.",0,"Bitte auswählen",{"$f":"E52","v":{"v":0,"d":"0.0%"}},{"v":0,"d":"0.0%"},{"v":0,"d":"0.0%"},{"v":0,"d":"0.0%"},{"v":0,"d":"0.0%"},{"v":0,"d":"0.0%"},{"v":0,"d":"0.0%"},{"v":0,"d":"0.0%"},{"v":0,"d":"0.0%"},{"$f":"N52*Daten_Vermögen!$I90","v":0},{"$f":"O52*Daten_Vermögen!$I90","v":0},{"$f":"P52*Daten_Vermögen!$I90","v":0},{"$f":"Q52*Daten_Vermögen!$I90","v":0},{"$f":"R52*Daten_Vermögen!$I90","v":0},{"$f":"S52*Daten_Vermögen!$I90","v":0}]
[null,"48.",0,"Bitte auswählen",{"$f":"E53","v":{"v":0,"d":"0.0%"}},{"v":0,"d":"0.0%"},{"v":0,"d":"0.0%"},{"v":0,"d":"0.0%"},{"v":0,"d":"0.0%"},{"v":0,"d":"0.0%"},{"v":0,"d":"0.0%"},{"v":0,"d":"0.0%"},{"v":0,"d":"0.0%"},{"$f":"N53*Daten_Vermögen!$I91","v":0},{"$f":"O53*Daten_Vermögen!$I91","v":0},{"$f":"P53*Daten_Vermögen!$I91","v":0},{"$f":"Q53*Daten_Vermögen!$I91","v":0},{"$f":"R53*Daten_Vermögen!$I91","v":0},{"$f":"S53*Daten_Vermögen!$I91","v":0}]
[null,"49.",0,"Bitte auswählen",{"$f":"E54","v":{"v":0,"d":"0.0%"}},{"v":0,"d":"0.0%"},{"v":0,"d":"0.0%"},{"v":0,"d":"0.0%"},{"v":0,"d":"0.0%"},{"v":0,"d":"0.0%"},{"v":0,"d":"0.0%"},{"v":0,"d":"0.0%"},{"v":0,"d":"0.0%"},{"$f":"N54*Daten_Vermögen!$I92","v":0},{"$f":"O54*Daten_Vermögen!$I92","v":0},{"$f":"P54*Daten_Vermögen!$I92","v":0},{"$f":"Q54*Daten_Vermögen!$I92","v":0},{"$f":"R54*Daten_Vermögen!$I92","v":0},{"$f":"S54*Daten_Vermögen!$I92","v":0}]
[null,"50.",0,"Bitte auswählen",{"$f":"E55","v":{"v":0,"d":"0.0%"}},{"v":0,"d":"0.0%"},{"v":0,"d":"0.0%"},{"v":0,"d":"0.0%"},{"v":0,"d":"0.0%"},{"v":0,"d":"0.0%"},{"v":0,"d":"0.0%"},{"v":0,"d":"0.0%"},{"v":0,"d":"0.0%"},{"$f":"N55*Daten_Vermögen!$I93","v":0},{"$f":"O55*Daten_Vermögen!$I93","v":0},{"$f":"P55*Daten_Vermögen!$I93","v":0},{"$f":"Q55*Daten_Vermögen!$I93","v":0},{"$f":"R55*Daten_Vermögen!$I93","v":0},{"$f":"S55*Daten_Vermögen!$I93","v":0}]
[null,null,{"$f":"C56","v":"Zustiftungen"},{"$f":"D56","v":0},{"v":0,"d":"0.0%"},{"v":0,"d":"0.0%"},{"v":0,"d":"0.0%"},{"v":0,"d":"0.0%"},{"v":1,"d":"100.0%"},{"v":0,"d":"0.0%"},{"v":0,"d":"0.0%"},{"v":0,"d":"0.0%"},{"v":0,"d":"0.0%"}]
[null,{"$f":"B57","v":"U1"},{"$f":"C57","v":0},{"$f":"D57","v":0},{"$f":"E57","v":{"v":0,"d":"0.0%"}},{"v":0,"d":"0.0%"},{"v":0,"d":"0.0%"},{"v":0,"d":"0.0%"},{"v":0,"d":"0.0%"},{"v":0,"d":"0.0%"},{"v":0,"d":"0.0%"},{"v":0,"d":"0.0%"},{"v":0,"d":"0.0%"},{"$f":"N57*Umschichtung!$O13","v":0},{"$f":"O57*Umschichtung!$O13","v":0},{"$f":"P57*Umschichtung!$O13","v":0},{"$f":"Q57*Umschichtung!$O13","v":0},{"$f":"R57*Umschichtung!$O13","v":0},{"$f":"S57*Umschichtung!$O13","v":0}]
[null,{"$f":"B58","v":"U2"},0,0,{"v":0,"d":"0.0%"},{"v":0,"d":"0.0%"},{"v":0,"d":"0.0%"},{"v":0,"d":"0.0%"},{"v":0,"d":"0.0%"},{"v":0,"d":"0.0%"},{"v":0,"d":"0.0%"},{"v":0,"d":"0.0%"},{"v":0,"d":"0.0%"},{"$f":"N58*Umschichtung!$O14","v":0},{"$f":"O58*Umschichtung!$O14","v":0},{"$f":"P58*Umschichtung!$O14","v":0},{"$f":"Q58*Umschichtung!$O14","v":0},{"$f":"R58*Umschichtung!$O14","v":0},{"$f":"S58*Umschichtung!$O14","v":0}]
[null,"U3",0,0,{"v":0,"d":"0.0%"},{"v":0,"d":"0.0%"},{"v":0,"d":"0.0%"},{"v":0,"d":"0.0%"},{"v":0,"d":"0.0%"},{"v":0,"d":"0.0%"},{"v":0,"d":"0.0%"},{"v":0,"d":"0.0%"},{"v":0,"d":"0.0%"},{"$f":"N59*Umschichtung!$O15","v":0},{"$f":"O59*Umschichtung!$O15","v":0},{"$f":"P59*Umschichtung!$O15","v":0},{"$f":"Q59*Umschichtung!$O15","v":0},{"$f":"R59*Umschichtung!$O15","v":0},{"$f":"S59*Umschichtung!$O15","v":0}]
[null,"U4",0,0,{"v":0,"d":"0.0%"},{"v":0,"d":"0.0%"},{"v":0,"d":"0.0%"},{"v":0,"d":"0.0%"},{"v":0,"d":"0.0%"},{"v":0,"d":"0.0%"},{"v":0,"d":"0.0%"},{"v":0,"d":"0.0%"},{"v":0,"d":"0.0%"},{"$f":"N60*Umschichtung!$O16","v":0},{"$f":"O60*Umschichtung!$O16","v":0},{"$f":"P60*Umschichtung!$O16","v":0},{"$f":"Q60*Umschichtung!$O16","v":0},{"$f":"R60*Umschichtung!$O16","v":0},{"$f":"S60*Umschichtung!$O16","v":0}]
[null,"U5",0,0,{"v":0,"d":"0.0%"},{"v":0,"d":"0.0%"},{"v":0,"d":"0.0%"},{"v":0,"d":"0.0%"},{"v":0,"d":"0.0%"},{"v":0,"d":"0.0%"},{"v":0,"d":"0.0%"},{"v":0,"d":"0.0%"},{"v":0,"d":"0.0%"},{"$f":"N61*Umschichtung!$O17","v":0},{"$f":"O61*Umschichtung!$O17","v":0},{"$f":"P61*Umschichtung!$O17","v":0},{"$f":"Q61*Umschichtung!$O17","v":0},{"$f":"R61*Umschichtung!$O17","v":0},{"$f":"S61*Umschichtung!$O17","v":0}]
[null,"U6",0,0,{"v":0,"d":"0.0%"},{"v":0,"d":"0.0%"},{"v":0,"d":"0.0%"},{"v":0,"d":"0.0%"},{"v":0,"d":"0.0%"},{"v":0,"d":"0.0%"},{"v":0,"d":"0.0%"},{"v":0,"d":"0.0%"},{"v":0,"d":"0.0%"},{"$f":"N62*Umschichtung!$O18","v":0},{"$f":"O62*Umschichtung!$O18","v":0},{"$f":"P62*Umschichtung!$O18","v":0},{"$f":"Q62*Umschichtung!$O18","v":0},{"$f":"R62*Umschichtung!$O18","v":0},{"$f":"S62*Umschichtung!$O18","v":0}]
[null,null,"Summe",null,{"$f":"E85","v":"Aktien"},{"$f":"F85","v":"Anleihen"},"Alternative Inv.","Rohstoffe","Liquidität","Immobilien","Beteiligungen","Sonst. Verm.","Verbindlichkeiten",null,{"$f":"SUM(O86:O142)","v":0},{"$f":"SUM(P86:P142)","v":0},{"$f":"SUM(Q86:Q142)","v":0},{"$f":"SUM(R86:R142)","v":0},{"$f":"SUM(S86:S142)","v":0}]
[]
[null,null,"Erträge Umschichtung nach AK",{"$f":"D65","v":"Aktien"},{"$nulls":9},"Derzeit nicht",{"$f":"SUMIF($D$86:$D$142,\"Immobilien\",O$86:O$142)","v":0},{"$f":"SUMIF($D$86:$D$142,\"Immobilien\",P86:P142)","v":0},{"$f":"SUMIF($D$86:$D$142,\"Immobilien\",Q86:Q142)","v":0},{"$f":"SUMIF($D$86:$D$142,\"Immobilien\",R86:R142)","v":0},{"$f":"SUMIF($D$86:$D$142,\"Immobilien\",S86:S142)","v":0}]
[{"$nulls":3},{"$f":"D66","v":"Anleihen"},{"$nulls":9},"verwendet",{"$f":"SUMIF($D$86:$D$142,\"Beteiligungen\",O$86:O$142)","v":0},{"$f":"SUMIF($D$86:$D$142,\"Beteiligungen\",P$86:P$142)","v":0},{"$f":"SUMIF($D$86:$D$142,\"Beteiligungen\",Q$86:Q$142)","v":0},{"$f":"SUMIF($D$86:$D$142,\"Beteiligungen\",R$86:R$142)","v":0},{"$f":"SUMIF($D$86:$D$142,\"Beteiligungen\",S$86:S$142)","v":0}]
[{"$nulls":3},"Alternative Inv.",{"$nulls":10},{"$f":"SUM(O148:O151)","v":0},{"$f":"SUM(P148:P151)","v":0},{"$f":"SUM(Q148:Q151)","v":0},{"$f":"SUM(R148:R151)","v":0},{"$f":"SUM(S148:S151)","v":0}]
[{"$nulls":3},"Rohstoffe",{"$nulls":10},{"$f":"SUMIF($D$86:$D$142,\"Aktien\",O$86:O$142)","v":0},{"$f":"SUMIF($D$86:$D$142,\"Aktien\",P$86:P$142)","v":0},{"$f":"SUMIF($D$86:$D$142,\"Aktien\",Q$86:Q$142)","v":0},{"$f":"SUMIF($D$86:$D$142,\"Aktien\",R$86:R$142)","v":0},{"$f":"SUMIF($D$86:$D$142,\"Aktien\",S$86:S$142)","v":0}]
[{"$nulls":3},"Liquidität",{"$nulls":10},{"$f":"SUMIF($D$86:$D$142,\"Renten\",O$86:O$142)","v":0},{"$f":"SUMIF($D$86:$D$142,\"Renten\",P$86:P$142)","v":0},{"$f":"SUMIF($D$86:$D$142,\"Renten\",Q$86:Q$142)","v":0},{"$f":"SUMIF($D$86:$D$142,\"Renten\",R$86:R$142)","v":0},{"$f":"SUMIF($D$86:$D$142,\"Renten\",S$86:S$142)","v":0}]
[{"$nulls":3},"Immobilien",{"$nulls":10},{"$f":"SUMIF($D$86:$D$142,\"LIquidität\",O$86:O$142)","v":0},{"$f":"SUMIF($D$86:$D$142,\"LIquidität\",P$86:P$142)","v":0},{"$f":"SUMIF($D$86:$D$142,\"LIquidität\",Q$86:Q$142)","v":0},{"$f":"SUMIF($D$86:$D$142,\"LIquidität\",R$86:R$142)","v":0},{"$f":"SUMIF($D$86:$D$142,\"LIquidität\",S$86:S$142)","v":0}]
[{"$nulls":3},"Beteiligungen",{"$nulls":10},{"$f":"SUMIF($D$86:$D$142,\"Alternative Investments\",O$86:O$142)","v":0},{"$f":"SUMIF($D$86:$D$142,\"Alternative Investments\",P$86:P$142)","v":0},{"$f":"SUMIF($D$86:$D$142,\"Alternative Investments\",Q$86:Q$142)","v":0},{"$f":"SUMIF($D$86:$D$142,\"Alternative Investments\",R$86:R$142)","v":0},{"$f":"SUMIF($D$86:$D$142,\"Alternative Investments\",S$86:S$142)","v":0}]
[{"$nulls":3},"Sonst. Verm.",{"$nulls":10},{"$f":"SUMIF($D$86:$D$142,\"Spar- u. Termineinlagen\",O$86:O$142)","v":0},{"$f":"SUMIF($D$86:$D$142,\"Spar- u. Termineinlagen\",P$86:P$142)","v":0},{"$f":"SUMIF($D$86:$D$142,\"Spar- u. Termineinlagen\",Q$86:Q$142)","v":0},{"$f":"SUMIF($D$86:$D$142,\"Spar- u. Termineinlagen\",R$86:R$142)","v":0},{"$f":"SUMIF($D$86:$D$142,\"Spar- u. Termineinlagen\",S$86:S$142)","v":0}]
[{"$nulls":3},"Verbindlichkeiten",{"$nulls":10},{"$f":"SUMIF($D$86:$D$142,\"Kontoguthaben\",O$86:O$142)","v":0},{"$f":"SUMIF($D$86:$D$142,\"Kontoguthaben\",P$86:P$142)","v":0},{"$f":"SUMIF($D$86:$D$142,\"Kontoguthaben\",Q$86:Q$142)","v":0},{"$f":"SUMIF($D$86:$D$142,\"Kontoguthaben\",R$86:R$142)","v":0},{"$f":"SUMIF($D$86:$D$142,\"Kontoguthaben\",S$86:S$142)","v":0}]
[{"$nulls":3},{"$f":"'Daten Projektion'!D75","v":"Summe"},{"$nulls":10},{"$f":"SUM(O145:O147)+SUM(O152:O153)","v":0},{"$f":"SUM(P145:P147)+SUM(P152:P153)","v":0},{"$f":"SUM(Q145:Q147)+SUM(Q152:Q153)","v":0},{"$f":"SUM(R145:R147)+SUM(R152:R153)","v":0},{"$f":"SUM(S145:S147)+SUM(S152:S153)","v":0}]
[]
[null,null,"Zielerreichung Erträge",{"$nulls":10},{"$f":"N5","v":2023},2024,2025,2026,2027,2028]
[{"$nulls":3},"Ertragsziel",{"$nulls":10},{"$f":"'Daten Projektion'!O227","v":0},{"$f":"'Daten Projektion'!P227","v":0},{"$f":"'Daten Projektion'!Q227","v":0},{"$f":"'Daten Projektion'!R227","v":0},{"$f":"'Daten Projektion'!S227","v":0}]
[{"$nulls":3},"Erträge Basisszenario",{"$nulls":10},{"$f":"'Daten Projektion'!O228","v":0},{"$f":"'Daten Projektion'!P228","v":0},{"$f":"'Daten Projektion'!Q228","v":0},{"$f":"'Daten Projektion'!R228","v":0},{"$f":"'Daten Projektion'!S228","v":0}]
[{"$nulls":3},"Erträge Umschichtung",{"$nulls":10},{"$f":"O143","v":0},{"$f":"P143","v":0},0,0,0]
[{"$nulls":3},"Zielerreichung Erträge Basisszenario",{"$nulls":10},{"$f":"O158/O157","v":{"$error":"#DIV/0!"}},{"$f":"P158/P157","v":{"$error":"#DIV/0!"}},{"$error":"#DIV/0!"},{"$error":"#DIV/0!"},{"$error":"#DIV/0!"}]
[{"$nulls":3},"Zielerreichung Erträge Umschichtung",{"$nulls":10},{"$f":"O159/O157","v":{"$error":"#DIV/0!"}},{"$f":"P159/P157","v":{"$error":"#DIV/0!"}},{"$error":"#DIV/0!"},{"$error":"#DIV/0!"},{"$error":"#DIV/0!"}]
[]
[null,null,"Risiko Umschichtung"]
[{"$nulls":14},2,{"$f":"O164+1","v":3},{"$f":"P164+1","v":4},{"$f":"Q164+1","v":5},{"$f":"R164+1","v":6}]
[null,{"$f":"B85","v":"Nr."},"Vermögensgegenstand","Anlageklasse",{"$nulls":9},{"$f":"N5","v":2023},{"$f":"O85","v":2024},{"$f":"P85","v":2025},{"$f":"Q85","v":2026},{"$f":"R85","v":2027},{"$f":"S85","v":2028}]
[null,"1.",0,"Bitte auswählen",{"$nulls":9},{"$f":"N6*Vermögen!$AC11","v":0},{"$f":"O6*Vermögen!$AC11","v":0},{"$f":"P6*Vermögen!$AC11","v":0},{"$f":"Q6*Vermögen!$AC11","v":0},{"$f":"R6*Vermögen!$AC11","v":0},{"$f":"S6*Vermögen!$AC11","v":0}]
[null,{"$f":"B87","v":"2."},0,"Bitte auswählen",{"$nulls":9},{"$f":"N7*Vermögen!$AC12","v":0},{"$f":"O7*Vermögen!$AC12","v":0},{"$f":"P7*Vermögen!$AC12","v":0},{"$f":"Q7*Vermögen!$AC12","v":0},{"$f":"R7*Vermögen!$AC12","v":0},{"$f":"S7*Vermögen!$AC12","v":0}]
[null,{"$f":"B88","v":"3."},0,"Bitte auswählen",{"$nulls":9},{"$f":"N8*Vermögen!$AC13","v":0},{"$f":"O8*Vermögen!$AC13","v":0},{"$f":"P8*Vermögen!$AC13","v":0},{"$f":"Q8*Vermögen!$AC13","v":0},{"$f":"R8*Vermögen!$AC13","v":0},{"$f":"S8*Vermögen!$AC13","v":0}]
[null,{"$f":"B89","v":"4."},0,"Bitte auswählen",{"$nulls":9},{"$f":"N9*Vermögen!$AC14","v":0},{"$f":"O9*Vermögen!$AC14","v":0},{"$f":"P9*Vermögen!$AC14","v":0},{"$f":"Q9*Vermögen!$AC14","v":0},{"$f":"R9*Vermögen!$AC14","v":0},{"$f":"S9*Vermögen!$AC14","v":0}]
[null,{"$f":"B90","v":"5."},0,"Bitte auswählen",{"$nulls":9},{"$f":"N10*Vermögen!$AC15","v":0},{"$f":"O10*Vermögen!$AC15","v":0},{"$f":"P10*Vermögen!$AC15","v":0},{"$f":"Q10*Vermögen!$AC15","v":0},{"$f":"R10*Vermögen!$AC15","v":0},{"$f":"S10*Vermögen!$AC15","v":0}]
[null,{"$f":"B91","v":"6."},0,"Bitte auswählen",{"$nulls":9},{"$f":"N11*Vermögen!$AC16","v":0},{"$f":"O11*Vermögen!$AC16","v":0},{"$f":"P11*Vermögen!$AC16","v":0},{"$f":"Q11*Vermögen!$AC16","v":0},{"$f":"R11*Vermögen!$AC16","v":0},{"$f":"S11*Vermögen!$AC16","v":0}]
[null,{"$f":"B92","v":"7."},0,"Bitte auswählen",{"$nulls":9},{"$f":"N12*Vermögen!$AC17","v":0},{"$f":"O12*Vermögen!$AC17","v":0},{"$f":"P12*Vermögen!$AC17","v":0},{"$f":"Q12*Vermögen!$AC17","v":0},{"$f":"R12*Vermögen!$AC17","v":0},{"$f":"S12*Vermögen!$AC17","v":0}]
[null,{"$f":"B93","v":"8."},0,"Bitte auswählen",{"$nulls":9},{"$f":"N13*Vermögen!$AC18","v":0},{"$f":"O13*Vermögen!$AC18","v":0},{"$f":"P13*Vermögen!$AC18","v":0},{"$f":"Q13*Vermögen!$AC18","v":0},{"$f":"R13*Vermögen!$AC18","v":0},{"$f":"S13*Vermögen!$AC18","v":0}]
[null,{"$f":"B94","v":"9."},0,"Bitte auswählen",{"$nulls":9},{"$f":"N14*Vermögen!$AC19","v":0},{"$f":"O14*Vermögen!$AC19","v":0},{"$f":"P14*Vermögen!$AC19","v":0},{"$f":"Q14*Vermögen!$AC19","v":0},{"$f":"R14*Vermögen!$AC19","v":0},{"$f":"S14*Vermögen!$AC19","v":0}]
[null,{"$f":"B95","v":"10."},0,"Bitte auswählen",{"$nulls":9},{"$f":"N15*Vermögen!$AC20","v":0},{"$f":"O15*Vermögen!$AC20","v":0},{"$f":"P15*Vermögen!$AC20","v":0},{"$f":"Q15*Vermögen!$AC20","v":0},{"$f":"R15*Vermögen!$AC20","v":0},{"$f":"S15*Vermögen!$AC20","v":0}]
[null,{"$f":"B96","v":"11."},0,"Bitte auswählen",{"$nulls":9},{"$f":"N16*Vermögen!$AC21","v":0},{"$f":"O16*Vermögen!$AC21","v":0},{"$f":"P16*Vermögen!$AC21","v":0},{"$f":"Q16*Vermögen!$AC21","v":0},{"$f":"R16*Vermögen!$AC21","v":0},{"$f":"S16*Vermögen!$AC21","v":0}]
[null,{"$f":"B97","v":"12."},0,"Bitte auswählen",{"$nulls":9},{"$f":"N17*Vermögen!$AC22","v":0},{"$f":"O17*Vermögen!$AC22","v":0},{"$f":"P17*Vermögen!$AC22","v":0},{"$f":"Q17*Vermögen!$AC22","v":0},{"$f":"R17*Vermögen!$AC22","v":0},{"$f":"S17*Vermögen!$AC22","v":0}]
[null,{"$f":"B98","v":"13."},0,"Bitte auswählen",{"$nulls":9},{"$f":"N18*Vermögen!$AC23","v":0},{"$f":"O18*Vermögen!$AC23","v":0},{"$f":"P18*Vermögen!$AC23","v":0},{"$f":"Q18*Vermögen!$AC23","v":0},{"$f":"R18*Vermögen!$AC23","v":0},{"$f":"S18*Vermögen!$AC23","v":0}]
[null,{"$f":"B99","v":"14."},0,"Bitte auswählen",{"$nulls":9},{"$f":"N19*Vermögen!$AC24","v":0},{"$f":"O19*Vermögen!$AC24","v":0},{"$f":"P19*Vermögen!$AC24","v":0},{"$f":"Q19*Vermögen!$AC24","v":0},{"$f":"R19*Vermögen!$AC24","v":0},{"$f":"S19*Vermögen!$AC24","v":0}]
[null,{"$f":"B100","v":"15."},0,"Bitte auswählen",{"$nulls":9},{"$f":"N20*Vermögen!$AC25","v":0},{"$f":"O20*Vermögen!$AC25","v":0},{"$f":"P20*Vermögen!$AC25","v":0},{"$f":"Q20*Vermögen!$AC25","v":0},{"$f":"R20*Vermögen!$AC25","v":0},{"$f":"S20*Vermögen!$AC25","v":0}]
[null,{"$f":"B101","v":"16."},0,"Bitte auswählen",{"$nulls":9},{"$f":"N21*Vermögen!$AC26","v":0},{"$f":"O21*Vermögen!$AC26","v":0},{"$f":"P21*Vermögen!$AC26","v":0},{"$f":"Q21*Vermögen!$AC26","v":0},{"$f":"R21*Vermögen!$AC26","v":0},{"$f":"S21*Vermögen!$AC26","v":0}]
[null,{"$f":"B102","v":"17."},0,"Bitte auswählen",{"$nulls":9},{"$f":"N22*Vermögen!$AC27","v":0},{"$f":"O22*Vermögen!$AC27","v":0},{"$f":"P22*Vermögen!$AC27","v":0},{"$f":"Q22*Vermögen!$AC27","v":0},{"$f":"R22*Vermögen!$AC27","v":0},{"$f":"S22*Vermögen!$AC27","v":0}]
[null,{"$f":"B103","v":"18."},0,"Bitte auswählen",{"$nulls":9},{"$f":"N23*Vermögen!$AC28","v":0},{"$f":"O23*Vermögen!$AC28","v":0},{"$f":"P23*Vermögen!$AC28","v":0},{"$f":"Q23*Vermögen!$AC28","v":0},{"$f":"R23*Vermögen!$AC28","v":0},{"$f":"S23*Vermögen!$AC28","v":0}]
[null,{"$f":"B104","v":"19."},0,"Bitte auswählen",{"$nulls":9},{"$f":"N24*Vermögen!$AC29","v":0},{"$f":"O24*Vermögen!$AC29","v":0},{"$f":"P24*Vermögen!$AC29","v":0},{"$f":"Q24*Vermögen!$AC29","v":0},{"$f":"R24*Vermögen!$AC29","v":0},{"$f":"S24*Vermögen!$AC29","v":0}]
[null,{"$f":"B105","v":"20."},0,"Bitte auswählen",{"$nulls":9},{"$f":"N25*Vermögen!$AC30","v":0},{"$f":"O25*Vermögen!$AC30","v":0},{"$f":"P25*Vermögen!$AC30","v":0},{"$f":"Q25*Vermögen!$AC30","v":0},{"$f":"R25*Vermögen!$AC30","v":0},{"$f":"S25*Vermögen!$AC30","v":0}]
[null,{"$f":"B106","v":"21."},0,"Bitte auswählen",{"$nulls":9},{"$f":"N26*Vermögen!$AC31","v":0},{"$f":"O26*Vermögen!$AC31","v":0},{"$f":"P26*Vermögen!$AC31","v":0},{"$f":"Q26*Vermögen!$AC31","v":0},{"$f":"R26*Vermögen!$AC31","v":0},{"$f":"S26*Vermögen!$AC31","v":0}]
[null,{"$f":"B107","v":"22."},0,"Bitte auswählen",{"$nulls":9},{"$f":"N27*Vermögen!$AC32","v":0},{"$f":"O27*Vermögen!$AC32","v":0},{"$f":"P27*Vermögen!$AC32","v":0},{"$f":"Q27*Vermögen!$AC32","v":0},{"$f":"R27*Vermögen!$AC32","v":0},{"$f":"S27*Vermögen!$AC32","v":0}]
[null,{"$f":"B108","v":"23."},0,"Bitte auswählen",{"$nulls":9},{"$f":"N28*Vermögen!$AC33","v":0},{"$f":"O28*Vermögen!$AC33","v":0},{"$f":"P28*Vermögen!$AC33","v":0},{"$f":"Q28*Vermögen!$AC33","v":0},{"$f":"R28*Vermögen!$AC33","v":0},{"$f":"S28*Vermögen!$AC33","v":0}]
[null,{"$f":"B109","v":"24."},0,"Bitte auswählen",{"$nulls":9},{"$f":"N29*Vermögen!$AC34","v":0},{"$f":"O29*Vermögen!$AC34","v":0},{"$f":"P29*Vermögen!$AC34","v":0},{"$f":"Q29*Vermögen!$AC34","v":0},{"$f":"R29*Vermögen!$AC34","v":0},{"$f":"S29*Vermögen!$AC34","v":0}]
[null,{"$f":"B110","v":"25."},0,"Bitte auswählen",{"$nulls":9},{"$f":"N30*Vermögen!$AC35","v":0},{"$f":"O30*Vermögen!$AC35","v":0},{"$f":"P30*Vermögen!$AC35","v":0},{"$f":"Q30*Vermögen!$AC35","v":0},{"$f":"R30*Vermögen!$AC35","v":0},{"$f":"S30*Vermögen!$AC35","v":0}]
[null,{"$f":"B111","v":"26."},0,"Bitte auswählen",{"$nulls":9},{"$f":"N31*Vermögen!$AC36","v":0},{"$f":"O31*Vermögen!$AC36","v":0},{"$f":"P31*Vermögen!$AC36","v":0},{"$f":"Q31*Vermögen!$AC36","v":0},{"$f":"R31*Vermögen!$AC36","v":0},{"$f":"S31*Vermögen!$AC36","v":0}]
[null,{"$f":"B112","v":"27."},0,"Bitte auswählen",{"$nulls":9},{"$f":"N32*Vermögen!$AC37","v":0},{"$f":"O32*Vermögen!$AC37","v":0},{"$f":"P32*Vermögen!$AC37","v":0},{"$f":"Q32*Vermögen!$AC37","v":0},{"$f":"R32*Vermögen!$AC37","v":0},{"$f":"S32*Vermögen!$AC37","v":0}]
[null,{"$f":"B113","v":"28."},0,"Bitte auswählen",{"$nulls":9},{"$f":"N33*Vermögen!$AC38","v":0},{"$f":"O33*Vermögen!$AC38","v":0},{"$f":"P33*Vermögen!$AC38","v":0},{"$f":"Q33*Vermögen!$AC38","v":0},{"$f":"R33*Vermögen!$AC38","v":0},{"$f":"S33*Vermögen!$AC38","v":0}]
[null,{"$f":"B114","v":"29."},0,"Bitte auswählen",{"$nulls":9},{"$f":"N34*Vermögen!$AC39","v":0},{"$f":"O34*Vermögen!$AC39","v":0},{"$f":"P34*Vermögen!$AC39","v":0},{"$f":"Q34*Vermögen!$AC39","v":0},{"$f":"R34*Vermögen!$AC39","v":0},{"$f":"S34*Vermögen!$AC39","v":0}]
[null,{"$f":"B115","v":"30."},0,"Bitte auswählen",{"$nulls":9},{"$f":"N35*Vermögen!$AC40","v":0},{"$f":"O35*Vermögen!$AC40","v":0},{"$f":"P35*Vermögen!$AC40","v":0},{"$f":"Q35*Vermögen!$AC40","v":0},{"$f":"R35*Vermögen!$AC40","v":0},{"$f":"S35*Vermögen!$AC40","v":0}]
[null,{"$f":"B116","v":"31."},0,"Bitte auswählen",{"$nulls":9},{"$f":"N36*Vermögen!$AC41","v":0},{"$f":"O36*Vermögen!$AC41","v":0},{"$f":"P36*Vermögen!$AC41","v":0},{"$f":"Q36*Vermögen!$AC41","v":0},{"$f":"R36*Vermögen!$AC41","v":0},{"$f":"S36*Vermögen!$AC41","v":0}]
[null,{"$f":"B117","v":"32."},0,"Bitte auswählen",{"$nulls":9},{"$f":"N37*Vermögen!$AC42","v":0},{"$f":"O37*Vermögen!$AC42","v":0},{"$f":"P37*Vermögen!$AC42","v":0},{"$f":"Q37*Vermögen!$AC42","v":0},{"$f":"R37*Vermögen!$AC42","v":0},{"$f":"S37*Vermögen!$AC42","v":0}]
[null,{"$f":"B118","v":"33."},0,"Bitte auswählen",{"$nulls":9},{"$f":"N38*Vermögen!$AC43","v":0},{"$f":"O38*Vermögen!$AC43","v":0},{"$f":"P38*Vermögen!$AC43","v":0},{"$f":"Q38*Vermögen!$AC43","v":0},{"$f":"R38*Vermögen!$AC43","v":0},{"$f":"S38*Vermögen!$AC43","v":0}]
[null,{"$f":"B119","v":"34."},0,"Bitte auswählen",{"$nulls":9},{"$f":"N39*Vermögen!$AC44","v":0},{"$f":"O39*Vermögen!$AC44","v":0},{"$f":"P39*Vermögen!$AC44","v":0},{"$f":"Q39*Vermögen!$AC44","v":0},{"$f":"R39*Vermögen!$AC44","v":0},{"$f":"S39*Vermögen!$AC44","v":0}]
[null,{"$f":"B120","v":"35."},0,"Bitte auswählen",{"$nulls":9},{"$f":"N40*Vermögen!$AC45","v":0},{"$f":"O40*Vermögen!$AC45","v":0},{"$f":"P40*Vermögen!$AC45","v":0},{"$f":"Q40*Vermögen!$AC45","v":0},{"$f":"R40*Vermögen!$AC45","v":0},{"$f":"S40*Vermögen!$AC45","v":0}]
[null,{"$f":"B121","v":"36."},0,"Bitte auswählen",{"$nulls":9},{"$f":"N41*Vermögen!$AC46","v":0},{"$f":"O41*Vermögen!$AC46","v":0},{"$f":"P41*Vermögen!$AC46","v":0},{"$f":"Q41*Vermögen!$AC46","v":0},{"$f":"R41*Vermögen!$AC46","v":0},{"$f":"S41*Vermögen!$AC46","v":0}]
[null,{"$f":"B122","v":"37."},0,"Bitte auswählen",{"$nulls":9},{"$f":"N42*Vermögen!$AC47","v":0},{"$f":"O42*Vermögen!$AC47","v":0},{"$f":"P42*Vermögen!$AC47","v":0},{"$f":"Q42*Vermögen!$AC47","v":0},{"$f":"R42*Vermögen!$AC47","v":0},{"$f":"S42*Vermögen!$AC47","v":0}]
[null,{"$f":"B123","v":"38."},0,"Bitte auswählen",{"$nulls":9},{"$f":"N43*Vermögen!$AC48","v":0},{"$f":"O43*Vermögen!$AC48","v":0},{"$f":"P43*Vermögen!$AC48","v":0},{"$f":"Q43*Vermögen!$AC48","v":0},{"$f":"R43*Vermögen!$AC48","v":0},{"$f":"S43*Vermögen!$AC48","v":0}]
[null,{"$f":"B124","v":"39."},0,"Bitte auswählen",{"$nulls":9},{"$f":"N44*Vermögen!$AC49","v":0},{"$f":"O44*Vermögen!$AC49","v":0},{"$f":"P44*Vermögen!$AC49","v":0},{"$f":"Q44*Vermögen!$AC49","v":0},{"$f":"R44*Vermögen!$AC49","v":0},{"$f":"S44*Vermögen!$AC49","v":0}]
[null,{"$f":"B125","v":"40."},0,"Bitte auswählen",{"$nulls":9},{"$f":"N45*Vermögen!$AC50","v":0},{"$f":"O45*Vermögen!$AC50","v":0},{"$f":"P45*Vermögen!$AC50","v":0},{"$f":"Q45*Vermögen!$AC50","v":0},{"$f":"R45*Vermögen!$AC50","v":0},{"$f":"S45*Vermögen!$AC50","v":0}]
[null,{"$f":"B126","v":"41."},0,"Bitte auswählen",{"$nulls":9},{"$f":"N46*Vermögen!$AC51","v":0},{"$f":"O46*Vermögen!$AC51","v":0},{"$f":"P46*Vermögen!$AC51","v":0},{"$f":"Q46*Vermögen!$AC51","v":0},{"$f":"R46*Vermögen!$AC51","v":0},{"$f":"S46*Vermögen!$AC51","v":0}]
[null,{"$f":"B127","v":"42."},0,"Bitte auswählen",{"$nulls":9},{"$f":"N47*Vermögen!$AC52","v":0},{"$f":"O47*Vermögen!$AC52","v":0},{"$f":"P47*Vermögen!$AC52","v":0},{"$f":"Q47*Vermögen!$AC52","v":0},{"$f":"R47*Vermögen!$AC52","v":0},{"$f":"S47*Vermögen!$AC52","v":0}]
[null,{"$f":"B128","v":"43."},0,"Bitte auswählen",{"$nulls":9},{"$f":"N48*Vermögen!$AC53","v":0},{"$f":"O48*Vermögen!$AC53","v":0},{"$f":"P48*Vermögen!$AC53","v":0},{"$f":"Q48*Vermögen!$AC53","v":0},{"$f":"R48*Vermögen!$AC53","v":0},{"$f":"S48*Vermögen!$AC53","v":0}]
[null,{"$f":"B129","v":"44."},0,"Bitte auswählen",{"$nulls":9},{"$f":"N49*Vermögen!$AC54","v":0},{"$f":"O49*Vermögen!$AC54","v":0},{"$f":"P49*Vermögen!$AC54","v":0},{"$f":"Q49*Vermögen!$AC54","v":0},{"$f":"R49*Vermögen!$AC54","v":0},{"$f":"S49*Vermögen!$AC54","v":0}]
[null,{"$f":"B130","v":"45."},0,"Bitte auswählen",{"$nulls":9},{"$f":"N50*Vermögen!$AC55","v":0},{"$f":"O50*Vermögen!$AC55","v":0},{"$f":"P50*Vermögen!$AC55","v":0},{"$f":"Q50*Vermögen!$AC55","v":0},{"$f":"R50*Vermögen!$AC55","v":0},{"$f":"S50*Vermögen!$AC55","v":0}]
[null,{"$f":"B131","v":"46."},0,"Bitte auswählen",{"$nulls":9},{"$f":"N51*Vermögen!$AC56","v":0},{"$f":"O51*Vermögen!$AC56","v":0},{"$f":"P51*Vermögen!$AC56","v":0},{"$f":"Q51*Vermögen!$AC56","v":0},{"$f":"R51*Vermögen!$AC56","v":0},{"$f":"S51*Vermögen!$AC56","v":0}]
[null,{"$f":"B132","v":"47."},0,"Bitte auswählen",{"$nulls":9},{"$f":"N52*Vermögen!$AC57","v":0},{"$f":"O52*Vermögen!$AC57","v":0},{"$f":"P52*Vermögen!$AC57","v":0},{"$f":"Q52*Vermögen!$AC57","v":0},{"$f":"R52*Vermögen!$AC57","v":0},{"$f":"S52*Vermögen!$AC57","v":0}]
[null,{"$f":"B133","v":"48."},0,"Bitte auswählen",{"$nulls":9},{"$f":"N53*Vermögen!$AC58","v":0},{"$f":"O53*Vermögen!$AC58","v":0},{"$f":"P53*Vermögen!$AC58","v":0},{"$f":"Q53*Vermögen!$AC58","v":0},{"$f":"R53*Vermögen!$AC58","v":0},{"$f":"S53*Vermögen!$AC58","v":0}]
[null,{"$f":"B134","v":"49."},0,"Bitte auswählen",{"$nulls":9},{"$f":"N54*Vermögen!$AC59","v":0},{"$f":"O54*Vermögen!$AC59","v":0},{"$f":"P54*Vermögen!$AC59","v":0},{"$f":"Q54*Vermögen!$AC59","v":0},{"$f":"R54*Vermögen!$AC59","v":0},{"$f":"S54*Vermögen!$AC59","v":0}]
[null,{"$f":"B135","v":"50."},0,"Bitte auswählen",{"$nulls":9},{"$f":"N55*Vermögen!$AC60","v":0},{"$f":"O55*Vermögen!$AC60","v":0},{"$f":"P55*Vermögen!$AC60","v":0},{"$f":"Q55*Vermögen!$AC60","v":0},{"$f":"R55*Vermögen!$AC60","v":0},{"$f":"S55*Vermögen!$AC60","v":0}]
[null,null,"Zustiftung","Cash",{"$nulls":9},{"$f":"N56","v":0},{"$f":"O56","v":0},0,0,0,0]
[null,{"$f":"B137","v":"U1"},0,0,{"$nulls":9},{"$f":"N57*Umschichtung!$P13","v":0},{"$f":"O57*Umschichtung!$P13","v":0},{"$f":"P57*Umschichtung!$P13","v":0},{"$f":"Q57*Umschichtung!$P13","v":0},{"$f":"R57*Umschichtung!$P13","v":0},{"$f":"S57*Umschichtung!$P13","v":0}]
[null,"U2",0,0,{"$nulls":9},{"$f":"N58*Umschichtung!$P14","v":0},{"$f":"O58*Umschichtung!$P14","v":0},{"$f":"P58*Umschichtung!$P14","v":0},{"$f":"Q58*Umschichtung!$P14","v":0},{"$f":"R58*Umschichtung!$P14","v":0},{"$f":"S58*Umschichtung!$P14","v":0}]
[null,"U3",0,0,{"$nulls":9},{"$f":"N59*Umschichtung!$P15","v":0},{"$f":"O59*Umschichtung!$P15","v":0},{"$f":"P59*Umschichtung!$P15","v":0},{"$f":"Q59*Umschichtung!$P15","v":0},{"$f":"R59*Umschichtung!$P15","v":0},{"$f":"S59*Umschichtung!$P15","v":0}]
[null,"U4",0,0,{"$nulls":9},{"$f":"N60*Umschichtung!$P16","v":0},{"$f":"O60*Umschichtung!$P16","v":0},{"$f":"P60*Umschichtung!$P16","v":0},{"$f":"Q60*Umschichtung!$P16","v":0},{"$f":"R60*Umschichtung!$P16","v":0},{"$f":"S60*Umschichtung!$P16","v":0}]
[null,"U5",0,0,{"$nulls":9},{"$f":"N61*Umschichtung!$P17","v":0},{"$f":"O61*Umschichtung!$P17","v":0},{"$f":"P61*Umschichtung!$P17","v":0},{"$f":"Q61*Umschichtung!$P17","v":0},{"$f":"R61*Umschichtung!$P17","v":0},{"$f":"S61*Umschichtung!$P17","v":0}]
[null,"U6",0,0,{"$nulls":9},{"$f":"N62*Umschichtung!$P18","v":0},{"$f":"O62*Umschichtung!$P18","v":0},{"$f":"P62*Umschichtung!$P18","v":0},{"$f":"Q62*Umschichtung!$P18","v":0},{"$f":"R62*Umschichtung!$P18","v":0},{"$f":"S62*Umschichtung!$P18","v":0}]
[null,null,{"$f":"C143","v":"Summe"},{"$nulls":10},{"$f":"SUM(N166:N222)","v":0},0,0,0,0,0]
[]
[null,null,"Risiko Umschichtung nach AK",{"$f":"D65","v":"Aktien"},{"$nulls":8},"Derzeit ",{"$f":"SUMIF($D$166:$D$222,\"Immobilien\",N$166:N$222)","v":0},0,0,0,0,0]
[{"$nulls":3},{"$f":"D66","v":"Anleihen"},{"$nulls":8},"ohne ",{"$f":"SUMIF($D$166:$D$222,\"Beteiligungen\",N$166:N$222)","v":0},0,0,0,0,0]
[{"$nulls":3},"Wertpapiere",{"$nulls":8},"Funktion",{"$f":"SUM(N228:N231)","v":0},0,0,0,0,0]
[{"$nulls":3},{"$f":"D68","v":"Rohstoffe"},{"$nulls":9},{"$f":"SUMIF($D$166:$D$222,\"Aktien\",N$166:N$222)","v":0},0,0,0,0,0]
[{"$nulls":3},"Liquidität",{"$nulls":9},{"$f":"SUMIF($D$166:$D$222,\"Renten\",N$166:N$222)","v":0},0,0,0,0,0]
[{"$nulls":3},"Immobilien",{"$nulls":9},{"$f":"SUMIF($D$166:$D$222,\"LIquidität\",N$166:N$222)","v":0},0,0,0,0,0]
[{"$nulls":3},"Beteiligungen",{"$nulls":9},{"$f":"SUMIF($D$166:$D$222,\"Alternative Investments\",N$166:N$222)","v":0},0,0,0,0,0]
[{"$nulls":3},"Sonst. Verm.",{"$nulls":9},{"$f":"SUMIF($D$166:$D$222,\"Spar- u. Termineinlagen\",N$166:N$222)","v":0},0,0,0,0,0]
[{"$nulls":3},"Verbindlichkeiten",{"$nulls":9},{"$f":"SUMIF($D$166:$D$222,\"Kontoguthaben\",N$166:N$222)","v":0},0,0,0,0,0]
[{"$nulls":3},{"$f":"D74","v":"Summe"},{"$nulls":9},{"$f":"SUM(N225:N227)+SUM(N232:N233)","v":0},0,0,0,0,0]
[]
[null,null,"Zielerreichung Risiko",{"$nulls":11},{"$f":"O5","v":2024},{"$f":"P5","v":2025},{"$f":"Q5","v":2026},{"$f":"R5","v":2027},{"$f":"S5","v":2028}]
[{"$nulls":3},"Risikoziel Maximalverlust",{"$nulls":10},{"$f":"'Daten Projektion'!O298","v":0},{"$f":"'Daten Projektion'!P298","v":0},{"$f":"'Daten Projektion'!Q298","v":0},{"$f":"'Daten Projektion'!R298","v":0},{"$f":"'Daten Projektion'!S298","v":0}]
[{"$nulls":3},"Maximalverlust Basisszenario Worst Case ",{"$nulls":10},{"$f":"'Daten Projektion'!O299","v":0},{"$f":"'Daten Projektion'!P299","v":0},{"$f":"'Daten Projektion'!Q299","v":0},{"$f":"'Daten Projektion'!R299","v":0},{"$f":"'Daten Projektion'!S299","v":0}]
[{"$nulls":3},"Maximalverlust Umschichtung Worst Case",{"$nulls":10},{"$f":"O223","v":0},{"$f":"P223","v":0},0,0,0]
[{"$nulls":3},"Zielerreichung Risiko Basisszenario",{"$nulls":10},{"$f":"1+(O237-O238)/O237","v":{"$error":"#DIV/0!"}},{"$f":"1+(P237-P238)/P237","v":{"$error":"#DIV/0!"}},{"$error":"#DIV/0!"},{"$error":"#DIV/0!"},{"$error":"#DIV/0!"}]
[{"$nulls":3},"Zielerreichung Risiko Umschichtung",{"$nulls":10},{"$f":"1+(O237-O239)/O237","v":{"$error":"#DIV/0!"}},{"$f":"1+(P237-P239)/P237","v":{"$error":"#DIV/0!"}},{"$error":"#DIV/0!"},{"$error":"#DIV/0!"},{"$error":"#DIV/0!"}]
[]
[null,null,"Nachhaltigkeit Umschichtung"]
[]
[null,"Nr. ","Vermögensgegenstand","Nachhaltigkeitskonzept",{"$f":"E85","v":"Aktien"},{"$f":"F85","v":"Anleihen"},"Alternative Inv.","Rohstoffe","Liquidität","Immobilien","Beteiligungen","Sonst. Verm.","Verbindlichkeiten",null,{"$f":"O5","v":2024},{"$f":"P5","v":2025},{"$f":"Q5","v":2026},{"$f":"R5","v":2027},{"$f":"S5","v":2028}]
[null,{"$f":"B6","v":"1."},{"$f":"C6","v":0},{"$f":"Vermögen!AD11","v":0},{"$nulls":9},{"$f":"N6","v":0},{"$f":"O6","v":0},0,0,0,0]
[null,{"$f":"B7","v":"2."},0,{"$f":"Vermögen!AD12","v":0},{"$nulls":9},{"$f":"N7","v":0},0,0,0,0,0]
[null,{"$f":"B8","v":"3."},0,{"$f":"Vermögen!AD13","v":0},{"$nulls":9},{"$f":"N8","v":0},0,0,0,0,0]
[null,{"$f":"B9","v":"4."},0,{"$f":"Vermögen!AD14","v":0},{"$nulls":9},{"$f":"N9","v":0},0,0,0,0,0]
[null,{"$f":"B10","v":"5."},0,{"$f":"Vermögen!AD15","v":0},{"$nulls":9},{"$f":"N10","v":0},0,0,0,0,0]
[null,{"$f":"B11","v":"6."},0,{"$f":"Vermögen!AD16","v":0},{"$nulls":9},{"$f":"N11","v":0},0,0,0,0,0]
[null,{"$f":"B12","v":"7."},0,{"$f":"Vermögen!AD17","v":0},{"$nulls":9},{"$f":"N12","v":0},0,0,0,0,0]
[null,{"$f":"B13","v":"8."},0,{"$f":"Vermögen!AD18","v":0},{"$nulls":9},{"$f":"N13","v":0},0,0,0,0,0]
[null,{"$f":"B14","v":"9."},0,{"$f":"Vermögen!AD19","v":0},{"$nulls":9},{"$f":"N14","v":0},0,0,0,0,0]
[null,{"$f":"B15","v":"10."},0,{"$f":"Vermögen!AD20","v":0},{"$nulls":9},{"$f":"N15","v":0},0,0,0,0,0]
[null,{"$f":"B16","v":"11."},0,{"$f":"Vermögen!AD21","v":0},{"$nulls":9},{"$f":"N16","v":0},0,0,0,0,0]
[null,{"$f":"B17","v":"12."},0,{"$f":"Vermögen!AD22","v":0},{"$nulls":9},{"$f":"N17","v":0},0,0,0,0,0]
[null,{"$f":"B18","v":"13."},0,{"$f":"Vermögen!AD23","v":0},{"$nulls":9},{"$f":"N18","v":0},0,0,0,0,0]
[null,{"$f":"B19","v":"14."},0,{"$f":"Vermögen!AD24","v":0},{"$nulls":9},{"$f":"N19","v":0},0,0,0,0,0]
[null,{"$f":"B20","v":"15."},0,{"$f":"Vermögen!AD25","v":0},{"$nulls":9},{"$f":"N20","v":0},0,0,0,0,0]
[null,{"$f":"B21","v":"16."},0,{"$f":"Vermögen!AD26","v":0},{"$nulls":9},{"$f":"N21","v":0},0,0,0,0,0]
[null,{"$f":"B22","v":"17."},0,{"$f":"Vermögen!AD27","v":0},{"$nulls":9},{"$f":"N22","v":0},0,0,0,0,0]
[null,{"$f":"B23","v":"18."},0,{"$f":"Vermögen!AD28","v":0},{"$nulls":9},{"$f":"N23","v":0},0,0,0,0,0]
[null,{"$f":"B24","v":"19."},0,{"$f":"Vermögen!AD29","v":0},{"$nulls":9},{"$f":"N24","v":0},0,0,0,0,0]
[null,{"$f":"B25","v":"20."},0,{"$f":"Vermögen!AD30","v":0},{"$nulls":9},{"$f":"N25","v":0},0,0,0,0,0]
[null,{"$f":"B26","v":"21."},0,{"$f":"Vermögen!AD31","v":0},{"$nulls":9},{"$f":"N26","v":0},0,0,0,0,0]
[null,{"$f":"B27","v":"22."},0,{"$f":"Vermögen!AD32","v":0},{"$nulls":9},{"$f":"N27","v":0},0,0,0,0,0]
[null,{"$f":"B28","v":"23."},0,{"$f":"Vermögen!AD33","v":0},{"$nulls":9},{"$f":"N28","v":0},0,0,0,0,0]
[null,{"$f":"B29","v":"24."},0,{"$f":"Vermögen!AD34","v":0},{"$nulls":9},{"$f":"N29","v":0},0,0,0,0,0]
[null,{"$f":"B30","v":"25."},0,{"$f":"Vermögen!AD35","v":0},{"$nulls":9},{"$f":"N30","v":0},0,0,0,0,0]
[null,{"$f":"B31","v":"26."},0,{"$f":"Vermögen!AD36","v":0},{"$nulls":9},{"$f":"N31","v":0},0,0,0,0,0]
[null,{"$f":"B32","v":"27."},0,{"$f":"Vermögen!AD37","v":0},{"$nulls":9},{"$f":"N32","v":0},0,0,0,0,0]
[null,{"$f":"B33","v":"28."},0,{"$f":"Vermögen!AD38","v":0},{"$nulls":9},{"$f":"N33","v":0},0,0,0,0,0]
[null,{"$f":"B34","v":"29."},0,{"$f":"Vermögen!AD39","v":0},{"$nulls":9},{"$f":"N34","v":0},0,0,0,0,0]
[null,{"$f":"B35","v":"30."},0,{"$f":"Vermögen!AD40","v":0},{"$nulls":9},{"$f":"N35","v":0},0,0,0,0,0]
[null,{"$f":"B36","v":"31."},0,{"$f":"Vermögen!AD41","v":0},{"$nulls":9},{"$f":"N36","v":0},0,0,0,0,0]
[null,{"$f":"B37","v":"32."},0,{"$f":"Vermögen!AD42","v":0},{"$nulls":9},{"$f":"N37","v":0},0,0,0,0,0]
[null,{"$f":"B38","v":"33."},0,{"$f":"Vermögen!AD43","v":0},{"$nulls":9},{"$f":"N38","v":0},0,0,0,0,0]
[null,{"$f":"B39","v":"34."},0,{"$f":"Vermögen!AD44","v":0},{"$nulls":9},{"$f":"N39","v":0},0,0,0,0,0]
[null,{"$f":"B40","v":"35."},0,{"$f":"Vermögen!AD45","v":0},{"$nulls":9},{"$f":"N40","v":0},0,0,0,0,0]
[null,{"$f":"B41","v":"36."},0,{"$f":"Vermögen!AD46","v":0},{"$nulls":9},{"$f":"N41","v":0},0,0,0,0,0]
[null,{"$f":"B42","v":"37."},0,{"$f":"Vermögen!AD47","v":0},{"$nulls":9},{"$f":"N42","v":0},0,0,0,0,0]
[null,{"$f":"B43","v":"38."},0,{"$f":"Vermögen!AD48","v":0},{"$nulls":9},{"$f":"N43","v":0},0,0,0,0,0]
[null,{"$f":"B44","v":"39."},0,{"$f":"Vermögen!AD49","v":0},{"$nulls":9},{"$f":"N44","v":0},0,0,0,0,0]
[null,{"$f":"B45","v":"40."},0,{"$f":"Vermögen!AD50","v":0},{"$nulls":9},{"$f":"N45","v":0},0,0,0,0,0]
[null,{"$f":"B46","v":"41."},0,{"$f":"Vermögen!AD51","v":0},{"$nulls":9},{"$f":"N46","v":0},0,0,0,0,0]
[null,{"$f":"B47","v":"42."},0,{"$f":"Vermögen!AD52","v":0},{"$nulls":9},{"$f":"N47","v":0},0,0,0,0,0]
[null,{"$f":"B48","v":"43."},0,{"$f":"Vermögen!AD53","v":0},{"$nulls":9},{"$f":"N48","v":0},0,0,0,0,0]
[null,{"$f":"B49","v":"44."},0,{"$f":"Vermögen!AD54","v":0},{"$nulls":9},{"$f":"N49","v":0},0,0,0,0,0]
[null,{"$f":"B50","v":"45."},0,{"$f":"Vermögen!AD55","v":0},{"$nulls":9},{"$f":"N50","v":0},0,0,0,0,0]
[null,{"$f":"B51","v":"46."},0,{"$f":"Vermögen!AD56","v":0},{"$nulls":9},{"$f":"N51","v":0},0,0,0,0,0]
[null,{"$f":"B52","v":"47."},0,{"$f":"Vermögen!AD57","v":0},{"$nulls":9},{"$f":"N52","v":0},0,0,0,0,0]
[null,{"$f":"B53","v":"48."},0,{"$f":"Vermögen!AD58","v":0},{"$nulls":9},{"$f":"N53","v":0},0,0,0,0,0]
[null,{"$f":"B54","v":"49."},0,{"$f":"Vermögen!AD59","v":0},{"$nulls":9},{"$f":"N54","v":0},0,0,0,0,0]
[null,{"$f":"B55","v":"50."},0,{"$f":"Vermögen!AD60","v":0},{"$nulls":9},{"$f":"N55","v":0},0,0,0,0,0]
[null,null,"Zustiftung",{"$nulls":10},{"$f":"N56","v":0},{"$f":"O56","v":0},0,0,0,0]
[null,{"$f":"B57","v":"U1"},0,{"$f":"Umschichtung!Q13","v":"Keine"},{"$nulls":9},0,{"$f":"O57","v":0},{"$f":"P57","v":0},0,0,0]
[null,"U2",0,{"$f":"Umschichtung!Q14","v":"Keine"},{"$nulls":9},0,{"$f":"O58","v":0},0,0,0,0]
[null,"U3",0,{"$f":"Umschichtung!Q15","v":"Keine"},{"$nulls":9},0,{"$f":"O59","v":0},0,0,0,0]
[null,"U4",0,{"$f":"Umschichtung!Q16","v":"Keine"},{"$nulls":9},0,{"$f":"O60","v":0},0,0,0,0]
[null,"U5",0,{"$f":"Umschichtung!Q17","v":"Keine"},{"$nulls":9},0,{"$f":"O61","v":0},0,0,0,0]
[null,"U6",0,{"$f":"Umschichtung!Q18","v":"Keine"},{"$nulls":9},0,{"$f":"O62","v":0},0,0,0,0]
[null,null,"Summen",{"$nulls":10},{"$f":"SUM(N276:N302)","v":0},{"$f":"SUM(O246:O302)","v":0},{"$f":"SUM(P246:P302)","v":0},0,0,0]
[]
[null,"Nr. ","Vermögensgegenstand","Nachhaltigkeitskonzept",{"$nulls":9},"PRISC-Sc.",{"$f":"O245","v":2024},{"$f":"P245","v":2025},{"$f":"Q245","v":2026},{"$f":"R245","v":2027},{"$f":"S245","v":2028}]
[null,{"$f":"#REF!","v":{"$error":"#REF!"}},{"$f":"#REF!","v":{"$error":"#REF!"}},{"$f":"D276","v":0},{"$nulls":9},{"$f":"Daten_Vermögen!V6","v":{"v":0,"d":"0.0%"}},{"$f":"$N306*O276/O$303","v":{"$error":"#DIV/0!"}}]
[null,{"$f":"#REF!","v":{"$error":"#REF!"}},{"$f":"#REF!","v":{"$error":"#REF!"}},{"$f":"D277","v":0},{"$nulls":9},{"$f":"Daten_Vermögen!V7","v":{"v":0,"d":"0.0%"}},{"$error":"#DIV/0!"}]
[null,{"$f":"#REF!","v":{"$error":"#REF!"}},{"$f":"#REF!","v":{"$error":"#REF!"}},{"$f":"D278","v":0},{"$nulls":9},{"$f":"Daten_Vermögen!V8","v":{"v":0,"d":"0.0%"}},{"$error":"#DIV/0!"}]
[null,{"$f":"#REF!","v":{"$error":"#REF!"}},{"$f":"#REF!","v":{"$error":"#REF!"}},{"$f":"D279","v":0},{"$nulls":9},{"$f":"Daten_Vermögen!V9","v":{"v":0,"d":"0.0%"}},{"$error":"#DIV/0!"}]
[null,{"$f":"#REF!","v":{"$error":"#REF!"}},{"$f":"#REF!","v":{"$error":"#REF!"}},{"$f":"D288","v":0},{"$nulls":9},{"$f":"Daten_Vermögen!V10","v":{"v":0,"d":"0.0%"}},{"$f":"$N310*O288/O$303","v":{"$error":"#DIV/0!"}}]
[null,{"$f":"#REF!","v":{"$error":"#REF!"}},{"$f":"#REF!","v":{"$error":"#REF!"}},0,{"$nulls":9},{"$f":"Daten_Vermögen!V11","v":{"v":0,"d":"0.0%"}},{"$error":"#DIV/0!"}]
[null,{"$f":"#REF!","v":{"$error":"#REF!"}},{"$f":"#REF!","v":{"$error":"#REF!"}},0,{"$nulls":9},{"$f":"Daten_Vermögen!V12","v":{"v":0,"d":"0.0%"}},{"$error":"#DIV/0!"}]
[null,{"$f":"#REF!","v":{"$error":"#REF!"}},{"$f":"#REF!","v":{"$error":"#REF!"}},0,{"$nulls":9},{"$f":"Daten_Vermögen!V13","v":{"v":0,"d":"0.0%"}},{"$error":"#DIV/0!"}]
[null,{"$f":"#REF!","v":{"$error":"#REF!"}},{"$f":"#REF!","v":{"$error":"#REF!"}},0,{"$nulls":9},{"$f":"Daten_Vermögen!V14","v":{"v":0,"d":"0.0%"}},{"$error":"#DIV/0!"}]
[null,{"$f":"#REF!","v":{"$error":"#REF!"}},{"$f":"#REF!","v":{"$error":"#REF!"}},0,{"$nulls":9},{"$f":"Daten_Vermögen!V15","v":{"v":0,"d":"0.0%"}},{"$error":"#DIV/0!"}]
[null,{"$f":"#REF!","v":{"$error":"#REF!"}},{"$f":"#REF!","v":{"$error":"#REF!"}},0,{"$nulls":9},{"$f":"Daten_Vermögen!V16","v":{"v":0,"d":"0.0%"}},{"$error":"#DIV/0!"}]
[null,12,{"$f":"#REF!","v":{"$error":"#REF!"}},0,{"$nulls":9},{"$f":"Daten_Vermögen!#REF!","v":{"$error":"#REF!"}},{"$error":"#REF!"}]
[null,null,"Virtuelles Konto Zustiftung","Cash",{"$nulls":9},{"$f":"INDEX(Vermögen!F11:AB21,MATCH(\"Kontoguthaben\",Vermögen!I11:I21,0),8)","v":{"$error":"#N/A"}},{"$f":"IFERROR($N318*O296/O303,0)","v":{"v":0,"d":"0.0%"}}]
[null,{"$f":"#REF!","v":{"$error":"#REF!"}},{"$f":"#REF!","v":{"$error":"#REF!"}},"Keine",{"$nulls":9},{"$f":"Daten_Vermögen!#REF!","v":{"$error":"#REF!"}},{"$f":"$N319*O297/O$303","v":{"$error":"#REF!"}}]
[null,{"$f":"#REF!","v":{"$error":"#REF!"}},{"$f":"#REF!","v":{"$error":"#REF!"}},"Keine",{"$nulls":9},{"$f":"Daten_Vermögen!#REF!","v":{"$error":"#REF!"}},{"$error":"#REF!"}]
[null,{"$f":"#REF!","v":{"$error":"#REF!"}},{"$f":"#REF!","v":{"$error":"#REF!"}},"Keine",{"$nulls":9},{"$f":"Daten_Vermögen!#REF!","v":{"$error":"#REF!"}},{"$error":"#REF!"}]
[null,{"$f":"#REF!","v":{"$error":"#REF!"}},{"$f":"#REF!","v":{"$error":"#REF!"}},"Keine",{"$nulls":9},{"$f":"Daten_Vermögen!#REF!","v":{"$error":"#REF!"}},{"$error":"#REF!"}]
[null,{"$f":"#REF!","v":{"$error":"#REF!"}},{"$f":"#REF!","v":{"$error":"#REF!"}},"Keine",{"$nulls":9},{"$f":"Daten_Vermögen!#REF!","v":{"$error":"#REF!"}},{"$error":"#REF!"}]
[null,"U6",{"$f":"#REF!","v":{"$error":"#REF!"}},{"$nulls":10},{"$f":"Daten_Vermögen!#REF!","v":{"$error":"#REF!"}},{"$error":"#REF!"}]
[null,null,"PRISC-Score gewichtet",{"$nulls":11},{"$f":"SUM(O306:O324)","v":{"$error":"#DIV/0!"}}]
[]
[{"$nulls":3},"PRISC-Score",{"$nulls":10},{"$f":"O364","v":2024}]
[{"$nulls":3},"Nachhaltigkeitsziel PRISC-Score",{"$nulls":10},{"$f":"Anlageziele!$O$42","v":{"v":0,"d":"0.0%"}}]
[{"$nulls":3},"Zielerreichung Basisszenario",{"$nulls":10},{"$f":"'Daten Projektion'!O382","v":{"v":0,"d":"0.0%"}}]
[{"$nulls":3},"Zielerreichung Umschichtung",{"$nulls":10},{"$f":"O325","v":{"$error":"#DIV/0!"}}]
[{"$nulls":3},"Zielabweichung Basisszenario",{"$nulls":10},{"$f":"(O329-O328)/O328","v":{"$error":"#DIV/0!"}}]
[{"$nulls":3},"Zielabweichung Umschichtung",{"$nulls":10},{"$f":"(O330-O328)/O328","v":{"$error":"#DIV/0!"}}]
[]
[null,null,"Nachhaltigkeitsstrategien in EUR",{"$f":"Daten_Vermögen!F8","v":"Grundstück/Gebäude"},{"$nulls":9},{"$f":"Anlageziele!O32","v":{"v":0,"d":"0.0%"}},{"$f":"SUMIF(Daten_Vermögen!#REF!,1,Daten_Umschichtung!O$276:O$295)+SUMIF(Daten_Vermögen!#REF!,1,Daten_Umschichtung!O$297:O$302)","v":{"$error":"#REF!"}}]
[{"$nulls":3},{"$f":"Daten_Vermögen!F9","v":"Geschäftsausstattung"},{"$nulls":9},{"$f":"Anlageziele!O33","v":{"v":0,"d":"0.0%"}},{"$f":"SUMIF(Daten_Vermögen!#REF!,1,Daten_Umschichtung!O$276:O$295)+SUMIF(Daten_Vermögen!#REF!,1,Daten_Umschichtung!O$297:O$302)","v":{"$error":"#REF!"}}]
[{"$nulls":3},{"$f":"Daten_Vermögen!F10","v":"andere Sachanlagen"},{"$nulls":9},{"$f":"Anlageziele!O34","v":{"v":0,"d":"0.0%"}},{"$f":"SUMIF(Daten_Vermögen!#REF!,1,Daten_Umschichtung!O$276:O$295)+SUMIF(Daten_Vermögen!#REF!,1,Daten_Umschichtung!O$297:O$302)","v":{"$error":"#REF!"}}]
[{"$nulls":3},{"$f":"Daten_Vermögen!F12","v":"Aktien"},{"$nulls":9},{"$f":"Anlageziele!O35","v":{"v":0,"d":"0.0%"}},{"$f":"SUMIF(Daten_Vermögen!#REF!,1,Daten_Umschichtung!O$276:O$295)+SUMIF(Daten_Vermögen!#REF!,1,Daten_Umschichtung!O$297:O$302)","v":{"$error":"#REF!"}}]
[{"$nulls":3},{"$f":"Daten_Vermögen!F13","v":"Fondsanteile"},{"$nulls":9},{"$f":"Anlageziele!O36","v":{"v":0,"d":"0.0%"}},{"$f":"SUMIF(Daten_Vermögen!#REF!,1,Daten_Umschichtung!O$276:O$295)+SUMIF(Daten_Vermögen!#REF!,1,Daten_Umschichtung!O$297:O$302)","v":{"$error":"#REF!"}}]
[{"$nulls":3},{"$f":"Daten_Vermögen!F14","v":"festverzinsliche Wertpapiere"},{"$nulls":9},{"$f":"Anlageziele!O37","v":{"v":0,"d":"0.0%"}},{"$f":"SUMIF(Daten_Vermögen!#REF!,1,Daten_Umschichtung!O$276:O$295)+SUMIF(Daten_Vermögen!#REF!,1,Daten_Umschichtung!O$297:O$302)","v":{"$error":"#REF!"}}]
[{"$nulls":3},{"$f":"Daten_Vermögen!F15","v":"sonstige Wertpapiere"},{"$nulls":9},{"$f":"Anlageziele!O38","v":{"v":0,"d":"0.0%"}},{"$f":"SUMIF(Daten_Vermögen!#REF!,1,Daten_Umschichtung!O$276:O$295)+SUMIF(Daten_Vermögen!#REF!,1,Daten_Umschichtung!O$297:O$302)","v":{"$error":"#REF!"}}]
[{"$nulls":3},{"$f":"Daten_Vermögen!F16","v":"sonstige Ausleihungen"},{"$nulls":9},{"$f":"Anlageziele!O39","v":{"v":0,"d":"0.0%"}},{"$f":"SUMIF(Daten_Vermögen!#REF!,1,Daten_Umschichtung!O$276:O$295)+SUMIF(Daten_Vermögen!#REF!,1,Daten_Umschichtung!O$297:O$302)","v":{"$error":"#REF!"}}]
[{"$nulls":3},"Summe",{"$nulls":9},{"$f":"SUM(N334:N341)","v":{"v":0,"d":"0.0%"}},{"$error":"#REF!"}]
[]
[null,null,"Nachhaltigkeitsstrategien in % vom Gesamtvermögen",{"$f":"D334","v":"Grundstück/Gebäude"},{"$nulls":9},{"$f":"Anlageziele!O32","v":{"v":0,"d":"0.0%"}},{"$f":"O334/O$303","v":{"$error":"#REF!"}}]
[{"$nulls":3},"Geschäftsausstattung",{"$nulls":9},{"$f":"Anlageziele!O33","v":{"v":0,"d":"0.0%"}},{"$error":"#REF!"}]
[{"$nulls":3},"andere Sachanlagen",{"$nulls":9},{"$f":"Anlageziele!O34","v":{"v":0,"d":"0.0%"}},{"$error":"#REF!"}]
[{"$nulls":3},"Aktien",{"$nulls":9},{"$f":"Anlageziele!O35","v":{"v":0,"d":"0.0%"}},{"$error":"#REF!"}]
[{"$nulls":3},"Fondsanteile",{"$nulls":9},{"$f":"Anlageziele!O36","v":{"v":0,"d":"0.0%"}},{"$error":"#REF!"}]
[{"$nulls":3},"festverzinsliche Wertpapiere",{"$nulls":9},{"$f":"Anlageziele!O37","v":{"v":0,"d":"0.0%"}},{"$error":"#REF!"}]
[{"$nulls":3},"sonstige Wertpapiere",{"$nulls":9},{"$f":"Anlageziele!O38","v":{"v":0,"d":"0.0%"}},{"$error":"#REF!"}]
[{"$nulls":3},"sonstige Ausleihungen",{"$nulls":9},{"$f":"Anlageziele!O39","v":{"v":0,"d":"0.0%"}},{"$error":"#REF!"}]
[{"$nulls":3},"Summe",{"$nulls":9},{"$f":"SUM(N344:N351)","v":{"v":0,"d":"0.0%"}},{"$error":"#REF!"}]
[]
[null,null,"Nachhaltigkeitsstrategien Zielabweichung",{"$f":"D344","v":"Grundstück/Gebäude"},{"$nulls":9},{"v":0,"d":"0.0%"},{"$f":"IF(O344-$N344>0,0,O344-$N344)","v":{"$error":"#REF!"}}]
[{"$nulls":3},"Geschäftsausstattung",{"$nulls":9},{"v":0,"d":"0.0%"},{"$error":"#REF!"}]
[{"$nulls":3},"andere Sachanlagen",{"$nulls":9},{"v":0,"d":"0.0%"},{"$error":"#REF!"}]
[{"$nulls":3},"Aktien",{"$nulls":9},{"v":0,"d":"0.0%"},{"$error":"#REF!"}]
[{"$nulls":3},"Fondsanteile",{"$nulls":9},{"v":0,"d":"0.0%"},{"$error":"#REF!"}]
[{"$nulls":3},"festverzinsliche Wertpapiere",{"$nulls":9},{"v":0,"d":"0.0%"},{"$error":"#REF!"}]
[{"$nulls":3},"sonstige Wertpapiere",{"$nulls":9},{"v":0,"d":"0.0%"},{"$error":"#REF!"}]
[{"$nulls":3},"sonstige Ausleihungen",{"$nulls":9},{"v":0,"d":"0.0%"},{"$error":"#REF!"}]
[{"$nulls":3},"Summe",{"$nulls":9},{"$f":"SUM(N354:N361)","v":{"v":0,"d":"0.0%"}},{"$error":"#REF!"}]
[]
[null,null,"Zielerreichung Nachhaltigkeit","Strategien",{"$nulls":10},{"$f":"O5","v":2024},{"$f":"P5","v":2025},{"$f":"Q5","v":2026},{"$f":"R5","v":2027},{"$f":"S5","v":2028}]
[{"$nulls":3},"Nachhaltigkeitsziel Strategie",{"$nulls":10},{"$f":"O303*Anlageziele!$N$29","v":0},{"$f":"P303*Anlageziele!$N$29","v":0},{"$f":"Q303*Anlageziele!$N$29","v":0},{"$f":"R303*Anlageziele!$N$29","v":0},{"$f":"S303*Anlageziele!$N$29","v":0}]
[{"$nulls":3},"Zielerreichung Basisszenario",{"$nulls":10},{"$f":"'Daten Projektion'!O355","v":0},{"$f":"'Daten Projektion'!P355","v":0},{"$f":"'Daten Projektion'!Q355","v":0},{"$f":"'Daten Projektion'!R355","v":0},{"$f":"'Daten Projektion'!S355","v":0}]
[{"$nulls":3},"Zielerreichung Umschichtung",{"$nulls":10},{"$f":"SUMIF($D$246:$D$302,Daten_Vermögen!$H$8,Daten_Umschichtung!O$246:O$302)+SUMIF($D$246:$D$302,Daten_Vermögen!$H$9,Daten_Umschichtung!O$246:O$302)+SUMIF($D$246:$D$302,Daten_Vermögen!$H$10,Daten_Umschichtung!O$246:O$302)+SUMIF($D$246:$D$302,Daten_Vermögen!$H$11,Daten_Umschichtung!O$246:O$302)","v":0},{"$f":"SUMIF($D$246:$D$302,Daten_Vermögen!$H$8,Daten_Umschichtung!P$246:P$302)+SUMIF($D$246:$D$302,Daten_Vermögen!$H$9,Daten_Umschichtung!P$246:P$302)+SUMIF($D$246:$D$302,Daten_Vermögen!$H$10,Daten_Umschichtung!P$246:P$302)+SUMIF($D$246:$D$302,Daten_Vermögen!$H$11,Daten_Umschichtung!P$246:P$302)","v":0},{"$f":"SUMIF($D$246:$D$302,Daten_Vermögen!$H$8,Daten_Umschichtung!Q$246:Q$302)+SUMIF($D$246:$D$302,Daten_Vermögen!$H$9,Daten_Umschichtung!Q$246:Q$302)+SUMIF($D$246:$D$302,Daten_Vermögen!$H$10,Daten_Umschichtung!Q$246:Q$302)+SUMIF($D$246:$D$302,Daten_Vermögen!$H$11,Daten_Umschichtung!Q$246:Q$302)","v":0},{"$f":"SUMIF($D$246:$D$302,Daten_Vermögen!$H$8,Daten_Umschichtung!R$246:R$302)+SUMIF($D$246:$D$302,Daten_Vermögen!$H$9,Daten_Umschichtung!R$246:R$302)+SUMIF($D$246:$D$302,Daten_Vermögen!$H$10,Daten_Umschichtung!R$246:R$302)+SUMIF($D$246:$D$302,Daten_Vermögen!$H$11,Daten_Umschichtung!R$246:R$302)","v":0},{"$f":"SUMIF($D$246:$D$302,Daten_Vermögen!$H$8,Daten_Umschichtung!S$246:S$302)+SUMIF($D$246:$D$302,Daten_Vermögen!$H$9,Daten_Umschichtung!S$246:S$302)+SUMIF($D$246:$D$302,Daten_Vermögen!$H$10,Daten_Umschichtung!S$246:S$302)+SUMIF($D$246:$D$302,Daten_Vermögen!$H$11,Daten_Umschichtung!S$246:S$302)","v":0}]
[{"$nulls":3},"Zielerreichung Basisszenario",{"$nulls":10},{"$f":"O366/O365","v":{"$error":"#DIV/0!"}},{"$f":"P366/P365","v":{"$error":"#DIV/0!"}},{"$error":"#DIV/0!"},{"$error":"#DIV/0!"},{"$error":"#DIV/0!"}]
[{"$nulls":3},"Zielerreichung Umschichtung",{"$nulls":10},{"$f":"O367/O365","v":{"$error":"#DIV/0!"}},{"$f":"P367/P365","v":{"$error":"#DIV/0!"}},{"$error":"#DIV/0!"},{"$error":"#DIV/0!"},{"$error":"#DIV/0!"}]
[]
[null,null,"Zielerreichung nach Auswahl",{"$f":"IF(Anlageziele!N42=FALSE,\"Nachhaltigkeitsstrategien\",\"PRISC-Score\")","v":"Nachhaltigkeitsstrategien"},{"$nulls":10},{"$f":"O364","v":2024},{"$f":"P364","v":2025},{"$f":"Q364","v":2026},{"$f":"R364","v":2027},{"$f":"S364","v":2028}]
[{"$nulls":3},"Zielabweichung Basisszenario",{"$nulls":10},{"$f":"IF(Anlageziele!$N$42=FALSE,Daten_Umschichtung!O368,Daten_Umschichtung!O331)","v":{"$error":"#DIV/0!"}},{"$f":"IF(Anlageziele!$N$42=FALSE,Daten_Umschichtung!P368,Daten_Umschichtung!P331)","v":{"$error":"#DIV/0!"}},{"$f":"IF(Anlageziele!$N$42=FALSE,Daten_Umschichtung!Q368,Daten_Umschichtung!Q331)","v":{"$error":"#DIV/0!"}},{"$f":"IF(Anlageziele!$N$42=FALSE,Daten_Umschichtung!R368,Daten_Umschichtung!R331)","v":{"$error":"#DIV/0!"}},{"$f":"IF(Anlageziele!$N$42=FALSE,Daten_Umschichtung!S368,Daten_Umschichtung!S331)","v":{"$error":"#DIV/0!"}}]
[{"$nulls":3},"Zielabweichung Umschichtung",{"$nulls":10},{"$f":"IF(Anlageziele!$N$42=FALSE,Daten_Umschichtung!O369,Daten_Umschichtung!O332)","v":{"$error":"#DIV/0!"}},{"$f":"IF(Anlageziele!$N$42=FALSE,Daten_Umschichtung!P369,Daten_Umschichtung!P332)","v":{"$error":"#DIV/0!"}},{"$f":"IF(Anlageziele!$N$42=FALSE,Daten_Umschichtung!Q369,Daten_Umschichtung!Q332)","v":{"$error":"#DIV/0!"}},{"$f":"IF(Anlageziele!$N$42=FALSE,Daten_Umschichtung!R369,Daten_Umschichtung!R332)","v":{"$error":"#DIV/0!"}},{"$f":"IF(Anlageziele!$N$42=FALSE,Daten_Umschichtung!S369,Daten_Umschichtung!S332)","v":{"$error":"#DIV/0!"}}]
{"$rows_empty":11}
[null,null,"TEXTBAUSTEINE UMSCHICHTUNGSBESCHLUSS"]
[]
[null,null,"4. Vereinbarkeit Anlagestrategie"]
[null,null,"Ohne Anlagerichtlinien","Die zu beschließende Umschichtung wurde hinsichtlich der gewählten Anlageklassen und -instrumente auf ihre Vereinbarkeit mit der zugrundeliegenden Anlagestrategie überprüft. Bestehende Restriktionen werden durch die Umschichtung nicht verletzt."]
[null,null,"Mit Anlagerichtlinien","Die zu beschließende Umschichtung steht im Einklang mit der Anlagerichtlinie vom ",{"$f":"Anlagestrategie!H12","v":"00:00:00"}]

{"sheet":"Investment-Check","index":25,"n_rows":58,"n_cols":12,"rows_kept":58,"merged":[[10,6,10,7],[17,6,17,7],[19,10,19,11],[19,12,19,13],[19,14,19,15],[19,16,19,17],[19,18,19,19],[19,20,19,21],[20,1,21,1],[21,6,21,7],[22,6,22,7],[26,6,26,7],[26,11,26,12],[29,11,29,12],[30,11,30,12],[32,11,32,12],[33,6,35,7],[33,11,35,12],[44,6,44,7],[45,6,45,7],[50,6,50,7],[51,6,51,7],[52,6,52,7],[59,10,59,11],[59,12,59,13],[59,14,59,15],[59,16,59,17],[59,18,59,19],[59,20,59,21],[67,10,67,11],[67,12,67,13],[67,14,67,15],[67,16,67,17],[67,18,67,19],[67,20,67,21],[68,5,68,6]]}
{"$rows_empty":8}
[null,"Legende"]
[{"$nulls":4},"I.","Allgemeines"]
[null,"Pflichteingabe",null,null,"1.","Geprüftes Investment"]
[null,"Optionale Eingabe",null,null,"2.","Typ; ggf. WKN/ISIN"]
[null,"Systemeingabe überschreibbar",null,null,"3.","Anlagevolumen EUR"]
[null,"Systemeingabe nicht überschreibbar",null,null,"4.","Investitionsdauer Jahre"]
[null,"Weitere Infos im Hintergrund",null,null,"5.","Eingangsdatum"]
[{"$nulls":4},"6.","Eingangsstelle"]
[{"$nulls":4},"7.","Status","Bitte auswählen"]
[{"$nulls":4},"8.","Verfasser"]
[{"$nulls":4},"9.","Prüfungsdatum"]
[null,"Resilienzklassen:"]
[null,{"$f":"IF(G30=\"Bitte auswählen\",'Daten_Investment-Check'!C19,'Investment-Check'!G30)","v":"Klassifiziert die potenzielle Investition nach ihrer Diversifikation"},null,null,"II.","Referenz Anlagestrategie"]
[{"$nulls":4},"1. ","Anlageklasse/n","Bitte auswählen"]
[null,"Ausfallrisiko:",null,null,"2. ","Anlageinstrument","Bitte auswählen"]
[null,{"$f":"IFERROR(INDEX('Daten_Investment-Check'!$B$22:$G$26,MATCH('Investment-Check'!$G$30,'Daten_Investment-Check'!$B$22:$B$26,0),2),\"\")","v":""},null,null,"3.","Verweis Anlagerichtlinie"]
[null,"Binnendiversifikation:"]
[null,{"$f":"IFERROR(INDEX('Daten_Investment-Check'!$B$22:$G$26,MATCH('Investment-Check'!$G$30,'Daten_Investment-Check'!$B$22:$B$26,0),3),\"\")","v":""},null,null,"III.","Anlageziele"]
[null,"Anzahl Vermögensgegenstände:",null,null,"1. ","Vermögenserhaltung","Bitte auswählen",null,null,"2.","Ertrag","Bitte auswählen"]
[null,{"$f":"IFERROR(INDEX('Daten_Investment-Check'!$B$22:$G$26,MATCH('Investment-Check'!$G$30,'Daten_Investment-Check'!$B$22:$B$26,0),4),\"\")","v":""}]
[null,"Weitere Merkmale:",null,null,"3.","Risiko",{"$nulls":3},"4.","Nachhaltigkeit"]
[null,{"$f":"IFERROR(INDEX('Daten_Investment-Check'!$B$22:$G$26,MATCH('Investment-Check'!$G$30,'Daten_Investment-Check'!$B$22:$B$26,0),5),\"\")","v":""},{"$nulls":3},"a) Resilienz","Bitte auswählen",{"$nulls":3},"a) ESG-Strategie","Bitte auswählen"]
[null,"Beispiele:",{"$nulls":3},"b) Diversifikationsbeitrag","Bitte auswählen",{"$nulls":3},"b) SDG's","Bitte auswählen"]
[null,{"$f":"IFERROR(INDEX('Daten_Investment-Check'!$B$22:$G$26,MATCH('Investment-Check'!$G$30,'Daten_Investment-Check'!$B$22:$B$26,0),6),\"\")","v":""},{"$nulls":3},"c) Blindpool","Bitte auswählen",{"$nulls":3},"c) EU-Taxonomie","Bitte auswählen"]
[{"$nulls":5},"d) Währungsrisiko","Bitte auswählen",{"$nulls":3},"d) ESG-Siegel","Bitte auswählen"]
[{"$nulls":5},"e) Sonstiges",{"$nulls":4},"e) Sonstiges"]
[]
[]
[null,"Weiter zu"]
[{"$nulls":4},"IV.","Kosten"]
[{"$nulls":4},"1.","Einmalkosten in %",{"v":0,"d":"0.0%"},{"$f":"$G$13*G39","v":0}]
[{"$nulls":4},"2.","Laufende Kosten in %",{"v":0,"d":"0.0%"},{"$f":"$G$13*G40","v":0}]
[{"$nulls":4},"3.","Vermittlungs-/Beraterkosten in %",{"v":0,"d":"0.0%"},0]
[{"$nulls":4},"4.","Sonstige Kosten in %",{"v":0,"d":"0.0%"},0]
[]
[{"$nulls":4},"V.","Steuerliche Auswirkungen"]
[{"$nulls":5},"1. Einkunftsart","Bitte auswählen"]
[{"$nulls":5},"2. Vermögenssphäre gem. AO"]
[{"$nulls":5},"3. Grunderwerbsteuer"]
[{"$nulls":5},"4. Umsatzsteuer"]
[]
[{"$nulls":4},"VI.","Info-Material","Bezeichnung","Stand"]
[{"$nulls":4},"1.","Zum Anlagekonzept"]
[{"$nulls":4},"2.","Zu den Konditionen"]
[{"$nulls":4},"3.","Zur Reputation des Anbieters"]
[]
[{"$nulls":4},"VII.","Referenzen","Rolle","Direkter Aust."]
[{"$nulls":4},"1.",null,"Bitte auswählen","Bitte auswählen"]
[{"$nulls":4},"2.",null,"Bitte auswählen","Bitte auswählen"]
[{"$nulls":4},"3.",null,"Bitte auswählen","Bitte auswählen"]

{"sheet":"Angebotsvergleich","index":26,"n_rows":57,"n_cols":22,"rows_kept":57,"merged":[[18,10,18,11],[18,12,18,13],[18,14,18,15],[18,16,18,17],[18,18,18,19],[18,20,18,21],[47,10,47,11],[47,12,47,13],[47,14,47,15],[47,16,47,17],[47,18,47,19],[47,20,47,21],[55,10,55,11],[55,12,55,13],[55,14,55,15],[55,16,55,17],[55,18,55,19],[55,20,55,21],[56,4,56,5]]}
{"$rows_empty":9}
[null,"Legende",null,null,"Zu vergebende Finanzdienstleistung",null,null,"Bitte auswählen"]
[{"$nulls":4},"Vergabevolumen EUR",null,null,{"v":100000,"d":"100,000"}]
[null,"Pflichteingabe",null,null,"Bewertungsmatrix beschlossen am"]
[null,"Optionale Eingabe",null,null,"von (Gremium)",null,null,"Bitte auswählen"]
[null,"Systemeingabe überschreibbar",null,null,"Anzahl der eingeladenen Anbieter:"]
[null,"Systemeingabe nicht überschreibbar",null,null,"Anzahl der abgebenen Angebote:"]
[null,"Weitere Infos im Hintergrund",null,null,"Abgabefrist für Anbieter"]
[{"$nulls":4},"Vergabegespräch (wenn ja: Datum)"]
[null,"Weiter zu",null,null,"ESG-Unbedenklichkeitsprüfung",null,null,"Bitte auswählen"]
[{"$nulls":10},"Anbieter 1",null,"Anbieter 2",null,"Anbieter 3",null,"Anbieter 4",null,"Anbieter 5",null,"Anbieter 6"]
[{"$nulls":9},"Gewichtung","Punkte (1-10)","Ergebnis","Punkte (1-10)","Ergebnis","Punkte (1-10)","Ergebnis","Punkte (1-10)","Ergebnis","Punkte (1-10)","Ergebnis","Punkte (1-10)","Ergebnis"]
[{"$nulls":3},"I.","Unternehmen",{"$nulls":4},{"$f":"SUM(J22:J31)","v":{"v":0.30000000000000004,"d":"30%"}},{"$f":"SUM(K22:K31)","v":0},{"v":0,"d":"0.00"},0,{"v":0,"d":"0.00"},0,{"v":0,"d":"0.00"},0,{"v":0,"d":"0.00"},0,{"v":0,"d":"0.00"},0,{"v":0,"d":"0.00"}]
[{"$nulls":3},"1.","Fach- und Sachkunde der Ansprechpartner/-innen",{"$nulls":4},{"v":0.05,"d":"5%"},null,{"$f":"$J22*K22","v":{"v":0,"d":"0.00"}},null,{"$f":"$J22*M22","v":{"v":0,"d":"0.00"}},null,{"$f":"$J22*O22","v":{"v":0,"d":"0.00"}},null,{"$f":"$J22*Q22","v":{"v":0,"d":"0.00"}},null,{"$f":"$J22*S22","v":{"v":0,"d":"0.00"}},null,{"$f":"$J22*U22","v":{"v":0,"d":"0.00"}}]
[{"$nulls":3},"2.","Auftreten, professionelle Präsentation, Flexibilität, Zuverlässigkeit",{"$nulls":4},{"v":0.03,"d":"3%"},null,{"$f":"$J23*K23","v":{"v":0,"d":"0.00"}},null,{"$f":"$J23*M23","v":{"v":0,"d":"0.00"}},null,{"v":0,"d":"0.00"},null,{"v":0,"d":"0.00"},null,{"v":0,"d":"0.00"},null,{"v":0,"d":"0.00"}]
[{"$nulls":3},"3.","Referenzen/ Bewertungen/ Erfahrungen",{"$nulls":4},{"v":0.03,"d":"3%"},null,{"$f":"$J24*K24","v":{"v":0,"d":"0.00"}},null,{"v":0,"d":"0.00"},null,{"v":0,"d":"0.00"},null,{"v":0,"d":"0.00"},null,{"v":0,"d":"0.00"},null,{"v":0,"d":"0.00"}]
[{"$nulls":3},"4.","Bonität/Einlagensicherung",{"$nulls":4},{"v":0.05,"d":"5%"},null,{"v":0,"d":"0.00"},null,{"v":0,"d":"0.00"},null,{"v":0,"d":"0.00"},null,{"v":0,"d":"0.00"},null,{"v":0,"d":"0.00"},null,{"v":0,"d":"0.00"}]
[{"$nulls":3},"5.","Standort / eigene Infrastruktur",{"$nulls":4},{"v":0.04,"d":"4%"},null,{"v":0,"d":"0.00"},null,{"v":0,"d":"0.00"},null,{"v":0,"d":"0.00"},null,{"v":0,"d":"0.00"},null,{"v":0,"d":"0.00"},null,{"v":0,"d":"0.00"}]
[{"$nulls":3},"6.","Eigene Expertise/Glaubwürdigkeit im Bereich Nachhaltigkeit, Diversität",{"$nulls":4},{"v":0.04,"d":"4%"},null,{"v":0,"d":"0.00"},null,{"v":0,"d":"0.00"},null,{"v":0,"d":"0.00"},null,{"v":0,"d":"0.00"},null,{"v":0,"d":"0.00"},null,{"v":0,"d":"0.00"}]
[{"$nulls":3},"7.","Angebotsabgabe (Pünktlichkeit, Vollständigkeit)",{"$nulls":4},{"v":0.04,"d":"4%"},null,{"v":0,"d":"0.00"},null,{"v":0,"d":"0.00"},null,{"v":0,"d":"0.00"},null,{"v":0,"d":"0.00"},null,{"v":0,"d":"0.00"},null,{"v":0,"d":"0.00"}]
[{"$nulls":3},"8.","Eigentümerstruktur",{"$nulls":4},{"v":0.01,"d":"1%"},null,{"v":0,"d":"0.00"},null,{"v":0,"d":"0.00"},null,{"v":0,"d":"0.00"},null,{"v":0,"d":"0.00"},null,{"v":0,"d":"0.00"},null,{"v":0,"d":"0.00"}]
[{"$nulls":3},"9.","Freiheit von Interessenkollisionen",{"$nulls":4},{"v":0.01,"d":"1%"},null,{"v":0,"d":"0.00"},null,{"v":0,"d":"0.00"},null,{"v":0,"d":"0.00"},null,{"v":0,"d":"0.00"},null,{"v":0,"d":"0.00"},null,{"v":0,"d":"0.00"}]
[{"$nulls":3},"10.","Sonstiges",{"$nulls":4},{"v":0,"d":"0%"},null,{"v":0,"d":"0.00"},null,{"v":0,"d":"0.00"},null,{"v":0,"d":"0.00"},null,{"v":0,"d":"0.00"},null,{"v":0,"d":"0.00"},null,{"v":0,"d":"0.00"}]
[]
[{"$nulls":3},"II.","Anlagevorschlag",{"$nulls":4},{"$f":"SUM(J34:J43)","v":{"v":0.30000000000000004,"d":"30%"}},0,{"v":0,"d":"0.00"},0,{"v":0,"d":"0.00"},0,{"v":0,"d":"0.00"},0,{"v":0,"d":"0.00"},0,{"v":0,"d":"0.00"},0,{"v":0,"d":"0.00"}]
[{"$nulls":3},"1.","Ausrichtung an Anlagezielen",{"$nulls":4},{"v":0.05,"d":"5%"},null,{"$f":"$J34*K34","v":{"v":0,"d":"0.00"}},null,{"$f":"$J34*M34","v":{"v":0,"d":"0.00"}},null,{"$f":"$J34*O34","v":{"v":0,"d":"0.00"}},null,{"$f":"$J34*Q34","v":{"v":0,"d":"0.00"}},null,{"$f":"$J34*S34","v":{"v":0,"d":"0.00"}},null,{"$f":"$J34*U34","v":{"v":0,"d":"0.00"}}]
[{"$nulls":3},"2.","Transparenz/Verständlichkeit ",{"$nulls":4},{"v":0.03,"d":"3%"},null,{"$f":"$J35*K35","v":{"v":0,"d":"0.00"}},null,{"v":0,"d":"0.00"},null,{"v":0,"d":"0.00"},null,{"v":0,"d":"0.00"},null,{"v":0,"d":"0.00"},null,{"v":0,"d":"0.00"}]
[{"$nulls":3},"3.","Vermögenserhaltung",{"$nulls":4},{"v":0.04,"d":"4%"},null,{"v":0,"d":"0.00"},null,{"v":0,"d":"0.00"},null,{"v":0,"d":"0.00"},null,{"v":0,"d":"0.00"},null,{"v":0,"d":"0.00"},null,{"v":0,"d":"0.00"}]
[{"$nulls":3},"4.","Erträge",{"$nulls":4},{"v":0.03,"d":"3%"},null,{"v":0,"d":"0.00"},null,{"v":0,"d":"0.00"},null,{"v":0,"d":"0.00"},null,{"v":0,"d":"0.00"},null,{"v":0,"d":"0.00"},null,{"v":0,"d":"0.00"}]
[{"$nulls":3},"5.","Diversifizierung (Risiko)",{"$nulls":4},{"v":0.04,"d":"4%"},null,{"v":0,"d":"0.00"},null,{"v":0,"d":"0.00"},null,{"v":0,"d":"0.00"},null,{"v":0,"d":"0.00"},null,{"v":0,"d":"0.00"},null,{"v":0,"d":"0.00"}]
[{"$nulls":3},"6.","Nachhaltigkeit",{"$nulls":4},{"v":0.04,"d":"4%"},null,{"v":0,"d":"0.00"},null,{"v":0,"d":"0.00"},null,{"v":0,"d":"0.00"},null,{"v":0,"d":"0.00"},null,{"v":0,"d":"0.00"},null,{"v":0,"d":"0.00"}]
[{"$nulls":3},"7.","Reporting und Berichtswesen",{"$nulls":4},{"v":0.03,"d":"3%"},null,{"v":0,"d":"0.00"},null,{"v":0,"d":"0.00"},null,{"v":0,"d":"0.00"},null,{"v":0,"d":"0.00"},null,{"v":0,"d":"0.00"},null,{"v":0,"d":"0.00"}]
[{"$nulls":3},"8.","Kapitalbindung, Flexibilität, Liquidierbarkeit",{"$nulls":4},{"v":0.02,"d":"2%"},null,{"v":0,"d":"0.00"},null,{"v":0,"d":"0.00"},null,{"v":0,"d":"0.00"},null,{"v":0,"d":"0.00"},null,{"v":0,"d":"0.00"},null,{"v":0,"d":"0.00"}]
[{"$nulls":3},"9.","Aufwand in der Verwaltung (Buchhaltung, Steuer etc.)",{"$nulls":4},{"v":0.02,"d":"2%"},null,{"v":0,"d":"0.00"},null,{"v":0,"d":"0.00"},null,{"v":0,"d":"0.00"},null,{"v":0,"d":"0.00"},null,{"v":0,"d":"0.00"},null,{"v":0,"d":"0.00"}]
[{"$nulls":3},"10.","Sonstiges",{"$nulls":4},{"v":0,"d":"0%"},null,{"v":0,"d":"0.00"},null,{"v":0,"d":"0.00"},null,{"v":0,"d":"0.00"},null,{"v":0,"d":"0.00"},null,{"v":0,"d":"0.00"},null,{"v":0,"d":"0.00"}]
[]
[{"$nulls":3},"III.","Kosten",{"$nulls":4},"Durchschn. EUR","%","EUR","%","EUR","%","EUR","%","EUR","%","EUR","%","EUR"]
[{"$nulls":4},"Einmalkosten in Prozent",{"$nulls":4},{"$f":"IF($H$15=0,\"\",(L46+N46+P46+R46+T46+V46)/$H$15)","v":""},null,{"$f":"$H$11*K46","v":0},null,{"$f":"$H$11*M46","v":0},null,{"$f":"$H$11*O46","v":0},null,{"$f":"$H$11*Q46","v":0},null,{"$f":"$H$11*S46","v":0},null,{"$f":"$H$11*U46","v":0}]
[{"$nulls":4},"Laufende Kosten in Prozent p.a.",{"$nulls":4},{"$f":"IF($H$15=0,\"\",(L47+N47+P47+R47+T47+V47)/$H$15)","v":""},null,{"$f":"$H$11*K47","v":0},null,{"$f":"$H$11*M47","v":0},null,{"$f":"$H$11*O47","v":0},null,{"$f":"$H$11*Q47","v":0},null,{"$f":"$H$11*S47","v":0},null,{"$f":"$H$11*U47","v":0}]
[{"$nulls":4},"Gesamtkosten EUR über",null,5,"Jahre",null,{"$f":"IF($H$15=0,\"\",(L48+N48+P48+R48+T48+V48)/$H$15)","v":""},{"$f":"L46+L47*$G$48","v":0},null,{"$f":"N46+N47*$G$48","v":0},null,{"$f":"P46+P47*$G$48","v":0},null,{"$f":"R46+R47*$G$48","v":0},null,{"$f":"T46+T47*$G$48","v":0},null,{"$f":"V46+V47*$G$48","v":0}]
[{"$nulls":4},"Bewertung Kosten",{"$nulls":4},{"$f":"SUM(J50:J54)","v":{"v":0.4,"d":"40%"}},0,{"v":0,"d":"0.00"},0,{"v":0,"d":"0.00"},0,{"v":0,"d":"0.00"},0,{"v":0,"d":"0.00"},0,{"v":0,"d":"0.00"},0,{"v":0,"d":"0.00"}]
[{"$nulls":3},"1.","Einmalkosten in Investitionsphase",{"$nulls":4},{"v":0.1,"d":"10%"},null,{"$f":"$J50*K50","v":{"v":0,"d":"0.00"}},null,{"$f":"$J50*M50","v":{"v":0,"d":"0.00"}},null,{"$f":"$J50*O50","v":{"v":0,"d":"0.00"}},null,{"$f":"$J50*Q50","v":{"v":0,"d":"0.00"}},null,{"$f":"$J50*S50","v":{"v":0,"d":"0.00"}},null,{"$f":"$J50*U50","v":{"v":0,"d":"0.00"}}]
[{"$nulls":3},"2.","Laufende Kosten p.a.",{"$nulls":4},{"v":0.2,"d":"20%"},null,{"$f":"$J51*K51","v":{"v":0,"d":"0.00"}},null,{"v":0,"d":"0.00"},null,{"$f":"$J51*O51","v":{"v":0,"d":"0.00"}},null,{"$f":"$J51*Q51","v":{"v":0,"d":"0.00"}},null,{"$f":"$J51*S51","v":{"v":0,"d":"0.00"}},null,{"$f":"$J51*U51","v":{"v":0,"d":"0.00"}}]
[{"$nulls":3},"3.","Latente Kosten bei Kündigung",{"$nulls":4},{"v":0.05,"d":"5%"},null,{"v":0,"d":"0.00"},null,{"v":0,"d":"0.00"},null,{"$f":"$J52*O52","v":{"v":0,"d":"0.00"}},null,{"$f":"$J52*Q52","v":{"v":0,"d":"0.00"}},null,{"$f":"$J52*S52","v":{"v":0,"d":"0.00"}},null,{"$f":"$J52*U52","v":{"v":0,"d":"0.00"}}]
[{"$nulls":3},"4.","Planungssicherheit/Kostentransparenz",{"$nulls":4},{"v":0.05,"d":"5%"},null,{"v":0,"d":"0.00"},null,{"v":0,"d":"0.00"},null,{"$f":"$J53*O53","v":{"v":0,"d":"0.00"}},null,{"$f":"$J53*Q53","v":{"v":0,"d":"0.00"}},null,{"$f":"$J53*S53","v":{"v":0,"d":"0.00"}},null,{"$f":"$J53*U53","v":{"v":0,"d":"0.00"}}]
[{"$nulls":3},"5.","Sonstiges",{"$nulls":4},{"v":0,"d":"0%"},null,{"v":0,"d":"0.00"},null,{"v":0,"d":"0.00"},null,{"$f":"$J54*O54","v":{"v":0,"d":"0.00"}},null,{"$f":"$J54*Q54","v":{"v":0,"d":"0.00"}},null,{"$f":"$J54*S54","v":{"v":0,"d":"0.00"}},null,{"$f":"$J54*U54","v":{"v":0,"d":"0.00"}}]
[{"$nulls":4},"Noch zu vergeben:",{"$nulls":4},{"$f":"100%-(J49+J33+J21)","v":{"v":0,"d":"0.0%"}}]
[{"$nulls":10},{"$f":"K19","v":"Anbieter 1"},null,{"$f":"M19","v":"Anbieter 2"},null,{"$f":"O19","v":"Anbieter 3"},null,{"$f":"Q19","v":"Anbieter 4"},null,{"$f":"S19","v":"Anbieter 5"},null,{"$f":"U19","v":"Anbieter 6"}]
[{"$nulls":4},"Gesamtpunktzahl",{"$nulls":4},{"$f":"J21+J33+J49","v":{"v":1,"d":"100.0%"}},null,{"$f":"L21+L33+L49","v":{"v":0,"d":"0.00"}},null,{"$f":"N21+N33+N49","v":{"v":0,"d":"0.00"}},null,{"$f":"P21+P33+P49","v":{"v":0,"d":"0.00"}},null,{"$f":"R21+R33+R49","v":{"v":0,"d":"0.00"}},null,{"$f":"T21+T33+T49","v":{"v":0,"d":"0.00"}},null,{"$f":"V21+V33+V49","v":{"v":0,"d":"0.00"}}]

{"sheet":"Vergabeentscheidung","index":27,"n_rows":56,"n_cols":7,"rows_kept":56,"merged":[[2,7,2,8],[7,1,7,9],[8,1,8,9],[10,1,10,9],[14,1,14,9],[24,1,24,9],[25,1,25,9],[33,1,33,9],[37,1,37,9],[50,1,50,9],[55,1,55,9]]}
["Vergabeentscheidung",null,null,{"$f":"Einstellungen!G11","v":"00:00:00"}]
[]
["Vergabegegenstand:",null,{"$f":"Angebotsvergleich!H10","v":"Bitte auswählen"}]
["Vergabevolumen EUR:",null,{"$f":"Angebotsvergleich!H11","v":{"v":100000,"d":"100,000"}}]
[]
["1. ","Einleitung"]
[]
[null,{"$f":"'Daten Anlageangebote'!C15","v":"Im Rahmen einer Vermögensumschichtung hatte die Stiftung die vorstehend genannten Finanzdienstleistungen zu vergeben."}]
[null,{"$f":"'Daten Anlageangebote'!C18","v":"Um ihren hohen Anforderungen an eine faire und transparente Anbieterauswahl gerecht zu werden, erfolgte diese im Wege eines geregelten Vergabeverfahrens mit einer gewichteten Kriterienmatrix."}]
[]
[null,{"$f":"'Daten Anlageangebote'!C19","v":"Hierzu wurden mehrere Anbieter schriftlich unter Vorlage der Anlagerichtlinien zur Abgabe eines Angebotes bis zur nachfolgend genannten Frist eingeladen."}]
[null,{"$f":"'Daten Anlageangebote'!C20","v":"Anzahl der eingeladene Anbieter:"},null,null,{"$f":"'Daten Anlageangebote'!D20","v":0}]
[null,{"$f":"'Daten Anlageangebote'!C21","v":"Letzter Abgabezeitpunkt (Eingang):"},null,null,{"$f":"'Daten Anlageangebote'!D21","v":"00:00:00"}]
[]
[null,{"$f":"'Daten Anlageangebote'!C23","v":"Folgende Adressen gaben fristgerecht ein Angebot ab."}]
[null,{"$f":"IF(Angebotsvergleich!K19=\"Anbieter 1\",\"\",Angebotsvergleich!K19)","v":""}]
[null,{"$f":"IF(Angebotsvergleich!M19=\"Anbieter 2\",\"\",Angebotsvergleich!M19)","v":""}]
[null,{"$f":"IF(Angebotsvergleich!O19=\"Anbieter 3\",\"\",Angebotsvergleich!O19)","v":""}]
[null,{"$f":"IF(Angebotsvergleich!Q19=\"Anbieter 4\",\"\",Angebotsvergleich!Q19)","v":""}]
[null,{"$f":"IF(Angebotsvergleich!S19=\"Anbieter 5\",\"\",Angebotsvergleich!S19)","v":""}]
[]
[]
["2.","Methodik und Gewichtung"]
[]
[null,{"$f":"'Daten Anlageangebote'!C24","v":"Im Vorfeld der Vergabeentscheidung wurden in den Kriterienblöcken \"Unternehmen\", \"Anlageangebot\" und \"Kosten\" Beurteilungskriterien definiert und entsprechend dem aktuellen Anlagebedarf der Stiftung nach Prozenten gewichtet. In jedem einzelnen Kriterium kann jeder Anbieter bis zu 10 Punkte erhalten. Eine Bewertung von 5 Punkten stellt dabei als Orientierung den Durchschnitt aller Anbieter dar. Die maximal erreichbare Gesamtpunktzahl beträgt auf Grund der Gewichtung der Einzelkriterien ebenfalls 10."}]
[null,{"$f":"'Daten Anlageangebote'!C25","v":"Die drei Kriterienblöcke sind untereinander wie folgt gewichtet."}]
[null,{"$f":"'Daten Anlageangebote'!C26","v":"I. Unternehmen"},{"$f":"'Daten Anlageangebote'!D26","v":{"v":0.30000000000000004,"d":"30%"}}]
[null,{"$f":"'Daten Anlageangebote'!C27","v":"II. Angebot"},{"$f":"'Daten Anlageangebote'!D27","v":{"v":0.30000000000000004,"d":"30%"}}]
[null,{"$f":"'Daten Anlageangebote'!C28","v":"III. Kosten"},{"$f":"'Daten Anlageangebote'!D28","v":{"v":0.4,"d":"40%"}}]
[]
[]
["3. ","Ergebnis"]
[]
[null,{"$f":"'Daten Anlageangebote'!C29","v":"Folgender Anbieter hat mit der angegebenen Punktzahl am besten abgeschnitten und daher den Zuschlag erhalten."}]
[null,{"$f":"'Daten Anlageangebote'!D30","v":"Anbieter 1"}]
[null,{"$f":"'Daten Anlageangebote'!C31","v":"Gesamtpunktzahl"},{"$f":"'Daten Anlageangebote'!D31","v":{"v":0,"d":"0.00"}}]
[]
[null,{"$f":"'Daten Anlageangebote'!C32","v":"Folgende Anbieter konnten sich in den einzelnen Kriterienblöcken an der Spitze platzieren."}]
[null,{"$f":"'Daten Anlageangebote'!C33","v":"I. Unternehmen"},{"$f":"'Daten Anlageangebote'!D34","v":"Anbieter 1"},null,null,{"$f":"'Daten Anlageangebote'!C35","v":"Punktzahl:"},{"$f":"'Daten Anlageangebote'!D35","v":{"v":0,"d":"0.00"}}]
[null,{"$f":"'Daten Anlageangebote'!C36","v":"II. Angebot"},{"$f":"'Daten Anlageangebote'!D37","v":"Anbieter 1"},null,null,{"$f":"'Daten Anlageangebote'!C38","v":"Punktzahl:"},{"$f":"'Daten Anlageangebote'!D38","v":{"v":0,"d":"0.00"}}]
[null,{"$f":"'Daten Anlageangebote'!C39","v":"III. Kosten"},{"$f":"'Daten Anlageangebote'!D40","v":"Anbieter 1"},null,null,{"$f":"'Daten Anlageangebote'!C41","v":"Punktzahl:"},{"$f":"'Daten Anlageangebote'!D41","v":{"v":0,"d":"0.00"}}]
{"$rows_empty":7}
["4.","ESG Unbedenklichkeit"]
[]
[null,{"$f":"IF(Angebotsvergleich!H18=\"Ja\",'Daten Anlageangebote'!C43,'Daten Anlageangebote'!C42)","v":"Eine Prüfung der Anbieter unter ökologischen und sozialen Kriterien sowie nach Aspekten der guten Unternehmensführung fand nicht statt."}]
[]
[]
["5.","Compliance"]
[]
[null,{"$f":"'Daten Anlageangebote'!C44","v":"Es handelt sich nicht um eine regulierte Vergabe im Sinne eines öffentlichen Auftrags. Die an der Vergabeentscheidung beteiligten Personen bestätigen, dass sie zu keinem der Anbieter in einem verwandtschaftlichen Verhältnis stehen oder engere persönliche Beziehungen unterhalten und ihre Entscheidung frei von jeglichen Eigeninteressen getroffen haben."}]

{"sheet":"Umschichtungsbeschluss","index":28,"n_rows":63,"n_cols":7,"rows_kept":63,"merged":[[4,1,4,7],[15,1,15,4],[17,1,17,6],[27,1,27,5],[51,1,51,6]]}
[{"$f":"Einstellungen!G11","v":0}]
[]
[{"$f":"IF(Einstellungen!P16=\"Vorstand\",\"Vorstandsbeschluss vom\",IF(Einstellungen!P16=\"Geschäftsführung\",\"Beschluss der Geschäftsführung vom\",\"Beschluss des Geschäftsführungsgremiums vom\"))","v":"Beschluss des Geschäftsführungsgremiums vom"},null,null,{"$f":"Umschichtung!H25","v":"00:00:00"},{"$f":"IF(Umschichtung!H26=\"im Umlaufverfahren\",\"(Auslauf)\",\"\")","v":""}]
[]
["1. ",{"$f":"IF(Umschichtung!H26=\"im Umlaufverfahren\",\"Mit der Beschlussfassung im Umlaufverfahren besteht Einverständnis.\",\"In seiner Sitzung vom oben genannten Datum hat das Geschäftsführungsorgan folgenden Beschluss gefasst.\")","v":"In seiner Sitzung vom oben genannten Datum hat das Geschäftsführungsorgan folgenden Beschluss gefasst."}]
[]
["2. ",{"$f":"IF(Einstellungen!P16=\"Vorstand\",\"Der Vorstand\",IF(Einstellungen!P16=\"Geschäftsführung\",\"Die Geschäftsführung\",\"Das Geschäftsführungsorgan\"))","v":"Das Geschäftsführungsorgan"},"beschließt folgende Umschichtungen."]
[]
[null,"Neuinvestition",null,null,"Abzubauende Position",null,"Wert EUR"]
[null,{"$f":"Umschichtung!G13","v":0},null,null,{"$f":"IF(Umschichtung!G13=\"\",\"\",Umschichtung!I13)","v":""},null,{"$f":"IF(Umschichtung!G13=\"\",\"\",Umschichtung!K13)","v":""}]
[null,{"$f":"IF(Umschichtung!G14=\"\",\"\",Umschichtung!G14)","v":""},null,null,{"$f":"IF(Umschichtung!G14=\"\",\"\",Umschichtung!I14)","v":""},null,{"$f":"IF(Umschichtung!G14=\"\",\"\",Umschichtung!K14)","v":""}]
[null,{"$f":"IF(Umschichtung!G15=\"\",\"\",Umschichtung!G15)","v":""},null,null,{"$f":"IF(Umschichtung!G15=\"\",\"\",Umschichtung!I15)","v":""},null,{"$f":"IF(Umschichtung!G15=\"\",\"\",Umschichtung!K15)","v":""}]
[null,{"$f":"IF(Umschichtung!G16=\"\",\"\",Umschichtung!G16)","v":""},null,null,{"$f":"IF(Umschichtung!G16=\"\",\"\",Umschichtung!I16)","v":""},null,{"$f":"IF(Umschichtung!G16=\"\",\"\",Umschichtung!K16)","v":""}]
[null,{"$f":"IF(Umschichtung!G17=\"\",\"\",Umschichtung!G17)","v":""},null,null,{"$f":"IF(Umschichtung!G17=\"\",\"\",Umschichtung!I17)","v":""},null,{"$f":"IF(Umschichtung!G17=\"\",\"\",Umschichtung!K17)","v":""}]
[null,{"$f":"IF(Umschichtung!G18=\"\",\"\",Umschichtung!G18)","v":""},null,null,{"$f":"IF(Umschichtung!G18=\"\",\"\",Umschichtung!I18)","v":""},null,{"$f":"IF(Umschichtung!G18=\"\",\"\",Umschichtung!K18)","v":""}]
[null,"Summe",{"$nulls":4},{"$f":"SUM(G10:G15)","v":0}]
[]
["3.","Nach heutigem Kenntnisstand erwartet das Gremium in der Projektion folgende Auswirkungen der Umschichtungsentscheidung auf die Erreichung der Anlageziele."]
[]
[null,"Zielerreichung","Gewichtung","vor Umschg.","nach Umschg.","Differenz","gew. Diff."]
[null,"Vermögenserhaltung:",{"$f":"Anlageziele!H12","v":{"v":0.25,"d":"25.0%"}},{"$f":"SUMIF(Daten_Umschichtung!N76:S76,Umschichtung!H24,Daten_Umschichtung!N80:S80)","v":{"v":0,"d":"0.0%"}},{"$f":"SUMIF(Daten_Umschichtung!N76:S76,Umschichtung!H24,Daten_Umschichtung!N81:S81)","v":{"v":0,"d":"0.0%"}},{"$f":"E21-D21","v":{"v":0,"d":"0.0%"}},{"$f":"F21/25%*C21","v":{"v":0,"d":"0.0%"}}]
[null,"Erträge:",{"$f":"Anlageziele!O12","v":{"v":0.25,"d":"25.0%"}},{"$f":"SUMIF(Daten_Umschichtung!N156:S156,Umschichtung!H24,Daten_Umschichtung!N160:S160)","v":{"v":0,"d":"0.0%"}},{"$f":"SUMIF(Daten_Umschichtung!N156:S156,Umschichtung!H24,Daten_Umschichtung!N161:S161)","v":{"v":0,"d":"0.0%"}},{"$f":"E22-D22","v":{"v":0,"d":"0.0%"}},{"$f":"F22/25%*C22","v":{"v":0,"d":"0.0%"}}]
[null,"Risiko:",{"$f":"Anlageziele!H27","v":{"v":0.25,"d":"25.0%"}},{"$f":"SUMIF(Daten_Umschichtung!O236:S236,Umschichtung!H24,Daten_Umschichtung!O240:S240)","v":{"v":0,"d":"0.0%"}},{"$f":"SUMIF(Daten_Umschichtung!O236:S236,Umschichtung!H24,Daten_Umschichtung!O241:S241)","v":{"v":0,"d":"0.0%"}},{"$f":"E23-D23","v":{"v":0,"d":"0.0%"}},{"$f":"F23/25%*C23","v":{"v":0,"d":"0.0%"}}]
[null,{"$f":"IF(Anlageziele!N42=FALSE,\"Nachhaltigkeit:\",\"Nachhaltigkeit (PRISC)\")","v":"Nachhaltigkeit:"},{"$f":"Anlageziele!O27","v":{"v":0.25,"d":"25.0%"}},{"$f":"SUMIF(Daten_Umschichtung!O364:S364,Umschichtung!H24,Daten_Umschichtung!O368:S368)","v":{"v":0,"d":"0.0%"}},{"$f":"SUMIF(Daten_Umschichtung!O364:S364,Umschichtung!H24,Daten_Umschichtung!O369:S369)","v":{"v":0,"d":"0.0%"}},{"$f":"E24-D24","v":{"v":0,"d":"0.0%"}},{"$f":"F24/25%*C24","v":{"v":0,"d":"0.0%"}}]
[null,"Gesamt:",{"$f":"SUM(C21:C24)","v":{"v":1,"d":"100.0%"}},{"$f":"SUM(D21:D24)","v":{"v":0,"d":"0.0%"}},{"$f":"SUM(E21:E24)","v":{"v":0,"d":"0.0%"}},{"$f":"SUM(F21:F24)","v":{"v":0,"d":"0.0%"}}]
[null,"Gesamt gewichtet:",{"$f":"SUM(C21:C24)","v":{"v":1,"d":"100.0%"}},{"$f":"D21/25%*C21+D22/25%*C22+D23/25%*C23+D24/25%*C24","v":{"v":0,"d":"0.0%"}},{"$f":"E21/25%*C21+E22/25%*C22+E23/25%*C23+E24/25%*C24","v":{"v":0,"d":"0.0%"}},null,{"$f":"SUM(G21:G24)","v":{"v":0,"d":"0.0%"}}]
[]
["4.",{"$f":"IF(Anlagestrategie!H11=\"Ja\",Daten_Umschichtung!D389,Daten_Umschichtung!D388)","v":"Die zu beschließende Umschichtung wurde hinsichtlich der gewählten Anlageklassen und -instrumente auf ihre Vereinbarkeit mit der zugrundeliegenden Anlagestrategie überprüft. Bestehende Restriktionen werden durch die Umschichtung nicht verletzt."},{"$nulls":4},{"$f":"IF(Anlagestrategie!H11=\"Ja\",Anlagestrategie!H12,\"\")","v":""}]
{"$rows_empty":7}
["5.","Diese Einschätzung stützt sich auf folgende Informationen/Unterlagen."]
[]
[null,{"$f":"IF(Umschichtung!H29=\"Bitte auswählen\",\"\",Umschichtung!H29)","v":""},{"$f":"IF(Umschichtung!I29=\"\",\"\",Umschichtung!I29)","v":""},null,null,{"$f":"IF(Umschichtung!J29=\"\",\"\",\"vom\")","v":""},{"$f":"IF(Umschichtung!J29=\"\",\"\",Umschichtung!J29)","v":""}]
[null,{"$f":"IF(Umschichtung!H30=\"Bitte auswählen\",\"\",Umschichtung!H30)","v":""},{"$f":"IF(Umschichtung!I30=\"\",\"\",Umschichtung!I30)","v":""},null,null,{"$f":"IF(Umschichtung!J30=\"\",\"\",\"vom\")","v":""}]
[null,{"$f":"IF(Umschichtung!H31=\"Bitte auswählen\",\"\",Umschichtung!H31)","v":""},{"$f":"IF(Umschichtung!I31=\"\",\"\",Umschichtung!I31)","v":""},null,null,{"$f":"IF(Umschichtung!J31=\"\",\"\",\"vom\")","v":""}]
[null,{"$f":"IF(Umschichtung!H32=\"Bitte auswählen\",\"\",Umschichtung!H32)","v":""},{"$f":"IF(Umschichtung!I32=\"\",\"\",Umschichtung!I32)","v":""},null,null,{"$f":"IF(Umschichtung!J32=\"\",\"\",\"vom\")","v":""}]
[null,{"$f":"IF(Umschichtung!H33=\"Bitte auswählen\",\"\",Umschichtung!H33)","v":""},{"$f":"IF(Umschichtung!I33=\"\",\"\",Umschichtung!I33)","v":""},null,null,{"$f":"IF(Umschichtung!J33=\"\",\"\",\"vom\")","v":""}]
[null,{"$f":"IF(Umschichtung!H34=\"Bitte auswählen\",\"\",Umschichtung!H34)","v":""},{"$f":"IF(Umschichtung!I34=\"\",\"\",Umschichtung!I34)","v":""},null,null,{"$f":"IF(Umschichtung!J34=\"\",\"\",\"vom\")","v":""}]
[null,{"$f":"IF(Umschichtung!H35=\"Bitte auswählen\",\"\",Umschichtung!H35)","v":""},{"$f":"IF(Umschichtung!I35=\"\",\"\",Umschichtung!I35)","v":""},null,null,{"$f":"IF(Umschichtung!J35=\"\",\"\",\"vom\")","v":""}]
[null,{"$f":"IF(Umschichtung!H36=\"Bitte auswählen\",\"\",Umschichtung!H36)","v":""},{"$f":"IF(Umschichtung!I36=\"\",\"\",Umschichtung!I36)","v":""},null,null,{"$f":"IF(Umschichtung!J36=\"\",\"\",\"vom\")","v":""}]
[]
[]
[]
[]
[]
[]
["6.","Keine der am Entscheidungsprozess beteiligten Personen und keine diesen nahe stehenden Person profitiert persönlich unmittelbaren oder mittelbaren von der Umsetzung dieser Entscheidung."]
[]
[null,"_______________________________________",null,null,"_______________________________________"]
[null,{"$f":"IF(Einstellungen!Q19=\"\",\"\",Einstellungen!Q19)","v":""},null,null,{"$f":"IF(Einstellungen!Q21=\"\",\"\",Einstellungen!Q21)","v":""}]
[]
[null,{"$f":"IF(Einstellungen!Q23=\"\",\"\",\"_______________________________________\")","v":""},null,null,{"$f":"IF(Einstellungen!Q21=\"\",\"\",\"_______________________________________\")","v":""}]
[null,{"$f":"IF(Einstellungen!Q23=\"\",\"\",Einstellungen!Q23)","v":""},null,null,{"$f":"IF(Einstellungen!Q25=\"\",\"\",Einstellungen!Q25)","v":""}]
[null,{"$f":"IF(Umschichtung!$H$26=\"im Umlaufverfahren\",IF(Einstellungen!Q23=\"\",\"\",\"Ort, Datum\"),\"\")","v":""}]
[null,{"$f":"IF(Umschichtung!$H$26=\"im Umlaufverfahren\",IF(Einstellungen!Q25=\"\",\"\",\"________________________________________\"),\"\")","v":""}]
[null,{"$f":"IF(Umschichtung!$H$26=\"im Umlaufverfahren\",IF(Einstellungen!Q25=\"\",\"\",\"Ort, Datum\"),\"\")","v":""}]
[null,{"$f":"IF(Umschichtung!$H$26=\"im Umlaufverfahren\",IF(Einstellungen!Q27=\"\",\"\",\"________________________________________\"),\"\")","v":""},null,null,{"$f":"IF(Einstellungen!Q27=\"\",\"\",\"_______________________________________\")","v":""}]
[null,{"$f":"IF(Umschichtung!$H$26=\"im Umlaufverfahren\",IF(Einstellungen!Q27=\"\",\"\",\"Ort, Datum\"),\"\")","v":""},null,null,{"$f":"IF(Einstellungen!Q27=\"\",\"\",Einstellungen!Q27)","v":""}]

{"sheet":"Daten_Vermögensbericht","index":29,"n_rows":77,"n_cols":15,"rows_kept":77,"hidden":true}
["Daten Vermögensbericht"]
[]
[null,"AUSWAHLFELDER",{"$nulls":4},"ATTRIBUTION"]
[{"$nulls":9},"Wert EUR",null,"Ertrag EUR",null,"Risiko EUR"]
[null,"Berichtsart",{"$nulls":4},"Vermögenswert","Volumen","Anteil","Veränderung p.a.","Attribution","Ertrag p.a.","Attribution","Risiko p.a.","Attribution"]
[null,"Bitte auswählen",{"$nulls":4},{"$f":"Vermögen!F11","v":0},{"$f":"Vermögen!S11","v":0},{"$f":"H6/$H$15","v":{"$error":"#REF!"}},{"$f":"Daten_Vermögensbericht!H6*Vermögen!V11","v":0},{"$f":"J6/$J$15","v":{"$error":"#REF!"}},{"$f":"Vermögen!W11*Vermögen!#REF!","v":{"$error":"#REF!"}},{"$f":"L6/$L$15","v":{"$error":"#REF!"}},{"$f":"H6*Vermögen!AC11","v":0},{"$f":"N6/$N$15","v":{"$error":"#REF!"}}]
[null,"Ad hoc-Bericht",{"$nulls":4},{"$f":"Vermögen!F12","v":0},{"$f":"Vermögen!S12","v":0},{"$error":"#REF!"},{"$f":"Daten_Vermögensbericht!H7*Vermögen!V12","v":0},{"$error":"#REF!"},{"$f":"Vermögen!W12*Vermögen!#REF!","v":{"$error":"#REF!"}},{"$error":"#REF!"},{"$f":"H7*Vermögen!AC12","v":0},{"$error":"#REF!"}]
[null,"Monatsbericht",{"$nulls":4},{"$f":"Vermögen!F13","v":0},{"$f":"Vermögen!S13","v":0},{"$error":"#REF!"},{"$f":"Daten_Vermögensbericht!H8*Vermögen!V13","v":0},{"$error":"#REF!"},{"$f":"Vermögen!W13*Vermögen!#REF!","v":{"$error":"#REF!"}},{"$error":"#REF!"},{"$f":"H8*Vermögen!AC13","v":0},{"$error":"#REF!"}]
[null,"Quartalsbericht",{"$nulls":4},{"$f":"Vermögen!F14","v":0},{"$f":"Vermögen!S14","v":0},{"$error":"#REF!"},{"$f":"Daten_Vermögensbericht!H9*Vermögen!V14","v":0},{"$error":"#REF!"},{"$f":"Vermögen!W14*Vermögen!#REF!","v":{"$error":"#REF!"}},{"$error":"#REF!"},{"$f":"H9*Vermögen!AC14","v":0},{"$error":"#REF!"}]
[null,"Jahresbericht",{"$nulls":4},{"$f":"Vermögen!F15","v":0},{"$f":"Vermögen!S15","v":0},{"$error":"#REF!"},{"$f":"Daten_Vermögensbericht!H10*Vermögen!V15","v":0},{"$error":"#REF!"},{"$f":"Vermögen!W15*Vermögen!#REF!","v":{"$error":"#REF!"}},{"$error":"#REF!"},{"$f":"H10*Vermögen!AC15","v":0},{"$error":"#REF!"}]
[{"$nulls":6},{"$f":"Vermögen!#REF!","v":{"$error":"#REF!"}},{"$f":"Vermögen!#REF!","v":{"$error":"#REF!"}},{"$error":"#REF!"},{"$f":"Daten_Vermögensbericht!H11*Vermögen!#REF!","v":{"$error":"#REF!"}},{"$error":"#REF!"},{"$f":"Vermögen!#REF!*Vermögen!#REF!","v":{"$error":"#REF!"}},{"$error":"#REF!"},{"$f":"H11*Vermögen!#REF!","v":{"$error":"#REF!"}},{"$error":"#REF!"}]
[{"$nulls":6},{"$f":"Vermögen!F17","v":0},{"$f":"Vermögen!S17","v":0},{"$error":"#REF!"},{"$f":"Daten_Vermögensbericht!H12*Vermögen!V17","v":0},{"$error":"#REF!"},{"$f":"Vermögen!W17*Vermögen!#REF!","v":{"$error":"#REF!"}},{"$error":"#REF!"},{"$f":"H12*Vermögen!AC17","v":0},{"$error":"#REF!"}]
[{"$nulls":6},{"$f":"Vermögen!F18","v":0},{"$f":"Vermögen!S18","v":0},{"$error":"#REF!"},{"$f":"Daten_Vermögensbericht!H13*Vermögen!V18","v":0},{"$error":"#REF!"},{"$f":"Vermögen!W18*Vermögen!#REF!","v":{"$error":"#REF!"}},{"$error":"#REF!"},{"$f":"H13*Vermögen!AC18","v":0},{"$error":"#REF!"}]
[{"$nulls":6},{"$f":"Vermögen!F19","v":0},{"$f":"Vermögen!S19","v":0},{"$error":"#REF!"},{"$f":"Daten_Vermögensbericht!H14*Vermögen!V19","v":0},{"$error":"#REF!"},{"$f":"Vermögen!W19*Vermögen!#REF!","v":{"$error":"#REF!"}},{"$error":"#REF!"},{"$f":"H14*Vermögen!AC19","v":0},{"$error":"#REF!"}]
[{"$nulls":6},"Summe",{"$f":"SUM(H6:H14)","v":{"$error":"#REF!"}},{"$error":"#REF!"},{"$error":"#REF!"},{"$error":"#REF!"},{"$error":"#REF!"},{"$error":"#REF!"},{"$error":"#REF!"},{"$error":"#REF!"}]
[]
[null,"TEXTBAUSTEINE"]
[]
[null,"Variante","Fixtext","Variabler Text"]
[]
[null,"Einleitung"]
[]
[null,null,"Grundlage dieses Vermögensberichts ist die Anlagerichlinie vom",{"$f":"#REF!","v":{"$error":"#REF!"}}]
[]
[null,"I. Anlageziele"]
[]
[null,"1. Vermögenserhaltung",{"$f":"Anlagerichtlinien!B18","v":"Das Grundstockvermögen ist auf unbestimmte Zeit in seinem realen Wert zu erhalten. Dieses Anlageziel ist erreicht, wenn das zur Anlage bestimmte Investitionsvermögen nach Verkehrswerten mindestens so hoch ist wie das in der Rechnungslegung ausgewiesene Grundstockvermögen zuzüglich der im Zeitraum seit Zufluss gemessenen allgemeinen Geldentwertung. Die Zielrendite Vermögen entspricht somit im Geltungszeitraum der Anlagerichtlinie erwarteten durchschnittlichen Geldentwertung nach Kosten der Vermögensverwaltung. Sofern Wertaufholungsbedarf besteht, kann die Zielrendite auch darüber liegen."}]
[null,null,{"$f":"Anlagerichtlinien!B19","v":"Maßstab für die Geldentwertung:"},{"$f":"Anlagerichtlinien!E19","v":"Verbraucherpreise (VPI)"}]
[null,null,{"$f":"Anlagerichtlinien!B20","v":"Zielrendite Vermögenserhaltung:"},{"$f":"Anlagerichtlinien!E20","v":{"v":0,"d":"0.0%"}}]
[]
[null,null,"Das konkrete Anlageziel ergibt sich aus der Vermögenserhaltungsrechnung (siehe Anlage 3)."]
[]
[null,null,"Anlageziel",{"$f":"Daten_Vermögenserhaltung!K56","v":0}]
[null,null,"Anlageergebnis",{"$f":"Vermögen!S61","v":0}]
[null,null,"Differenz",{"$f":"D34-D33","v":0},{"$f":"D35/D33","v":{"$error":"#DIV/0!"}}]
[null,null,"Zielerreichung",{"$f":"100%+E35","v":{"$error":"#DIV/0!"}}]
[]
[null,null,"Die einzelnen Vermögensgegenstände tragen wie folgt zum Anlageergebnis bei."]
[]
[null,null,"Vermögensgegenstand","Attribution EUR","Attribution %"]
[null,null,{"$f":"G6","v":0},{"$f":"J6","v":0},{"$f":"K6","v":{"$error":"#REF!"}}]
[null,null,{"$f":"G7","v":0},{"$f":"J7","v":0},{"$f":"K7","v":{"$error":"#REF!"}}]
[null,null,0,0,{"$error":"#REF!"}]
[null,null,0,0,{"$error":"#REF!"}]
[null,null,0,0,{"$error":"#REF!"}]
[null,null,{"$error":"#REF!"},{"$error":"#REF!"},{"$error":"#REF!"}]
[null,null,0,0,{"$error":"#REF!"}]
[null,null,0,0,{"$error":"#REF!"}]
[null,null,0,0,{"$error":"#REF!"}]
[null,null,"Summe",{"$error":"#REF!"},{"$error":"#REF!"}]
[null,null,0]
[]
[null,"2. Erträge",{"$f":"Anlagerichtlinien!B26","v":"Die Stiftung schüttet pro Jahr mindestens einen Betrag aus, dessen Höhe dem nachfolgend genannten Prozentsatz vom Investitionsvermögen entspricht. Die Zielrendite gibt den entsprechenden Ausschüttungsertrag aus dem Investitionsvermögen nach Kosten der Vermögensverwaltung an."}]
[null,null,{"$f":"Anlagerichtlinien!B27","v":""},{"$f":"Anlagerichtlinien!E27","v":""}]
[null,null,{"$f":"Anlagerichtlinien!B28","v":"Ausschüttungssumme:"},{"$f":"Anlagerichtlinien!E28","v":{"v":0,"d":"0.0%"}}]
[]
[null,null,"Anlageziel",{"$f":"IF(Anlageziele!$O$14=\"Überschuss\",Daten_Vermögensbericht!$D$58,IF(Anlageziele!$O$14=\"Zielausschüttung\",Daten_Vermögensbericht!$D$59,Daten_Vermögensbericht!$D$60))","v":0}]
[null,null,"Das konkrete Anlageziel ergibt sich aus der Einnahmen-/Ausgabenrechnung (siehe Anlage 4)",{"$f":"Wirtschaftsplan!#REF!","v":{"$error":"#REF!"}}]
[null,null,"Das konrete Anlageziel ergibt sich aus der Eingabe \"Zielausschüttung\".",{"$f":"Anlageziele!O17","v":0}]
[null,null,"Das konkrete Anlageziel ergibt sich aus der angebebenen Quote vom bilanziellen Grundstock.",{"$f":"Daten_Vermögenserhaltung!D75*Anlageziele!O18","v":0}]
[null,null,"Anlageergebnis",{"$f":"'Daten_Cockpit '!C21","v":0}]
[null,null,"Differenz",{"$f":"D61-D60","v":0},{"$f":"D62/D61","v":{"$error":"#DIV/0!"}}]
[null,null,"Zielerreichung",{"$f":"100%+E62","v":{"$error":"#DIV/0!"}}]
[]
[null,"3. Risiko",{"$f":"Anlagerichtlinien!B39","v":"Der Gesamtwert des zur Anlage bestimmten Vermögens darf sich im schlechtesten mit bestimmter Wahrscheinlichkeit anzunehmenden Fall in einem Kalenderjahr maximal um den nachfolgend genannten Prozentsatz reduzieren. "}]
[null,null,{"$f":"Anlagerichtlinien!B40","v":"Maximalverlust Investitionsverm.:"},{"$f":"Anlagerichtlinien!E40","v":{"v":0,"d":"0.00%"}}]
[]
[null,null,"Das Anlageziel ist erreicht, wenn der Maximalverlust im Wort Case-Szenario diesen Wert nicht übersteigt."]
[]
[null,null,"Anlageziel",{"$f":"'Daten_Cockpit '!C27","v":0}]
[null,null,"Anlageergebnis",{"$f":"'Daten_Cockpit '!C28","v":0}]
[null,null,"Differenz",{"$f":"D70-D71","v":0},{"$f":"D72/D70","v":{"$error":"#DIV/0!"}}]
[null,null,"Zielerreichung",{"$f":"100%+E72","v":{"$error":"#DIV/0!"}}]
[]
[null,"4. Nachhaltigkeit"]
[null,"Quantitativ","Ökologische und soziale Kriterien sowie die Art der Unternehmensführung finden bei den Investitionsentscheidungen im Rahmen des Erkennbaren und wirtschaftlich Vernünftigen Berücksichtigung. Hierbei folgt die Stiftung einem quantitativen Ansatz, indem sie die nachfolgend definierten Anteile ihres Gesamtvermögens mit den genannten Nachhaltigkeitsstrategien ausstattet."]
[null,"PRISC"," "]

{"sheet":"Vermögensbericht","index":30,"n_rows":69,"n_cols":4,"rows_kept":69,"hidden":true,"merged":[[7,1,7,2],[13,1,13,3],[42,1,42,3],[46,1,46,3],[57,1,57,3],[60,1,60,3],[70,1,70,3]]}
["Vermögensbericht",null,{"$f":"Einstellungen!G11","v":0}]
[]
[null,"Stand:",{"$f":"TODAY()","v":"2023-02-27"}]
[null,"Berichtstyp:","Jahresbericht"]
[]
[{"$f":"Daten_Vermögensbericht!B21","v":"Einleitung"}]
[]
[null,{"$f":"Daten_Vermögensbericht!C23","v":"Grundlage dieses Vermögensberichts ist die Anlagerichlinie vom"},null,{"$f":"Daten_Vermögensbericht!D23","v":{"$error":"#REF!"}}]
[]
[{"$f":"Daten_Vermögensbericht!B25","v":"I. Anlageziele"}]
[]
[null,"1. Vermögenserhaltung"]
[]
[null,{"$f":"Daten_Vermögensbericht!C27","v":"Das Grundstockvermögen ist auf unbestimmte Zeit in seinem realen Wert zu erhalten. Dieses Anlageziel ist erreicht, wenn das zur Anlage bestimmte Investitionsvermögen nach Verkehrswerten mindestens so hoch ist wie das in der Rechnungslegung ausgewiesene Grundstockvermögen zuzüglich der im Zeitraum seit Zufluss gemessenen allgemeinen Geldentwertung. Die Zielrendite Vermögen entspricht somit im Geltungszeitraum der Anlagerichtlinie erwarteten durchschnittlichen Geldentwertung nach Kosten der Vermögensverwaltung. Sofern Wertaufholungsbedarf besteht, kann die Zielrendite auch darüber liegen."}]
[null,{"$f":"Anlagerichtlinien!B19","v":"Maßstab für die Geldentwertung:"},{"$f":"Anlagerichtlinien!E19","v":"Verbraucherpreise (VPI)"}]
[null,{"$f":"Anlagerichtlinien!B20","v":"Zielrendite Vermögenserhaltung:"},{"$f":"Anlagerichtlinien!E20","v":{"v":0,"d":"0.00%"}}]
[]
[null,{"$f":"Daten_Vermögensbericht!C31","v":"Das konkrete Anlageziel ergibt sich aus der Vermögenserhaltungsrechnung (siehe Anlage 3)."}]
[]
[null,"Zielerreichung zum Stichtag"]
[]
[null,"Anlageziel",{"$f":"Daten_Vermögensbericht!D33","v":{"v":0,"d":"0 €"}}]
[null,"Anlageergebnis",{"$f":"Daten_Vermögensbericht!D34","v":{"v":0,"d":"0 €"}}]
[null,"Differenz",{"$f":"Daten_Vermögensbericht!D35","v":{"v":0,"d":"0 €"}}]
[null,"Zielerreichung",{"$f":"Daten_Vermögensbericht!D36","v":{"$error":"#DIV/0!"}}]
[]
[null,{"$f":"Daten_Vermögensbericht!C38","v":"Die einzelnen Vermögensgegenstände tragen wie folgt zum Anlageergebnis bei."}]
[]
[null,{"$f":"Daten_Vermögensbericht!C40","v":"Vermögensgegenstand"},{"$f":"Daten_Vermögensbericht!D40","v":"Attribution EUR"},{"$f":"Daten_Vermögensbericht!E40","v":"Attribution %"}]
[null,{"$f":"Daten_Vermögensbericht!C41","v":0},{"$f":"Daten_Vermögensbericht!D41","v":0},{"$f":"Daten_Vermögensbericht!E41","v":{"$error":"#REF!"}}]
[null,{"$f":"Daten_Vermögensbericht!C42","v":0},{"$f":"Daten_Vermögensbericht!D42","v":0},{"$f":"Daten_Vermögensbericht!E42","v":{"$error":"#REF!"}}]
[null,{"$f":"Daten_Vermögensbericht!C43","v":0},{"$f":"Daten_Vermögensbericht!D43","v":0},{"$f":"Daten_Vermögensbericht!E43","v":{"$error":"#REF!"}}]
[null,{"$f":"Daten_Vermögensbericht!C44","v":0},{"$f":"Daten_Vermögensbericht!D44","v":0},{"$f":"Daten_Vermögensbericht!E44","v":{"$error":"#REF!"}}]
[null,{"$f":"Daten_Vermögensbericht!C45","v":0},{"$f":"Daten_Vermögensbericht!D45","v":0},{"$f":"Daten_Vermögensbericht!E45","v":{"$error":"#REF!"}}]
[null,{"$f":"Daten_Vermögensbericht!C46","v":{"$error":"#REF!"}},{"$f":"Daten_Vermögensbericht!D46","v":{"$error":"#REF!"}},{"$f":"Daten_Vermögensbericht!E46","v":{"$error":"#REF!"}}]
[null,{"$f":"Daten_Vermögensbericht!C47","v":0},{"$f":"Daten_Vermögensbericht!D47","v":0},{"$f":"Daten_Vermögensbericht!E47","v":{"$error":"#REF!"}}]
[null,{"$f":"Daten_Vermögensbericht!C48","v":0},{"$f":"Daten_Vermögensbericht!D48","v":0},{"$f":"Daten_Vermögensbericht!E48","v":{"$error":"#REF!"}}]
[null,{"$f":"Daten_Vermögensbericht!C49","v":0},{"$f":"Daten_Vermögensbericht!D49","v":0},{"$f":"Daten_Vermögensbericht!E49","v":{"$error":"#REF!"}}]
[null,{"$f":"Daten_Vermögensbericht!C50","v":"Summe"},{"$f":"Daten_Vermögensbericht!D50","v":{"$error":"#REF!"}},{"$f":"Daten_Vermögensbericht!E50","v":{"$error":"#REF!"}}]
[]
[null,{"$f":"Daten_Vermögensbericht!B53","v":"2. Erträge"}]
[]
[null,{"$f":"Daten_Vermögensbericht!C53","v":"Die Stiftung schüttet pro Jahr mindestens einen Betrag aus, dessen Höhe dem nachfolgend genannten Prozentsatz vom Investitionsvermögen entspricht. Die Zielrendite gibt den entsprechenden Ausschüttungsertrag aus dem Investitionsvermögen nach Kosten der Vermögensverwaltung an."}]
[null,{"$f":"Daten_Vermögensbericht!C54","v":""},{"$f":"Daten_Vermögensbericht!D54","v":""}]
[null,{"$f":"Daten_Vermögensbericht!C55","v":"Ausschüttungssumme:"},{"$f":"Daten_Vermögensbericht!D55","v":{"v":0,"d":"0.00%"}}]
[]
[null,{"$f":"IF(Anlageziele!O14=\"Überschuss\",Daten_Vermögensbericht!C58,IF(Anlageziele!O14=\"Zielausschüttung\",Daten_Vermögensbericht!C59,Daten_Vermögensbericht!C60))","v":"Das konkrete Anlageziel ergibt sich aus der angebebenen Quote vom bilanziellen Grundstock."}]
[]
[null,"Anlageziel",{"$f":"Daten_Vermögensbericht!D57","v":{"v":0,"d":"0 €"}}]
[null,"Anlageergebnis",{"$f":"Daten_Vermögensbericht!D61","v":{"v":0,"d":"0 €"}}]
[null,"Differenz",{"$f":"Daten_Vermögensbericht!D62","v":{"v":0,"d":"0 €"}}]
[null,"Zielerreichung",{"$f":"Daten_Vermögensbericht!D63","v":{"$error":"#DIV/0!"}}]
[]
[null,{"$f":"Daten_Vermögensbericht!C38","v":"Die einzelnen Vermögensgegenstände tragen wie folgt zum Anlageergebnis bei."}]
[]
[null,{"$f":"Daten_Vermögensbericht!B65","v":"3. Risiko"}]
[]
[null,{"$f":"Daten_Vermögensbericht!C65","v":"Der Gesamtwert des zur Anlage bestimmten Vermögens darf sich im schlechtesten mit bestimmter Wahrscheinlichkeit anzunehmenden Fall in einem Kalenderjahr maximal um den nachfolgend genannten Prozentsatz reduzieren. "}]
[null,{"$f":"Daten_Vermögensbericht!C66","v":"Maximalverlust Investitionsverm.:"},null,{"$f":"Daten_Vermögensbericht!D66","v":{"v":0,"d":"0.00%"}}]
[]
[null,{"$f":"Daten_Vermögensbericht!C68","v":"Das Anlageziel ist erreicht, wenn der Maximalverlust im Wort Case-Szenario diesen Wert nicht übersteigt."}]
[]
[null,"Anlageziel",{"$f":"Daten_Vermögensbericht!D70","v":{"v":0,"d":"0 €"}}]
[null,"Anlageergebnis",{"$f":"Daten_Vermögensbericht!D71","v":{"v":0,"d":"0 €"}}]
[null,"Differenz",{"$f":"Daten_Vermögensbericht!D72","v":{"v":0,"d":"0 €"}}]
[null,"Zielerreichung",{"$f":"Daten_Vermögensbericht!D73","v":{"$error":"#DIV/0!"}}]
[]
[]
[null,{"$f":"Daten_Vermögensbericht!B75","v":"4. Nachhaltigkeit"}]

{"sheet":"Tabellen","index":31,"n_rows":53,"n_cols":11,"rows_kept":53,"hidden":true,"merged":[[31,1,35,1]]}
[]
[null,null,"Analyse Basisszenario"]
[]
[null,null,"Beschreibung","Einh.","Bestand",{"$f":"Einstellungen!G13","v":2024},{"$f":"F4+1","v":2025},{"$f":"G4+1","v":2026},{"$f":"H4+1","v":2027},{"$f":"I4+1","v":2028}]
[]
[null,null,"Vermögen",{"$f":"Einstellungen!G16","v":"EUR "},{"$f":"SUM(E7:E9)+SUM(E14:E17)","v":{"$error":"#REF!"}},{"$error":"#REF!"},{"$error":"#REF!"},{"$error":"#REF!"},{"$error":"#REF!"},{"$error":"#REF!"}]
[null,null,"Immobilien (Verkehrswert)",{"$f":"$D$6","v":"EUR "},{"$f":"IF(D7=Daten_Einstellg_Ziele!$B$6,Vermögen!#REF!,Vermögen!#REF!/1000)","v":{"$error":"#REF!"}},{"$f":"'Daten Projektion'!O66","v":0},{"$f":"'Daten Projektion'!P66","v":0},{"$f":"'Daten Projektion'!Q66","v":0},{"$f":"'Daten Projektion'!R66","v":0},{"$f":"'Daten Projektion'!S66","v":0}]
[null,null,"Beteiligungen","EUR ",{"$f":"IF(D8=Daten_Einstellg_Ziele!$B$6,Vermögen!#REF!,Vermögen!#REF!/1000)","v":{"$error":"#REF!"}},{"$f":"'Daten Projektion'!O67","v":0},{"$f":"'Daten Projektion'!P67","v":0},{"$f":"'Daten Projektion'!Q67","v":0},{"$f":"'Daten Projektion'!R67","v":0},{"$f":"'Daten Projektion'!S67","v":0}]
[null,null,"Wertpapiere","EUR ",{"$f":"SUM(E10:E13)","v":{"$error":"#REF!"}},{"$error":"#REF!"},{"$error":"#REF!"},{"$error":"#REF!"},{"$error":"#REF!"},{"$error":"#REF!"}]
[null,null," davon Aktien","EUR ",{"$f":"IF(D10=Daten_Einstellg_Ziele!$B$6,Vermögen!#REF!,Vermögen!#REF!/1000)","v":{"$error":"#REF!"}},{"$f":"'Daten Projektion'!O69","v":0},{"$f":"'Daten Projektion'!P69","v":0},{"$f":"'Daten Projektion'!Q69","v":0},{"$f":"'Daten Projektion'!R69","v":0},{"$f":"'Daten Projektion'!S69","v":0}]
[null,null," davon Renten","EUR ",{"$f":"IF(D11=Daten_Einstellg_Ziele!$B$6,Vermögen!#REF!,Vermögen!#REF!/1000)","v":{"$error":"#REF!"}},{"$f":"'Daten Projektion'!O70","v":0},{"$f":"'Daten Projektion'!P70","v":0},{"$f":"'Daten Projektion'!Q70","v":0},{"$f":"'Daten Projektion'!R70","v":0},{"$f":"'Daten Projektion'!S70","v":0}]
[null,null," davon Liquidität (Cashbestand in Fonds)","EUR ",0,{"$f":"'Daten Projektion'!#REF!","v":{"$error":"#REF!"}},{"$f":"'Daten Projektion'!#REF!","v":{"$error":"#REF!"}},{"$f":"'Daten Projektion'!#REF!","v":{"$error":"#REF!"}},{"$f":"'Daten Projektion'!#REF!","v":{"$error":"#REF!"}},{"$f":"'Daten Projektion'!#REF!","v":{"$error":"#REF!"}}]
[null,null," davon Alternative Investments","EUR ",0,{"$f":"'Daten Projektion'!O71","v":0},{"$f":"'Daten Projektion'!P71","v":0},{"$f":"'Daten Projektion'!Q71","v":0},{"$f":"'Daten Projektion'!R71","v":0},{"$f":"'Daten Projektion'!S71","v":0}]
[null,null,"Spar- und Termineinlagen","EUR ",{"$f":"IF(D14=Daten_Einstellg_Ziele!B6,Vermögen!#REF!,Vermögen!#REF!/1000)","v":{"$error":"#REF!"}},{"$f":"'Daten Projektion'!O72","v":0},{"$f":"'Daten Projektion'!P72","v":0},{"$f":"'Daten Projektion'!Q72","v":0},{"$f":"'Daten Projektion'!R72","v":0},{"$f":"'Daten Projektion'!S72","v":0}]
[null,null,"Kontoguthaben Investitionsvermögen","EUR ",{"$f":"IF(D15=Daten_Einstellg_Ziele!$B$6,Vermögen!#REF!,Vermögen!#REF!/1000)","v":{"$error":"#REF!"}},{"$f":"'Daten Projektion'!O73","v":0},{"$f":"'Daten Projektion'!P73","v":0},{"$f":"'Daten Projektion'!Q73","v":0},{"$f":"'Daten Projektion'!R73","v":0},{"$f":"'Daten Projektion'!S73","v":0}]
[null,null,"Sonstiges Vermögen","EUR ",{"$f":"'Daten Projektion'!N73","v":0},{"$f":"'Daten Projektion'!O73","v":0},{"$f":"'Daten Projektion'!P73","v":0},{"$f":"'Daten Projektion'!Q73","v":0},{"$f":"'Daten Projektion'!R73","v":0},{"$f":"'Daten Projektion'!S73","v":0}]
[null,null,"Verbindlichkeiten","EUR ",{"$f":"'Daten Projektion'!N74","v":0},{"$f":"'Daten Projektion'!O74","v":0},{"$f":"'Daten Projektion'!P74","v":0},{"$f":"'Daten Projektion'!Q74","v":0},{"$f":"'Daten Projektion'!R74","v":0},{"$f":"'Daten Projektion'!S74","v":0}]
[null,null,"Kennzahlen"]
[null,null,"Aktienquote Wertpapiere","%",{"$f":"E10/E9","v":{"$error":"#REF!"}},{"$error":"#REF!"},{"$error":"#REF!"},{"$error":"#REF!"},{"$error":"#REF!"},{"$error":"#REF!"}]
[null,null,"Aktienquote Gesamtvermögen","%",{"$f":"E10/E6","v":{"$error":"#REF!"}},{"$error":"#REF!"},{"$error":"#REF!"},{"$error":"#REF!"},{"$error":"#REF!"},{"$error":"#REF!"}]
[null,null,"Bestand freie Rücklage",{"$f":"D6","v":"EUR "},{"$f":"IF(Einstellungen!G16=\"TEUR\",Einstellungen!G24/1000,Einstellungen!G24)","v":0},{"$f":"E21+E22","v":0},{"$f":"F21+F22","v":{"$error":"#REF!"}},{"$f":"G21+G22","v":{"$error":"#REF!"}},{"$f":"H21+H22","v":{"$error":"#REF!"}},{"$f":"I21+I22","v":{"$error":"#REF!"}}]
[null,null,"Veränderung freie Rücklage inkl. Tilgung",{"$f":"D7","v":"EUR "},0,{"$f":"F46","v":{"$error":"#REF!"}},{"$f":"G46","v":{"$error":"#REF!"}},{"$f":"H46","v":{"$error":"#REF!"}},{"$f":"I46","v":{"$error":"#REF!"}},{"$f":"J46","v":{"$error":"#REF!"}}]
[null,null,"Grundstockvermögen (Soll)",{"$f":"D10","v":"EUR "},{"$f":"IF(Anlageziele!$H$14=\"Nominal\",Daten_Vermögenserhaltung!$D$75,IF(Anlageziele!$H$14=\"Verbrauch\",Daten_Vermögenserhaltung!$D$79,IF(Anlageziele!$H$14=\"Substanz\",Tabellen!E6,Daten_Vermögenserhaltung!$D$78)))","v":0},{"$f":"IF(Anlageziele!$H$14=\"Nominal\",Daten_Vermögenserhaltung!$D$75,IF(Anlageziele!$H$14=\"Verbrauch\",Daten_Vermögenserhaltung!I65,IF(Anlageziele!$H$14=\"Substanz\",Tabellen!F6,Daten_Vermögenserhaltung!I63)))","v":0},{"$f":"IF(Anlageziele!$H$14=\"Nominal\",Daten_Vermögenserhaltung!$D$75,IF(Anlageziele!$H$14=\"Verbrauch\",Daten_Vermögenserhaltung!J65,IF(Anlageziele!$H$14=\"Substanz\",Tabellen!G6,Daten_Vermögenserhaltung!J63)))","v":0},{"$f":"IF(Anlageziele!$H$14=\"Nominal\",Daten_Vermögenserhaltung!$D$75,IF(Anlageziele!$H$14=\"Verbrauch\",Daten_Vermögenserhaltung!K65,IF(Anlageziele!$H$14=\"Substanz\",Tabellen!H6,Daten_Vermögenserhaltung!K63)))","v":0},{"$f":"IF(Anlageziele!$H$14=\"Nominal\",Daten_Vermögenserhaltung!$D$75,IF(Anlageziele!$H$14=\"Verbrauch\",Daten_Vermögenserhaltung!L65,IF(Anlageziele!$H$14=\"Substanz\",Tabellen!I6,Daten_Vermögenserhaltung!L63)))","v":0},{"$f":"IF(Anlageziele!$H$14=\"Nominal\",Daten_Vermögenserhaltung!$D$75,IF(Anlageziele!$H$14=\"Verbrauch\",Daten_Vermögenserhaltung!M65,IF(Anlageziele!$H$14=\"Substanz\",Tabellen!J6,Daten_Vermögenserhaltung!M63)))","v":0}]
[null,null,"Delta absolut",{"$f":"D12","v":"EUR "},{"$f":"E6-E23","v":{"$error":"#REF!"}},{"$error":"#REF!"},{"$error":"#REF!"},{"$error":"#REF!"},{"$error":"#REF!"},{"$error":"#REF!"}]
[null,null,"Delta Prozent","%",{"$f":"E24/E6","v":{"$error":"#REF!"}},{"$error":"#REF!"},{"$error":"#REF!"},{"$error":"#REF!"},{"$error":"#REF!"},{"$error":"#REF!"}]
[]
[null,null,"Liquidität Saldo",{"$f":"D6","v":"EUR "},{"$f":"E29-E37","v":0},{"$error":"#REF!"},{"$error":"#REF!"},{"$error":"#REF!"},{"$error":"#REF!"},{"$error":"#REF!"}]
[]
[null,null,"Einnahmen",{"$f":"D27","v":"EUR "},{"$f":"SUM(E30:E35)","v":0},{"$f":"SUM(F30:F36)","v":{"$error":"#REF!"}},{"$f":"SUM(G30:G36)","v":0},{"$f":"SUM(H30:H36)","v":0},{"$f":"SUM(I30:I36)","v":0},{"$f":"SUM(J30:J36)","v":0}]
[null,null,"Spenden",{"$f":"$D$29","v":"EUR "},0,{"$f":"Wirtschaftsplan!#REF!","v":{"$error":"#REF!"}},{"$f":"Wirtschaftsplan!M13","v":0},{"$f":"Wirtschaftsplan!N13","v":0},{"$f":"Wirtschaftsplan!O13","v":0},{"$f":"Wirtschaftsplan!P13","v":0}]
[null,null,"Zustiftungen",{"$f":"$D$29","v":"EUR "},0,{"$f":"Wirtschaftsplan!#REF!","v":{"$error":"#REF!"}},{"$f":"Wirtschaftsplan!M14","v":0},{"$f":"Wirtschaftsplan!N14","v":0},{"$f":"Wirtschaftsplan!O14","v":0},{"$f":"Wirtschaftsplan!P14","v":0}]
[null,"Ordtl. Erträge","Mieterträge (brutto)","EUR ",0,{"$f":"'Daten Projektion'!O136","v":0},{"$f":"'Daten Projektion'!P136","v":0},{"$f":"'Daten Projektion'!Q136","v":0},{"$f":"'Daten Projektion'!R136","v":0},{"$f":"'Daten Projektion'!S136","v":0}]
[null,null,"Erträge aus Beteiligungen","EUR ",0,{"$f":"'Daten Projektion'!O137","v":0},{"$f":"'Daten Projektion'!P137","v":0},{"$f":"'Daten Projektion'!Q137","v":0},{"$f":"'Daten Projektion'!R137","v":0},{"$f":"'Daten Projektion'!S137","v":0}]
[null,null,"Wertpapiererträge (brutto)","EUR ",0,{"$f":"'Daten Projektion'!O138","v":0},{"$f":"'Daten Projektion'!P138","v":0},{"$f":"'Daten Projektion'!Q138","v":0},{"$f":"'Daten Projektion'!R138","v":0},{"$f":"'Daten Projektion'!S138","v":0}]
[null,null,"Zinsen und ähnliche Erträge","EUR ",0,{"$f":"'Daten Projektion'!O142","v":0},{"$f":"'Daten Projektion'!P142","v":0},{"$f":"'Daten Projektion'!Q142","v":0},{"$f":"'Daten Projektion'!R142","v":0},{"$f":"'Daten Projektion'!S142","v":0}]
[null,null,"Erträge aus sonstigem Vermögen","EUR ",0,{"$f":"'Daten Projektion'!O144","v":0},{"$f":"'Daten Projektion'!P144","v":0},{"$f":"'Daten Projektion'!Q144","v":0},{"$f":"'Daten Projektion'!R144","v":0},{"$f":"'Daten Projektion'!S144","v":0}]
[null,null,"Ausgaben","EUR ",0,{"$f":"SUM(F38:F40)+SUM(F44:F47)","v":{"$error":"#REF!"}},{"$f":"SUM(G38:G40)+SUM(G44:G47)","v":{"$error":"#REF!"}},{"$f":"SUM(H38:H40)+SUM(H44:H47)","v":{"$error":"#REF!"}},{"$f":"SUM(I38:I40)+SUM(I44:I47)","v":{"$error":"#REF!"}},{"$f":"SUM(J38:J40)+SUM(J44:J47)","v":{"$error":"#REF!"}}]
[null,null,"Ausgaben für den Stiftungszweck","EUR ",0,{"$f":"IF(Anlageziele!$O$14=Daten_Einstellg_Ziele!$D$20,Anlageziele!$O$17,IF(Anlageziele!$O$14=Daten_Einstellg_Ziele!$D$21,Daten_Vermögenserhaltung!$D$75*Anlageziele!O17%,F29-F39-F40-F44-F45-F45-#REF!-F46-F47))","v":{"$error":"#REF!"}},{"$f":"IF(Anlageziele!$O$14=Daten_Einstellg_Ziele!$D$20,Anlageziele!$O$17,IF(Anlageziele!$O$14=Daten_Einstellg_Ziele!$D$21,Daten_Vermögenserhaltung!$D$75*Anlageziele!P17%,G29-G39-G40-G44-G45-G45-#REF!-G46-G47))","v":{"$error":"#REF!"}},{"$f":"IF(Anlageziele!$O$14=Daten_Einstellg_Ziele!$D$20,Anlageziele!$O$17,IF(Anlageziele!$O$14=Daten_Einstellg_Ziele!$D$21,Daten_Vermögenserhaltung!$D$75*Anlageziele!Q16%,H29-H39-H40-H44-H45-H45-#REF!-H46-H47))","v":{"$error":"#REF!"}},{"$f":"IF(Anlageziele!$O$14=Daten_Einstellg_Ziele!$D$20,Anlageziele!$O$17,IF(Anlageziele!$O$14=Daten_Einstellg_Ziele!$D$21,Daten_Vermögenserhaltung!$D$75*Anlageziele!R16%,I29-I39-I40-I44-I45-I45-#REF!-I46-I47))","v":{"$error":"#REF!"}},{"$f":"IF(Anlageziele!$O$14=Daten_Einstellg_Ziele!$D$20,Anlageziele!$O$17,IF(Anlageziele!$O$14=Daten_Einstellg_Ziele!$D$21,Daten_Vermögenserhaltung!$D$75*Anlageziele!S16%,J29-J39-J40-J44-J45-J45-#REF!-J46-J47))","v":{"$error":"#REF!"}}]
[null,null,"Allg. Verwaltungskosten","EUR ",0,{"$f":"Wirtschaftsplan!#REF!","v":{"$error":"#REF!"}},{"$f":"Wirtschaftsplan!M54","v":0},{"$f":"Wirtschaftsplan!N54","v":0},{"$f":"Wirtschaftsplan!O54","v":0},{"$f":"Wirtschaftsplan!P54","v":0}]
[null,null,"Kosten Vermögensverwaltung","EUR ",0,{"$f":"'Daten Projektion'!O212","v":0},{"$f":"'Daten Projektion'!P212","v":0},{"$f":"'Daten Projektion'!Q212","v":0},{"$f":"'Daten Projektion'!R212","v":0},{"$f":"'Daten Projektion'!S212","v":0}]
[null,null," davon Immobilien","EUR ",0,{"$f":"'Daten Projektion'!O203","v":0},{"$f":"'Daten Projektion'!P203","v":0},{"$f":"'Daten Projektion'!Q203","v":0},{"$f":"'Daten Projektion'!R203","v":0},{"$f":"'Daten Projektion'!S203","v":0}]
[null,null," davon Beteiligungen","EUR ",0,{"$f":"'Daten Projektion'!O204","v":0},{"$f":"'Daten Projektion'!P204","v":0},{"$f":"'Daten Projektion'!Q204","v":0},{"$f":"'Daten Projektion'!R204","v":0},{"$f":"'Daten Projektion'!S204","v":0}]
[null,null," davon Wertpapiere","EUR ",0,{"$f":"'Daten Projektion'!O205","v":0},{"$f":"'Daten Projektion'!P205","v":0},{"$f":"'Daten Projektion'!Q205","v":0},{"$f":"'Daten Projektion'!R205","v":0},{"$f":"'Daten Projektion'!S205","v":0}]
[null,null,"Sollzinsen","EUR ",0,{"$f":"'Daten Projektion'!#REF!*-1","v":{"$error":"#REF!"}},{"$f":"'Daten Projektion'!#REF!*-1","v":{"$error":"#REF!"}},{"$f":"'Daten Projektion'!#REF!*-1","v":{"$error":"#REF!"}},{"$f":"'Daten Projektion'!#REF!*-1","v":{"$error":"#REF!"}},{"$f":"'Daten Projektion'!#REF!*-1","v":{"$error":"#REF!"}}]
[null,null,"Tilgung",{"$f":"$D$29","v":"EUR "},0,{"$f":"(E17-F17)*-1","v":0},{"$f":"(F17-G17)*-1","v":0},{"$f":"(G17-H17)*-1","v":0},{"$f":"(H17-I17)*-1","v":0},{"$f":"(I17-J17)*-1","v":0}," "]
[null,null,"Zuführung Freie Rücklage","EUR ",0,{"$f":"IF(Anlageziele!$O$14=\"Überschuss\",'Daten Projektion'!#REF!,'Daten Projektion'!#REF!)","v":{"$error":"#REF!"}},{"$f":"IF(Anlageziele!$O$14=\"Überschuss\",'Daten Projektion'!#REF!,'Daten Projektion'!#REF!)","v":{"$error":"#REF!"}},{"$f":"IF(Anlageziele!$O$14=\"Überschuss\",'Daten Projektion'!#REF!,'Daten Projektion'!#REF!)","v":{"$error":"#REF!"}},{"$f":"IF(Anlageziele!$O$14=\"Überschuss\",'Daten Projektion'!#REF!,'Daten Projektion'!#REF!)","v":{"$error":"#REF!"}},{"$f":"IF(Anlageziele!$O$14=\"Überschuss\",'Daten Projektion'!#REF!,'Daten Projektion'!#REF!)","v":{"$error":"#REF!"}}]
[null,null,"Neuanlage","EUR ",{"$f":"E31","v":0},{"$error":"#REF!"},0,0,0,0]
[null,null,"Kennzahlen",null," "]
[null,null,"Ausschüttungsrendite brutto","%",{"v":0,"d":"0.0%"},{"$f":"SUM(F32:F36)/E6","v":{"$error":"#REF!"}},{"$f":"SUM(G32:G36)/F6","v":{"$error":"#REF!"}},{"$f":"SUM(H32:H36)/G6","v":{"$error":"#REF!"}},{"$f":"SUM(I32:I36)/H6","v":{"$error":"#REF!"}},{"$f":"SUM(J32:J36)/I6","v":{"$error":"#REF!"}}]
[null,null,"Verwaltungskostenquote 1 (Aufsicht)","%",{"v":0,"d":"0.0%"},{"$f":"(F39+F40)/(F29-F31)","v":{"$error":"#REF!"}},{"$f":"(G39+G40)/(G29-G31)","v":{"$error":"#DIV/0!"}},{"$f":"(H39+H40)/(H29-H31)","v":{"$error":"#DIV/0!"}},{"$f":"(I39+I40)/(I29-I31)","v":{"$error":"#DIV/0!"}},{"$f":"(J39+J40)/(J29-J31)","v":{"$error":"#DIV/0!"}}]
[null,null,"Verwaltungskostenquote 2 (Finanzamt)","%",{"v":0,"d":"0.0%"},{"$f":"F39/(F29-F40-F31)","v":{"$error":"#REF!"}},{"$f":"G39/(G29-G40-G31)","v":{"$error":"#DIV/0!"}},{"$f":"H39/(H29-H40-H31)","v":{"$error":"#DIV/0!"}},{"$f":"I39/(I29-I40-I31)","v":{"$error":"#DIV/0!"}},{"$f":"J39/(J29-J40-J31)","v":{"$error":"#DIV/0!"}}]
[null,null,"Zweckeffizienz der Erträge","%",{"v":0,"d":"0.0%"},{"$f":"F38/(F29-F31)","v":{"$error":"#REF!"}},{"$f":"G38/(G29-G31)","v":{"$error":"#REF!"}},{"$f":"H38/(H29-H31)","v":{"$error":"#REF!"}},{"$f":"I38/(I29-I31)","v":{"$error":"#REF!"}},{"$f":"J38/(J29-J31)","v":{"$error":"#REF!"}}]
[null,null,"Zweckeffizienz des Vermögens","%",{"$f":"E38/E6","v":{"$error":"#REF!"}},{"$error":"#REF!"},{"$error":"#REF!"},{"$error":"#REF!"},{"$error":"#REF!"},{"$error":"#REF!"}]

{"sheet":"Zahlen Worst Case","index":32,"n_rows":54,"n_cols":11,"rows_kept":54,"hidden":true,"merged":[[31,1,35,1]]}
[]
[null,null,"Analyse Worst Case"]
[]
[null,null,"Beschreibung","Einh.","Bestand",{"$f":"Einstellungen!G13","v":2024},{"$f":"F4+1","v":2025},{"$f":"G4+1","v":2026},{"$f":"H4+1","v":2027},{"$f":"I4+1","v":2028}]
[]
[null,null,"Vermögen",{"$f":"Einstellungen!G16","v":"EUR "},{"$f":"SUM(E7:E9)+SUM(E14:E17)","v":{"$error":"#REF!"}},{"$error":"#REF!"},{"$error":"#REF!"},{"$error":"#REF!"},{"$error":"#REF!"},{"$error":"#REF!"}]
[null,null,"Immobilien (Verkehrswert)",{"$f":"$D$6","v":"EUR "},{"$f":"IF(D7=Daten_Einstellg_Ziele!$B$6,Vermögen!#REF!,Vermögen!#REF!/1000)","v":{"$error":"#REF!"}},{"$f":"'Daten Projektion'!O286","v":0},{"$f":"'Daten Projektion'!P286","v":0},{"$f":"'Daten Projektion'!Q286","v":0},{"$f":"'Daten Projektion'!R286","v":0},{"$f":"'Daten Projektion'!S286","v":0}]
[null,null,"Beteiligungen","EUR ",{"$f":"IF(D8=Daten_Einstellg_Ziele!$B$6,Vermögen!#REF!,Vermögen!#REF!/1000)","v":{"$error":"#REF!"}},{"$f":"'Daten Projektion'!O287","v":0},{"$f":"'Daten Projektion'!P287","v":0},{"$f":"'Daten Projektion'!Q287","v":0},{"$f":"'Daten Projektion'!R287","v":0},{"$f":"'Daten Projektion'!S287","v":0}]
[null,null,"Wertpapiere","EUR ",{"$f":"SUM(E10:E13)","v":{"$error":"#REF!"}},{"$error":"#REF!"},{"$error":"#REF!"},{"$error":"#REF!"},{"$error":"#REF!"},{"$error":"#REF!"}]
[null,null," davon Aktien","EUR ",{"$f":"IF(D10=Daten_Einstellg_Ziele!$B$6,Vermögen!#REF!,Vermögen!#REF!/1000)","v":{"$error":"#REF!"}},{"$f":"'Daten Projektion'!O289","v":0},{"$f":"'Daten Projektion'!P289","v":0},{"$f":"'Daten Projektion'!Q289","v":0},{"$f":"'Daten Projektion'!R289","v":0},{"$f":"'Daten Projektion'!S289","v":0}]
[null,null," davon Renten","EUR ",{"$f":"IF(D11=Daten_Einstellg_Ziele!$B$6,Vermögen!#REF!,Vermögen!#REF!/1000)","v":{"$error":"#REF!"}},{"$f":"'Daten Projektion'!O290","v":0},{"$f":"'Daten Projektion'!P290","v":0},{"$f":"'Daten Projektion'!Q290","v":0},{"$f":"'Daten Projektion'!R290","v":0},{"$f":"'Daten Projektion'!S290","v":0}]
[null,null," davon Liquidität (Cashbestand in Fonds)","EUR ",0,{"$f":"'Daten Projektion'!#REF!","v":{"$error":"#REF!"}},{"$f":"'Daten Projektion'!#REF!","v":{"$error":"#REF!"}},{"$f":"'Daten Projektion'!#REF!","v":{"$error":"#REF!"}},{"$f":"'Daten Projektion'!#REF!","v":{"$error":"#REF!"}},{"$f":"'Daten Projektion'!#REF!","v":{"$error":"#REF!"}}]
[null,null," davon Alternative Investments","EUR ",0,{"$f":"'Daten Projektion'!O292","v":0},{"$f":"'Daten Projektion'!P292","v":0},{"$f":"'Daten Projektion'!Q292","v":0},{"$f":"'Daten Projektion'!R292","v":0},{"$f":"'Daten Projektion'!S71","v":0}]
[null,null,"Spar- und Termineinlagen","EUR ",{"$f":"IF(D14=Daten_Einstellg_Ziele!B6,Vermögen!#REF!,Vermögen!#REF!/1000)","v":{"$error":"#REF!"}},{"$f":"'Daten Projektion'!O293","v":0},{"$f":"'Daten Projektion'!P293","v":0},{"$f":"'Daten Projektion'!Q293","v":0},{"$f":"'Daten Projektion'!R293","v":0},{"$f":"'Daten Projektion'!S293","v":0}]
[null,null,"Kontoguthaben Investitionsvermögen","EUR ",{"$f":"IF(D15=Daten_Einstellg_Ziele!$B$6,Vermögen!#REF!,Vermögen!#REF!/1000)","v":{"$error":"#REF!"}},{"$f":"'Daten Projektion'!O294","v":0},{"$f":"'Daten Projektion'!P294","v":0},{"$f":"'Daten Projektion'!Q294","v":0},{"$f":"'Daten Projektion'!R294","v":0},{"$f":"'Daten Projektion'!S294","v":0}]
[null,null,"Sonstiges Vermögen","EUR ",{"$f":"IF(D16=Daten_Einstellg_Ziele!$B$6,Vermögen!#REF!,Vermögen!#REF!/1000)","v":{"$error":"#REF!"}},{"$f":"'Daten Projektion'!#REF!","v":{"$error":"#REF!"}},{"$f":"'Daten Projektion'!#REF!","v":{"$error":"#REF!"}},{"$f":"'Daten Projektion'!#REF!","v":{"$error":"#REF!"}},{"$f":"'Daten Projektion'!#REF!","v":{"$error":"#REF!"}},{"$f":"'Daten Projektion'!#REF!","v":{"$error":"#REF!"}}]
[null,null,"Verbindlichkeiten","EUR ",{"$f":"IF(D17=Daten_Einstellg_Ziele!$B$6,Vermögen!#REF!,Vermögen!#REF!/1000)","v":{"$error":"#REF!"}},{"$f":"'Daten Projektion'!#REF!","v":{"$error":"#REF!"}},{"$f":"'Daten Projektion'!#REF!","v":{"$error":"#REF!"}},{"$f":"'Daten Projektion'!#REF!","v":{"$error":"#REF!"}},{"$f":"'Daten Projektion'!#REF!","v":{"$error":"#REF!"}},{"$f":"'Daten Projektion'!#REF!","v":{"$error":"#REF!"}}]
[null,null,"Kennzahlen"]
[null,null,"Aktienquote Wertpapiere","%",{"$f":"E10/E9","v":{"$error":"#REF!"}},{"$error":"#REF!"},{"$error":"#REF!"},{"$error":"#REF!"},{"$error":"#REF!"},{"$error":"#REF!"}]
[null,null,"Aktienquote Gesamtvermögen","%",{"$f":"E10/E6","v":{"$error":"#REF!"}},{"$error":"#REF!"},{"$error":"#REF!"},{"$error":"#REF!"},{"$error":"#REF!"},{"$error":"#REF!"}]
[null,null,"Bestand freie Rücklage",{"$f":"D6","v":"EUR "},{"$f":"IF(Einstellungen!G16=\"TEUR\",Einstellungen!G24/1000,Einstellungen!G24)","v":0},{"$f":"E21+E22","v":0},{"$f":"F21+F22","v":{"$error":"#REF!"}},{"$f":"G21+G22","v":{"$error":"#REF!"}},{"$f":"H21+H22","v":{"$error":"#REF!"}},{"$f":"I21+I22","v":{"$error":"#REF!"}}]
[null,null,"Veränderung freie Rücklage inkl. Tilgung",{"$f":"D7","v":"EUR "},0,{"$f":"F47","v":{"$error":"#REF!"}},{"$f":"G47","v":{"$error":"#REF!"}},{"$f":"H47","v":{"$error":"#REF!"}},{"$f":"I47","v":{"$error":"#REF!"}},{"$f":"J47","v":{"$error":"#REF!"}}]
[null,null,"Grundstockvermögen (Soll)",{"$f":"D10","v":"EUR "},{"$f":"IF(Anlageziele!$H$14=\"Nominal\",Daten_Vermögenserhaltung!$D$75,IF(Anlageziele!$H$14=\"Verbrauch\",Daten_Vermögenserhaltung!$D$79,IF(Anlageziele!$H$14=\"Substanz\",'Zahlen Worst Case'!E6,Daten_Vermögenserhaltung!$D$78)))","v":0},{"$f":"IF(Anlageziele!$H$14=\"Nominal\",Daten_Vermögenserhaltung!$D$75,IF(Anlageziele!$H$14=\"Verbrauch\",Daten_Vermögenserhaltung!I65,IF(Anlageziele!$H$14=\"Substanz\",'Zahlen Worst Case'!F6,Daten_Vermögenserhaltung!I63)))","v":0},{"$f":"IF(Anlageziele!$H$14=\"Nominal\",Daten_Vermögenserhaltung!$D$75,IF(Anlageziele!$H$14=\"Verbrauch\",Daten_Vermögenserhaltung!J65,IF(Anlageziele!$H$14=\"Substanz\",'Zahlen Worst Case'!G6,Daten_Vermögenserhaltung!J63)))","v":0},{"$f":"IF(Anlageziele!$H$14=\"Nominal\",Daten_Vermögenserhaltung!$D$75,IF(Anlageziele!$H$14=\"Verbrauch\",Daten_Vermögenserhaltung!K65,IF(Anlageziele!$H$14=\"Substanz\",'Zahlen Worst Case'!H6,Daten_Vermögenserhaltung!K63)))","v":0},{"$f":"IF(Anlageziele!$H$14=\"Nominal\",Daten_Vermögenserhaltung!$D$75,IF(Anlageziele!$H$14=\"Verbrauch\",Daten_Vermögenserhaltung!L65,IF(Anlageziele!$H$14=\"Substanz\",'Zahlen Worst Case'!I6,Daten_Vermögenserhaltung!L63)))","v":0},{"$f":"IF(Anlageziele!$H$14=\"Nominal\",Daten_Vermögenserhaltung!$D$75,IF(Anlageziele!$H$14=\"Verbrauch\",Daten_Vermögenserhaltung!M65,IF(Anlageziele!$H$14=\"Substanz\",'Zahlen Worst Case'!J6,Daten_Vermögenserhaltung!M63)))","v":0}]
[null,null,"Delta absolut",{"$f":"D12","v":"EUR "},{"$f":"E6-E23","v":{"$error":"#REF!"}},{"$error":"#REF!"},{"$error":"#REF!"},{"$error":"#REF!"},{"$error":"#REF!"},{"$error":"#REF!"}]
[null,null,"Delta Prozent","%",{"$f":"E24/E6","v":{"$error":"#REF!"}},{"$error":"#REF!"},{"$error":"#REF!"},{"$error":"#REF!"},{"$error":"#REF!"},{"$error":"#REF!"}]
[]
[null,null,"Liquidität Saldo",{"$f":"D6","v":"EUR "},{"$f":"E29-E37","v":0},{"$error":"#REF!"},{"$error":"#REF!"},{"$error":"#REF!"},{"$error":"#REF!"},{"$error":"#REF!"}]
[]
[null,null,"Einnahmen",{"$f":"D27","v":"EUR "},{"$f":"SUM(E30:E35)","v":0},{"$f":"SUM(F30:F36)","v":{"$error":"#REF!"}},{"$f":"SUM(G30:G36)","v":0},{"$f":"SUM(H30:H36)","v":0},{"$f":"SUM(I30:I36)","v":0},{"$f":"SUM(J30:J36)","v":0}]
[null,null,"Spenden",{"$f":"$D$29","v":"EUR "},0,{"$f":"Wirtschaftsplan!#REF!","v":{"$error":"#REF!"}},{"$f":"Wirtschaftsplan!M13","v":0},{"$f":"Wirtschaftsplan!N13","v":0},{"$f":"Wirtschaftsplan!O13","v":0},{"$f":"Wirtschaftsplan!P13","v":0}]
[null,null,"Zustiftungen",{"$f":"$D$29","v":"EUR "},0,{"$f":"Wirtschaftsplan!#REF!","v":{"$error":"#REF!"}},{"$f":"Wirtschaftsplan!M14","v":0},{"$f":"Wirtschaftsplan!N14","v":0},{"$f":"Wirtschaftsplan!O14","v":0},{"$f":"Wirtschaftsplan!P14","v":0}]
[null,"Ordtl. Erträge","Mieterträge (brutto)","EUR ",0,{"$f":"'Daten Projektion'!O136","v":0},{"$f":"'Daten Projektion'!P136","v":0},{"$f":"'Daten Projektion'!Q136","v":0},{"$f":"'Daten Projektion'!R136","v":0},{"$f":"'Daten Projektion'!S136","v":0}]
[null,null,"Erträge aus Beteiligungen","EUR ",0,{"$f":"'Daten Projektion'!O137","v":0},{"$f":"'Daten Projektion'!P137","v":0},{"$f":"'Daten Projektion'!Q137","v":0},{"$f":"'Daten Projektion'!R137","v":0},{"$f":"'Daten Projektion'!S137","v":0}]
[null,null,"Wertpapiererträge (brutto)","EUR ",0,{"$f":"'Daten Projektion'!O138","v":0},{"$f":"'Daten Projektion'!P138","v":0},{"$f":"'Daten Projektion'!Q138","v":0},{"$f":"'Daten Projektion'!R138","v":0},{"$f":"'Daten Projektion'!S138","v":0}]
[null,null,"Zinsen und ähnliche Erträge","EUR ",0,{"$f":"'Daten Projektion'!O142","v":0},{"$f":"'Daten Projektion'!P142","v":0},{"$f":"'Daten Projektion'!Q142","v":0},{"$f":"'Daten Projektion'!R142","v":0},{"$f":"'Daten Projektion'!S142","v":0}]
[null,null,"Erträge aus sonstigem Vermögen","EUR ",0,{"$f":"'Daten Projektion'!O144","v":0},{"$f":"'Daten Projektion'!P144","v":0},{"$f":"'Daten Projektion'!Q144","v":0},{"$f":"'Daten Projektion'!R144","v":0},{"$f":"'Daten Projektion'!S144","v":0}]
[null,null,"Ausgaben","EUR ",0,{"$f":"SUM(F38:F40)+SUM(F44:F48)","v":{"$error":"#REF!"}},{"$f":"SUM(G38:G40)+SUM(G44:G48)","v":{"$error":"#REF!"}},{"$f":"SUM(H38:H40)+SUM(H44:H48)","v":{"$error":"#REF!"}},{"$f":"SUM(I38:I40)+SUM(I44:I48)","v":{"$error":"#REF!"}},{"$f":"SUM(J38:J40)+SUM(J44:J48)","v":{"$error":"#REF!"}}]
[null,null,"Ausgaben für den Stiftungszweck","EUR ",0,{"$f":"IF(Anlageziele!$O$14=\"Zielausschüttung\",Anlageziele!$O$17,'Zahlen Worst Case'!F29-SUM('Zahlen Worst Case'!F39:F40)-SUM('Zahlen Worst Case'!F44:F48))","v":{"$error":"#REF!"}},{"$f":"IF(Anlageziele!$O$14=\"Zielausschüttung\",Anlageziele!$O$17,'Zahlen Worst Case'!G29-SUM('Zahlen Worst Case'!G39:G40)-SUM('Zahlen Worst Case'!G44:G48))","v":{"$error":"#REF!"}},{"$f":"IF(Anlageziele!$O$14=\"Zielausschüttung\",Anlageziele!$O$17,'Zahlen Worst Case'!H29-SUM('Zahlen Worst Case'!H39:H40)-SUM('Zahlen Worst Case'!H44:H48))","v":{"$error":"#REF!"}},{"$f":"IF(Anlageziele!$O$14=\"Zielausschüttung\",Anlageziele!$O$17,'Zahlen Worst Case'!I29-SUM('Zahlen Worst Case'!I39:I40)-SUM('Zahlen Worst Case'!I44:I48))","v":{"$error":"#REF!"}},{"$f":"IF(Anlageziele!$O$14=\"Zielausschüttung\",Anlageziele!$O$17,'Zahlen Worst Case'!J29-SUM('Zahlen Worst Case'!J39:J40)-SUM('Zahlen Worst Case'!J44:J48))","v":{"$error":"#REF!"}}]
[null,null,"Allg. Verwaltungskosten","EUR ",0,{"$f":"Wirtschaftsplan!#REF!","v":{"$error":"#REF!"}},{"$f":"Wirtschaftsplan!M54","v":0},{"$f":"Wirtschaftsplan!N54","v":0},{"$f":"Wirtschaftsplan!O54","v":0},{"$f":"Wirtschaftsplan!P54","v":0}]
[null,null,"Kosten Vermögensverwaltung","EUR ",0,{"$f":"SUM(F41:F43)","v":0},{"$f":"SUM(G41:G43)","v":0},{"$f":"SUM(H41:H43)","v":0},{"$f":"SUM(I41:I43)","v":0},{"$f":"SUM(J41:J43)","v":0}]
[null,null," davon Immobilien","EUR ",0,{"$f":"'Daten Projektion'!O203","v":0},{"$f":"'Daten Projektion'!P203","v":0},{"$f":"'Daten Projektion'!Q203","v":0},{"$f":"'Daten Projektion'!R203","v":0},{"$f":"'Daten Projektion'!S203","v":0}]
[null,null," davon Beteiligungen","EUR ",0,{"$f":"'Daten Projektion'!O204","v":0},{"$f":"'Daten Projektion'!P204","v":0},{"$f":"'Daten Projektion'!Q204","v":0},{"$f":"'Daten Projektion'!R204","v":0},{"$f":"'Daten Projektion'!S204","v":0}]
[null,null," davon Wertpapiere","EUR ",0,{"$f":"'Daten Projektion'!O205","v":0},{"$f":"'Daten Projektion'!P205","v":0},{"$f":"'Daten Projektion'!Q205","v":0},{"$f":"'Daten Projektion'!R205","v":0},{"$f":"'Daten Projektion'!S205","v":0}]
[null,null,"Sollzinsen","EUR ",0,{"$f":"'Daten Projektion'!#REF!*-1","v":{"$error":"#REF!"}},{"$f":"'Daten Projektion'!#REF!*-1","v":{"$error":"#REF!"}},{"$f":"'Daten Projektion'!#REF!*-1","v":{"$error":"#REF!"}},{"$f":"'Daten Projektion'!#REF!*-1","v":{"$error":"#REF!"}},{"$f":"'Daten Projektion'!#REF!*-1","v":{"$error":"#REF!"}}]
[null,null,"Tilgung","EUR ",0,{"$f":"(E17-F17)*-1","v":{"$error":"#REF!"}},{"$f":"(F17-G17)*-1","v":{"$error":"#REF!"}},{"$f":"(G17-H17)*-1","v":{"$error":"#REF!"}},{"$f":"(H17-I17)*-1","v":{"$error":"#REF!"}},{"$f":"(I17-J17)*-1","v":{"$error":"#REF!"}}," "]
[null,null,"Sonstige Aufwände","EUR ",0,{"$f":"Wirtschaftsplan!#REF!","v":{"$error":"#REF!"}},{"$f":"Wirtschaftsplan!M37","v":0},{"$f":"Wirtschaftsplan!N37","v":0},{"$f":"Wirtschaftsplan!O37","v":0},{"$f":"Wirtschaftsplan!P37","v":0}]
[null,null,"Zuführung Freie Rücklage","EUR ",0,{"$f":"IF(Anlageziele!$O$14=\"Zielausschüttung\",'Zahlen Worst Case'!F29-SUM('Zahlen Worst Case'!F38:F40)-SUM('Zahlen Worst Case'!F44:F46)-'Zahlen Worst Case'!F48,(SUM(F32:F36)-F40)*Einstellungen!$G$25%+F29-F39-F40-F44-F45-F46-(SUM(F32:F36)-F40)*Einstellungen!$G$25%-F48)","v":{"$error":"#REF!"}},{"$f":"IF(Anlageziele!$O$14=\"Zielausschüttung\",'Zahlen Worst Case'!G29-SUM('Zahlen Worst Case'!G38:G40)-SUM('Zahlen Worst Case'!G44:G46)-'Zahlen Worst Case'!G48,(SUM(G32:G36)-G40)*Einstellungen!$G$25%+G29-G39-G40-G44-G45-G46-(SUM(G32:G36)-G40)*Einstellungen!$G$25%-G48)","v":{"$error":"#REF!"}},{"$f":"IF(Anlageziele!$O$14=\"Zielausschüttung\",'Zahlen Worst Case'!H29-SUM('Zahlen Worst Case'!H38:H40)-SUM('Zahlen Worst Case'!H44:H46)-'Zahlen Worst Case'!H48,(SUM(H32:H36)-H40)*Einstellungen!$G$25%+H29-H39-H40-H44-H45-H46-(SUM(H32:H36)-H40)*Einstellungen!$G$25%-H48)","v":{"$error":"#REF!"}},{"$f":"IF(Anlageziele!$O$14=\"Zielausschüttung\",'Zahlen Worst Case'!I29-SUM('Zahlen Worst Case'!I38:I40)-SUM('Zahlen Worst Case'!I44:I46)-'Zahlen Worst Case'!I48,(SUM(I32:I36)-I40)*Einstellungen!$G$25%+I29-I39-I40-I44-I45-I46-(SUM(I32:I36)-I40)*Einstellungen!$G$25%-I48)","v":{"$error":"#REF!"}},{"$f":"IF(Anlageziele!$O$14=\"Zielausschüttung\",'Zahlen Worst Case'!J29-SUM('Zahlen Worst Case'!J38:J40)-SUM('Zahlen Worst Case'!J44:J46)-'Zahlen Worst Case'!J48,(SUM(J32:J36)-J40)*Einstellungen!$G$25%+J29-J39-J40-J44-J45-J46-(SUM(J32:J36)-J40)*Einstellungen!$G$25%-J48)","v":{"$error":"#REF!"}}]
[null,null,"Neuanlage","EUR ",{"$f":"E31","v":0},{"$error":"#REF!"},0,0,0,0]
[null,null,"Kennzahlen",null," "]
[null,null,"Ausschüttungsrendite brutto","%",{"v":0,"d":"0.0%"},{"$f":"SUM(F32:F36)/E6","v":{"$error":"#REF!"}},{"$f":"SUM(G32:G36)/F6","v":{"$error":"#REF!"}},{"$f":"SUM(H32:H36)/G6","v":{"$error":"#REF!"}},{"$f":"SUM(I32:I36)/H6","v":{"$error":"#REF!"}},{"$f":"SUM(J32:J36)/I6","v":{"$error":"#REF!"}}]
[null,null,"Verwaltungskostenquote (Aufsicht)","%",{"v":0,"d":"0.0%"},{"$f":"(F39+F40)/(F29-F31)","v":{"$error":"#REF!"}},{"$f":"(G39+G40)/(G29-G31)","v":{"$error":"#DIV/0!"}},{"$f":"(H39+H40)/(H29-H31)","v":{"$error":"#DIV/0!"}},{"$f":"(I39+I40)/(I29-I31)","v":{"$error":"#DIV/0!"}},{"$f":"(J39+J40)/(J29-J31)","v":{"$error":"#DIV/0!"}}]
[null,null,"Verwaltungskostenquote (Finanzamt)","%",{"v":0,"d":"0.0%"},{"$f":"F39/(F29-F40-F31)","v":{"$error":"#REF!"}},{"$f":"G39/(G29-G40-G31)","v":{"$error":"#DIV/0!"}},{"$f":"H39/(H29-H40-H31)","v":{"$error":"#DIV/0!"}},{"$f":"I39/(I29-I40-I31)","v":{"$error":"#DIV/0!"}},{"$f":"J39/(J29-J40-J31)","v":{"$error":"#DIV/0!"}}]
[null,null,"Zweckeffizienz der Erträge","%",{"v":0,"d":"0.0%"},{"$f":"F38/(F29-F31)","v":{"$error":"#REF!"}},{"$f":"G38/(G29-G31)","v":{"$error":"#REF!"}},{"$f":"H38/(H29-H31)","v":{"$error":"#REF!"}},{"$f":"I38/(I29-I31)","v":{"$error":"#REF!"}},{"$f":"J38/(J29-J31)","v":{"$error":"#REF!"}}]
[null,null,"Zweckeffizienz des Vermögens","%",{"$f":"E38/E6","v":{"$error":"#REF!"}},{"$error":"#REF!"},{"$error":"#REF!"},{"$error":"#REF!"},{"$error":"#REF!"},{"$error":"#REF!"}]

{"sheet":"Zahlen Umschichtung","index":33,"n_rows":108,"n_cols":11,"rows_kept":108,"hidden":true,"merged":[[31,1,35,1]]}
[]
[null,null,"Analyse Umschichtung"]
[]
[null,null,"Beschreibung","Einh.","Bestand",{"$f":"Einstellungen!G13","v":2024},{"$f":"F4+1","v":2025},{"$f":"G4+1","v":2026},{"$f":"H4+1","v":2027},{"$f":"I4+1","v":2028}]
[]
[null,null,"Vermögen",{"$f":"Einstellungen!G16","v":"EUR "},{"$f":"SUM(E7:E9)+SUM(E14:E17)","v":{"$error":"#REF!"}},{"$error":"#REF!"},{"$error":"#REF!"},{"$error":"#REF!"},{"$error":"#REF!"},{"$error":"#REF!"}]
[null,null,"Immobilien (Verkehrswert)",{"$f":"$D$6","v":"EUR "},{"$f":"Daten_Umschichtung!N65","v":0},{"$f":"Daten_Umschichtung!O65","v":0},{"$f":"Daten_Umschichtung!P65","v":0},{"$f":"Daten_Umschichtung!Q65","v":0},{"$f":"Daten_Umschichtung!R65","v":0},{"$f":"Daten_Umschichtung!S65","v":0}]
[null,null,"Beteiligungen","EUR ",{"$f":"Daten_Umschichtung!N66","v":0},{"$f":"Daten_Umschichtung!O66","v":0},{"$f":"Daten_Umschichtung!P66","v":0},{"$f":"Daten_Umschichtung!Q66","v":0},{"$f":"Daten_Umschichtung!R66","v":0},{"$f":"Daten_Umschichtung!S66","v":0}]
[null,null,"Wertpapiere","EUR ",{"$f":"Daten_Umschichtung!N67","v":0},{"$f":"Daten_Umschichtung!O67","v":0},{"$f":"Daten_Umschichtung!P67","v":0},{"$f":"Daten_Umschichtung!Q67","v":0},{"$f":"Daten_Umschichtung!R67","v":0},{"$f":"Daten_Umschichtung!S67","v":0}]
[null,null," davon Aktien","EUR ",{"$f":"Daten_Umschichtung!N68","v":0},{"$f":"Daten_Umschichtung!O68","v":0},{"$f":"Daten_Umschichtung!P68","v":0},{"$f":"Daten_Umschichtung!Q68","v":0},{"$f":"Daten_Umschichtung!R68","v":0},{"$f":"Daten_Umschichtung!S68","v":0}]
[null,null," davon Renten","EUR ",{"$f":"Daten_Umschichtung!N69","v":0},{"$f":"Daten_Umschichtung!O69","v":0},{"$f":"Daten_Umschichtung!P69","v":0},{"$f":"Daten_Umschichtung!Q69","v":0},{"$f":"Daten_Umschichtung!R69","v":0},{"$f":"Daten_Umschichtung!S69","v":0}]
[null,null," davon Liquidität (Cashbestand in Fonds)","EUR ",{"$f":"Daten_Umschichtung!N70","v":0},{"$f":"Daten_Umschichtung!O70","v":0},{"$f":"Daten_Umschichtung!P70","v":0},{"$f":"Daten_Umschichtung!Q70","v":0},{"$f":"Daten_Umschichtung!R70","v":0},{"$f":"Daten_Umschichtung!S70","v":0}]
[null,null," davon Alternative Investments","EUR ",{"$f":"Daten_Umschichtung!N71","v":0},{"$f":"Daten_Umschichtung!O71","v":0},{"$f":"Daten_Umschichtung!P71","v":0},{"$f":"Daten_Umschichtung!Q71","v":0},{"$f":"Daten_Umschichtung!R71","v":0},{"$f":"Daten_Umschichtung!S71","v":0}]
[null,null,"Spar- und Termineinlagen","EUR ",{"$f":"Daten_Umschichtung!N72","v":0},{"$f":"Daten_Umschichtung!O72","v":0},{"$f":"Daten_Umschichtung!P72","v":0},{"$f":"Daten_Umschichtung!Q72","v":0},{"$f":"Daten_Umschichtung!R72","v":0},{"$f":"Daten_Umschichtung!S72","v":0}]
[null,null,"Kontoguthaben Investitionsvermögen","EUR ",{"$f":"Daten_Umschichtung!N73","v":0},{"$f":"Daten_Umschichtung!O73","v":0},{"$f":"Daten_Umschichtung!P73","v":0},{"$f":"Daten_Umschichtung!Q73","v":0},{"$f":"Daten_Umschichtung!R73","v":0},{"$f":"Daten_Umschichtung!S73","v":0}]
[null,null,"Sonstiges Vermögen","EUR ",{"$f":"Daten_Umschichtung!#REF!","v":{"$error":"#REF!"}},{"$f":"Daten_Umschichtung!#REF!","v":{"$error":"#REF!"}},{"$f":"Daten_Umschichtung!#REF!","v":{"$error":"#REF!"}},{"$f":"Daten_Umschichtung!#REF!","v":{"$error":"#REF!"}},{"$f":"Daten_Umschichtung!#REF!","v":{"$error":"#REF!"}},{"$f":"Daten_Umschichtung!#REF!","v":{"$error":"#REF!"}}]
[null,null,"Verbindlichkeiten","EUR ",{"$f":"Daten_Umschichtung!#REF!","v":{"$error":"#REF!"}},{"$f":"Daten_Umschichtung!#REF!","v":{"$error":"#REF!"}},{"$f":"Daten_Umschichtung!#REF!","v":{"$error":"#REF!"}},{"$f":"Daten_Umschichtung!#REF!","v":{"$error":"#REF!"}},{"$f":"Daten_Umschichtung!#REF!","v":{"$error":"#REF!"}},{"$f":"Daten_Umschichtung!#REF!","v":{"$error":"#REF!"}}]
[null,null,"Kennzahlen"]
[null,null,"Aktienquote Wertpapiere","%",{"$f":"E10/E9","v":{"$error":"#DIV/0!"}},{"$error":"#DIV/0!"},{"$error":"#DIV/0!"},{"$error":"#DIV/0!"},{"$error":"#DIV/0!"},{"$error":"#DIV/0!"}]
[null,null,"Aktienquote Gesamtvermögen","%",{"$f":"E10/E6","v":{"$error":"#REF!"}},{"$error":"#REF!"},{"$error":"#REF!"},{"$error":"#REF!"},{"$error":"#REF!"},{"$error":"#REF!"}]
[null,null,"Bestand freie Rücklage",{"$f":"D6","v":"EUR "},{"$f":"IF(Einstellungen!G16=\"TEUR\",Einstellungen!G24/1000,Einstellungen!G24)","v":0},{"$f":"E21+E22","v":0},{"$f":"F21+F22","v":{"$error":"#REF!"}},{"$f":"G21+G22","v":{"$error":"#REF!"}},{"$f":"H21+H22","v":{"$error":"#REF!"}},{"$f":"I21+I22","v":{"$error":"#REF!"}}]
[null,null,"Veränderung freie Rücklage inkl. Tilgung",{"$f":"D7","v":"EUR "},0,{"$f":"F47","v":{"$error":"#REF!"}},{"$f":"G47","v":{"$error":"#REF!"}},{"$f":"H47","v":{"$error":"#REF!"}},{"$f":"I47","v":{"$error":"#REF!"}},{"$f":"J47","v":{"$error":"#REF!"}}]
[null,null,"Grundstockvermögen (Soll)",{"$f":"D10","v":"EUR "},{"$f":"Daten_Umschichtung!N77","v":0},{"$f":"Daten_Umschichtung!O77","v":0},{"$f":"Daten_Umschichtung!P77","v":0},{"$f":"Daten_Umschichtung!Q77","v":0},{"$f":"Daten_Umschichtung!R77","v":0},{"$f":"Daten_Umschichtung!S77","v":0}]
[null,null,"Delta absolut",{"$f":"D12","v":"EUR "},{"$f":"E6-E23","v":{"$error":"#REF!"}},{"$error":"#REF!"},{"$error":"#REF!"},{"$error":"#REF!"},{"$error":"#REF!"},{"$error":"#REF!"}]
[null,null,"Delta Prozent","%",{"$f":"E24/E6","v":{"$error":"#REF!"}},{"$error":"#REF!"},{"$error":"#REF!"},{"$error":"#REF!"},{"$error":"#REF!"},{"$error":"#REF!"}]
[]
[null,null,"Liquidität Saldo",{"$f":"D6","v":"EUR "},{"$f":"E29-E37","v":0},{"$error":"#REF!"},{"$error":"#REF!"},{"$error":"#REF!"},{"$error":"#REF!"},{"$error":"#REF!"}]
[]
[null,null,"Einnahmen",{"$f":"D27","v":"EUR "},{"$f":"SUM(E30:E35)","v":0},{"$f":"SUM(F30:F36)","v":{"$error":"#REF!"}},{"$f":"SUM(G30:G36)","v":{"$error":"#REF!"}},{"$f":"SUM(H30:H36)","v":{"$error":"#REF!"}},{"$f":"SUM(I30:I36)","v":{"$error":"#REF!"}},{"$f":"SUM(J30:J36)","v":{"$error":"#REF!"}}]
[null,null,"Spenden",{"$f":"$D$29","v":"EUR "},0,{"$f":"Wirtschaftsplan!#REF!","v":{"$error":"#REF!"}},{"$f":"Wirtschaftsplan!M13","v":0},{"$f":"Wirtschaftsplan!N13","v":0},{"$f":"Wirtschaftsplan!O13","v":0},{"$f":"Wirtschaftsplan!P13","v":0}]
[null,null,"Zustiftungen",{"$f":"$D$29","v":"EUR "},0,{"$f":"Wirtschaftsplan!#REF!","v":{"$error":"#REF!"}},{"$f":"Wirtschaftsplan!M14","v":0},{"$f":"Wirtschaftsplan!N14","v":0},{"$f":"Wirtschaftsplan!O14","v":0},{"$f":"Wirtschaftsplan!P14","v":0}]
[null,"Ordtl. Erträge","Mieterträge (brutto)","EUR ",0,{"$f":"Daten_Umschichtung!O145","v":0},{"$f":"Daten_Umschichtung!P145","v":0},{"$f":"Daten_Umschichtung!Q145","v":0},{"$f":"Daten_Umschichtung!R145","v":0},{"$f":"Daten_Umschichtung!S145","v":0}]
[null,null,"Erträge aus Beteiligungen","EUR ",0,{"$f":"Daten_Umschichtung!O146","v":0},{"$f":"Daten_Umschichtung!P146","v":0},{"$f":"Daten_Umschichtung!Q146","v":0},{"$f":"Daten_Umschichtung!R146","v":0},{"$f":"Daten_Umschichtung!S146","v":0}]
[null,null,"Wertpapiererträge (brutto)","EUR ",0,{"$f":"Daten_Umschichtung!O147","v":0},{"$f":"Daten_Umschichtung!P147","v":0},{"$f":"Daten_Umschichtung!Q147","v":0},{"$f":"Daten_Umschichtung!R147","v":0},{"$f":"Daten_Umschichtung!S147","v":0}]
[null,null,"Zinsen und ähnliche Erträge","EUR ",0,{"$f":"Daten_Umschichtung!O152","v":0},{"$f":"Daten_Umschichtung!P152","v":0},{"$f":"Daten_Umschichtung!Q152","v":0},{"$f":"Daten_Umschichtung!R152","v":0},{"$f":"Daten_Umschichtung!S152","v":0}]
[null,null,"Erträge aus sonstigem Vermögen","EUR ",0,{"$f":"Daten_Umschichtung!#REF!","v":{"$error":"#REF!"}},{"$f":"Daten_Umschichtung!#REF!","v":{"$error":"#REF!"}},{"$f":"Daten_Umschichtung!#REF!","v":{"$error":"#REF!"}},{"$f":"Daten_Umschichtung!#REF!","v":{"$error":"#REF!"}},{"$f":"Daten_Umschichtung!#REF!","v":{"$error":"#REF!"}}]
[null,null,"Ausgaben","EUR ",0,{"$f":"SUM(F38:F40)+SUM(F44:F48)","v":{"$error":"#REF!"}},{"$f":"SUM(G38:G40)+SUM(G44:G48)","v":{"$error":"#REF!"}},{"$f":"SUM(H38:H40)+SUM(H44:H48)","v":{"$error":"#REF!"}},{"$f":"SUM(I38:I40)+SUM(I44:I48)","v":{"$error":"#REF!"}},{"$f":"SUM(J38:J40)+SUM(J44:J48)","v":{"$error":"#REF!"}}]
[null,null,"Ausgaben für den Stiftungszweck","EUR ",0,{"$f":"IF(Anlageziele!$O$14=Daten_Einstellg_Ziele!$D$20,Anlageziele!$O$17,IF(Anlageziele!$O$14=Daten_Einstellg_Ziele!$D$21,Daten_Vermögenserhaltung!$D$75*Anlageziele!O17%,F29-F39-F40-F44-F45-F45-F46-F47-F48))","v":{"$error":"#REF!"}},{"$f":"IF(Anlageziele!$O$14=Daten_Einstellg_Ziele!$D$20,Anlageziele!$O$17,IF(Anlageziele!$O$14=Daten_Einstellg_Ziele!$D$21,Daten_Vermögenserhaltung!$D$75*Anlageziele!P17%,G29-G39-G40-G44-G45-G45-G46-G47-G48))","v":{"$error":"#REF!"}},{"$f":"IF(Anlageziele!$O$14=Daten_Einstellg_Ziele!$D$20,Anlageziele!$O$17,IF(Anlageziele!$O$14=Daten_Einstellg_Ziele!$D$21,Daten_Vermögenserhaltung!$D$75*Anlageziele!Q16%,H29-H39-H40-H44-H45-H45-H46-H47-H48))","v":{"$error":"#REF!"}},{"$f":"IF(Anlageziele!$O$14=Daten_Einstellg_Ziele!$D$20,Anlageziele!$O$17,IF(Anlageziele!$O$14=Daten_Einstellg_Ziele!$D$21,Daten_Vermögenserhaltung!$D$75*Anlageziele!R16%,I29-I39-I40-I44-I45-I45-I46-I47-I48))","v":{"$error":"#REF!"}},{"$f":"IF(Anlageziele!$O$14=Daten_Einstellg_Ziele!$D$20,Anlageziele!$O$17,IF(Anlageziele!$O$14=Daten_Einstellg_Ziele!$D$21,Daten_Vermögenserhaltung!$D$75*Anlageziele!S16%,J29-J39-J40-J44-J45-J45-J46-J47-J48))","v":{"$error":"#REF!"}}]
[null,null,"Allg. Verwaltungskosten","EUR ",0,{"$f":"Wirtschaftsplan!#REF!","v":{"$error":"#REF!"}},{"$f":"Wirtschaftsplan!M54","v":0},{"$f":"Wirtschaftsplan!N54","v":0},{"$f":"Wirtschaftsplan!O54","v":0},{"$f":"Wirtschaftsplan!P54","v":0}]
[null,null,"Kosten Vermögensverwaltung","EUR ",0,{"$f":"'Daten Projektion'!O212","v":0},{"$f":"'Daten Projektion'!P212","v":0},{"$f":"'Daten Projektion'!Q212","v":0},{"$f":"'Daten Projektion'!R212","v":0},{"$f":"'Daten Projektion'!S212","v":0}]
[null,null," davon Immobilien","EUR ",0,{"$f":"'Daten Projektion'!O203","v":0},{"$f":"'Daten Projektion'!P203","v":0},{"$f":"'Daten Projektion'!Q203","v":0},{"$f":"'Daten Projektion'!R203","v":0},{"$f":"'Daten Projektion'!S203","v":0}]
[null,null," davon Beteiligungen","EUR ",0,{"$f":"'Daten Projektion'!O204","v":0},{"$f":"'Daten Projektion'!P204","v":0},{"$f":"'Daten Projektion'!Q204","v":0},{"$f":"'Daten Projektion'!R204","v":0},{"$f":"'Daten Projektion'!S204","v":0}]
[null,null," davon Wertpapiere","EUR ",0,{"$f":"'Daten Projektion'!O205","v":0},{"$f":"'Daten Projektion'!P205","v":0},{"$f":"'Daten Projektion'!Q205","v":0},{"$f":"'Daten Projektion'!R205","v":0},{"$f":"'Daten Projektion'!S205","v":0}]
[null,null,"Sollzinsen","EUR ",0,{"$f":"Daten_Umschichtung!#REF!*-1","v":{"$error":"#REF!"}},{"$f":"Daten_Umschichtung!#REF!*-1","v":{"$error":"#REF!"}},{"$f":"Daten_Umschichtung!#REF!*-1","v":{"$error":"#REF!"}},{"$f":"Daten_Umschichtung!#REF!*-1","v":{"$error":"#REF!"}},{"$f":"Daten_Umschichtung!#REF!*-1","v":{"$error":"#REF!"}}]
[null,null,"Tilgung",{"$f":"$D$29","v":"EUR "},0,{"$f":"(E17-F17)*-1","v":{"$error":"#REF!"}},{"$f":"(F17-G17)*-1","v":{"$error":"#REF!"}},{"$f":"(G17-H17)*-1","v":{"$error":"#REF!"}},{"$f":"(H17-I17)*-1","v":{"$error":"#REF!"}},{"$f":"(I17-J17)*-1","v":{"$error":"#REF!"}}," "]
[null,null,"Sonstige Aufwände","EUR ",0,{"$f":"Wirtschaftsplan!#REF!","v":{"$error":"#REF!"}},{"$f":"Wirtschaftsplan!M37","v":0},{"$f":"Wirtschaftsplan!N37","v":0},{"$f":"Wirtschaftsplan!O37","v":0},{"$f":"Wirtschaftsplan!P37","v":0}]
[null,null,"Zuführung Freie Rücklage","EUR ",0,{"$f":"IF(Anlageziele!$O$14=\"Überschuss\",'Daten Projektion'!#REF!,'Daten Projektion'!#REF!)","v":{"$error":"#REF!"}},{"$f":"IF(Anlageziele!$O$14=\"Überschuss\",'Daten Projektion'!#REF!,'Daten Projektion'!#REF!)","v":{"$error":"#REF!"}},{"$f":"IF(Anlageziele!$O$14=\"Überschuss\",'Daten Projektion'!#REF!,'Daten Projektion'!#REF!)","v":{"$error":"#REF!"}},{"$f":"IF(Anlageziele!$O$14=\"Überschuss\",'Daten Projektion'!#REF!,'Daten Projektion'!#REF!)","v":{"$error":"#REF!"}},{"$f":"IF(Anlageziele!$O$14=\"Überschuss\",'Daten Projektion'!#REF!,'Daten Projektion'!#REF!)","v":{"$error":"#REF!"}}]
[null,null,"Neuanlage","EUR ",{"$f":"E31","v":0},{"$error":"#REF!"},0,0,0,0]
[null,null,"Kennzahlen",null," "]
[null,null,"Ausschüttungsrendite brutto","%",{"v":0,"d":"0.0%"},{"$f":"SUM(F32:F36)/E6","v":{"$error":"#REF!"}},{"$f":"SUM(G32:G36)/F6","v":{"$error":"#REF!"}},{"$f":"SUM(H32:H36)/G6","v":{"$error":"#REF!"}},{"$f":"SUM(I32:I36)/H6","v":{"$error":"#REF!"}},{"$f":"SUM(J32:J36)/I6","v":{"$error":"#REF!"}}]
[null,null,"Verwaltungskostenquote 1 (Aufsicht)","%",{"v":0,"d":"0.0%"},{"$f":"(F39+F40)/(F29-F31)","v":{"$error":"#REF!"}},{"$f":"(G39+G40)/(G29-G31)","v":{"$error":"#REF!"}},{"$f":"(H39+H40)/(H29-H31)","v":{"$error":"#REF!"}},{"$f":"(I39+I40)/(I29-I31)","v":{"$error":"#REF!"}},{"$f":"(J39+J40)/(J29-J31)","v":{"$error":"#REF!"}}]
[null,null,"Verwaltungskostenquote 2 (Finanzamt)","%",{"v":0,"d":"0.0%"},{"$f":"F39/(F29-F40-F31)","v":{"$error":"#REF!"}},{"$f":"G39/(G29-G40-G31)","v":{"$error":"#REF!"}},{"$f":"H39/(H29-H40-H31)","v":{"$error":"#REF!"}},{"$f":"I39/(I29-I40-I31)","v":{"$error":"#REF!"}},{"$f":"J39/(J29-J40-J31)","v":{"$error":"#REF!"}}]
[null,null,"Zweckeffizienz der Erträge","%",{"v":0,"d":"0.0%"},{"$f":"F38/(F29-F31)","v":{"$error":"#REF!"}},{"$f":"G38/(G29-G31)","v":{"$error":"#REF!"}},{"$f":"H38/(H29-H31)","v":{"$error":"#REF!"}},{"$f":"I38/(I29-I31)","v":{"$error":"#REF!"}},{"$f":"J38/(J29-J31)","v":{"$error":"#REF!"}}]
[null,null,"Zweckeffizienz des Vermögens","%",{"$f":"E38/E6","v":{"$error":"#REF!"}},{"$error":"#REF!"},{"$error":"#REF!"},{"$error":"#REF!"},{"$error":"#REF!"},{"$error":"#REF!"}]
{"$rows_empty":46}
[null,null,"Ergebnisbeiträge"]
[{"$nulls":4},"Ant. Vermögen","Ant. Ertrag"]
[null,null,"Immobilien (Verkwert.)",null,{"$f":"#REF!/#REF!","v":{"$error":"#REF!"}},{"$f":"#REF!/#REF!","v":{"$error":"#REF!"}}]
[null,null,"Beteiligungen",null,{"$f":"#REF!/#REF!","v":{"$error":"#REF!"}},{"$f":"#REF!/#REF!","v":{"$error":"#REF!"}}]
[null,null,"Wertpapiere",null,{"$f":"#REF!/#REF!","v":{"$error":"#REF!"}},{"$f":"#REF!/#REF!","v":{"$error":"#REF!"}}]
[null,null,"Spar- und Termineinlagen",null,{"$f":"#REF!/#REF!","v":{"$error":"#REF!"}},{"$f":"#REF!/#REF!","v":{"$error":"#REF!"}}]
[null,null,"Sonstiges Vermögen",null,{"$f":"#REF!/#REF!","v":{"$error":"#REF!"}},{"$f":"#REF!/#REF!","v":{"$error":"#REF!"}}]
[{"$nulls":4},{"$f":"SUM(E103:E107)","v":{"$error":"#REF!"}},{"$f":"SUM(F103:F107)","v":{"$error":"#REF!"}}]

{"sheet":"Daten Anlageangebote","index":34,"n_rows":60,"n_cols":19,"rows_kept":60,"hidden":true}
["Daten Anlageangebote"]
[]
[null,"1. Auswahlfelder",{"$nulls":3},"Finanzdienstleistung","Gremium",null,"Unbedenklichkeit","2. Kostenbewertung","Anbieter 1","Anbieter 2","Anbieter 3","Anbieter 4","Anbieter 5","Anbieter 6","Durchschnitt","Min","Max"]
[{"$nulls":5},"Bitte auswählen","Bitte auswählen",null,"Bitte auswählen","Einmalkosten",{"$f":"Angebotsvergleich!L46","v":0},{"$f":"Angebotsvergleich!N46","v":0},{"$f":"Angebotsvergleich!P46","v":0},{"$f":"Angebotsvergleich!R46","v":0},{"$f":"Angebotsvergleich!T46","v":0},{"$f":"Angebotsvergleich!V46","v":0},{"$f":"SUM(K4:P4)/Angebotsvergleich!H15","v":{"$error":"#DIV/0!"}},{"$f":"MIN(K4:P4)","v":0},{"$f":"MAX(K4:P4)","v":0}]
[{"$nulls":5},"Investmentfonds",{"$f":"Einstellungen!P16","v":"Bitte auswählen"},null,"Ja","Abweichung Durchschnitt",{"$f":"$Q$4-K4","v":{"$error":"#DIV/0!"}},{"$error":"#DIV/0!"},{"$error":"#DIV/0!"},{"$error":"#DIV/0!"},{"$error":"#DIV/0!"},{"$error":"#DIV/0!"},"Stufen"]
[{"$nulls":5},"Vermögensverwaltungsmandat",{"$f":"Einstellungen!P30","v":"Keines"},null,"Nein",null,{"$f":"K5/$Q$6","v":{"$error":"#DIV/0!"}},{"$error":"#DIV/0!"},{"$error":"#DIV/0!"},{"$error":"#DIV/0!"},{"$error":"#DIV/0!"},{"$error":"#DIV/0!"},{"$f":"Q4*10%","v":{"$error":"#DIV/0!"}},{"$f":"(Q4-R4)/4","v":{"$error":"#DIV/0!"}},{"$f":"(Q4-S4)/4","v":{"$error":"#DIV/0!"}}]
[{"$nulls":5},"Spezialfondsmandat",{"$nulls":3},"Gesamtpunktzahl Durchschnitt",{"$f":"IF(K6+5>10,10,IF(K6+5<0,0,K6+5))","v":{"$error":"#DIV/0!"}},{"$error":"#DIV/0!"},{"$error":"#DIV/0!"},{"$error":"#DIV/0!"},{"$error":"#DIV/0!"},{"$error":"#DIV/0!"}]
[{"$nulls":5},"Versicherungsprodukt",{"$nulls":3},"Abweichung Min/Max",{"$f":"IF(K4<$Q$4,K5/$R$6,IF(K4>$Q$4,K5/$S$6*-1,0))","v":{"$error":"#DIV/0!"}},{"$error":"#DIV/0!"},{"$error":"#DIV/0!"},{"$error":"#DIV/0!"},{"$error":"#DIV/0!"},{"$error":"#DIV/0!"}]
[{"$nulls":5},"KVG-Dienstleistung",{"$nulls":3},"Gesamtpunktzahl Min/Max",{"$f":"K8+5","v":{"$error":"#DIV/0!"}},{"$error":"#DIV/0!"},{"$error":"#DIV/0!"},{"$error":"#DIV/0!"},{"$error":"#DIV/0!"},{"$error":"#DIV/0!"}]
[{"$nulls":5},"Beratung"]
[{"$nulls":5},"Sonstiges"]
[null,"2. Textbausteine"]
[]
[null,"Funktion","Fixer Text","Variabler Text"]
[null,"Einleitung","Im Rahmen einer Vermögensumschichtung hatte die Stiftung die vorstehend genannten Finanzdienstleistungen zu vergeben."]
[null,null,"Art der Finanzdienstleistung:",{"$f":"Angebotsvergleich!H10","v":"Bitte auswählen"},null,"Anbieter 1",{"$f":"IF(Angebotsvergleich!K$19=\"Anbieter 1\",0,1)","v":0}]
[null,null,"Vergabevolumen EUR:",{"$f":"Angebotsvergleich!H11","v":{"v":100000,"d":"100,000"}},null,"Anbieter 2",{"$f":"IF(Angebotsvergleich!M$19=\"Anbieter 2\",0,1)","v":0}]
[null,null,"Um ihren hohen Anforderungen an eine faire und transparente Anbieterauswahl gerecht zu werden, erfolgte diese im Wege eines geregelten Vergabeverfahrens mit einer gewichteten Kriterienmatrix.",null,null,"Anbieter 3",{"$f":"IF(Angebotsvergleich!O$19=\"Anbieter 3\",0,1)","v":0}]
[null,null,"Hierzu wurden mehrere Anbieter schriftlich unter Vorlage der Anlagerichtlinien zur Abgabe eines Angebotes bis zur nachfolgend genannten Frist eingeladen.",null,null,"Anbieter 4",{"$f":"IF(Angebotsvergleich!Q$19=\"Anbieter 4\",0,1)","v":0}]
[null,null,"Anzahl der eingeladene Anbieter:",{"$f":"Angebotsvergleich!H14","v":0},null,"Anbieter 5",{"$f":"IF(Angebotsvergleich!S$19=\"Anbieter 5\",0,1)","v":0}]
[null,null,"Letzter Abgabezeitpunkt (Eingang):",{"$f":"Angebotsvergleich!H16","v":"00:00:00"},null,"Anbieter 6",{"$f":"IF(Angebotsvergleich!U$19=\"Anbieter 6\",0,1)","v":0}]
[null,null,"Eingegangene und ausgewertete Angebote:",{"$f":"Angebotsvergleich!H15","v":0},null,null,{"$f":"SUM(G16:G21)","v":0}]
[null,"Anbieter","Folgende Adressen gaben fristgerecht ein Angebot ab."]
[null,"Methodik","Im Vorfeld der Vergabeentscheidung wurden in den Kriterienblöcken \"Unternehmen\", \"Anlageangebot\" und \"Kosten\" Beurteilungskriterien definiert und entsprechend dem aktuellen Anlagebedarf der Stiftung nach Prozenten gewichtet. In jedem einzelnen Kriterium kann jeder Anbieter bis zu 10 Punkte erhalten. Eine Bewertung von 5 Punkten stellt dabei als Orientierung den Durchschnitt aller Anbieter dar. Die maximal erreichbare Gesamtpunktzahl beträgt auf Grund der Gewichtung der Einzelkriterien ebenfalls 10."]
[null,"Gewichtung Kriterienblöcke","Die drei Kriterienblöcke sind untereinander wie folgt gewichtet."]
[null,null,"I. Unternehmen",{"$f":"Angebotsvergleich!J21","v":{"v":0.30000000000000004,"d":"30%"}}]
[null,null,"II. Angebot",{"$f":"Angebotsvergleich!J33","v":{"v":0.30000000000000004,"d":"30%"}}]
[null,null,"III. Kosten",{"$f":"Angebotsvergleich!J49","v":{"v":0.4,"d":"40%"}}]
[null,"Bester Anbieter","Folgender Anbieter hat mit der angegebenen Punktzahl am besten abgeschnitten und daher den Zuschlag erhalten.",null,null,"Gesamtergebnis"]
[null,null,"Anbieter",{"$f":"INDEX(F30:G35,MATCH(D31,G30:G35,0),1)","v":"Anbieter 1"},null,{"$f":"Angebotsvergleich!K56","v":"Anbieter 1"},{"$f":"Angebotsvergleich!L57","v":{"v":0,"d":"0.00"}}]
[null,null,"Gesamtpunktzahl",{"$f":"MAX(G30:G35)","v":{"v":0,"d":"0.00"}},null,{"$f":"Angebotsvergleich!M19","v":"Anbieter 2"},{"$f":"Angebotsvergleich!N57","v":{"v":0,"d":"0.00"}}]
[null,"Kriterienblöcke","Folgende Anbieter konnten sich in den einzelnen Kriterienblöcken an der Spitze platzieren.",null,null,{"$f":"Angebotsvergleich!O19","v":"Anbieter 3"},{"$f":"Angebotsvergleich!P57","v":{"v":0,"d":"0.00"}}]
[null,null,"I. Unternehmen",null,null,{"$f":"Angebotsvergleich!Q19","v":"Anbieter 4"},{"$f":"Angebotsvergleich!R57","v":{"v":0,"d":"0.00"}}]
[null,null,"Anbieter:",{"$f":"INDEX(F38:G44,MATCH(D35,G38:G44,0),1)","v":"Anbieter 1"},null,{"$f":"Angebotsvergleich!S19","v":"Anbieter 5"},{"$f":"Angebotsvergleich!T57","v":{"v":0,"d":"0.00"}}]
[null,null,"Punktzahl:",{"$f":"MAX(G38:G44)","v":{"v":0,"d":"0.00"}},null,{"$f":"Angebotsvergleich!U19","v":"Anbieter 6"},{"$f":"Angebotsvergleich!V57","v":{"v":0,"d":"0.00"}}]
[null,null,"II. Angebot"]
[null,null,"Anbieter:",{"$f":"INDEX(F47:G52,MATCH(D38,G47:G52,0),1)","v":"Anbieter 1"},null,"I. Einzelergebnis Unternehmen"]
[null,null,"Punktzahl:",{"$f":"MAX(G47:G52)","v":{"v":0,"d":"0.00"}},null,{"$f":"F30","v":"Anbieter 1"},{"$f":"Angebotsvergleich!L21","v":{"v":0,"d":"0.00"}}]
[null,null,"III. Kosten",null,null,{"$f":"F31","v":"Anbieter 2"},{"$f":"Angebotsvergleich!N21","v":{"v":0,"d":"0.00"}}]
[null,null,"Anbieter:",{"$f":"INDEX(F55:G60,MATCH(D41,G55:G60,0),1)","v":"Anbieter 1"},null,{"$f":"F32","v":"Anbieter 3"},{"$f":"Angebotsvergleich!P21","v":{"v":0,"d":"0.00"}}]
[null,null,"Punktzahl:",{"$f":"MAX(G55:G60)","v":{"v":0,"d":"0.00"}},null,{"$f":"F33","v":"Anbieter 4"},{"$f":"Angebotsvergleich!R21","v":{"v":0,"d":"0.00"}}]
[null,"Unbedenklichkeitsprüfung","Eine Prüfung der Anbieter unter ökologischen und sozialen Kriterien sowie nach Aspekten der guten Unternehmensführung fand nicht statt.",{"$f":"Angebotsvergleich!H18","v":"Bitte auswählen"},null,{"$f":"F34","v":"Anbieter 5"},{"$f":"Angebotsvergleich!T21","v":{"v":0,"d":"0.00"}}]
[null,null,"Der ausgewählte Anbieter erfüllt unter ökologischen, sozialen und Unternehmensführungskriterien die Anforderungen, die die Stiftung zur Voraussetzung für eine Investition in das betreffenden Unternehmen macht."]
[null,"Compliance","Es handelt sich nicht um eine regulierte Vergabe im Sinne eines öffentlichen Auftrags. Die an der Vergabeentscheidung beteiligten Personen bestätigen, dass sie zu keinem der Anbieter in einem verwandtschaftlichen Verhältnis stehen oder engere persönliche Beziehungen unterhalten und ihre Entscheidung frei von jeglichen Eigeninteressen getroffen haben.",null,null,{"$f":"F35","v":"Anbieter 6"},{"$f":"Angebotsvergleich!V21","v":{"v":0,"d":"0.00"}}]
[]
[{"$nulls":5},"II. Einzelergebnis Angebot"]
[{"$nulls":5},{"$f":"F30","v":"Anbieter 1"},{"$f":"Angebotsvergleich!L33","v":{"v":0,"d":"0.00"}}]
[{"$nulls":5},"Anbieter 2",{"$f":"Angebotsvergleich!N33","v":{"v":0,"d":"0.00"}}]
[{"$nulls":5},"Anbieter 3",{"$f":"Angebotsvergleich!P33","v":{"v":0,"d":"0.00"}}]
[{"$nulls":5},"Anbieter 4",{"$f":"Angebotsvergleich!R33","v":{"v":0,"d":"0.00"}}]
[{"$nulls":5},"Anbieter 5",{"$f":"Angebotsvergleich!T33","v":{"v":0,"d":"0.00"}}]
[{"$nulls":5},"Anbieter 6",{"$f":"Angebotsvergleich!V33","v":{"v":0,"d":"0.00"}}]
[]
[{"$nulls":5},"III. Einzelergebnis Kosten"]
[{"$nulls":5},{"$f":"F47","v":"Anbieter 1"},{"$f":"Angebotsvergleich!L49","v":{"v":0,"d":"0.00"}}]
[{"$nulls":5},"Anbieter 2",{"$f":"Angebotsvergleich!N49","v":{"v":0,"d":"0.00"}}]
[{"$nulls":5},"Anbieter 3",{"$f":"Angebotsvergleich!P49","v":{"v":0,"d":"0.00"}}]
[{"$nulls":5},"Anbieter 4",{"$f":"Angebotsvergleich!R49","v":{"v":0,"d":"0.00"}}]
[{"$nulls":5},"Anbieter 5",{"$f":"Angebotsvergleich!T49","v":{"v":0,"d":"0.00"}}]
[{"$nulls":5},"Anbieter 6",{"$f":"Angebotsvergleich!V49","v":{"v":0,"d":"0.00"}}]

{"sheet":"Daten_Investment-Check","index":35,"n_rows":26,"n_cols":18,"rows_kept":26,"hidden":true,"merged":[[18,2,18,4]]}
["Daten Investment-Check"]
[]
[null,"AUSWAHLFELDER"]
[]
[null,"Status","Anlageklassen","Anlageinstrument","Vemögenserhaltung","Erträge","Resilienz","Diversifizikationsbeitrag","Blindpool","Währungsrisiko","ESG","SDG","Taxonomie","Siegel","Einkunftsart","Referenzen","Direkter Aust.","Einkunftssphären"]
[null,"Bitte auswählen",{"$f":"Daten_Vermögen!B6","v":"Bitte auswählen"},{"$f":"Daten_Vermögen!C6","v":"Bitte auswählen"},"Bitte auswählen","Bitte auswählen","Bitte auswählen","Bitte auswählen","Bitte auswählen","Bitte auswählen","Bitte auswählen","Bitte auswählen","Bitte auswählen","Bitte auswählen","Bitte auswählen","Bitte auswählen","Bitte auswählen","Bitte ausw."]
[null,"Vorprüfung",{"$f":"Daten_Vermögen!B7","v":"Aktien"},{"$f":"Daten_Vermögen!C7","v":"Direktanlage"},"Wertsteigerung erwartet (real)","Ausschüttungen erwartet","Resilienzklasse 1","Ja","Ja","Ja",{"$f":"Anlageziele!M32","v":"Ausschlusskategorien"},"1. Keine Armut","Art. 6","FNG-Siegel (D)","Kaptalvermögen","Empfehlung","Ja","Vermögensverwaltung"]
[null,"Revision",{"$f":"Daten_Vermögen!B8","v":"Anleihen"},{"$f":"Daten_Vermögen!C8","v":"VV-Mandat"},"Rückzahlung erwartet (nominal)","Thesaurierend","Resilienzklasse 2","Nein","Nein","Nein",{"$f":"Anlageziele!M33","v":"Impact/SDG-Ziele"},"2. Kein Hunger","Art. 8","Label ISR (F)","Vermietung/Verpachtung","Vermittler","Nein","Wirtschaftl. Geschäftsbetr."]
[null,null,{"$f":"Daten_Vermögen!B9","v":"Alternative Inv."},{"$f":"Daten_Vermögen!C9","v":"Fonds"},"Wertverzehr erwartet (Verbrauch)",null,"Resilienzklasse 3",{"$nulls":3},{"$f":"Anlageziele!M34","v":"ESG-Messmethode (einzeln/aggregiert)"},"3. Gesundheit/Wohlergehen","Art. 9","LuxFLAG ESG ","Gewerbe","Co-Investor",null,"Zweckbetrieb"]
[null,null,{"$f":"Daten_Vermögen!B10","v":"Rohstoffe"},{"$nulls":3},"Resilienzklasse 4",{"$nulls":3},{"$f":"Anlageziele!M35","v":"Best of Universe/Best in Class"},"4. Hochw. Bildung",null,"Österr. Umweltzeichen","Land- und Forstwirtschaft","Fachpresse",null,"Ideeller Bereich"]
[null,null,{"$f":"Daten_Vermögen!B11","v":"Liquidität"},{"$nulls":3},"Resilienzklasse 5",{"$nulls":3},{"$f":"Anlageziele!M36","v":"ESG Top%"},"5. Geschlechtergleichstellung",null,"Towards Sustainability (B) ","Sonstige","Organmitglied"]
[null,null,{"$f":"Daten_Vermögen!B12","v":"Mischfonds (MA)"},{"$nulls":7},{"$f":"Anlageziele!M37","v":"ESG Frequenz"},"6. Sauberes Wasser/Sanitärvers.",{"$nulls":3},"Sonstiges"]
[null,null,{"$f":"Daten_Vermögen!B13","v":"Immobilien"},{"$nulls":7},{"$f":"Anlageziele!M38","v":"Stimmrechtsausübung"},"7. Bezahlb./saubere Energie"]
[null,null,{"$f":"Daten_Vermögen!B14","v":"Beteiligungen"},{"$nulls":7},{"$f":"Anlageziele!M39","v":"Engagement"},"8. Menschenw. Arbeit/Wachstum"]
[null,null,{"$f":"Daten_Vermögen!B15","v":"Sonst. Verm."},{"$nulls":8},"9. Industrie, Innovation, Infrastruktur"]
[null,null,{"$f":"Daten_Vermögen!B16","v":"Verbindlichkeiten"},{"$nulls":8},"10. Weniger Ungleichheiten"]
[{"$nulls":11},"11. Nachhaltige Städte/Gemeinden"]
[{"$nulls":11},"12. Nachh. produzieren/konsumieren"]
[null,"Resilienzklassen","Klassifiziert die potenzielle Investition nach ihrer Diversifikation",{"$nulls":8},"13. Weltw. Klimaschutz umsetzen"]
[null,null,"Ausfallrisiko","Binnendiversifikation","Anzahl Vermggstd.","Weitere Merkm.","Beispiele","Resilienzfaktor",{"$nulls":3},"14. Leben u. Wasser schützen"]
[null,{"$f":"G6","v":"Bitte auswählen"},{"$nulls":9},"15. Leben an Land schützen"]
[null,{"$f":"G7","v":"Resilienzklasse 1"},"Sehr hoch","Keine",1,"Zusätzliche Risiken","Direktinvestments, Nachranganl.",1,{"$nulls":3},"16. Starke/transparente Institutionen"]
[null,{"$f":"G8","v":"Resilienzklasse 2"},"hoch","Gering","<=25","-/-","Einzelaktien/-anleihen",0.8,{"$nulls":3},"17. Globale Partnerschaft"]
[null,"Resilienzklasse 3","Mittel","Gering","<=25","Zusätzliche Sicherheit","Spezial-AIF's, Laufzeitfonds",0.6,{"$nulls":3},"Diverse"]
[null,"Resilienzklasse 4","Gering","Hoch",">25","-/-","Investmentfonds, ETF's",0.4]
[null,"Resilienzklasse 5","Sehr gering","Hoch",">25","Risikomanagement","Investmentfonds, ETF's",0.2]

{"sheet":"Impressum","index":36,"n_rows":31,"n_cols":10,"rows_kept":31,"merged":[[12,3,12,8],[13,3,13,8],[15,3,15,8],[18,3,18,8],[18,9,18,12],[19,3,19,8],[19,9,19,12],[21,3,21,8],[21,9,21,12]]}
{"$rows_empty":8}
[null,null,"Autor:","RA Dr. Stefan Fritz",{"$nulls":5},"Stefan Fritz | LinkedIn"]
[]
[null,null,"Anschrift:","Burgerfeld 9a, 85570 Markt Schwaben"]
[]
[null,null,"Partner und Lotsen:","Deutsche Vereinigung für Finanzanalyse und Asset Management e.V. (DVFA),  Mainzer Landstraße 47a, D-60329 Frankfurt am Main",{"$nulls":5},"https://www.dvfa.de/der-berufsverband"]
[{"$nulls":3},"Die DVFA e.V. ist verantwortlich für das von ihr entwickelte PRISC Konzept. Sämtliche Rechte für PRISC liegen bei der DVFA. Die Umsetzung ins Stiftungscockpit erfolgt in Absprache mit der DVFA. Der Autor ist verantwortlich für die Umsetzung von PRISC ins Stiftungscockpit. "]
[]
[{"$nulls":3},"FISCH Asset Management AG, Bellerive 241 / Postfach, CH 8034 Zürich\n8034 Zürich",{"$nulls":5},"https://www.fam.ch/home"]
[{"$nulls":3},"Die Fisch Asset Management AG ist verantwortlich für die auf dem Tabellenblatt \"Szenarien\" dargestellten volkwirtschaftlichen Überlegungen. "]
[]
[null,null,"Nutzung/Haftung:","Der Anbieter stellt das Stiftungscockpit Stiftungen kostenfrei zur Verfügung. Jegliche Haftung für Schäden, die Nutzerinnen und Nutzern oder Dritten durch die Nutzung der Anwendung entstehen, ist ausgeschlossen."]
[{"$nulls":3},"Trotz sorgfältiger inhaltlicher Kontrolle übernehmen wir keine Haftung für die Inhalte externer Links. Für den Inhalt der verlinkten Seiten sind ausschließlich deren Betreiber verantwortlich."]
[]
[null,null,"Datenschutz:","Die Anwendung Stiftungscockpit ermöglicht die Eingabe und Verarbeitung von Informationen, die sich auf eine identifizierte oder identifizierbare natürliche Person im Sinne des Art. 4 Nr. 1 DSGVO beziehen. Für die Einhaltung der einschlägigen datenschutzrechtlcihen Regelungen sind ausschließlich die Nutzerinnen und Nutzer der Anwendung verantwortlich. Eine automatisierte Übermittlung der eingegebenen oder verarbeiteten Daten durch die Anwendung an den Anbieter oder Dritte ist nicht vorgesehen und technisch nicht eingerichtet."]
[]
[{"$nulls":3},"Im Übrigen gelten die Datenschutzregelungen des Anbieters:"]
[{"$nulls":3},"https://www.stiftungen.org/datenschutz.html"]
[]
[{"$nulls":3},"ist eine eingetragene Marke."]
[]
[]
[null,null,"Version:",{"$f":"Daten_Willkommen!C3","v":"2.33.1"}]
[null,null,"Stand:",{"$f":"Daten_Willkommen!C4","v":"2023-02-27"}]

{"sheet":"Datenimport","index":37,"n_rows":8,"n_cols":3,"rows_kept":8,"hidden":true}
["Datenexport"]
[]
["Tabellenblattname","Zellenbezeichnung","Eingabe"]
[]
["Einstellungen","Name der Stiftung:",{"$f":"Einstellungen!G11","v":0}]
[null,"Gründungsjahr (JJJJ)",{"$f":"Einstellungen!G12","v":0}]
[null,"Planungsbeginn (JJJJ)",{"$f":"Einstellungen!G13","v":2024}]
[null,"Zweckrichtung",{"$f":"Einstellungen!G14","v":"Bitte ausw."}]

{"sheet":"Glossar","index":38,"n_rows":17,"n_cols":3,"rows_kept":17,"hidden":true}
["Glossar"]
[]
[null,"Begriff","Erklärung"]
[null,"DCF","Discounted Cashflow-Verfahren"]
[null,"Divesting"]
[null,"Engagement"]
[null,"Impact Investing"]
{"$rows_empty":9}
[null,"Vermögenserhaltungskonzept"]

{"sheet":"Eingabe Szenario","index":39,"n_rows":76,"n_cols":15,"rows_kept":76,"hidden":true}
[null,"Prämissen Szenario"]
[]
[null,"Beschreibung"]
[]
[]
[null,"Name der Stiftung:",{"$f":"Einstellungen!G11","v":0}]
[null,"Gründungsjahr (JJJJ)",{"$f":"Einstellungen!G12","v":0}]
[null,"Auswertungsbeginn (JJJJ)",{"$f":"Einstellungen!G13","v":2024}]
[null,"Durchschnittliche Geldwertveränderung",{"v":0.015,"d":"1.5%"}]
[null,"Ausgaben für den Stiftungszweck",{"$nulls":3},1]
[null,"Zielausschüttung p.a. EUR",{"v":500000,"d":"500,000"}]
[null,"Aufgriffsgrenze Verwaltungskosten FA",{"v":0.25,"d":"25.0%"}]
[null,"Aufgriffsgrenze Verwaltungskosten Aufsicht",{"v":0.33,"d":"33.0%"}]
[null,"Darstellung Vermögen",{"$f":"IF(Einstellungen!W15=1,\"EUR\",\"TEUR\")","v":"TEUR"},"EUR",null,1]
[{"$nulls":3},"TEUR"]
[]
[null,null,"Grundfall","▼",{"$nulls":5},"Grundfall","▼"]
[null,"Immobilien EUR",{"$f":"#REF!","v":{"$error":"#REF!"}},0,{"$nulls":4},"Allgemeine Verwaltungskosten EUR",{"$f":"Einstellungen!#REF!","v":{"$error":"#REF!"}},{"v":10000,"d":"10,000"}]
[null,"Beteiligungen EUR",{"$f":"#REF!","v":{"$error":"#REF!"}},0,{"$nulls":4},"Vermögensabh. allg. Verwaltungskosten",{"$f":"Einstellungen!#REF!","v":{"$error":"#REF!"}},{"v":0,"d":"0.0%"}]
[null,"Wertpapiere EUR",{"$f":"#REF!","v":{"$error":"#REF!"}},{"v":3000000,"d":"3,000,000"},{"$nulls":4},"Ertragsabh. allg. Verwaltungskosten",{"$f":"Einstellungen!#REF!","v":{"$error":"#REF!"}},{"v":0,"d":"0.0%"}]
[null,"Spar- und Termineinlagen EUR",{"$f":"Einstellungen!#REF!","v":{"$error":"#REF!"}},0,{"$nulls":4},"Fixkosten WP-Vermögen EUR",{"$f":"Einstellungen!#REF!","v":{"$error":"#REF!"}},{"v":10000,"d":"10,000"}]
[null,"Sonstiges Vermögen EUR",{"$f":"#REF!","v":{"$error":"#REF!"}},0,{"$nulls":4},"Variable Gebühren auf Depotbestand",{"$f":"Einstellungen!#REF!","v":{"$error":"#REF!"}},{"v":0.008,"d":"0.8%"}]
[null,"Verbindlichkeiten EUR",{"$f":"#REF!","v":{"$error":"#REF!"}},0,{"$nulls":4},"Sonstige Aufwände EUR",{"$f":"Einstellungen!H31","v":"Ja"},0]
[null,"Gesamt EUR",{"$f":"SUM(C18:C22)-C23","v":{"$error":"#REF!"}},{"$f":"SUM(D18:D22)-D23","v":{"v":3000000,"d":"3,000,000"}}]
[]
[]
[]
[null,"Allokation",{"$nulls":7},"Grundfall","▼"]
[null,null,"Bestand","EUR","Neu",{"$nulls":3},"Anfangsbestand freie Rücklage EUR",{"$f":"Einstellungen!#REF!","v":{"$error":"#REF!"}},{"v":22000,"d":"22,000"}]
[null,"Aktien",{"v":0.2,"d":"20.0%"},{"$f":"$D$20*C30","v":{"v":600000,"d":"600,000"}},{"v":0.25,"d":"25.0%"},{"$nulls":3},"Zuführung freie Rücklage aus Erträgen p.a.",{"$f":"Einstellungen!#REF!","v":{"$error":"#REF!"}},{"v":0.33,"d":"33.0%"},{"$f":"IF(K30>33.3%,\"Maximal 33,3%\",\"\")","v":""}]
[null,"Renten",{"v":0.75,"d":"75.0%"},{"$f":"$D$20*C31","v":{"v":2250000,"d":"2,250,000"}},{"v":0.5,"d":"50.0%"},{"$nulls":3},"Zuführung freie Rücklage aus Spenden p.a.",{"$f":"Einstellungen!#REF!","v":{"$error":"#REF!"}},{"v":0.1,"d":"10.0%"},{"$f":"IF(K31>10%,\"Maximal 10%\",\"\")","v":""}]
[null,"Liquidität",{"v":0.05,"d":"5.0%"},{"$f":"$D$20*C32","v":{"v":150000,"d":"150,000"}},{"v":0.1,"d":"10.0%"},{"$nulls":3},"Bildung einer Umschichtungsrücklage?",{"$f":"Einstellungen!#REF!","v":{"$error":"#REF!"}},null,false,{"$f":"IF(L32=TRUE,1,0)","v":0}]
[null,"Alternative Anlagen",{"v":0,"d":"0.0%"},{"$f":"$D$20*C33","v":0},{"v":0.05,"d":"5.0%"},{"$nulls":3},"Anfangsbestand Umschichtungsrücklage",{"$f":"Einstellungen!#REF!","v":{"$error":"#REF!"}},0]
[null,"Sonstige/gemischt",{"v":0,"d":"0.0%"},{"$f":"$D$20*C34","v":0},{"v":0.1,"d":"10.0%"},{"$nulls":3},"Liquiditätskonto unverzinst",{"$f":"Einstellungen!#REF!","v":{"$error":"#REF!"}},{"v":100000,"d":"100,000"}]
[null,"Gesamt",{"$f":"SUM(C30:C34)","v":{"v":1,"d":"100.0%"}},{"$f":"SUM(D30:D34)","v":{"v":3000000,"d":"3,000,000"}},{"$f":"SUM(E30:E34)","v":{"v":1,"d":"100.0%"}},null,{"$f":"IF(C35+E35<>200%,\"Gesamwert <> 100%\",\"\")","v":""}]
[]
[null,"Durchschnittsrenditen",{"$nulls":7},"Grundfall","▼"]
[null,null,"Kurs","Ausschüttg.","Gesamt",{"$nulls":3},"Spenden p.a. EUR",{"$f":"Einstellungen!P34","v":0},{"v":50000,"d":"50,000"}]
[null,"Aktien",{"v":0.04,"d":"4.0%"},{"v":0.03,"d":"3.0%"},{"$f":"C39+D39","v":{"v":0.07,"d":"7.0%"}},{"$nulls":3},"Zustiftung 1 EUR … im Jahr",{"$f":"Einstellungen!#REF!","v":{"$error":"#REF!"}},{"v":500000,"d":"500,000"},null,3,{"$f":"2015+M39","v":2018},{"$f":"IF($F$14=1,K39,K39/1000)","v":{"v":500000,"d":"500,000"}}]
[null,"Renten",{"v":0,"d":"0.0%"},{"v":0.016,"d":"1.6%"},{"v":0.016,"d":"1.6%"},{"$nulls":3},"Zustiftung 2 EUR ... im Jahr",{"$f":"Einstellungen!#REF!","v":{"$error":"#REF!"}},0,null,5,2020,0]
[null,"Liquidität",{"v":0,"d":"0.0%"},{"v":0.003,"d":"0.3%"},{"v":0.003,"d":"0.3%"},{"$nulls":3},"Zustiftung 3 EUR ... im Jahr",{"$f":"Einstellungen!#REF!","v":{"$error":"#REF!"}},{"v":300000,"d":"300,000"},null,5,2020,{"v":300000,"d":"300,000"}]
[null,"Alternative Investments",{"v":0.02,"d":"2.0%"},{"v":0.02,"d":"2.0%"},{"v":0.04,"d":"4.0%"},{"$nulls":3},"Zuwendung in Rücklagen EUR … im Jahr",{"$f":"Einstellungen!#REF!","v":{"$error":"#REF!"}},0,null,1,2016,0]
[null,"Sonstige/Gemischt",{"v":0.05,"d":"5.0%"},{"v":0,"d":"0.0%"},{"v":0.05,"d":"5.0%"},{"$nulls":3},"Zuwendung in Rücklagen EUR … im Jahr",{"$f":"Einstellungen!#REF!","v":{"$error":"#REF!"}},0,null,1,2016,0]
[null,"Gesamtrendite gewichtet",{"$f":"$E$30*C39+$E$31*C40+$E$33*C42+$E$34*C43+$E$32*C41","v":{"v":0.016,"d":"1.6%"}},{"$f":"$E$30*D39+$E$31*D40+$E$33*D42+$E$34*D43+$E$32*D41","v":{"v":0.016800000000000002,"d":"1.7%"}},{"v":0.0328,"d":"3.3%"},{"$nulls":3},"Zuwendung in Rücklagen EUR … im Jahr",{"$f":"Einstellungen!P36","v":0},0,null,7,2022,0]
[]
[]
[null,null,"Grundfall","▼"]
[null,"Buchwert Grundstücke EUR",{"$f":"#REF!","v":{"$error":"#REF!"}},{"v":160000,"d":"160,000"},null,null,2016]
[null,"Buchwert Gebäude EUR",{"$f":"#REF!","v":{"$error":"#REF!"}},{"v":300000,"d":"300,000"},null,null,2017]
[null,"Mieteinnahmen p.a. EUR",{"$f":"#REF!","v":{"$error":"#REF!"}},{"v":12000,"d":"12,000"},null,null,2018]
[null,"Verwaltungskosten p.a. EUR",{"$f":"#REF!","v":{"$error":"#REF!"}},{"v":5000,"d":"5,000"},null,null,2019]
[null,"Wertveränderung p.a.",{"$f":"#REF!","v":{"$error":"#REF!"}},{"v":0.01,"d":"1.0%"},null,null,2020]
[null,"Veränd. Mieten p.a.:",{"$f":"Einstellungen!G58","v":{"v":0,"d":"0.0%"}},{"v":0.01,"d":"1.0%"},null,null,2021]
[null,"Veränd. Verwaltgskosten p.a.",{"$f":"Einstellungen!G59","v":{"v":0,"d":"0.0%"}},{"v":0.01,"d":"1.0%"},null,null,2022]
[null,"Abschreibung p.a.:",{"$f":"Einstellungen!G60","v":{"v":0,"d":"0.0%"}},{"v":0.02,"d":"2.0%"},null,null,2023]
[{"$nulls":6},2024]
[{"$nulls":6},2025]
[null,null,"Grundfall","▼",null,null,2026]
[null,"Wertveränderung p.a.:",{"$f":"Einstellungen!G63","v":0},{"v":0,"d":"0.0%"},null,null,2027]
[null,"Ausschüttung p.a.:",{"$f":"Einstellungen!G64","v":{"v":0,"d":"0.0%"}},{"v":0.045,"d":"4.5%"},null,null,2028]
[null,"Kosten upfront EUR",{"$f":"Einstellungen!G65","v":0},{"v":5000,"d":"5,000"},null,null,2029]
[null,"Kosten upfront volumensabhängig",{"$f":"Einstellungen!G66","v":{"v":0,"d":"0.0%"}},{"v":0.03,"d":"3.0%"},null,null,2030]
[null,"Kosten laufend EUR",{"$f":"Einstellungen!G67","v":0},0]
[null,"Kosten laufend volumensabhängig",{"$f":"Einstellungen!G68","v":{"v":0,"d":"0.0%"}},{"v":0.01,"d":"1.0%"}]
[null,"Neuzeichnung EUR … im Jahr",{"$f":"Einstellungen!G69","v":0},{"v":10000,"d":"10,000"},null,9,{"$f":"2015+F65","v":2024}]
[]
[]
[null,null,"Grundfall","▼"]
[null,"Wertveränderung p.a.:",{"$f":"Einstellungen!G73","v":{"v":0,"d":"0.0%"}},{"v":0.01,"d":"1.0%"}]
[null,"Ausschüttung p.a.:",{"$f":"Einstellungen!G74","v":{"v":0,"d":"0.0%"}},{"v":0,"d":"0.0%"}]
[]
[]
[null,null,"Grundfall","▼"]
[null,"Zins p.a.",{"$f":"Einstellungen!#REF!","v":{"$error":"#REF!"}},{"v":0.02,"d":"2.0%"}]
[null,"Tilgungart"]
[null,"Tilgung EUR",{"$f":"Einstellungen!#REF!","v":{"$error":"#REF!"}},{"v":0.01,"d":"1.0%"}]

{"sheet":"Analyse Szenario","index":40,"n_rows":66,"n_cols":14,"rows_kept":66,"hidden":true}
["Szenario"]
[]
["Beschreibung",null,"Einh.","Bestand",{"$f":"'Eingabe Szenario'!C8","v":2024},{"$f":"E3+1","v":2025},2026,2027,2028,2029,2030,2031,2032,2033]
[]
["Vermögen",null,{"$f":"IF('Eingabe Szenario'!$F$14=1,'Eingabe Szenario'!$D$14,'Eingabe Szenario'!$D$15)","v":"EUR"},{"$f":"SUM(D6:D8)+SUM(D14:D17)","v":{"v":100000,"d":"100,000"}},{"$f":"SUM(E6:E8)+SUM(E14:E17)","v":{"$error":"#REF!"}},{"$error":"#REF!"},{"$error":"#REF!"},{"$error":"#REF!"},{"$error":"#REF!"},{"$error":"#REF!"},{"$error":"#REF!"},{"$error":"#REF!"},{"$error":"#REF!"},{"$error":"#REF!"}]
["Immobilien (Verkehrswert)",null,{"$f":"IF('Eingabe Szenario'!$F$14=1,'Eingabe Szenario'!$D$14,'Eingabe Szenario'!$D$15)","v":"EUR"},{"$f":"IF('Eingabe Szenario'!F14=1,'Eingabe Szenario'!D18,'Eingabe Szenario'!D18/1000)","v":0},{"$f":"D6+D6*'Eingabe Szenario'!$D$52","v":0},{"$f":"E6+E6*'Eingabe Szenario'!$D$52","v":0},{"$f":"F6+F6*'Eingabe Szenario'!$D$52","v":0},{"$f":"G6+G6*'Eingabe Szenario'!$D$52","v":0},{"$f":"H6+H6*'Eingabe Szenario'!$D$52","v":0},{"$f":"I6+I6*'Eingabe Szenario'!$D$52","v":0},{"$f":"J6+J6*'Eingabe Szenario'!$D$52","v":0},{"$f":"K6+K6*'Eingabe Szenario'!$D$52","v":0},{"$f":"L6+L6*'Eingabe Szenario'!$D$52","v":0},{"$f":"M6+M6*'Eingabe Szenario'!$D$52","v":0}]
["Beteiligungen",null,{"$f":"IF('Eingabe Szenario'!$F$14=1,'Eingabe Szenario'!$D$14,'Eingabe Szenario'!$D$15)","v":"EUR"},{"$f":"IF('Eingabe Szenario'!$F$14=1,'Eingabe Szenario'!D19,'Eingabe Szenario'!D19/1000)","v":0},{"$f":"D7+D7*'Eingabe Szenario'!$D$59","v":0},{"$f":"E7+E7*'Eingabe Szenario'!$D$59","v":0},{"$f":"F7+F7*'Eingabe Szenario'!$D$59","v":0},{"$f":"G7+G7*'Eingabe Szenario'!$D$59","v":0},{"$f":"H7+H7*'Eingabe Szenario'!$D$59","v":0},{"$f":"I7+I7*'Eingabe Szenario'!$D$59","v":0},{"$f":"J7+J7*'Eingabe Szenario'!$D$59","v":0},{"$f":"K7+K7*'Eingabe Szenario'!$D$59","v":0},{"$f":"L7+L7*'Eingabe Szenario'!$D$59","v":0},{"$f":"M7+M7*'Eingabe Szenario'!$D$59","v":0}]
["Wertpapiere",{"$f":"'Eingabe Szenario'!C44","v":{"v":0.016,"d":"1.6%"}},{"$f":"IF('Eingabe Szenario'!$F$14=1,'Eingabe Szenario'!$D$14,'Eingabe Szenario'!$D$15)","v":"EUR"},{"$f":"SUM(D9:D13)","v":0},{"$f":"SUM(E9:E13)","v":0},{"v":4010.0000148500008,"d":"4,010"},{"v":8113.173615048396,"d":"8,113"},{"v":12335.053194633918,"d":"12,335"},{"v":16679.953986239256,"d":"16,680"},{"v":21152.494386595197,"d":"21,152"},{"v":25757.48744431541,"d":"25,757"},{"v":30499.950110965565,"d":"30,500"},{"v":35385.11224227994,"d":"35,385"},{"v":40418.42600773669,"d":"40,418"}]
[" davon Aktien",{"$f":"'Eingabe Szenario'!C39","v":{"v":0.04,"d":"4.0%"}},{"$f":"IF('Eingabe Szenario'!$F$14=1,'Eingabe Szenario'!$D$14,'Eingabe Szenario'!$D$15)","v":"EUR"},{"$f":"IF('Eingabe Szenario'!$F$14=1,'Eingabe Szenario'!F30,'Eingabe Szenario'!F30/1000)","v":0},{"$f":"D9+D9*'Eingabe Szenario'!$C$39+D59*'Eingabe Szenario'!$E$30+E60*'Eingabe Szenario'!$E$30","v":0},{"$f":"E9+E9*'Eingabe Szenario'!$C$39+E59*'Eingabe Szenario'!$E$30+'Analyse Szenario'!F60*'Eingabe Szenario'!$E$30","v":{"v":1002.5000037125001,"d":"1,003"}},{"$f":"F9+F9*'Eingabe Szenario'!$C$39+F59*'Eingabe Szenario'!$E$30+'Analyse Szenario'!F60*'Eingabe Szenario'!$E$30","v":{"v":2052.353403851199,"d":"2,052"}},{"$f":"G9+G9*'Eingabe Szenario'!$C$39+G59*'Eingabe Szenario'!$E$30+'Analyse Szenario'!G60*'Eingabe Szenario'!$E$30","v":{"v":3157.049705439897,"d":"3,157"}},{"$f":"H9+H9*'Eingabe Szenario'!$C$39+H59*'Eingabe Szenario'!$E$30+'Analyse Szenario'!H60*'Eingabe Szenario'!$E$30","v":{"v":4318.950345419555,"d":"4,319"}},{"$f":"I9+I9*'Eingabe Szenario'!$C$39+I59*'Eingabe Szenario'!$E$30+'Analyse Szenario'!I60*'Eingabe Szenario'!$E$30","v":{"v":5540.545258970555,"d":"5,541"}},{"$f":"J9+J9*'Eingabe Szenario'!$C$39+J59*'Eingabe Szenario'!$E$30+'Analyse Szenario'!J60*'Eingabe Szenario'!$E$30","v":{"v":6824.428520465373,"d":"6,824"}},{"$f":"K9+K9*'Eingabe Szenario'!$C$39+K59*'Eingabe Szenario'!$E$30+'Analyse Szenario'!K60*'Eingabe Szenario'!$E$30","v":{"v":8173.302818690927,"d":"8,173"}},{"$f":"L9+L9*'Eingabe Szenario'!$C$39+L59*'Eingabe Szenario'!$E$30+'Analyse Szenario'!L60*'Eingabe Szenario'!$E$30","v":{"v":9589.983954589195,"d":"9,590"}},{"$f":"M9+M9*'Eingabe Szenario'!$C$39+M59*'Eingabe Szenario'!$E$30+'Analyse Szenario'!M60*'Eingabe Szenario'!$E$30","v":{"v":11077.405525242291,"d":"11,077"}}]
[" davon Renten",{"$f":"'Eingabe Szenario'!C40","v":{"v":0,"d":"0.0%"}},{"$f":"IF('Eingabe Szenario'!$F$14=1,'Eingabe Szenario'!$D$14,'Eingabe Szenario'!$D$15)","v":"EUR"},{"$f":"IF('Eingabe Szenario'!$F$14=1,'Eingabe Szenario'!$F$31,'Eingabe Szenario'!$F$31/1000)","v":0},{"$f":"D10+D10*'Eingabe Szenario'!$C$40+D60*'Eingabe Szenario'!$E$31+E61*'Eingabe Szenario'!$E$31","v":0},{"$f":"E10+E10*'Eingabe Szenario'!$C$40+E59*'Eingabe Szenario'!$E$31+E60*'Eingabe Szenario'!$E$31","v":{"v":2005.0000074250001,"d":"2,005"}},{"$f":"F10+F10*'Eingabe Szenario'!$C$40+F59*'Eingabe Szenario'!$E$31+F60*'Eingabe Szenario'!$E$31","v":{"v":4024.506807405398,"d":"4,025"}},{"$f":"G10+G10*'Eingabe Szenario'!$C$40+G59*'Eingabe Szenario'!$E$31+G60*'Eingabe Szenario'!$E$31","v":{"v":6069.711138274698,"d":"6,070"}},{"$f":"H10+H10*'Eingabe Szenario'!$C$40+H59*'Eingabe Szenario'!$E$31+H60*'Eingabe Szenario'!$E$31","v":{"v":8140.948441798821,"d":"8,141"}},{"$f":"I10+I10*'Eingabe Szenario'!$C$40+I59*'Eingabe Szenario'!$E$31+I60*'Eingabe Szenario'!$E$31","v":{"v":10238.622241267256,"d":"10,239"}},{"$f":"J10+J10*'Eingabe Szenario'!$C$40+J59*'Eingabe Szenario'!$E$31+J60*'Eingabe Szenario'!$E$31","v":{"v":12363.145143539248,"d":"12,363"}},{"$f":"K10+K10*'Eingabe Szenario'!$C$40+K59*'Eingabe Szenario'!$E$31+K60*'Eingabe Szenario'!$E$31","v":{"v":14514.939458353125,"d":"14,515"}},{"$f":"L10+L10*'Eingabe Szenario'!$C$40+L59*'Eingabe Szenario'!$E$31+L60*'Eingabe Szenario'!$E$31","v":{"v":16694.437504654386,"d":"16,694"}},{"$f":"M10+M10*'Eingabe Szenario'!$C$40+M59*'Eingabe Szenario'!$E$31+M60*'Eingabe Szenario'!$E$31","v":{"v":18902.08192959344,"d":"18,902"}}]
[" davon Liquidität",{"$f":"'Eingabe Szenario'!C41","v":{"v":0,"d":"0.0%"}},{"$f":"IF('Eingabe Szenario'!$F$14=1,'Eingabe Szenario'!$D$14,'Eingabe Szenario'!$D$15)","v":"EUR"},{"$f":"IF('Eingabe Szenario'!$F$14=1,'Eingabe Szenario'!F32,'Eingabe Szenario'!F32/1000)","v":0},{"$f":"D11+D11*'Eingabe Szenario'!$C$41+D59*'Eingabe Szenario'!$E$32+'Analyse Szenario'!E60*'Eingabe Szenario'!$E$32","v":0},{"$f":"E11+E11*'Eingabe Szenario'!$C$41+E59*'Eingabe Szenario'!$E$32+'Analyse Szenario'!E60*'Eingabe Szenario'!$E$32","v":{"v":401.00000148500004,"d":"401"}},{"$f":"F11+F11*'Eingabe Szenario'!$C$41+F59*'Eingabe Szenario'!$E$32+'Analyse Szenario'!F60*'Eingabe Szenario'!$E$32","v":{"v":804.9013614810797,"d":"805"}},{"$f":"G11+G11*'Eingabe Szenario'!$C$41+G59*'Eingabe Szenario'!$E$32+'Analyse Szenario'!G60*'Eingabe Szenario'!$E$32","v":{"v":1213.9422276549399,"d":"1,214"}},{"$f":"H11+H11*'Eingabe Szenario'!$C$41+H59*'Eingabe Szenario'!$E$32+'Analyse Szenario'!H60*'Eingabe Szenario'!$E$32","v":{"v":1628.1896883597644,"d":"1,628"}},{"$f":"I11+I11*'Eingabe Szenario'!$C$41+I59*'Eingabe Szenario'!$E$32+'Analyse Szenario'!I60*'Eingabe Szenario'!$E$32","v":{"v":2047.7244482534516,"d":"2,048"}},{"$f":"J11+J11*'Eingabe Szenario'!$C$41+J59*'Eingabe Szenario'!$E$32+'Analyse Szenario'!J60*'Eingabe Szenario'!$E$32","v":{"v":2472.62902870785,"d":"2,473"}},{"$f":"K11+K11*'Eingabe Szenario'!$C$41+K59*'Eingabe Szenario'!$E$32+'Analyse Szenario'!K60*'Eingabe Szenario'!$E$32","v":{"v":2902.9878916706252,"d":"2,903"}},{"$f":"L11+L11*'Eingabe Szenario'!$C$41+L59*'Eingabe Szenario'!$E$32+'Analyse Szenario'!L60*'Eingabe Szenario'!$E$32","v":{"v":3338.8875009308776,"d":"3,339"}},{"$f":"M11+M11*'Eingabe Szenario'!$C$41+M59*'Eingabe Szenario'!$E$32+'Analyse Szenario'!M60*'Eingabe Szenario'!$E$32","v":{"v":3780.4163859186883,"d":"3,780"}}]
[" davon Alternative Investments",{"$f":"'Eingabe Szenario'!C42","v":{"v":0.02,"d":"2.0%"}},{"$f":"IF('Eingabe Szenario'!$F$14=1,'Eingabe Szenario'!$D$14,'Eingabe Szenario'!$D$15)","v":"EUR"},{"$f":"IF('Eingabe Szenario'!$F$14=1,'Eingabe Szenario'!F33,'Eingabe Szenario'!F33/1000)","v":0},{"$f":"D12+D12*'Eingabe Szenario'!$C$42+D59*'Eingabe Szenario'!$E$33+'Analyse Szenario'!E60*'Eingabe Szenario'!$E$33","v":0},{"$f":"E12+E12*'Eingabe Szenario'!$C$42+E59*'Eingabe Szenario'!$E$33+'Analyse Szenario'!E60*'Eingabe Szenario'!$E$33","v":{"v":200.50000074250002,"d":"201"}},{"$f":"F12+F12*'Eingabe Szenario'!$C$42+F59*'Eingabe Szenario'!$E$33+'Analyse Szenario'!F60*'Eingabe Szenario'!$E$33","v":{"v":406.46068075538983,"d":"406"}},{"$f":"G12+G12*'Eingabe Szenario'!$C$42+G59*'Eingabe Szenario'!$E$33+'Analyse Szenario'!G60*'Eingabe Szenario'!$E$33","v":{"v":619.1103274574277,"d":"619"}},{"$f":"H12+H12*'Eingabe Szenario'!$C$42+H59*'Eingabe Szenario'!$E$33+'Analyse Szenario'!H60*'Eingabe Szenario'!$E$33","v":{"v":838.6162643589886,"d":"839"}},{"$f":"I12+I12*'Eingabe Szenario'!$C$42+I59*'Eingabe Szenario'!$E$33+'Analyse Szenario'!I60*'Eingabe Szenario'!$E$33","v":{"v":1065.155969593012,"d":"1,065"}},{"$f":"J12+J12*'Eingabe Szenario'!$C$42+J59*'Eingabe Szenario'!$E$33+'Analyse Szenario'!J60*'Eingabe Szenario'!$E$33","v":{"v":1298.9113792120716,"d":"1,299"}},{"$f":"K12+K12*'Eingabe Szenario'!$C$42+K59*'Eingabe Szenario'!$E$33+'Analyse Szenario'!K60*'Eingabe Szenario'!$E$33","v":{"v":1540.0690382777007,"d":"1,540"}},{"$f":"L12+L12*'Eingabe Szenario'!$C$42+L59*'Eingabe Szenario'!$E$33+'Analyse Szenario'!L60*'Eingabe Szenario'!$E$33","v":{"v":1788.820223673381,"d":"1,789"}},{"$f":"M12+M12*'Eingabe Szenario'!$C$42+M59*'Eingabe Szenario'!$E$33+'Analyse Szenario'!M60*'Eingabe Szenario'!$E$33","v":{"v":2045.361070640754,"d":"2,045"}}]
[" davon Sonstige/gemischt",{"$f":"'Eingabe Szenario'!C43","v":{"v":0.05,"d":"5.0%"}},{"$f":"IF('Eingabe Szenario'!$F$14=1,'Eingabe Szenario'!$D$14,'Eingabe Szenario'!$D$15)","v":"EUR"},{"$f":"IF('Eingabe Szenario'!$F$14=1,'Eingabe Szenario'!F34,'Eingabe Szenario'!F34/1000)","v":0},{"$f":"D13+D13*'Eingabe Szenario'!$C$43+D59*'Eingabe Szenario'!$E$34+'Analyse Szenario'!E60*'Eingabe Szenario'!$E$34","v":0},{"$f":"E13+E13*'Eingabe Szenario'!$C$43+E59*'Eingabe Szenario'!$E$34+'Analyse Szenario'!E60*'Eingabe Szenario'!$E$34","v":{"v":401.00000148500004,"d":"401"}},{"$f":"F13+F13*'Eingabe Szenario'!$C$43+F59*'Eingabe Szenario'!$E$34+'Analyse Szenario'!F60*'Eingabe Szenario'!$E$34","v":{"v":824.9513615553296,"d":"825"}},{"$f":"G13+G13*'Eingabe Szenario'!$C$43+G59*'Eingabe Szenario'!$E$34+'Analyse Szenario'!G60*'Eingabe Szenario'!$E$34","v":{"v":1275.2397958069562,"d":"1,275"}},{"$f":"H13+H13*'Eingabe Szenario'!$C$43+H59*'Eingabe Szenario'!$E$34+'Analyse Szenario'!H60*'Eingabe Szenario'!$E$34","v":{"v":1753.2492463021285,"d":"1,753"}},{"$f":"I13+I13*'Eingabe Szenario'!$C$43+I59*'Eingabe Szenario'!$E$34+'Analyse Szenario'!I60*'Eingabe Szenario'!$E$34","v":{"v":2260.4464685109224,"d":"2,260"}},{"$f":"J13+J13*'Eingabe Szenario'!$C$43+J59*'Eingabe Szenario'!$E$34+'Analyse Szenario'!J60*'Eingabe Szenario'!$E$34","v":{"v":2798.373372390867,"d":"2,798"}},{"$f":"K13+K13*'Eingabe Szenario'!$C$43+K59*'Eingabe Szenario'!$E$34+'Analyse Szenario'!K60*'Eingabe Szenario'!$E$34","v":{"v":3368.650903973186,"d":"3,369"}},{"$f":"L13+L13*'Eingabe Szenario'!$C$43+L59*'Eingabe Szenario'!$E$34+'Analyse Szenario'!L60*'Eingabe Szenario'!$E$34","v":{"v":3972.9830584320976,"d":"3,973"}},{"$f":"M13+M13*'Eingabe Szenario'!$C$43+M59*'Eingabe Szenario'!$E$34+'Analyse Szenario'!M60*'Eingabe Szenario'!$E$34","v":{"v":4613.161096341513,"d":"4,613"}}]
["Spar- und Termineinlagen",{"$f":"'Eingabe Szenario'!C41","v":{"v":0,"d":"0.0%"}},{"$f":"IF('Eingabe Szenario'!$F$14=1,'Eingabe Szenario'!$D$14,'Eingabe Szenario'!$D$15)","v":"EUR"},{"$f":"IF('Eingabe Szenario'!$F$14=1,'Eingabe Szenario'!D21,'Eingabe Szenario'!D21/1000)","v":0},{"$f":"D14","v":0},{"$f":"E14","v":0},0,0,0,0,0,0,0,0]
["Sonstiges Vermögen",null,{"$f":"IF('Eingabe Szenario'!$F$14=1,'Eingabe Szenario'!$D$14,'Eingabe Szenario'!$D$15)","v":"EUR"},{"$f":"IF('Eingabe Szenario'!$F$14=1,'Eingabe Szenario'!D22,'Eingabe Szenario'!D22/1000)","v":0},{"$f":"D15+D15*'Eingabe Szenario'!$D$69","v":0},{"$f":"E15+E15*'Eingabe Szenario'!$D$69","v":0},{"$f":"F15+F15*'Eingabe Szenario'!$D$69","v":0},{"$f":"G15+G15*'Eingabe Szenario'!$D$69","v":0},{"$f":"H15+H15*'Eingabe Szenario'!$D$69","v":0},{"$f":"I15+I15*'Eingabe Szenario'!$D$69","v":0},{"$f":"J15+J15*'Eingabe Szenario'!$D$69","v":0},{"$f":"K15+K15*'Eingabe Szenario'!$D$69","v":0},{"$f":"L15+L15*'Eingabe Szenario'!$D$69","v":0},{"$f":"M15+M15*'Eingabe Szenario'!$D$69","v":0}]
["Verbindlichkeiten",null,{"$f":"IF('Eingabe Szenario'!$F$14=1,'Eingabe Szenario'!$D$14,'Eingabe Szenario'!$D$15)","v":"EUR"},{"$f":"IF('Eingabe Szenario'!$F$14=1,'Eingabe Szenario'!D23*-1,'Eingabe Szenario'!D23/1000*-1)","v":0},{"$f":"IF(E39<0,D16-D16*'Eingabe Szenario'!$D$76+E39,D16-D16*'Eingabe Szenario'!$D$76)","v":{"$error":"#REF!"}},{"$f":"IF(F39<0,E16-E16*'Eingabe Szenario'!$D$76+F39,E16-E16*'Eingabe Szenario'!$D$76)","v":{"$error":"#REF!"}},{"$f":"IF(G39<0,F16-F16*'Eingabe Szenario'!$D$76+G39,F16-F16*'Eingabe Szenario'!$D$76)","v":{"$error":"#REF!"}},{"$f":"IF(H39<0,G16-G16*'Eingabe Szenario'!$D$76+H39,G16-G16*'Eingabe Szenario'!$D$76)","v":{"$error":"#REF!"}},{"$f":"IF(I39<0,H16-H16*'Eingabe Szenario'!$D$76+I39,H16-H16*'Eingabe Szenario'!$D$76)","v":{"$error":"#REF!"}},{"$f":"IF(J39<0,I16-I16*'Eingabe Szenario'!$D$76+J39,I16-I16*'Eingabe Szenario'!$D$76)","v":{"$error":"#REF!"}},{"$f":"IF(K39<0,J16-J16*'Eingabe Szenario'!$D$76+K39,J16-J16*'Eingabe Szenario'!$D$76)","v":{"$error":"#REF!"}},{"$f":"IF(L39<0,K16-K16*'Eingabe Szenario'!$D$76+L39,K16-K16*'Eingabe Szenario'!$D$76)","v":{"$error":"#REF!"}},{"$f":"IF(M39<0,L16-L16*'Eingabe Szenario'!$D$76+M39,L16-L16*'Eingabe Szenario'!$D$76)","v":{"$error":"#REF!"}},{"$f":"IF(N39<0,M16-M16*'Eingabe Szenario'!$D$76+N39,M16-M16*'Eingabe Szenario'!$D$76)","v":{"$error":"#REF!"}}]
["Liquiditätskonto (unverzinst)",{"$f":"'Eingabe Szenario'!C41","v":{"v":0,"d":"0.0%"}},{"$f":"IF('Eingabe Szenario'!$F$14=1,'Eingabe Szenario'!$D$14,'Eingabe Szenario'!$D$15)","v":"EUR"},{"$f":"IF('Eingabe Szenario'!$F$14=1,'Eingabe Szenario'!K34,'Eingabe Szenario'!K34/1000)","v":{"v":100000,"d":"100,000"}},{"$f":"IF(E39>=0,D17+E39,D17)","v":{"$error":"#REF!"}},{"$error":"#REF!"},{"$error":"#REF!"},{"$error":"#REF!"},{"$error":"#REF!"},{"$error":"#REF!"},{"$error":"#REF!"},{"$error":"#REF!"},{"$error":"#REF!"},{"$error":"#REF!"}]
["Rechnungslegung"]
["Buchwert Grundstücke",null,{"$f":"IF('Eingabe Szenario'!$F$14=1,'Eingabe Szenario'!$D$14,'Eingabe Szenario'!$D$15)","v":"EUR"},{"$f":"IF('Eingabe Szenario'!$F$14=1,'Eingabe Szenario'!D48,'Eingabe Szenario'!D48/1000)","v":{"v":160000,"d":"160,000"}},{"$f":"D19","v":{"v":160000,"d":"160,000"}},{"$f":"E19","v":{"v":160000,"d":"160,000"}},{"v":160000,"d":"160,000"},{"v":160000,"d":"160,000"},{"v":160000,"d":"160,000"},{"v":160000,"d":"160,000"},{"v":160000,"d":"160,000"},{"v":160000,"d":"160,000"},{"v":160000,"d":"160,000"},{"v":160000,"d":"160,000"}]
["Buchwert Gebäude",null,{"$f":"IF('Eingabe Szenario'!$F$14=1,'Eingabe Szenario'!$D$14,'Eingabe Szenario'!$D$15)","v":"EUR"},{"$f":"IF('Eingabe Szenario'!$F$14=1,'Eingabe Szenario'!D49,'Eingabe Szenario'!D49/1000)","v":{"v":300000,"d":"300,000"}},{"$f":"D20-D21","v":{"v":294000,"d":"294,000"}},{"$f":"E20-E21","v":{"v":288120,"d":"288,120"}},{"v":282357.6,"d":"282,358"},{"v":276710.448,"d":"276,710"},{"v":271176.23903999996,"d":"271,176"},{"v":265752.7142592,"d":"265,753"},{"v":260437.659974016,"d":"260,438"},{"v":255228.90677453566,"d":"255,229"},{"v":250124.32863904495,"d":"250,124"},{"v":245121.84206626404,"d":"245,122"}]
["AfA Immobilien",{"$f":"'Eingabe Szenario'!D55","v":{"v":0.02,"d":"2.0%"}},{"$f":"IF('Eingabe Szenario'!$F$14=1,'Eingabe Szenario'!$D$14,'Eingabe Szenario'!$D$15)","v":"EUR"},{"$f":"D20*'Eingabe Szenario'!D55","v":{"v":6000,"d":"6,000"}},{"$f":"E20*'Eingabe Szenario'!$D$55","v":{"v":5880,"d":"5,880"}},{"$f":"F20*'Eingabe Szenario'!$D$55","v":{"v":5762.400000000001,"d":"5,762"}},{"$f":"G20*'Eingabe Szenario'!$D$55","v":{"v":5647.152,"d":"5,647"}},{"$f":"H20*'Eingabe Szenario'!$D$55","v":{"v":5534.20896,"d":"5,534"}},{"$f":"I20*'Eingabe Szenario'!$D$55","v":{"v":5423.5247807999995,"d":"5,424"}},{"$f":"J20*'Eingabe Szenario'!$D$55","v":{"v":5315.054285183999,"d":"5,315"}},{"$f":"K20*'Eingabe Szenario'!$D$55","v":{"v":5208.75319948032,"d":"5,209"}},{"$f":"L20*'Eingabe Szenario'!$D$55","v":{"v":5104.578135490713,"d":"5,105"}},{"$f":"M20*'Eingabe Szenario'!$D$55","v":{"v":5002.486572780899,"d":"5,002"}},{"$f":"N20*'Eingabe Szenario'!$D$55","v":{"v":4902.4368413252805,"d":"4,902"}}]
["Stille Reserven Immobilien",null,{"$f":"IF('Eingabe Szenario'!$F$14=1,'Eingabe Szenario'!$D$14,'Eingabe Szenario'!$D$15)","v":"EUR"},{"$f":"D6-D19-D20","v":{"v":-460000,"d":"-460,000 "}},{"v":-454000,"d":"-454,000 "},{"v":-448120,"d":"-448,120 "},{"v":-442357.6,"d":"-442,358 "},{"v":-436710.448,"d":"-436,710 "},{"v":-431176.23903999996,"d":"-431,176 "},{"v":-425752.7142592,"d":"-425,753 "},{"v":-420437.659974016,"d":"-420,438 "},{"v":-415228.90677453566,"d":"-415,229 "},{"v":-410124.32863904495,"d":"-410,124 "},{"v":-405121.842066264,"d":"-405,122 "}]
["Aktienquote Wertpapiere",null,"%",{"$f":"D9/D8","v":{"$error":"#DIV/0!"}},{"$f":"E9/E8","v":{"$error":"#DIV/0!"}},{"v":0.24999999999999997,"d":"25.0%"},{"v":0.2529655472976041,"d":"25.3%"},{"v":0.255941312584959,"d":"25.6%"},{"v":0.2589305911144978,"d":"25.9%"},{"v":0.26193342296697264,"d":"26.2%"},{"v":0.26494930979657727,"d":"26.5%"},{"v":0.2679775799289718,"d":"26.8%"},{"v":0.2710174801460879,"d":"27.1%"},{"v":0.2740682064937885,"d":"27.4%"}]
["Aktienquote Gesamtverm.",null,"%",{"$f":"D9/D5","v":{"v":0,"d":"0.0%"}},{"$error":"#REF!"},{"$error":"#REF!"},{"$error":"#REF!"},{"$error":"#REF!"},{"$error":"#REF!"},{"$error":"#REF!"},{"$error":"#REF!"},{"$error":"#REF!"},{"$error":"#REF!"},{"$error":"#REF!"}]
["Bestand freie Rücklage",null,{"$f":"IF('Eingabe Szenario'!$F$14=1,'Eingabe Szenario'!$D$14,'Eingabe Szenario'!$D$15)","v":"EUR"},{"$f":"IF('Eingabe Szenario'!$F$14=1,'Eingabe Szenario'!K29,'Eingabe Szenario'!K29/1000)","v":{"v":22000,"d":"22,000"}},{"$f":"D25+D27","v":{"v":22000,"d":"22,000"}},{"$f":"E25+E27","v":{"$error":"#REF!"}},{"$error":"#REF!"},{"$error":"#REF!"},{"$error":"#REF!"},{"$error":"#REF!"},{"$error":"#REF!"},{"$error":"#REF!"},{"$error":"#REF!"},{"$error":"#REF!"}]
["Tilgung",{"$f":"'Eingabe Szenario'!D76","v":{"v":0.01,"d":"1.0%"}},{"$f":"IF('Eingabe Szenario'!$F$14=1,'Eingabe Szenario'!$D$14,'Eingabe Szenario'!$D$15)","v":"EUR"},0,{"$f":"IF('Eingabe Szenario'!$F$14=1,'Eingabe Szenario'!#REF!*'Eingabe Szenario'!$D$76*-1,('Eingabe Szenario'!#REF!*'Eingabe Szenario'!$D$76*-1)/1000)","v":{"$error":"#REF!"}},{"$f":"IF('Eingabe Szenario'!$F$14=1,'Eingabe Szenario'!#REF!*'Eingabe Szenario'!$D$76*-1,('Eingabe Szenario'!#REF!*'Eingabe Szenario'!$D$76*-1)/1000)","v":{"$error":"#REF!"}},{"$f":"IF('Eingabe Szenario'!$F$14=1,'Eingabe Szenario'!#REF!*'Eingabe Szenario'!$D$76*-1,('Eingabe Szenario'!#REF!*'Eingabe Szenario'!$D$76*-1)/1000)","v":{"$error":"#REF!"}},{"$f":"IF('Eingabe Szenario'!$F$14=1,'Eingabe Szenario'!#REF!*'Eingabe Szenario'!$D$76*-1,('Eingabe Szenario'!#REF!*'Eingabe Szenario'!$D$76*-1)/1000)","v":{"$error":"#REF!"}},{"$f":"IF('Eingabe Szenario'!$F$14=1,'Eingabe Szenario'!#REF!*'Eingabe Szenario'!$D$76*-1,('Eingabe Szenario'!#REF!*'Eingabe Szenario'!$D$76*-1)/1000)","v":{"$error":"#REF!"}},{"$f":"IF('Eingabe Szenario'!$F$14=1,'Eingabe Szenario'!#REF!*'Eingabe Szenario'!$D$76*-1,('Eingabe Szenario'!#REF!*'Eingabe Szenario'!$D$76*-1)/1000)","v":{"$error":"#REF!"}},{"$f":"IF('Eingabe Szenario'!$F$14=1,'Eingabe Szenario'!#REF!*'Eingabe Szenario'!$D$76*-1,('Eingabe Szenario'!#REF!*'Eingabe Szenario'!$D$76*-1)/1000)","v":{"$error":"#REF!"}},{"$f":"IF('Eingabe Szenario'!$F$14=1,'Eingabe Szenario'!#REF!*'Eingabe Szenario'!$D$76*-1,('Eingabe Szenario'!#REF!*'Eingabe Szenario'!$D$76*-1)/1000)","v":{"$error":"#REF!"}},{"$f":"IF('Eingabe Szenario'!$F$14=1,'Eingabe Szenario'!#REF!*'Eingabe Szenario'!$D$76*-1,('Eingabe Szenario'!#REF!*'Eingabe Szenario'!$D$76*-1)/1000)","v":{"$error":"#REF!"}},{"$f":"IF('Eingabe Szenario'!$F$14=1,'Eingabe Szenario'!#REF!*'Eingabe Szenario'!$D$76*-1,('Eingabe Szenario'!#REF!*'Eingabe Szenario'!$D$76*-1)/1000)","v":{"$error":"#REF!"}}]
["Veränderung freie Rücklage inkl. Tilgung",null,{"$f":"IF('Eingabe Szenario'!$F$14=1,'Eingabe Szenario'!$D$14,'Eingabe Szenario'!$D$15)","v":"EUR"},{"$f":"D59","v":0},{"$f":"E59+E26","v":{"$error":"#REF!"}},{"$error":"#REF!"},{"$error":"#REF!"},{"$error":"#REF!"},{"$error":"#REF!"},{"$error":"#REF!"},{"$error":"#REF!"},{"$error":"#REF!"},{"$error":"#REF!"},{"$error":"#REF!"}]
["Bestand Umschichtungsrücklage",null,{"$f":"IF('Eingabe Szenario'!$F$14=1,'Eingabe Szenario'!$D$14,'Eingabe Szenario'!$D$15)","v":"EUR"},{"$f":"IF('Eingabe Szenario'!$F$14=1,'Eingabe Szenario'!K33,'Eingabe Szenario'!K33/1000)","v":0},{"$f":"D28+D29","v":0},{"$f":"E28+E29","v":0},0,0,0,0,0,0,0,0]
["Veränderung Umschichtungsrücklage",null,{"$f":"IF('Eingabe Szenario'!$F$14=1,'Eingabe Szenario'!$D$14,'Eingabe Szenario'!$D$15)","v":"EUR"},0,{"$f":"IF('Eingabe Szenario'!$L$32=TRUE,(D9*'Eingabe Szenario'!$C$39+'Analyse Szenario'!D10*'Eingabe Szenario'!$C$40+'Analyse Szenario'!D11*'Eingabe Szenario'!$C$41+'Analyse Szenario'!D12*'Eingabe Szenario'!$C$42+'Analyse Szenario'!D13*'Eingabe Szenario'!$C$43)-D8*'Eingabe Szenario'!$C$9+IF(E3='Eingabe Szenario'!$N$42,'Eingabe Szenario'!$O$42,0)+IF(E3='Eingabe Szenario'!$N$43,'Eingabe Szenario'!$O$43,0)+IF(E3='Eingabe Szenario'!$N$44,'Eingabe Szenario'!$O$44,0),0)","v":0},{"$f":"IF('Eingabe Szenario'!$L$32=TRUE,(E9*'Eingabe Szenario'!$C$39+'Analyse Szenario'!E10*'Eingabe Szenario'!$C$40+'Analyse Szenario'!E11*'Eingabe Szenario'!$C$41+'Analyse Szenario'!E12*'Eingabe Szenario'!$C$42+'Analyse Szenario'!E13*'Eingabe Szenario'!$C$43)-E8*'Eingabe Szenario'!$C$9+IF(F3='Eingabe Szenario'!$N$42,'Eingabe Szenario'!$O$42,0)+IF(F3='Eingabe Szenario'!$N$43,'Eingabe Szenario'!$O$43,0)+IF(F3='Eingabe Szenario'!$N$44,'Eingabe Szenario'!$O$44,0),0)","v":0},{"$f":"IF('Eingabe Szenario'!$L$32=TRUE,(F9*'Eingabe Szenario'!$C$39+'Analyse Szenario'!F10*'Eingabe Szenario'!$C$40+'Analyse Szenario'!F11*'Eingabe Szenario'!$C$41+'Analyse Szenario'!F12*'Eingabe Szenario'!$C$42+'Analyse Szenario'!F13*'Eingabe Szenario'!$C$43)-F8*'Eingabe Szenario'!$C$9+IF(G3='Eingabe Szenario'!$N$42,'Eingabe Szenario'!$O$42,0)+IF(G3='Eingabe Szenario'!$N$43,'Eingabe Szenario'!$O$43,0)+IF(G3='Eingabe Szenario'!$N$44,'Eingabe Szenario'!$O$44,0),0)","v":0},{"$f":"IF('Eingabe Szenario'!$L$32=TRUE,(G9*'Eingabe Szenario'!$C$39+'Analyse Szenario'!G10*'Eingabe Szenario'!$C$40+'Analyse Szenario'!G11*'Eingabe Szenario'!$C$41+'Analyse Szenario'!G12*'Eingabe Szenario'!$C$42+'Analyse Szenario'!G13*'Eingabe Szenario'!$C$43)-G8*'Eingabe Szenario'!$C$9+IF(H3='Eingabe Szenario'!$N$42,'Eingabe Szenario'!$O$42,0)+IF(H3='Eingabe Szenario'!$N$43,'Eingabe Szenario'!$O$43,0)+IF(H3='Eingabe Szenario'!$N$44,'Eingabe Szenario'!$O$44,0),0)","v":0},{"$f":"IF('Eingabe Szenario'!$L$32=TRUE,(H9*'Eingabe Szenario'!$C$39+'Analyse Szenario'!H10*'Eingabe Szenario'!$C$40+'Analyse Szenario'!H11*'Eingabe Szenario'!$C$41+'Analyse Szenario'!H12*'Eingabe Szenario'!$C$42+'Analyse Szenario'!H13*'Eingabe Szenario'!$C$43)-H8*'Eingabe Szenario'!$C$9+IF(I3='Eingabe Szenario'!$N$42,'Eingabe Szenario'!$O$42,0)+IF(I3='Eingabe Szenario'!$N$43,'Eingabe Szenario'!$O$43,0)+IF(I3='Eingabe Szenario'!$N$44,'Eingabe Szenario'!$O$44,0),0)","v":0},{"$f":"IF('Eingabe Szenario'!$L$32=TRUE,(I9*'Eingabe Szenario'!$C$39+'Analyse Szenario'!I10*'Eingabe Szenario'!$C$40+'Analyse Szenario'!I11*'Eingabe Szenario'!$C$41+'Analyse Szenario'!I12*'Eingabe Szenario'!$C$42+'Analyse Szenario'!I13*'Eingabe Szenario'!$C$43)-I8*'Eingabe Szenario'!$C$9+IF(J3='Eingabe Szenario'!$N$42,'Eingabe Szenario'!$O$42,0)+IF(J3='Eingabe Szenario'!$N$43,'Eingabe Szenario'!$O$43,0)+IF(J3='Eingabe Szenario'!$N$44,'Eingabe Szenario'!$O$44,0),0)","v":0},{"$f":"IF('Eingabe Szenario'!$L$32=TRUE,(J9*'Eingabe Szenario'!$C$39+'Analyse Szenario'!J10*'Eingabe Szenario'!$C$40+'Analyse Szenario'!J11*'Eingabe Szenario'!$C$41+'Analyse Szenario'!J12*'Eingabe Szenario'!$C$42+'Analyse Szenario'!J13*'Eingabe Szenario'!$C$43)-J8*'Eingabe Szenario'!$C$9+IF(K3='Eingabe Szenario'!$N$42,'Eingabe Szenario'!$O$42,0)+IF(K3='Eingabe Szenario'!$N$43,'Eingabe Szenario'!$O$43,0)+IF(K3='Eingabe Szenario'!$N$44,'Eingabe Szenario'!$O$44,0),0)","v":0},{"$f":"IF('Eingabe Szenario'!$L$32=TRUE,(K9*'Eingabe Szenario'!$C$39+'Analyse Szenario'!K10*'Eingabe Szenario'!$C$40+'Analyse Szenario'!K11*'Eingabe Szenario'!$C$41+'Analyse Szenario'!K12*'Eingabe Szenario'!$C$42+'Analyse Szenario'!K13*'Eingabe Szenario'!$C$43)-K8*'Eingabe Szenario'!$C$9+IF(L3='Eingabe Szenario'!$N$42,'Eingabe Szenario'!$O$42,0)+IF(L3='Eingabe Szenario'!$N$43,'Eingabe Szenario'!$O$43,0)+IF(L3='Eingabe Szenario'!$N$44,'Eingabe Szenario'!$O$44,0),0)","v":0},{"$f":"IF('Eingabe Szenario'!$L$32=TRUE,(L9*'Eingabe Szenario'!$C$39+'Analyse Szenario'!L10*'Eingabe Szenario'!$C$40+'Analyse Szenario'!L11*'Eingabe Szenario'!$C$41+'Analyse Szenario'!L12*'Eingabe Szenario'!$C$42+'Analyse Szenario'!L13*'Eingabe Szenario'!$C$43)-L8*'Eingabe Szenario'!$C$9+IF(M3='Eingabe Szenario'!$N$42,'Eingabe Szenario'!$O$42,0)+IF(M3='Eingabe Szenario'!$N$43,'Eingabe Szenario'!$O$43,0)+IF(M3='Eingabe Szenario'!$N$44,'Eingabe Szenario'!$O$44,0),0)","v":0},{"$f":"IF('Eingabe Szenario'!$L$32=TRUE,(M9*'Eingabe Szenario'!$C$39+'Analyse Szenario'!M10*'Eingabe Szenario'!$C$40+'Analyse Szenario'!M11*'Eingabe Szenario'!$C$41+'Analyse Szenario'!M12*'Eingabe Szenario'!$C$42+'Analyse Szenario'!M13*'Eingabe Szenario'!$C$43)-M8*'Eingabe Szenario'!$C$9+IF(N3='Eingabe Szenario'!$N$42,'Eingabe Szenario'!$O$42,0)+IF(N3='Eingabe Szenario'!$N$43,'Eingabe Szenario'!$O$43,0)+IF(N3='Eingabe Szenario'!$N$44,'Eingabe Szenario'!$O$44,0),0)","v":0}]
["Realer Kapitalerhalt Grundstock (Ist)",null,{"$f":"IF('Eingabe Szenario'!$F$14=1,'Eingabe Szenario'!$D$14,'Eingabe Szenario'!$D$15)","v":"EUR"},{"$f":"D5-D17-D22-D25-D28","v":{"v":438000,"d":"438,000"}},{"$f":"E5-E17-E22-E25-E28","v":{"$error":"#REF!"}},{"$error":"#REF!"},{"$error":"#REF!"},{"$error":"#REF!"},{"$error":"#REF!"},{"$error":"#REF!"},{"$error":"#REF!"},{"$error":"#REF!"},{"$error":"#REF!"},{"$error":"#REF!"}]
["Realer Kapitalerhalt Grundstock (Soll)",null,{"$f":"IF('Eingabe Szenario'!$F$14=1,'Eingabe Szenario'!$D$14,'Eingabe Szenario'!$D$15)","v":"EUR"},{"$f":"IF('Eingabe Szenario'!$F$14=1,'Eingabe Szenario'!D24,'Eingabe Szenario'!D24/1000)","v":{"v":3000000,"d":"3,000,000"}},{"$f":"D31+D43+(D43+D31)*'Eingabe Szenario'!$C$9","v":{"v":3045000,"d":"3,045,000"}},{"$f":"E31+E43+(E43+E31)*'Eingabe Szenario'!$C$9","v":{"v":3090675,"d":"3,090,675"}},{"$f":"F31+F43+(F43+F31)*'Eingabe Szenario'!$C$9","v":{"v":3137035.125,"d":"3,137,035"}},{"$f":"G31+G43+(G43+G31)*'Eingabe Szenario'!$C$9","v":{"v":3184090.651875,"d":"3,184,091"}},{"$f":"H31+H43+(H43+H31)*'Eingabe Szenario'!$C$9","v":{"v":3231852.011653125,"d":"3,231,852"}},{"$f":"I31+I43+(I43+I31)*'Eingabe Szenario'!$C$9","v":{"v":3280329.7918279218,"d":"3,280,330"}},{"$f":"J31+J43+(J43+J31)*'Eingabe Szenario'!$C$9","v":{"v":3329534.738705341,"d":"3,329,535"}},{"$f":"K31+K43+(K43+K31)*'Eingabe Szenario'!$C$9","v":{"v":3379477.759785921,"d":"3,379,478"}},{"$f":"L31+L43+(L43+L31)*'Eingabe Szenario'!$C$9","v":{"v":3430169.9261827096,"d":"3,430,170"}},{"$f":"M31+M43+(M43+M31)*'Eingabe Szenario'!$C$9","v":{"v":3481622.4750754503,"d":"3,481,622"}}]
["Delta absolut",null,{"$f":"IF('Eingabe Szenario'!$F$14=1,'Eingabe Szenario'!$D$14,'Eingabe Szenario'!$D$15)","v":"EUR"},{"$f":"D30+D28+D25+D22-D31","v":{"v":-3000000,"d":"-3,000,000 "}},{"$f":"E30+E28+E25+E22-E31","v":{"$error":"#REF!"}},{"$error":"#REF!"},{"$error":"#REF!"},{"$error":"#REF!"},{"$error":"#REF!"},{"$error":"#REF!"},{"$error":"#REF!"},{"$error":"#REF!"},{"$error":"#REF!"},{"$error":"#REF!"}]
["Delta Prozent",null,"%",{"$f":"D32/D31","v":{"v":-1,"d":"-100.0%"}},{"$f":"E32/E31","v":{"$error":"#REF!"}},{"$f":"F32/F31","v":{"$error":"#REF!"}},{"$error":"#REF!"},{"$error":"#REF!"},{"$error":"#REF!"},{"$error":"#REF!"},{"$error":"#REF!"},{"$error":"#REF!"},{"$error":"#REF!"},{"$error":"#REF!"}]
[]
[]
[]
["Beschreibung",null,"Einh.","Bestand",{"$f":"'Eingabe Szenario'!C8","v":2024},{"$f":"E37+1","v":2025},2026,2027,2028,2029,2030,2031,2032,2033]
[]
["Saldo Liquidität",null,{"$f":"IF('Eingabe Szenario'!$F$14=1,'Eingabe Szenario'!$D$14,'Eingabe Szenario'!$D$15)","v":"EUR"},{"$f":"D41-D49","v":0},{"$f":"E41-E49","v":{"$error":"#REF!"}},{"$f":"F41-F49","v":{"$error":"#REF!"}},{"$error":"#REF!"},{"$error":"#REF!"},{"$error":"#REF!"},{"$error":"#REF!"},{"$error":"#REF!"},{"$error":"#REF!"},{"$error":"#REF!"},{"$error":"#REF!"}]
[]
["Einnahmen",null,{"$f":"IF('Eingabe Szenario'!$F$14=1,'Eingabe Szenario'!$D$14,'Eingabe Szenario'!$D$15)","v":"EUR"},{"$f":"SUM(D42:D47)","v":0},{"v":62000.000045,"d":"62,000"},{"v":62120,"d":"62,120"},{"v":62308.56800024948,"d":"62,309"},{"v":62500.11862873357,"d":"62,500"},{"v":62695.09902260771,"d":"62,695"},{"v":62893.60118098363,"d":"62,894"},{"v":63095.72241357801,"d":"63,096"},{"v":63301.56351786507,"d":"63,302"},{"v":63511.2289278719,"d":"63,511"},{"v":63724.826857900734,"d":"63,725"}]
["Spenden",null,{"$f":"IF('Eingabe Szenario'!$F$14=1,'Eingabe Szenario'!$D$14,'Eingabe Szenario'!$D$15)","v":"EUR"},0,{"$f":"IF('Eingabe Szenario'!$F$14=1,'Eingabe Szenario'!$K$38,'Eingabe Szenario'!$K$38/1000)","v":{"v":50000,"d":"50,000"}},{"$f":"IF('Eingabe Szenario'!$F$14=1,'Eingabe Szenario'!$K$38,'Eingabe Szenario'!$K$38/1000)","v":{"v":50000,"d":"50,000"}},{"$f":"IF('Eingabe Szenario'!$F$14=1,'Eingabe Szenario'!$K$38,'Eingabe Szenario'!$K$38/1000)","v":{"v":50000,"d":"50,000"}},{"$f":"IF('Eingabe Szenario'!$F$14=1,'Eingabe Szenario'!$K$38,'Eingabe Szenario'!$K$38/1000)","v":{"v":50000,"d":"50,000"}},{"$f":"IF('Eingabe Szenario'!$F$14=1,'Eingabe Szenario'!$K$38,'Eingabe Szenario'!$K$38/1000)","v":{"v":50000,"d":"50,000"}},{"$f":"IF('Eingabe Szenario'!$F$14=1,'Eingabe Szenario'!$K$38,'Eingabe Szenario'!$K$38/1000)","v":{"v":50000,"d":"50,000"}},{"$f":"IF('Eingabe Szenario'!$F$14=1,'Eingabe Szenario'!$K$38,'Eingabe Szenario'!$K$38/1000)","v":{"v":50000,"d":"50,000"}},{"$f":"IF('Eingabe Szenario'!$F$14=1,'Eingabe Szenario'!$K$38,'Eingabe Szenario'!$K$38/1000)","v":{"v":50000,"d":"50,000"}},{"$f":"IF('Eingabe Szenario'!$F$14=1,'Eingabe Szenario'!$K$38,'Eingabe Szenario'!$K$38/1000)","v":{"v":50000,"d":"50,000"}},{"$f":"IF('Eingabe Szenario'!$F$14=1,'Eingabe Szenario'!$K$38,'Eingabe Szenario'!$K$38/1000)","v":{"v":50000,"d":"50,000"}}]
["Zustiftungen",null,{"$f":"IF('Eingabe Szenario'!$F$14=1,'Eingabe Szenario'!$D$14,'Eingabe Szenario'!$D$15)","v":"EUR"},0,{"$f":"IF('Analyse Szenario'!E3='Eingabe Szenario'!$N$39,'Eingabe Szenario'!$O$39,0)+IF('Analyse Szenario'!E3='Eingabe Szenario'!$N$40,'Eingabe Szenario'!$O$40,0)+IF('Analyse Szenario'!E3='Eingabe Szenario'!$N$41,'Eingabe Szenario'!$O$41,0)","v":0},{"$f":"IF('Analyse Szenario'!F3='Eingabe Szenario'!$N$39,'Eingabe Szenario'!$O$39,0)+IF('Analyse Szenario'!F3='Eingabe Szenario'!$N$40,'Eingabe Szenario'!$O$40,0)+IF('Analyse Szenario'!F3='Eingabe Szenario'!$N$41,'Eingabe Szenario'!$O$41,0)","v":0},{"$f":"IF('Analyse Szenario'!G3='Eingabe Szenario'!$N$39,'Eingabe Szenario'!$O$39,0)+IF('Analyse Szenario'!G3='Eingabe Szenario'!$N$40,'Eingabe Szenario'!$O$40,0)+IF('Analyse Szenario'!G3='Eingabe Szenario'!$N$41,'Eingabe Szenario'!$O$41,0)","v":0},{"$f":"IF('Analyse Szenario'!H3='Eingabe Szenario'!$N$39,'Eingabe Szenario'!$O$39,0)+IF('Analyse Szenario'!H3='Eingabe Szenario'!$N$40,'Eingabe Szenario'!$O$40,0)+IF('Analyse Szenario'!H3='Eingabe Szenario'!$N$41,'Eingabe Szenario'!$O$41,0)","v":0},{"$f":"IF('Analyse Szenario'!I3='Eingabe Szenario'!$N$39,'Eingabe Szenario'!$O$39,0)+IF('Analyse Szenario'!I3='Eingabe Szenario'!$N$40,'Eingabe Szenario'!$O$40,0)+IF('Analyse Szenario'!I3='Eingabe Szenario'!$N$41,'Eingabe Szenario'!$O$41,0)","v":0},{"$f":"IF('Analyse Szenario'!J3='Eingabe Szenario'!$N$39,'Eingabe Szenario'!$O$39,0)+IF('Analyse Szenario'!J3='Eingabe Szenario'!$N$40,'Eingabe Szenario'!$O$40,0)+IF('Analyse Szenario'!J3='Eingabe Szenario'!$N$41,'Eingabe Szenario'!$O$41,0)","v":0},{"$f":"IF('Analyse Szenario'!K3='Eingabe Szenario'!$N$39,'Eingabe Szenario'!$O$39,0)+IF('Analyse Szenario'!K3='Eingabe Szenario'!$N$40,'Eingabe Szenario'!$O$40,0)+IF('Analyse Szenario'!K3='Eingabe Szenario'!$N$41,'Eingabe Szenario'!$O$41,0)","v":0},{"$f":"IF('Analyse Szenario'!L3='Eingabe Szenario'!$N$39,'Eingabe Szenario'!$O$39,0)+IF('Analyse Szenario'!L3='Eingabe Szenario'!$N$40,'Eingabe Szenario'!$O$40,0)+IF('Analyse Szenario'!L3='Eingabe Szenario'!$N$41,'Eingabe Szenario'!$O$41,0)","v":0},{"$f":"IF('Analyse Szenario'!M3='Eingabe Szenario'!$N$39,'Eingabe Szenario'!$O$39,0)+IF('Analyse Szenario'!M3='Eingabe Szenario'!$N$40,'Eingabe Szenario'!$O$40,0)+IF('Analyse Szenario'!M3='Eingabe Szenario'!$N$41,'Eingabe Szenario'!$O$41,0)","v":0},{"$f":"IF('Analyse Szenario'!N3='Eingabe Szenario'!$N$39,'Eingabe Szenario'!$O$39,0)+IF('Analyse Szenario'!N3='Eingabe Szenario'!$N$40,'Eingabe Szenario'!$O$40,0)+IF('Analyse Szenario'!N3='Eingabe Szenario'!$N$41,'Eingabe Szenario'!$O$41,0)","v":0}]
["Mieterträge (brutto)",null,{"$f":"IF('Eingabe Szenario'!$F$14=1,'Eingabe Szenario'!$D$14,'Eingabe Szenario'!$D$15)","v":"EUR"},0,{"$f":"IF('Eingabe Szenario'!F14=1,'Eingabe Szenario'!D50,'Eingabe Szenario'!D50/1000)","v":{"v":12000,"d":"12,000"}},{"$f":"E44+E44*'Eingabe Szenario'!$D$53","v":{"v":12120,"d":"12,120"}},{"$f":"F44+F44*'Eingabe Szenario'!$D$53","v":{"v":12241.2,"d":"12,241"}},{"$f":"G44+G44*'Eingabe Szenario'!$D$53","v":{"v":12363.612000000001,"d":"12,364"}},{"$f":"H44+H44*'Eingabe Szenario'!$D$53","v":{"v":12487.24812,"d":"12,487"}},{"$f":"I44+I44*'Eingabe Szenario'!$D$53","v":{"v":12612.1206012,"d":"12,612"}},{"$f":"J44+J44*'Eingabe Szenario'!$D$53","v":{"v":12738.241807212,"d":"12,738"}},{"$f":"K44+K44*'Eingabe Szenario'!$D$53","v":{"v":12865.62422528412,"d":"12,866"}},{"$f":"L44+L44*'Eingabe Szenario'!$D$53","v":{"v":12994.28046753696,"d":"12,994"}},{"$f":"M44+M44*'Eingabe Szenario'!$D$53","v":{"v":13124.22327221233,"d":"13,124"}}]
["Erträge aus Beteiligungen",{"v":0,"d":"0.0%"},{"$f":"IF('Eingabe Szenario'!$F$14=1,'Eingabe Szenario'!$D$14,'Eingabe Szenario'!$D$15)","v":"EUR"},0,{"$f":"IF('Eingabe Szenario'!F15=1,'Eingabe Szenario'!D60,'Eingabe Szenario'!D60/1000)","v":{"v":4.4999999999999996E-5,"d":"0"}},{"$f":"F7*'Eingabe Szenario'!$D$60","v":0},{"$f":"G7*'Eingabe Szenario'!$D$60","v":0},{"$f":"H7*'Eingabe Szenario'!$D$60","v":0},{"$f":"I7*'Eingabe Szenario'!$D$60","v":0},{"$f":"J7*'Eingabe Szenario'!$D$60","v":0},{"$f":"K7*'Eingabe Szenario'!$D$60","v":0},{"$f":"L7*'Eingabe Szenario'!$D$60","v":0},{"$f":"M7*'Eingabe Szenario'!$D$60","v":0},{"$f":"N7*'Eingabe Szenario'!$D$60","v":0}]
["Wertpapiererträge (brutto)",{"$f":"'Eingabe Szenario'!D44","v":{"v":0.016800000000000002,"d":"1.7%"}},{"$f":"IF('Eingabe Szenario'!$F$14=1,'Eingabe Szenario'!$D$14,'Eingabe Szenario'!$D$15)","v":"EUR"},0,{"$f":"D9*'Eingabe Szenario'!$D$39+'Analyse Szenario'!D10*'Eingabe Szenario'!$D$40+'Analyse Szenario'!D12*'Eingabe Szenario'!$D$42+'Analyse Szenario'!D13*'Eingabe Szenario'!$D$43+D11*'Eingabe Szenario'!$D$41","v":0},{"$f":"E9*'Eingabe Szenario'!$D$39+'Analyse Szenario'!E10*'Eingabe Szenario'!$D$40+'Analyse Szenario'!E12*'Eingabe Szenario'!$D$42+'Analyse Szenario'!E13*'Eingabe Szenario'!$D$43+E11*'Eingabe Szenario'!$D$41","v":0},{"$f":"F9*'Eingabe Szenario'!$D$39+'Analyse Szenario'!F10*'Eingabe Szenario'!$D$40+'Analyse Szenario'!F12*'Eingabe Szenario'!$D$42+'Analyse Szenario'!F13*'Eingabe Szenario'!$D$43+F11*'Eingabe Szenario'!$D$41","v":{"v":67.36800024948,"d":"67"}},{"$f":"G9*'Eingabe Szenario'!$D$39+'Analyse Szenario'!G10*'Eingabe Szenario'!$D$40+'Analyse Szenario'!G12*'Eingabe Szenario'!$D$42+'Analyse Szenario'!G13*'Eingabe Szenario'!$D$43+G11*'Eingabe Szenario'!$D$41","v":{"v":136.50662873357336,"d":"137"}},{"$f":"H9*'Eingabe Szenario'!$D$39+'Analyse Szenario'!H10*'Eingabe Szenario'!$D$40+'Analyse Szenario'!H12*'Eingabe Szenario'!$D$42+'Analyse Szenario'!H13*'Eingabe Szenario'!$D$43+H11*'Eingabe Szenario'!$D$41","v":{"v":207.85090260770545,"d":"208"}},{"$f":"I9*'Eingabe Szenario'!$D$39+'Analyse Szenario'!I10*'Eingabe Szenario'!$D$40+'Analyse Szenario'!I12*'Eingabe Szenario'!$D$42+'Analyse Szenario'!I13*'Eingabe Szenario'!$D$43+I11*'Eingabe Szenario'!$D$41","v":{"v":281.48057978362687,"d":"281"}},{"$f":"J9*'Eingabe Szenario'!$D$39+'Analyse Szenario'!J10*'Eingabe Szenario'!$D$40+'Analyse Szenario'!J12*'Eingabe Szenario'!$D$42+'Analyse Szenario'!J13*'Eingabe Szenario'!$D$43+J11*'Eingabe Szenario'!$D$41","v":{"v":357.4806063660133,"d":"357"}},{"$f":"K9*'Eingabe Szenario'!$D$39+'Analyse Szenario'!K10*'Eingabe Szenario'!$D$40+'Analyse Szenario'!K12*'Eingabe Szenario'!$D$42+'Analyse Szenario'!K13*'Eingabe Szenario'!$D$43+K11*'Eingabe Szenario'!$D$41","v":{"v":435.93929258095415,"d":"436"}},{"$f":"L9*'Eingabe Szenario'!$D$39+'Analyse Szenario'!L10*'Eingabe Szenario'!$D$40+'Analyse Szenario'!L12*'Eingabe Szenario'!$D$42+'Analyse Szenario'!L13*'Eingabe Szenario'!$D$43+L11*'Eingabe Szenario'!$D$41","v":{"v":516.9484603349437,"d":"517"}},{"$f":"M9*'Eingabe Szenario'!$D$39+'Analyse Szenario'!M10*'Eingabe Szenario'!$D$40+'Analyse Szenario'!M12*'Eingabe Szenario'!$D$42+'Analyse Szenario'!M13*'Eingabe Szenario'!$D$43+M11*'Eingabe Szenario'!$D$41","v":{"v":600.6035856884064,"d":"601"}}]
["Zinsen und ähnliche Erträge",{"$f":"'Eingabe Szenario'!D41","v":{"v":0.003,"d":"0.3%"}},{"$f":"IF('Eingabe Szenario'!$F$14=1,'Eingabe Szenario'!$D$14,'Eingabe Szenario'!$D$15)","v":"EUR"},0,{"$f":"E14*'Eingabe Szenario'!$D$41","v":0},{"$f":"F14*'Eingabe Szenario'!$D$41","v":0},{"$f":"G14*'Eingabe Szenario'!$D$41","v":0},{"$f":"H14*'Eingabe Szenario'!$D$41","v":0},{"$f":"I14*'Eingabe Szenario'!$D$41","v":0},{"$f":"J14*'Eingabe Szenario'!$D$41","v":0},{"$f":"K14*'Eingabe Szenario'!$D$41","v":0},{"$f":"L14*'Eingabe Szenario'!$D$41","v":0},{"$f":"M14*'Eingabe Szenario'!$D$41","v":0},{"$f":"N14*'Eingabe Szenario'!$D$41","v":0}]
["Erträge aus sonstigem Vermögen",{"$f":"'Eingabe Szenario'!D70","v":{"v":0,"d":"0.0%"}},{"$f":"IF('Eingabe Szenario'!$F$14=1,'Eingabe Szenario'!$D$14,'Eingabe Szenario'!$D$15)","v":"EUR"},0,{"$f":"E15*'Eingabe Szenario'!$D$41","v":0},{"$f":"F15*'Eingabe Szenario'!$D$41","v":0},{"$f":"G15*'Eingabe Szenario'!$D$41","v":0},{"$f":"H15*'Eingabe Szenario'!$D$41","v":0},{"$f":"I15*'Eingabe Szenario'!$D$41","v":0},{"$f":"J15*'Eingabe Szenario'!$D$41","v":0},{"$f":"K15*'Eingabe Szenario'!$D$41","v":0},{"$f":"L15*'Eingabe Szenario'!$D$41","v":0},{"$f":"M15*'Eingabe Szenario'!$D$41","v":0},{"$f":"N15*'Eingabe Szenario'!$D$41","v":0}]
["Ausgaben",null,{"$f":"IF('Eingabe Szenario'!$F$14=1,'Eingabe Szenario'!$D$14,'Eingabe Szenario'!$D$15)","v":"EUR"},0,{"$f":"SUM(E50:E52)+SUM(E56:E60)","v":{"$error":"#REF!"}},{"$f":"SUM(F50:F52)+SUM(F56:F60)","v":{"$error":"#REF!"}},{"$error":"#REF!"},{"$error":"#REF!"},{"$error":"#REF!"},{"$error":"#REF!"},{"$error":"#REF!"},{"$error":"#REF!"},{"$error":"#REF!"},{"$error":"#REF!"}]
["Ausgaben für den Stiftungszweck",{"$f":"IF('Eingabe Szenario'!F10=1,\"Überschuss\",\"Zielausschüttg.\")","v":"Überschuss"},{"$f":"IF('Eingabe Szenario'!$F$14=1,'Eingabe Szenario'!$D$14,'Eingabe Szenario'!$D$15)","v":"EUR"},0,{"$f":"IF('Eingabe Szenario'!$F$14=1,IF('Eingabe Szenario'!$F$10=1,E41-E51-E52-E56-E58-E59-E60,'Eingabe Szenario'!$C$11),IF('Eingabe Szenario'!$F$10=1,E41-E51-E52-E56-E58-E59-E60,'Eingabe Szenario'!$C$11/1000))","v":{"$error":"#REF!"}},{"$f":"IF('Eingabe Szenario'!$F$14=1,IF('Eingabe Szenario'!$F$10=1,F41-F51-F52-F56-F58-F59-F60,'Eingabe Szenario'!$C$11),IF('Eingabe Szenario'!$F$10=1,F41-F51-F52-F56-F58-F59-F60,'Eingabe Szenario'!$C$11/1000))","v":{"$error":"#REF!"}},{"$f":"IF('Eingabe Szenario'!$F$14=1,IF('Eingabe Szenario'!$F$10=1,G41-G51-G52-G56-G58-G59-G60,'Eingabe Szenario'!$C$11),IF('Eingabe Szenario'!$F$10=1,G41-G51-G52-G56-G58-G59-G60,'Eingabe Szenario'!$C$11/1000))","v":{"$error":"#REF!"}},{"$f":"IF('Eingabe Szenario'!$F$14=1,IF('Eingabe Szenario'!$F$10=1,H41-H51-H52-H56-H58-H59-H60,'Eingabe Szenario'!$C$11),IF('Eingabe Szenario'!$F$10=1,H41-H51-H52-H56-H58-H59-H60,'Eingabe Szenario'!$C$11/1000))","v":{"$error":"#REF!"}},{"$f":"IF('Eingabe Szenario'!$F$14=1,IF('Eingabe Szenario'!$F$10=1,I41-I51-I52-I56-I58-I59-I60,'Eingabe Szenario'!$C$11),IF('Eingabe Szenario'!$F$10=1,I41-I51-I52-I56-I58-I59-I60,'Eingabe Szenario'!$C$11/1000))","v":{"$error":"#REF!"}},{"$f":"IF('Eingabe Szenario'!$F$14=1,IF('Eingabe Szenario'!$F$10=1,J41-J51-J52-J56-J58-J59-J60,'Eingabe Szenario'!$C$11),IF('Eingabe Szenario'!$F$10=1,J41-J51-J52-J56-J58-J59-J60,'Eingabe Szenario'!$C$11/1000))","v":{"$error":"#REF!"}},{"$f":"IF('Eingabe Szenario'!$F$14=1,IF('Eingabe Szenario'!$F$10=1,K41-K51-K52-K56-K58-K59-K60,'Eingabe Szenario'!$C$11),IF('Eingabe Szenario'!$F$10=1,K41-K51-K52-K56-K58-K59-K60,'Eingabe Szenario'!$C$11/1000))","v":{"$error":"#REF!"}},{"$f":"IF('Eingabe Szenario'!$F$14=1,IF('Eingabe Szenario'!$F$10=1,L41-L51-L52-L56-L58-L59-L60,'Eingabe Szenario'!$C$11),IF('Eingabe Szenario'!$F$10=1,L41-L51-L52-L56-L58-L59-L60,'Eingabe Szenario'!$C$11/1000))","v":{"$error":"#REF!"}},{"$f":"IF('Eingabe Szenario'!$F$14=1,IF('Eingabe Szenario'!$F$10=1,M41-M51-M52-M56-M58-M59-M60,'Eingabe Szenario'!$C$11),IF('Eingabe Szenario'!$F$10=1,M41-M51-M52-M56-M58-M59-M60,'Eingabe Szenario'!$C$11/1000))","v":{"$error":"#REF!"}},{"$f":"IF('Eingabe Szenario'!$F$14=1,IF('Eingabe Szenario'!$F$10=1,N41-N51-N52-N56-N58-N59-N60,'Eingabe Szenario'!$C$11),IF('Eingabe Szenario'!$F$10=1,N41-N51-N52-N56-N58-N59-N60,'Eingabe Szenario'!$C$11/1000))","v":{"$error":"#REF!"}}]
["Allg. Verwaltungskosten",null,{"$f":"IF('Eingabe Szenario'!$F$14=1,'Eingabe Szenario'!$D$14,'Eingabe Szenario'!$D$15)","v":"EUR"},0,{"$f":"IF('Eingabe Szenario'!$F$14=1,'Eingabe Szenario'!K18,'Eingabe Szenario'!K18/1000)","v":{"v":10000,"d":"10,000"}},{"$f":"E51+E51*'Eingabe Szenario'!$C$9","v":{"v":10150,"d":"10,150"}},{"$f":"F51+F51*'Eingabe Szenario'!$C$9","v":{"v":10302.25,"d":"10,302"}},{"$f":"G51+G51*'Eingabe Szenario'!$C$9","v":{"v":10456.78375,"d":"10,457"}},{"$f":"H51+H51*'Eingabe Szenario'!$C$9","v":{"v":10613.63550625,"d":"10,614"}},{"$f":"I51+I51*'Eingabe Szenario'!$C$9","v":{"v":10772.840038843751,"d":"10,773"}},{"$f":"J51+J51*'Eingabe Szenario'!$C$9","v":{"v":10934.432639426408,"d":"10,934"}},{"$f":"K51+K51*'Eingabe Szenario'!$C$9","v":{"v":11098.449129017805,"d":"11,098"}},{"$f":"L51+L51*'Eingabe Szenario'!$C$9","v":{"v":11264.925865953071,"d":"11,265"}},{"$f":"M51+M51*'Eingabe Szenario'!$C$9","v":{"v":11433.899753942367,"d":"11,434"}}]
["Kosten Vermögensverwaltung",null,{"$f":"IF('Eingabe Szenario'!$F$14=1,'Eingabe Szenario'!$D$14,'Eingabe Szenario'!$D$15)","v":"EUR"},0,{"$f":"SUM(E53:E55)","v":{"v":15000,"d":"15,000"}},{"$f":"SUM(F53:F55)","v":{"v":15032.0800001188,"d":"15,032"}},{"v":15064.905388920388,"d":"15,065"},{"v":15098.680425557071,"d":"15,099"},{"v":15133.439631889914,"d":"15,133"},{"v":15169.219955092762,"d":"15,169"},{"v":15206.059899554522,"d":"15,206"},{"v":15243.999600887724,"d":"15,244"},{"v":15283.08089793824,"d":"15,283"},{"v":15323.347408061894,"d":"15,323"}]
[" davon Immobilien",null,{"$f":"IF('Eingabe Szenario'!$F$14=1,'Eingabe Szenario'!$D$14,'Eingabe Szenario'!$D$15)","v":"EUR"},0,{"$f":"IF('Eingabe Szenario'!$F$14=1,'Eingabe Szenario'!$D$51,'Eingabe Szenario'!$D$51/1000)","v":{"v":5000,"d":"5,000"}},{"$f":"IF('Eingabe Szenario'!$F$14=1,'Eingabe Szenario'!$D$51,'Eingabe Szenario'!$D$51/1000)","v":{"v":5000,"d":"5,000"}},{"$f":"IF('Eingabe Szenario'!$F$14=1,'Eingabe Szenario'!$D$51,'Eingabe Szenario'!$D$51/1000)","v":{"v":5000,"d":"5,000"}},{"$f":"IF('Eingabe Szenario'!$F$14=1,'Eingabe Szenario'!$D$51,'Eingabe Szenario'!$D$51/1000)","v":{"v":5000,"d":"5,000"}},{"$f":"IF('Eingabe Szenario'!$F$14=1,'Eingabe Szenario'!$D$51,'Eingabe Szenario'!$D$51/1000)","v":{"v":5000,"d":"5,000"}},{"$f":"IF('Eingabe Szenario'!$F$14=1,'Eingabe Szenario'!$D$51,'Eingabe Szenario'!$D$51/1000)","v":{"v":5000,"d":"5,000"}},{"$f":"IF('Eingabe Szenario'!$F$14=1,'Eingabe Szenario'!$D$51,'Eingabe Szenario'!$D$51/1000)","v":{"v":5000,"d":"5,000"}},{"$f":"IF('Eingabe Szenario'!$F$14=1,'Eingabe Szenario'!$D$51,'Eingabe Szenario'!$D$51/1000)","v":{"v":5000,"d":"5,000"}},{"$f":"IF('Eingabe Szenario'!$F$14=1,'Eingabe Szenario'!$D$51,'Eingabe Szenario'!$D$51/1000)","v":{"v":5000,"d":"5,000"}},{"$f":"IF('Eingabe Szenario'!$F$14=1,'Eingabe Szenario'!$D$51,'Eingabe Szenario'!$D$51/1000)","v":{"v":5000,"d":"5,000"}}]
[" davon Beteiligungen",null,{"$f":"IF('Eingabe Szenario'!$F$14=1,'Eingabe Szenario'!$D$14,'Eingabe Szenario'!$D$15)","v":"EUR"},0,{"$f":"IF('Eingabe Szenario'!$F$14=1,'Eingabe Szenario'!$D$63+'Analyse Szenario'!E7*'Eingabe Szenario'!$D$64,('Eingabe Szenario'!$D$63+E7*$B$59)/1000)","v":0},{"$f":"IF('Eingabe Szenario'!$F$14=1,'Eingabe Szenario'!$D$63+'Analyse Szenario'!F7*'Eingabe Szenario'!$D$64,('Eingabe Szenario'!$D$63+F7*$B$59)/1000)","v":0},{"$f":"IF('Eingabe Szenario'!$F$14=1,'Eingabe Szenario'!$D$63+'Analyse Szenario'!G7*'Eingabe Szenario'!$D$64,('Eingabe Szenario'!$D$63+G7*$B$59)/1000)","v":0},{"$f":"IF('Eingabe Szenario'!$F$14=1,'Eingabe Szenario'!$D$63+'Analyse Szenario'!H7*'Eingabe Szenario'!$D$64,('Eingabe Szenario'!$D$63+H7*$B$59)/1000)","v":0},{"$f":"IF('Eingabe Szenario'!$F$14=1,'Eingabe Szenario'!$D$63+'Analyse Szenario'!I7*'Eingabe Szenario'!$D$64,('Eingabe Szenario'!$D$63+I7*$B$59)/1000)","v":0},{"$f":"IF('Eingabe Szenario'!$F$14=1,'Eingabe Szenario'!$D$63+'Analyse Szenario'!J7*'Eingabe Szenario'!$D$64,('Eingabe Szenario'!$D$63+J7*$B$59)/1000)","v":0},{"$f":"IF('Eingabe Szenario'!$F$14=1,'Eingabe Szenario'!$D$63+'Analyse Szenario'!K7*'Eingabe Szenario'!$D$64,('Eingabe Szenario'!$D$63+K7*$B$59)/1000)","v":0},{"$f":"IF('Eingabe Szenario'!$F$14=1,'Eingabe Szenario'!$D$63+'Analyse Szenario'!L7*'Eingabe Szenario'!$D$64,('Eingabe Szenario'!$D$63+L7*$B$59)/1000)","v":0},{"$f":"IF('Eingabe Szenario'!$F$14=1,'Eingabe Szenario'!$D$63+'Analyse Szenario'!M7*'Eingabe Szenario'!$D$64,('Eingabe Szenario'!$D$63+M7*$B$59)/1000)","v":0},{"$f":"IF('Eingabe Szenario'!$F$14=1,'Eingabe Szenario'!$D$63+'Analyse Szenario'!N7*'Eingabe Szenario'!$D$64,('Eingabe Szenario'!$D$63+N7*$B$59)/1000)","v":0}]
[" davon Wertpapiere",null,{"$f":"IF('Eingabe Szenario'!$F$14=1,'Eingabe Szenario'!$D$14,'Eingabe Szenario'!$D$15)","v":"EUR"},0,{"$f":"IF('Eingabe Szenario'!$F$14=1,'Eingabe Szenario'!$K$21+'Analyse Szenario'!E8*'Eingabe Szenario'!$K$22,'Eingabe Szenario'!$K$21/1000+'Analyse Szenario'!E8*'Eingabe Szenario'!$K$22)","v":{"v":10000,"d":"10,000"}},{"$f":"IF('Eingabe Szenario'!$F$14=1,'Eingabe Szenario'!$K$21+'Analyse Szenario'!F8*'Eingabe Szenario'!$K$22,'Eingabe Szenario'!$K$21/1000+'Analyse Szenario'!F8*'Eingabe Szenario'!$K$22)","v":{"v":10032.0800001188,"d":"10,032"}},{"$f":"IF('Eingabe Szenario'!$F$14=1,'Eingabe Szenario'!$K$21+'Analyse Szenario'!G8*'Eingabe Szenario'!$K$22,'Eingabe Szenario'!$K$21/1000+'Analyse Szenario'!G8*'Eingabe Szenario'!$K$22)","v":{"v":10064.905388920388,"d":"10,065"}},{"$f":"IF('Eingabe Szenario'!$F$14=1,'Eingabe Szenario'!$K$21+'Analyse Szenario'!H8*'Eingabe Szenario'!$K$22,'Eingabe Szenario'!$K$21/1000+'Analyse Szenario'!H8*'Eingabe Szenario'!$K$22)","v":{"v":10098.680425557071,"d":"10,099"}},{"$f":"IF('Eingabe Szenario'!$F$14=1,'Eingabe Szenario'!$K$21+'Analyse Szenario'!I8*'Eingabe Szenario'!$K$22,'Eingabe Szenario'!$K$21/1000+'Analyse Szenario'!I8*'Eingabe Szenario'!$K$22)","v":{"v":10133.439631889914,"d":"10,133"}},{"$f":"IF('Eingabe Szenario'!$F$14=1,'Eingabe Szenario'!$K$21+'Analyse Szenario'!J8*'Eingabe Szenario'!$K$22,'Eingabe Szenario'!$K$21/1000+'Analyse Szenario'!J8*'Eingabe Szenario'!$K$22)","v":{"v":10169.219955092762,"d":"10,169"}},{"$f":"IF('Eingabe Szenario'!$F$14=1,'Eingabe Szenario'!$K$21+'Analyse Szenario'!K8*'Eingabe Szenario'!$K$22,'Eingabe Szenario'!$K$21/1000+'Analyse Szenario'!K8*'Eingabe Szenario'!$K$22)","v":{"v":10206.059899554522,"d":"10,206"}},{"$f":"IF('Eingabe Szenario'!$F$14=1,'Eingabe Szenario'!$K$21+'Analyse Szenario'!L8*'Eingabe Szenario'!$K$22,'Eingabe Szenario'!$K$21/1000+'Analyse Szenario'!L8*'Eingabe Szenario'!$K$22)","v":{"v":10243.999600887724,"d":"10,244"}},{"$f":"IF('Eingabe Szenario'!$F$14=1,'Eingabe Szenario'!$K$21+'Analyse Szenario'!M8*'Eingabe Szenario'!$K$22,'Eingabe Szenario'!$K$21/1000+'Analyse Szenario'!M8*'Eingabe Szenario'!$K$22)","v":{"v":10283.08089793824,"d":"10,283"}},{"$f":"IF('Eingabe Szenario'!$F$14=1,'Eingabe Szenario'!$K$21+'Analyse Szenario'!N8*'Eingabe Szenario'!$K$22,'Eingabe Szenario'!$K$21/1000+'Analyse Szenario'!N8*'Eingabe Szenario'!$K$22)","v":{"v":10323.347408061894,"d":"10,323"}}]
["Sollzinsen",null,{"$f":"IF('Eingabe Szenario'!$F$14=1,'Eingabe Szenario'!$D$14,'Eingabe Szenario'!$D$15)","v":"EUR"},0,{"$f":"IF('Eingabe Szenario'!$F$14=1,'Eingabe Szenario'!#REF!*'Eingabe Szenario'!$D$74,'Eingabe Szenario'!#REF!*'Eingabe Szenario'!$D$74/1000)","v":{"$error":"#REF!"}},{"$f":"IF('Eingabe Szenario'!$F$14=1,'Eingabe Szenario'!#REF!*'Eingabe Szenario'!$D$74,'Eingabe Szenario'!#REF!*'Eingabe Szenario'!$D$74/1000)","v":{"$error":"#REF!"}},{"$f":"IF('Eingabe Szenario'!$F$14=1,'Eingabe Szenario'!#REF!*'Eingabe Szenario'!$D$74,'Eingabe Szenario'!#REF!*'Eingabe Szenario'!$D$74/1000)","v":{"$error":"#REF!"}},{"$f":"IF('Eingabe Szenario'!$F$14=1,'Eingabe Szenario'!#REF!*'Eingabe Szenario'!$D$74,'Eingabe Szenario'!#REF!*'Eingabe Szenario'!$D$74/1000)","v":{"$error":"#REF!"}},{"$f":"IF('Eingabe Szenario'!$F$14=1,'Eingabe Szenario'!#REF!*'Eingabe Szenario'!$D$74,'Eingabe Szenario'!#REF!*'Eingabe Szenario'!$D$74/1000)","v":{"$error":"#REF!"}},{"$f":"IF('Eingabe Szenario'!$F$14=1,'Eingabe Szenario'!#REF!*'Eingabe Szenario'!$D$74,'Eingabe Szenario'!#REF!*'Eingabe Szenario'!$D$74/1000)","v":{"$error":"#REF!"}},{"$f":"IF('Eingabe Szenario'!$F$14=1,'Eingabe Szenario'!#REF!*'Eingabe Szenario'!$D$74,'Eingabe Szenario'!#REF!*'Eingabe Szenario'!$D$74/1000)","v":{"$error":"#REF!"}},{"$f":"IF('Eingabe Szenario'!$F$14=1,'Eingabe Szenario'!#REF!*'Eingabe Szenario'!$D$74,'Eingabe Szenario'!#REF!*'Eingabe Szenario'!$D$74/1000)","v":{"$error":"#REF!"}},{"$f":"IF('Eingabe Szenario'!$F$14=1,'Eingabe Szenario'!#REF!*'Eingabe Szenario'!$D$74,'Eingabe Szenario'!#REF!*'Eingabe Szenario'!$D$74/1000)","v":{"$error":"#REF!"}},{"$f":"IF('Eingabe Szenario'!$F$14=1,'Eingabe Szenario'!#REF!*'Eingabe Szenario'!$D$74,'Eingabe Szenario'!#REF!*'Eingabe Szenario'!$D$74/1000)","v":{"$error":"#REF!"}}]
["Tilgung",null,"EUR",0]
["Sonstige Aufwände",null,{"$f":"IF('Eingabe Szenario'!$F$14=1,'Eingabe Szenario'!$D$14,'Eingabe Szenario'!$D$15)","v":"EUR"},0,{"$f":"IF('Eingabe Szenario'!$F$14=1,'Eingabe Szenario'!K23,'Eingabe Szenario'!K23/1000)","v":0},{"$f":"E58+E58*$B$58","v":0},0,0,0,0,0,0,0,0]
["Zuführung Freie Rücklage",{"$f":"'Eingabe Szenario'!K30","v":{"v":0.33,"d":"33.0%"}},{"$f":"IF('Eingabe Szenario'!$F$14=1,'Eingabe Szenario'!$D$14,'Eingabe Szenario'!$D$15)","v":"EUR"},{"$f":"D42*10%+(D44+D46+D47+D45-D52)*$B$59","v":0},{"$f":"E42*'Eingabe Szenario'!$K$31+(E44+E46+E47+E45-E52)*'Eingabe Szenario'!$K$30","v":{"v":4010.0000148500003,"d":"4,010"}},{"$f":"F42*'Eingabe Szenario'!$K$31+(F44+F46+F47+F45-F52)*'Eingabe Szenario'!$K$30","v":{"v":4039.013599960796,"d":"4,039"}},{"$f":"G42*'Eingabe Szenario'!$K$31+(G44+G46+G47+G45-G52)*'Eingabe Szenario'!$K$30","v":{"v":4090.4086617386006,"d":"4,090"}},{"$f":"H42*'Eingabe Szenario'!$K$31+(H44+H46+H47+H45-H52)*'Eingabe Szenario'!$K$30","v":{"v":4142.474607048246,"d":"4,142"}},{"$f":"I42*'Eingabe Szenario'!$K$31+(I44+I46+I47+I45-I52)*'Eingabe Szenario'!$K$30","v":{"v":4195.347598936872,"d":"4,195"}},{"$f":"J42*'Eingabe Szenario'!$K$31+(J44+J46+J47+J45-J52)*'Eingabe Szenario'!$K$30","v":{"v":4249.0458045439855,"d":"4,249"}},{"$f":"K42*'Eingabe Szenario'!$K$31+(K44+K46+K47+K45-K52)*'Eingabe Szenario'!$K$30","v":{"v":4303.588629627751,"d":"4,304"}},{"$f":"L42*'Eingabe Szenario'!$K$31+(L44+L46+L47+L45-L52)*'Eingabe Szenario'!$K$30","v":{"v":4358.996092602525,"d":"4,359"}},{"$f":"M42*'Eingabe Szenario'!$K$31+(M44+M46+M47+M45-M52)*'Eingabe Szenario'!$K$30","v":{"v":4415.2888498781085,"d":"4,415"}},{"$f":"N42*'Eingabe Szenario'!$K$31+(N44+N46+N47+N45-N52)*'Eingabe Szenario'!$K$30","v":{"v":4472.488218446818,"d":"4,472"}}]
["Neuanlage",null,{"$f":"IF('Eingabe Szenario'!$F$14=1,'Eingabe Szenario'!$D$14,'Eingabe Szenario'!$D$15)","v":"EUR"},{"$f":"D43","v":0},{"$f":"E43","v":0},{"$f":"F43","v":0},0,0,0,0,0,0,0,{"$f":"N43","v":0}]
["Kennzahlen",null,null," "]
["Ausschüttungsrendite brutto",null,"%",{"v":0,"d":"0.0%"},{"$f":"SUM(E44:E47)/(SUM(E6:E8)+SUM(E14:E15))","v":{"$error":"#DIV/0!"}},{"$f":"SUM(F44:F47)/(F6+F7+F8+F14)","v":{"v":3.022443879081473,"d":"302.2%"}},{"v":1.5171089125246162,"d":"151.7%"},{"v":1.013381817775335,"d":"101.3%"},{"v":0.7610991632879202,"d":"76.1%"},{"v":0.6095546437849234,"d":"61.0%"},{"v":0.5084239074905652,"d":"50.8%"},{"v":0.43611755001142766,"d":"43.6%"},{"v":0.3818337168287401,"d":"38.2%"},{"v":0.33956856348818726,"d":"34.0%"}]
["Verwaltungskostenquote (Aufsicht)",null,"%",{"v":0,"d":"0.0%"},{"$f":"(E51+E52)/E41","v":{"v":0.403225806158949,"d":"40.3%"}},{"$f":"(F51+F52)/F41","v":{"v":0.40537797810880233,"d":"40.5%"}},{"v":0.4071214634369196,"d":"40.7%"},{"v":0.4088866507176243,"d":"40.9%"},{"v":0.41067125723584197,"d":"41.1%"},{"v":0.41247534736141483,"d":"41.2%"},{"v":0.4142989657466157,"d":"41.4%"},{"v":0.41614214982969766,"d":"41.6%"},{"v":0.4180049293966774,"d":"41.8%"},{"v":0.4198873262012927,"d":"42.0%"}]
["Verwaltungskostenquote (Finanzamt)",null,"%",{"v":0,"d":"0.0%"},{"$f":"E51/(E41-E52)","v":{"v":0.2127659572430964,"d":"21.3%"}},{"$f":"F51/(F41-F52)","v":{"v":0.21555422282457176,"d":"21.6%"}},{"v":0.21806628509639528,"d":"21.8%"},{"v":0.22060055868303302,"d":"22.1%"},{"v":0.2231552818428655,"d":"22.3%"},{"v":0.22573032404240786,"d":"22.6%"},{"v":0.22832553134456704,"d":"22.8%"},{"v":0.23094073491097294,"d":"23.1%"},{"v":0.2335757503887832,"d":"23.4%"},{"v":0.23623037733365068,"d":"23.6%"}]
["Zweckeffizienz der Erträge",null,"%",{"v":0,"d":"0.0%"},{"$f":"E50/E41","v":{"$error":"#REF!"}},{"$f":"F50/F41","v":{"$error":"#REF!"}},{"$error":"#REF!"},{"$error":"#REF!"},{"$error":"#REF!"},{"$error":"#REF!"},{"$error":"#REF!"},{"$error":"#REF!"},{"$error":"#REF!"},{"$error":"#REF!"}]
["Zweckeffizienz des Vermögens",null,"%",{"$f":"D50/D5","v":{"v":0,"d":"0.0%"}},{"$error":"#REF!"},{"$error":"#REF!"},{"$error":"#REF!"},{"$error":"#REF!"},{"$error":"#REF!"},{"$error":"#REF!"},{"$error":"#REF!"},{"$error":"#REF!"},{"$error":"#REF!"},{"$error":"#REF!"}]

{"sheet":"Verwaltungskosten","index":41,"n_rows":41,"n_cols":13,"rows_kept":41,"hidden":true}
["Verwaltungskosten"]
[]
["1. Aufsicht"]
[]
["Beschreibung",null,"Einh.",{"$f":"Einstellungen!G13","v":2024},{"$f":"D5+1","v":2025},2026,2027,2028,2029,2030,2031,2032,2033]
[]
["Ausgangsfall"]
["Einnahmen",null,"EUR",{"$f":"Tabellen!F29","v":{"$error":"#REF!"}},{"$f":"Tabellen!G29","v":0},{"$f":"Tabellen!H29","v":0},{"$f":"Tabellen!I29","v":0},{"$f":"Tabellen!J29","v":0},{"$f":"Tabellen!#REF!","v":{"$error":"#REF!"}},{"$f":"Tabellen!#REF!","v":{"$error":"#REF!"}},{"$f":"Tabellen!#REF!","v":{"$error":"#REF!"}},{"$f":"Tabellen!#REF!","v":{"$error":"#REF!"}},{"$f":"Tabellen!#REF!","v":{"$error":"#REF!"}}]
["Verwaltungskosten",null,"EUR",{"$f":"Tabellen!F39+Tabellen!F40","v":{"$error":"#REF!"}},{"$f":"Tabellen!G39+Tabellen!G40","v":0},{"$f":"Tabellen!H39+Tabellen!H40","v":0},{"$f":"Tabellen!I39+Tabellen!I40","v":0},{"$f":"Tabellen!J39+Tabellen!J40","v":0},{"$f":"Tabellen!#REF!+Tabellen!#REF!","v":{"$error":"#REF!"}},{"$f":"Tabellen!#REF!+Tabellen!#REF!","v":{"$error":"#REF!"}},{"$f":"Tabellen!#REF!+Tabellen!#REF!","v":{"$error":"#REF!"}},{"$f":"Tabellen!#REF!+Tabellen!#REF!","v":{"$error":"#REF!"}},{"$f":"Tabellen!#REF!+Tabellen!#REF!","v":{"$error":"#REF!"}}]
["Quote",null,"%",{"$f":"D9/D8","v":{"$error":"#REF!"}},{"$f":"E9/E8","v":{"$error":"#DIV/0!"}},{"$error":"#DIV/0!"},{"$error":"#DIV/0!"},{"$error":"#DIV/0!"},{"$error":"#REF!"},{"$error":"#REF!"},{"$error":"#REF!"},{"$error":"#REF!"},{"$error":"#REF!"}]
["Untere Grenze",{"$f":"Einstellungen!#REF!","v":{"$error":"#REF!"}},"%",{"$f":"D8*$B$11","v":{"$error":"#REF!"}},{"$error":"#REF!"},{"$error":"#REF!"},{"$error":"#REF!"},{"$error":"#REF!"},{"$error":"#REF!"},{"$error":"#REF!"},{"$error":"#REF!"},{"$error":"#REF!"},{"$error":"#REF!"}]
["Obere Grenze",{"$f":"Einstellungen!#REF!","v":{"$error":"#REF!"}},"%",{"$f":"D8*$B$12","v":{"$error":"#REF!"}},{"$error":"#REF!"},{"$error":"#REF!"},{"$error":"#REF!"},{"$error":"#REF!"},{"$error":"#REF!"},{"$error":"#REF!"},{"$error":"#REF!"},{"$error":"#REF!"},{"$error":"#REF!"}]
[]
["Szenario 1"]
["Einnahmen",null,"EUR",{"$f":"#REF!","v":{"$error":"#REF!"}},{"$f":"#REF!","v":{"$error":"#REF!"}},{"$f":"#REF!","v":{"$error":"#REF!"}},{"$f":"#REF!","v":{"$error":"#REF!"}},{"$f":"#REF!","v":{"$error":"#REF!"}},{"$f":"#REF!","v":{"$error":"#REF!"}},{"$f":"#REF!","v":{"$error":"#REF!"}},{"$f":"#REF!","v":{"$error":"#REF!"}},{"$f":"#REF!","v":{"$error":"#REF!"}},{"$f":"#REF!","v":{"$error":"#REF!"}}]
["Verwaltungskosten",null,"EUR",{"$f":"#REF!+#REF!","v":{"$error":"#REF!"}},{"$f":"#REF!+#REF!","v":{"$error":"#REF!"}},{"$f":"#REF!+#REF!","v":{"$error":"#REF!"}},{"$f":"#REF!+#REF!","v":{"$error":"#REF!"}},{"$f":"#REF!+#REF!","v":{"$error":"#REF!"}},{"$f":"#REF!+#REF!","v":{"$error":"#REF!"}},{"$f":"#REF!+#REF!","v":{"$error":"#REF!"}},{"$f":"#REF!+#REF!","v":{"$error":"#REF!"}},{"$f":"#REF!+#REF!","v":{"$error":"#REF!"}},{"$f":"#REF!+#REF!","v":{"$error":"#REF!"}}]
["Quote",null,"%",{"$f":"D16/D15","v":{"$error":"#REF!"}},{"$f":"E16/E15","v":{"$error":"#REF!"}},{"$error":"#REF!"},{"$error":"#REF!"},{"$error":"#REF!"},{"$error":"#REF!"},{"$error":"#REF!"},{"$error":"#REF!"},{"$error":"#REF!"},{"$error":"#REF!"}]
["Untere Grenze",{"$f":"Einstellungen!#REF!","v":{"$error":"#REF!"}},"%",{"$f":"D15*$B$18","v":{"$error":"#REF!"}},{"$error":"#REF!"},{"$error":"#REF!"},{"$error":"#REF!"},{"$error":"#REF!"},{"$error":"#REF!"},{"$error":"#REF!"},{"$error":"#REF!"},{"$error":"#REF!"},{"$error":"#REF!"}]
["Obere Grenze",{"$f":"Einstellungen!#REF!","v":{"$error":"#REF!"}},"%",{"$f":"D15*$B$19","v":{"$error":"#REF!"}},{"$error":"#REF!"},{"$error":"#REF!"},{"$error":"#REF!"},{"$error":"#REF!"},{"$error":"#REF!"},{"$error":"#REF!"},{"$error":"#REF!"},{"$error":"#REF!"},{"$error":"#REF!"}]
{"$rows_empty":21}
["2. Finanzamt"]

{"sheet":"Druck","index":42,"n_rows":427,"n_cols":6,"rows_kept":427,"hidden":true,"merged":[[15,3,16,5],[22,3,23,5],[117,0,118,3],[128,0,129,1],[132,0,133,1],[132,3,133,4],[134,0,135,1],[136,0,137,1],[138,1,139,2],[139,0,140,0],[140,1,141,2],[142,0,143,1],[144,0,145,1],[146,0,147,1],[148,0,149,1],[150,0,151,1],[155,0,155,6],[177,0,178,1],[238,0,239,1],[240,0,241,3],[300,0,301,3],[302,0,303,3],[362,0,363,3],[364,0,365,3],[424,0,425,3],[426,0,427,3]]}
{"$rows_empty":15}
[{"$nulls":3},"Stiftungsfinanzplan"]
[]
[]
[]
[]
[{"$nulls":3},"für:"]
[]
[{"$nulls":3},{"$f":"Einstellungen!G11","v":0}]
[]
[]
[]
[]
[{"$nulls":3},"erstellt von:"]
[]
[{"$nulls":3},{"$f":"IF(Einstellungen!P13=\"Herr\",\"Herrn\",\"Frau\")","v":"Frau"},{"$f":"Einstellungen!Q13","v":0}]
[]
[]
[]
[]
[]
[{"$nulls":3},{"$f":"IF(Einstellungen!#REF!=1,\"Frau\",\"Herrn\")","v":{"$error":"#REF!"}},{"$f":"Einstellungen!Q15","v":0}]
[]
[{"$nulls":3},"und"]
[]
[{"$nulls":3},{"$f":"IF(Einstellungen!#REF!=1,\"Frau\",\"Herrn\")","v":{"$error":"#REF!"}},{"$f":"Einstellungen!Q14","v":0}]
{"$rows_empty":31}
["1. Vorwort"]
[]
[]
[{"$f":"IF(Einstellungen!#REF!=1,\"Sehr geehrte\",\"Sehr geehrter\")","v":{"$error":"#REF!"}},{"$f":"Einstellungen!Q13","v":0}]
{"$rows_empty":19}
["München, im November 2015"]
[]
[]
[]
[{"$f":"Einstellungen!Q15","v":0},null,{"$f":"Einstellungen!Q14","v":0}]
{"$rows_empty":18}
["2. Ausgangssituation"]
{"$rows_empty":10}
["Rahmendaten:"]
[]
[]
[]
["Aktuelles Gesamtvermögen",null,null,{"$f":"Tabellen!E6","v":{"$error":"#REF!"}}]
[{"$nulls":5},"EUR"]
["Allokationszeitpunkt"]
[{"$nulls":3},"Jeweils zum 01.01. des Jahres - beginnend 2016"]
["Neuallokation"]
[{"$nulls":3},"Entsprechend bestehender Allokation"]
[null,"Ausgangsfall:"]
["Szenarien",null,null,{"$f":"Einstellungen!#REF!","v":{"$error":"#REF!"}}]
[null,"Szenario:"]
[{"$nulls":3},{"$f":"'Eingabe Szenario'!B2","v":0}]
["Ø Geldentwertung (VPI)"]
[{"$nulls":3},{"$f":"Einstellungen!#REF!","v":{"$error":"#REF!"}}]
["Satzungsmäßige Leistungen"]
[{"$nulls":3},{"$f":"IF(Einstellungen!W14=1,\"Aus Überschüssen nach Kosten und Rücklagen\",\"Fixe Zielausschüttung\")","v":"Fixe Zielausschüttung"}]
["Kosten Vermögensverwaltung"]
[{"$nulls":3},{"$f":"Einstellungen!#REF!","v":{"$error":"#REF!"}},"inkl. USt p.a."]
["Sonstige Kosten"]
[{"$nulls":3},{"$f":"Einstellungen!#REF!","v":{"$error":"#REF!"}},"EUR p.a., inflationiert"]
["Rücklagenbildung",null,null,"Freie Rücklage p.a.:",null,{"$f":"Einstellungen!#REF!","v":{"$error":"#REF!"}}]
[{"$nulls":3},{"$f":"IF(Einstellungen!#REF!=1,\"Umschichtungsrücklage\",\"\")","v":{"$error":"#REF!"}}]
[]
["Prämissen"]
[]
["Nach Absprache mit Ihnen haben wir für die Projektion der Vermögensentwicklung folgende Durchschnittsrenditen im Wertpapierbereich unterstellt:"]
[]
[{"$nulls":3},"Durchschnittsrenditen WP"]
[]
[{"$nulls":3},"Kurs","Ausschüttg.","Gesamt"]
["Aktien",null,null,{"$f":"Einstellungen!#REF!","v":{"$error":"#REF!"}},{"$f":"#REF!","v":{"$error":"#REF!"}},{"$f":"D161+E161","v":{"$error":"#REF!"}}]
["Renten",null,null,{"$f":"#REF!","v":{"$error":"#REF!"}},{"$f":"#REF!","v":{"$error":"#REF!"}},{"$error":"#REF!"}]
["Liquidität",null,null,{"$f":"#REF!","v":{"$error":"#REF!"}},{"$f":"#REF!","v":{"$error":"#REF!"}},{"$error":"#REF!"}]
["Alternative Investments",null,null,{"$f":"#REF!","v":{"$error":"#REF!"}},{"$f":"#REF!","v":{"$error":"#REF!"}},{"$error":"#REF!"}]
["Sonstige/Gemischt",null,null,{"$f":"#REF!","v":{"$error":"#REF!"}},{"$f":"#REF!","v":{"$error":"#REF!"}},{"$error":"#REF!"}]
["Gesamtrendite gewichtet",null,null,{"$f":"#REF!","v":{"$error":"#REF!"}},{"$f":"#REF!","v":{"$error":"#REF!"}},{"$error":"#REF!"}]
{"$rows_empty":11}
["Grundfall"]
{"$rows_empty":60}
["Ausgangsfall"]
[]
["Grafik Vermögenserhaltung"]
{"$rows_empty":25}
["Delta am Ende des Betrachtungszeitraums: ",null,null,{"$f":"Tabellen!#REF!","v":{"$error":"#REF!"}},{"$f":"Tabellen!#REF!","v":{"$error":"#REF!"}},"EUR"]
{"$rows_empty":33}
["Ausgangsfall"]
[]
["Einnahmen/ Ausgaben"]
{"$rows_empty":59}
["Ausgangsfall"]
[]
["Grafik Ausgabenstruktur"]
{"$rows_empty":59}
["Analyse Historie"]
[]
["Grafik Verwaltungskosten"]

{"sheet":"Subanlageklassen","index":43,"n_rows":51,"n_cols":2,"rows_kept":51,"hidden":true}
["Subanlageklassen"]
[]
[null,"1. Aktienmärkte"]
[]
[null,"Deutschland DAX"]
[null,"Deutschland Nebenwerte"]
[null,"Euroland"]
[null,"Europa entwickelt"]
[null,"USA"]
[null,"Asien"]
[null,"Global entwickelt"]
[null,"Emerging Markets"]
[null,"Sonstiges"]
[]
[null,"2. Rentenmärkte"]
[]
[null,"Deutsche Staatsanleihen"]
[null,"Europäische Staatsanleihen"]
[null,"US Treasuries"]
[null,"Staatsanleihen Emerging Markets"]
[null,"Unternehmensanleihen Investment Grade"]
[null,"Unernehmensanleihen High Yield"]
[null,"Inländische Pfandbriefe"]
[null,"Ausländische Pfandbriefe"]
[null,"Sonstiges"]
[]
[null,"3. Immobilien"]
[]
[null,"Regional"]
[null,"Deutschland"]
[null,"Europa"]
[null,"USA"]
[null,"Global"]
[]
[null,"4. Alternative investments"]
[]
[null,"Rohstoffe"]
[null,"Private Equity"]
[null,"Private Debt"]
[null,"Kredite an Private"]
[null,"Kredite an Unternehmen"]
[null,"Genossenschaftsanteile"]
[null,"Versicherungsprodukte"]
[null,"Insurance Linked Securities"]
[null,"Sonstiges"]
[]
[null,"5. Liquidität"]
[]
[null,"Bankguthaben"]
[null,"Termin-/Kündigungsgeld"]
[null,"Spareinlagen"]